{"text_format":"1","workbook":"xlsx","n_sheets":50,"sheets":["00 Alimenta","00 PDC SP","00 SP","01 Rendiconto Finanziario","Personale","Universitario","Altro contratto","Tab 1-2-3-4","Tab 5-6","Tab 7","Tab 7bis","Tab 7ter ","Tab 7ter  (2)","Tab 7quater","IMM01-IMM14","Tab 8-9-10-11-12-13-14","IF01-IF02","Tab 15","Tab 16-17","TAB 17 QUATER","Dettaglio ABA390 ","Dettaglio ABA430","Dettaglio ABA480 ","Dettaglio ABA500 ","Tab 18-19","Tab. 20-21 ","Tab 22-23-24","Partite infragruppo ","Tab 25","Tab 26-27-28","Tab 29-30-31","Tab 32","Acquisti con fdi propri ","Tab 33","Tab 34-35 ","35-bis Dettaglio cespiti PO ","Tab 35 ter- quater","Tab 36 ","Tab 37-38-39-40 ","Dettaglio prog 2011 e retro","Criteri Fondi Rischi","dettaglio acca F Contrattuali ","Altre Info","Tab 41","Tab 42","Tab 43","Tab 44","Tab 45-46","Tab 47-48-49","Foglio1"],"not_rendered":{"charts":0,"images":0,"macros":0,"external_links":0,"defined_names":53,"comments":1,"pivot_tables":0},"unopened":[],"bounds":{"document_bytes":16777216,"sheet_cells":100000,"rows_first":2000,"rows_last":500,"rows_between":2000,"halvings":0,"cell_chars":16384,"cell_head_chars":4096},"cells_cut":0,"cells_raw":0,"read":"whole","date_system":"1900"}

{"sheet":"00 Alimenta","index":0,"n_rows":209,"n_cols":9,"rows_kept":209,"cut":false,"hidden":true,"merged":[]}
[]
["PRG",4]
[]
["SP","Conto","Descrizione conto","Esercizio 2016","Incrementi 2017","Decrementi 2017","Esercizio 2017","Incrementi 2018","Decrementi 2018"]
["AAA140","0101010602","Licenze d'uso software",1985432.37,209841.59,7129.38,2188144.58,131197.56,11461.65]
["AAA300","0101020102","Terreni indisponibili",942655.12,0,0,942655.12,0,0]
["AAA360","0101020301","Fabbricati strumentali (indisponibili)",169096559.22999999,0,0,169096559.22999999,2087230,0]
["AAA390","0101020404","Macchinari generici",5947030.4800000004,219918.7,171.65,6166777.5300000003,653192.51,17647.73]
["AAA420","0101020502","Attrezzature generiche",79051702.269999996,5812839.0700000003,146692.79999999999,84717848.540000007,4303427.6100000003,5885338.1699999999]
["AAA450","0101020601","Mobili e arredi",10368797.42,241394.07,12215.84,10597975.65,339281.25,91861.65]
["AAA480","0101020702","Ambulanze ",0,0,0,0,73346.399999999994,0]
["AAA480","0101020703","Altri mezzi di trasporto",1839959.11,123029.66,0,1962988.77,19850.57,149825.10999999999]
["AAA520","0101020903","Computer e macchinari elettronici",5230170.92,261895.29,2012.8,5490053.4100000001,253573.24,327240.58]
["AAA520","0101020904","Altri beni materiali",423919.86,4021.71,0,427941.57,14224.53,3249.6]
["AAA540","0101021001","Fabbricati in costruzione",8622770.2699999996,950522.09,102440.22,9470852.1400000006,1449834.4,2396699.1800000002]
["AAA540","0101021005","Acconti su future acquisizioni di immobilizzazioni materiali",142125.31,1527272.03,142296.91,1527100.43,66213.3,1527100.33]
["AAA690","0101030404","Depositi cauzionali",14036.45,0,0,14036.45,0,0]
["ABA020","0102010101","Medicinali con AIC",4636666.55,4388956,4636666.55,4388956,9637765.4000000004,4388956]
["ABA020","0102010102","Soluzioni infusionali con AIC",1437.61,1398.76,1437.61,1398.76,4720.8100000000004,1398.76]
["ABA020","0102010103","Ossigeno con AIC",10294.49,1633.04,10294.49,1633.04,1919.27,1633.04]
["ABA020","0102010104","Altri gas medicali con AIC",2368.85,9993.4599999999991,2368.85,9993.4599999999991,18281.7,9993.4599999999991]
["ABA020","0102010105","Emoderivati con AIC",298115.40000000002,415087.34,298115.40000000002,415087.34,299372.46999999997,415087.34]
["ABA020","0102010106","Medicinali senza AIC",126880.91,220505.73,126880.91,220505.73,153849.16,220505.73]
["ABA020","0102010108","Farmaci innovativi",406045.08,796557.79,406045.08,796557.79,425624.06,796557.79]
["ABA040","0102010301","Strumentazione per bioimmagini e radioterapia",0,22325.73,0,22325.73,57070.16,22325.73]
["ABA040","0102010302","Materiale per sterilizzazione",13554.18,44744.42,13554.18,44744.42,8572.01,44744.42]
["ABA040","0102010303","Dispositivi per chirurgia mini-invasiva ed elettrochirurgia",174192.21,191192.48,174192.21,191192.48,237459.44,191192.48]
["ABA040","0102010304","Protesi ortopediche e mezzi per osteosintesi e sintesi tendineo-legamentosa",50150.67,156988.5,50150.67,156988.5,125902.79,156988.5]
["ABA040","0102010305","Protesi oculistiche",24968.06,21294.52,24968.06,21294.52,28295.8,21294.52]
["ABA040","0102010306","Protesi vascolari e cardiache",1839.24,7516.08,1839.24,7516.08,4904.6400000000003,7516.08]
["ABA040","0102010307","Altri dispositivi protesici impiantabili e prodotti per osteosintesi",10862.72,15680.73,10862.72,15680.73,8142.05,15680.73]
["ABA040","0102010308","Supporti e ausili tecnici per persone disabili",21594.97,32718.44,21594.97,32718.44,15277.66,32718.44]
["ABA040","0102010309","Dispositivi per emotrasfusione ed ematologia",45796.36,58519.51,45796.36,58519.51,43182.99,58519.51]
["ABA040","0102010310","Dispositivi per dialisi",179690.46,78184.86,179690.46,78184.86,349609.43,78184.86]
["ABA040","0102010311","Dispositivi medico-diagnostici in vitro (D.Lgs. 332/2000)",1255177.3999999999,1482372.12,1255177.3999999999,1482372.12,1412543.58,1482372.12]
["ABA040","0102010312","Strumentazione per esplorazioni funzionali ed interventi terapeutici",104045.91,270520.31,104045.91,270520.31,349679.38,270520.31]
["ABA040","0102010313","Strumentazione per radiologia diagnostica ed interventistica",589.26,712.51,589.26,712.51,971.05,712.51]
["ABA040","0102010314","Strumentario chirurgico pluriuso o riusabile",55549.760000000002,92097.5,55549.760000000002,92097.5,59941.67,92097.5]
["ABA040","0102010315","Dispositivi protesici impiantabili - vari",28003.05,80004.3,28003.05,80004.3,36165.230000000003,80004.3]
["ABA040","0102010316","Dispositivi per sistema artero-venoso",132460.47,196661.87,132460.47,196661.87,341902.99,196661.87]
["ABA040","0102010317","Guide per apparato cardiocircolatorio",9174.4,16525.53,9174.4,16525.53,51496.86,16525.53]
["ABA040","0102010318","Altri dispositivi per apparato cardiocircolatorio",124428.45,123103.54,124428.45,123103.54,192131.49,123103.54]
["ABA040","0102010319","Disinfettanti, antisettici e proteolitici (D.Lgs. 46/97)",29235.99,22348.48,29235.99,22348.48,23214.09,22348.48]
["ABA040","0102010320","Dispositivi per apparato gastrointestinale",59952.07,83693.42,59952.07,83693.42,108873.9,83693.42]
["ABA040","0102010321","Dispositivi da sutura",396218.06,349748.67,396218.06,349748.67,199430.7,349748.67]
["ABA040","0102010322","Dispositivi per sistema nervoso e midollare",12511.97,28260.43,12511.97,28260.43,24648.400000000001,28260.43]
["ABA040","0102010323","Dispositivi per odontoiatria, oftalmologoa e otorinolaringoiatria",105207.2,71817.279999999999,105207.2,71817.279999999999,77787.69,71817.279999999999]
["ABA040","0102010324","Dispositivi per apparato respiratorio e anestesia",125642.41,182238.66,125642.41,182238.66,226521.29,182238.66]
["ABA040","0102010325","Dispositivi di protezione e ausili per incontinenza (D.Lgs. 46/97)",212601.7,196921.3,212601.7,196921.3,188552.61,196921.3]
["ABA040","0102010326","Dispositivi per apparato urogenitale",65964.789999999994,51126.59,65964.789999999994,51126.59,58158.49,51126.59]
["ABA040","0102010327","Dispositivi vari",234985.3,304842.71999999997,234985.3,304842.71999999997,302955.27,304842.71999999997]
["ABA040","0102010328","Dispositivi da somministrazione, prelievo e raccolta",559635.56999999995,569117.94999999995,559635.56999999995,569117.94999999995,632496.81999999995,569117.94999999995]
["ABA040","0102010329","Dispositivi per medicazioni generali e specialistiche",312836.58,357449.92,312836.58,357449.92,347297.22,357449.92]
["ABA040","0102010330","Dispositivi impiantabili attivi",58041,30319.56,58041,30319.56,31197.03,30319.56]
["ABA050","0102010401","Prodotti dietetici",4508.83,5615.65,4508.83,5615.65,5237.29,5615.65]
["ABA050","0102010402","Alimenti per nutrizione artificiale senza AIC ",63760.33,58004.47,63760.33,58004.47,66412.52,58004.47]
["ABA060","0102010503","Altri Vaccini",0,1112.76,0,1112.76,2856.7,1112.76]
["ABA090","0102010801","Vetrerie e materiale plastico per laboratorio",26506.58,42717.86,26506.58,42717.86,22568.66,42717.86]
["ABA090","0102010802","Materiali di consumo non specifici per strumentazione diagnostica ",82188.66,125485.73,82188.66,125485.73,93627.14,125485.73]
["ABA090","0102010803","Altri beni e prodotti sanitari",102717.74,127988.56,102717.74,127988.56,180987.44,127988.56]
["ABA130","0102011101","Materiali di guardaroba, di pulizia, e di convivenza in genere",35073.03,29727.94,35073.03,29727.94,29504.9,29727.94]
["ABA150","0102011301","Supporti informatici",171772.85,192555.39,171772.85,192555.39,102147.29,192555.39]
["ABA150","0102011302","Cancelleria e stampati",161363.28,169734.96,161363.28,169734.96,107409.14,169734.96]
["ABA160","0102011401","Materiale per la manutenzione di immobili e loro pertinenze",55250.31,85875.45,55250.31,85875.45,139324.97,85875.45]
["ABA160","0102011403","Materiale per la manutenzione di attrezzature tecnico scientifiche sanitarie",25964.41,26463.29,25964.41,26463.29,15166.69,26463.29]
["ABA160","0102011405","Materiale per la manutenzione di altro",3934.22,5031.3999999999996,3934.22,5031.3999999999996,4064.04,5031.3999999999996]
["ABA170","0102011501","Altri beni e prodotti non sanitari",2869.46,1229.74,2869.46,1229.74,502.43,1229.74]
["ABA210","0102020101","Crediti v/Stato per spesa corrente - Integrazione a norma del D.L.vo 56/2000",5970.26,12202.45,18172.71,0,50822.1,48520.58]
["ABA310","0102020902","Crediti v/Stato per ricerca finalizzata - Ministero della Salute",4620,0,0,4620,10300,10300]
["ABA340","0102021001","Crediti v/prefetture",93462.74,0,0,93462.74,93462.74,186925.48]
["ABA390","0102021103","Crediti v/Regione o Provincia Autonoma per quota FSR",149470398.15000001,611234256.89999998,641777088.98000002,118927566.06999999,699144829.10000002,673828882.24000001]
["ABA400","0102021104","Crediti v/Regione o Provincia Autonoma per mobilità attiva intraregionale",1343946.39,98488215.590000004,98575322.590000004,1256839.3899999999,99510381.010000005,99510381]
["ABA410","0102021107","Crediti v/Regione o Provincia Autonoma per mobilità attiva extraregionale",19005500.289999999,17628432.399999999,17628432.399999999,19005500.289999999,23288119.719999999,23288119.719999999]
["ABA420","0102021109","Crediti v/Regione o Provincia Autonoma per acconto quota FSR",0,546891755,546891755,0,581529568.47000003,581529568.47000003]
["ABA430","0102021111","Crediti v/Regione o Provincia Autonoma per finanziamento sanitario aggiuntivo corrente LEA",11868474.890000001,5146816.37,6631200.2400000002,10384091.02,2899011.66,3904796.15]
["ABA400","0102021115","Netting mobilità intraregionale ante 2007",15592903.99,0,0,15592903.99,0,0]
["ABA420","0102021117","Crediti v/Regione o Provincia Autonoma per acconto quota FSR per DPC",0,0,0,0,21620901.280000001,21620901.280000001]
["ABA480","0102021201","Crediti v/Regione o Provincia Autonoma per finanziamenti per investimenti",38255,0,0,38255,0,0]
["ABA500","0102021203","Crediti v/Regione o Provincia Autonoma per ripiano perdite",21602059.57,14264710,21602059.57,14264710,13609624,0]
["ABA530","0102021301","Crediti v/Comuni",82801.820000000007,115218.01,34661.25,163358.57999999999,111857.28,91803.89]
["ABA530","0102021302","Fatture da emettere v/Comuni",5505.16,58770.9,5505.16,58770.9,53342.51,58770.9]
["ABA580","0102021418","Crediti v/ASL Avezzano Sulmona L'Aquila per altre prestazioni",677413.43,4655668.13,4847041.5999999996,486039.96,214056.28,210042.87]
["ABA580","0102021419","Fatture da emettere v/ASL Avezzano Sulmona L'Aquila per altre prestazioni",18535.41,8143.77,18535.41,8143.77,37721.199999999997,8143.77]
["ABA580","0102021420","Crediti v/ASL Lanciano Vasto Chieti per altre prestazioni",281885.15999999997,127601.11,175640.8,233845.47,110654.79,99868.92]
["ABA580","0102021421","Fatture da emettere v/ASL Lanciano Vasto Chieti per altre prestazioni",5700.13,1282.71,5700.13,1282.71,25919.58,1282.71]
["ABA580","0102021424","Crediti v/ASL Teramo per altre prestazioni",4005697.04,62418.61,212668.34,3855447.31,11975.84,29003.38]
["ABA580","0102021425","Fatture da emettere v/ASL Teramo per altre prestazioni",563.75,5559.81,563.75,5559.81,4159.83,5559.81]
["ABA600","0102021601","Crediti v/Aziende sanitarie pubbliche Extraregione",153298.79,161597.98000000001,186310.75,128586.02,238832,210160.77]
["ABA600","0102021602","Fatture da emettere v/Aziende Sanitarie Pubbliche Extraregione",47833.03,85649.52,47833.03,85649.52,44097.25,85649.52]
["ABA620","0102021701","Crediti v/ARTA",5931.31,0,0,5931.31,0,0]
["ABA650","0102022001","Erario c/Ires",236,0,236,0,81792,81792]
["ABA650","0102022002","Erario c/Ires per acconti versati",0,490066,490066,0,408274,408274]
["ABA650","0102022003","Erario c/ritenute",133.94999999999999,6.45,140.4,0,80.5,0]
["ABA650","0102022005","Erario c/Iva per acconti versati",10317,6806,10209,6914,15421,6806]
["ABA650","0102022006","Erario c/Iva chiesta a rimborso",1295.04,0,0,1295.04,0,0]
["ABA650","0102022011","Altri crediti verso Erario",25.17,0,25.17,0,0,0]
["ABA670","0102022101","Crediti v/clienti privati",4482065.57,7010533.3899999997,6901036.5700000003,4591562.3899999997,9715318.3399999999,9771870.0800000001]
["ABA670","0102022102","Fatture da emettere v/clienti privati",434714.74,190888.78,434714.74,190888.78,608342.13,190888.78]
["ABA670","0102022103","Crediti v/utenza per proventi da ticket",30761.84,8483861.8399999999,8476602.5,38021.18,8500208.6999999993,8524029.6500000004]
["ABA670","0102022109","Crediti v/dipendenti",112928.29,168312.19,203256.06,77984.42,103264.73,179303.71]
["ABA670","0102022111","Acconti verso altri fornitori",2309,0,2309,0,432985.28,432985.28]
["ABA690","0102022301","Crediti v/altri soggetti pubblici",377131.4,421422.51,404603.36,393950.55,288535.49,464939.33]
["ABA690","0102022302","Fatture da emettere v/altri soggetti pubblici",75.28,585.44000000000005,75.28,585.44000000000005,0,585.44000000000005]
["ABA710","0102022501","Altri Crediti diversi",881137.05,1921398.5,1616680.59,1185854.96,739010.91,1059463.17]
["PDA210","0102022623","Note credito da ricevere v/ASL Lanciano Vasto Chieti per altre prestazioni",0,0,0,0,57.75,0]
["PDA220","0102022626","Note credito da ricevere v/Aziende sanitarie pubbliche Extraregione",60.85,0,60.85,0,0,0]
["PDA290","0102022634","Note di credito v/IRCCS privati e Policlinici",130.68,0,130.68,0,0,0]
["PDA290","0102022636","Note credito da ricevere v/Case di Cura",11856.03,1930071.03,11856.03,1930071.03,4610.6099999999997,1930071.03]
["PDA290","0102022637","Note credito da ricevere v/altri erogatori di prestazioni sanitarie - intraregione",32465151.420000002,101316.42,5232350.32,27334117.52,2829706.77,4272293.9400000004]
["PDA300","0102022638","Note credito da ricevere verso altri fornitori nazionali",1988690.31,1123439.08,1988690.31,1123439.08,1282410.6399999999,1123439.08]
["PDA300","0102022639","Note credito da ricevere verso altri fornitori esteri",0,6362,0,6362,0,6362]
["PDA380","0102022641","Note credito da ricevere per altri debiti diversi",295.04000000000002,5013.58,295.04000000000002,5013.58,2286.0100000000002,5013.58]
["ABA760","0102040101","Cassa ticket",20000,0,0,20000,0,0]
["ABA760","0102040102","Cassa economale",0,90884.92,90884.92,0,52671.15,52671.15]
["ABA770","0102040201","Istituto Tesoriere",26889884.399999999,674025083,631356001.04999995,69558966.349999994,625609944.79999995,648972836.83000004]
["ABA790","0102040401","Conto corrente postale",1570006.74,1732809.77,75200.34,3227616.17,1458253.24,3393835]
["ACA040","0103020101","Risconti attivi",1502862.22,8698.51,1502862.22,8698.51,10533.97,8698.51]
["PAA020","0201020101","Finanziamenti per beni di prima dotazione",67286349.670000002,0,3577467.93,63708881.740000002,0,3577467.93]
["PAA070","0201020501","Finanziamenti da Regione per investimenti",38902957.799999997,122252.5,1468544.84,37556665.460000001,2138846.64,1674245.68]
["PAA090","0201020701","Finanziamenti per investimenti da rettifica contributi in conto esercizio",16121598.27,6506318.8899999997,4730694.3099999996,17897222.850000001,4347846.8099999996,5185207.28]
["PAA100","0201030101","Riserve da donazioni e lasciti vincolati ad investimenti",170994.85,78486.47,48286.07,201195.25,114032.88,54754.03]
["PAA160","0201040501","Riserve diverse",2730000,0,0,2730000,0,0]
["PAA200","0201050301","Altro - contributi per ripiano perdite",30778127.57,14264710,30778127.57,14264710,13609624,0]
["PAA210","0201060102","PERDITE PORTATI A NUOVO",-30778127.57,30778127.57,14264709.560000001,-14264709.560000001,0,13609624.26]
["PAA220","0201070101","UTILE D'ESERCIZIO",0,0,0,0,1677.34,0]
["PAA220","0201070102","PERDITA D'ESERCIZIO",-14264709.560000001,14264709.560000001,13609624.26,-13609624.26,13609624.26,0]
["AAA150","0202010601","F.do Amm.to licenze d'uso software",-1558625.15,-136552.39000000001,0,-1695177.54,-160938.81,-11461.65]
["AAA370","0202020301","F.do Amm.to Fabbricati strumentali (indisponibili)",-85911487.290000007,-4970287.05,0,-90881774.340000004,-4970458.6100000003,0]
["AAA400","0202020701","F.do ammortamento macchinari generici",-4888094.1900000004,-263002.39,0,-5151096.58,-243006.53,-244.8]
["AAA430","0202021001","F.do Amm.to Attrezzature generiche",-66333749.009999998,-4163720.13,-70.78,-70497398.359999999,-4807326.2300000004,-5868448.4900000002]
["AAA460","0202021201","F.do Amm.to mobili e arredi",-8722595.6699999999,-361188.29,0,-9083783.9600000009,-354383.59,-89444.45]
["AAA490","0202021601","F.do Amm.to Ambulanze ",0,0,0,0,-601.44000000000005,0]
["AAA490","0202021701","F.do Amm.to Altri mezzi di trasporto",-1605809.11,-122740.86,0,-1728549.97,-92937.66,-149825.10999999999]
["AAA530","0202022001","F.do Amm.to computer e macchinari elettronici",-4633056.04,-228512.78,-2012.8,-4859556.0199999996,-237629.17,-308936.13]
["AAA530","0202022101","F.do Amm.to altri beni materiali",-379763.03,-16373.87,0,-396136.9,-14155.8,-3249.6]
["ABA580","0202030518","F.do svalutazione Crediti  v/Aziende sanitarie pubbliche della Regione",-3259926.7,0,0,-3259926.7,0,0]
["ABA670","0202030524","F.do svalutazione crediti  verso clienti privati ",-2874726.99,0,0,-2874726.99,0,0]
["ABA710","0202030528","F.do svalutazione altri crediti diversi",0,-300000,0,-300000,0,0]
["ABA390","0202030529","F.do svalutazione crediti v/Regione o Provincia Autonoma per quota FSR",-3047520.97,0,0,-3047520.97,0,0]
["PBA020","0203020101","Fondo rischi per cause civili ed oneri processuali",-7150000,-9280260.1600000001,-165038.16,-16265222,-1357811.38,-6579085.1600000001]
["PBA030","0203020201","Fondo rischi per contenzioso personale dipendente",-1250000,-563110.28,-563110.28,-1250000,0,-254237.67]
["PBA040","0203020301","Fondo rischi connessi all'acquisto di prestazioni sanitarie da privato",-22630382.34,-4358962,-3664507.83,-23324836.510000002,-272176.8,-1311382.44]
["PBA050","0203020401","Fondo rischi per copertura diretta dei rischi (autoassicurazione)",-5500000,-3111381.31,-3111381.31,-5500000,-2297725.7799999998,-2297725.6800000002]
["PBA160","0203040113","Quote inutilizzate contributi da Regione per Progetti di PSN L 662/96",-30310050.780000001,-7206482.5499999998,-5006728.5599999996,-32509804.77,-7216729.6299999999,-6978711.7300000004]
["PBA160","0203040118","Quote inutilizzate contributi da Regione per quota gioco d'azzardo Patologico (GAP) Legge 190/2014 e ss.mm.ii.",0,-220805,0,-220805,0,-220805]
["PBA170","0203040201","Quote inutilizzate contributi vincolati da soggetti pubblici (extra fondo)",-180605.96,-50302.400000000001,-92452.46,-138455.9,-53105.86,0]
["PBA210","0203050101","Fondi integrativi pensione",0,0,0,0,0,0]
["PBA230","0203050201","Fondo rinnovi contrattuali personale dipendente",-675624,-1841073,0,-2516697,-2658672,-1421530.85]
["PBA240","0203050301","Fondo rinnovi convenzioni MMG/PLS/MCA",-3153969.15,-653733,0,-3807702.15,-1507157,-1600163.8400000001]
["PBA250","0203050401","Fondo rinnovi convenzioni medici Sumai",-136116,-82934,0,-219050,-309790.5,-327842.5]
["PBA260","0203050501","Altri fondi per oneri e spese",0,0,0,0,-2400000,0]
["PCA000","0204010101","Fondo per premi operosità medici SUMAI",-2195943.02,-223015.56,-217866.17,-2201092.41,-264664.11,-197944.41]
["PDA090","0205030201","Debiti v/Regione o Provincia Autonoma per mobilità passiva intraregionale",-20766344.579999998,-51271679.93,-51272368.93,-20765655.579999998,-49387581.229999997,-49387581.229999997]
["PDA100","0205030301","Debiti v/Regione o Provincia Autonoma per mobilità passiva extraregionale",-9530548.0899999999,-57173157.460000001,-57173157.460000001,-9530548.0899999999,-33463665.77,-33463665.77]
["PDA110","0205030401","Acconto quota FSR da Regione o Provincia Autonoma",0,-546891755,-546891755,0,-565644818.47000003,-565644818.47000003]
["PDA110","0205030402","Acconto quota FSR per DPC da Regione o Provincia Autonoma",0,0,0,0,-15884750,-15884750]
["PDA120","0205030501","Altri debiti v/Regione o Provincia Autonoma",0,-983421148.72000003,-983421148.72000003,0,0,0]
["PDA130","0205040101","Debiti v/Comuni",-150000,0,0,-150000,0,0]
["PDA210","0205050601","Debiti v/ASL Avezzano Sulmona L'Aquila per altre prestazioni",-67126.28,-272401.8,-74123.62,-265404.46000000002,-197162.76,-203272.68]
["PDA210","0205050602","Fatture da ricevere v/ASL Avezzano Sulmona L'Aquila per altre prestazioni",-198130.85,-84346.32,-198130.85,-84346.32,-236845.56,-84346.32]
["PDA210","0205050603","Debiti v/ASL Lanciano Vasto Chieti per altre prestazioni",-70222.399999999994,-58278.06,-69229.149999999994,-59271.31,-56200.12,-50633.11]
["PDA210","0205050604","Fatture da ricevere v/ASL Lanciano Vasto Chieti per altre prestazioni",-27859.87,-23505.119999999999,-27859.87,-23505.119999999999,-9926,-23505.119999999999]
["PDA210","0205050607","Debiti v/ASL Teramo per altre prestazioni",-1740888.78,-280639.09000000003,-94079,-1927448.87,-152571.81,-11954.4]
["PDA210","0205050608","Fatture da ricevere v/ASL Teramo per altre prestazioni",-32310.93,-29786,-32310.93,-29786,-26706,-29786]
["PDA220","0205050701","Debiti v/Aziende sanitarie pubbliche Extraregione",-152664.66,-207261.11,-265226.40999999997,-94699.36,-170921.16,-190667.38]
["PDA220","0205050702","Fatture da ricevere v/Aziende sanitarie pubbliche Extraregione",-36898.550000000003,-15263.65,-36898.550000000003,-15263.65,-45840.65,-15263.65]
["PDA220","0205050703","Debiti v/Aziende Ospedaliere, IRCCS, Policlinici, Fondazioni Extraregione",-30315.64,-81219.11,-54298.28,-57236.47,-56381.91,-57423.86]
["PDA220","0205050704","Fatture da ricevere v/Aziende Ospedaliere, IRCCS, Policlinici, Fondazioni Extraregione",-35195.339999999997,-33826.42,-35195.339999999997,-33826.42,-22127.279999999999,-33826.42]
["PDA290","0205070101","Debiti v/medici di base",-1886031.55,-22027402.870000001,-22164628.670000002,-1748805.75,-26794195.949999999,-26629894.27]
["PDA290","0205070102","Debiti v/farmacie",-7700028.7599999998,-52286610.909999996,-56980917.469999999,-3005722.2,-50001509.329999998,-46696588.420000002]
["PDA290","0205070103","Debiti v/medici SUMAI",0,-2870787.24,-2870787.23,-0.01,-2821622.54,-2819880.2]
["PDA290","0205070107","Fatture da ricevere v/Ospedali Classificati",0,-9382.08,0,-9382.08,0,-9382.08]
["PDA290","0205070108","Debiti v/Case di Cura",-26713072.460000001,-90789013.549999997,-88317822.109999999,-29184263.899999999,-90451579.670000002,-90508054.299999997]
["PDA290","0205070109","Fatture da ricevere v/Case di Cura",-7968416.6200000001,-7390453.0199999996,-7968416.6200000001,-7390453.0199999996,-6431798.5300000003,-7390453.0199999996]
["PDA290","0205070110","Debiti v/altri erogatori di prestazioni sanitarie - intraregione",-76299590.489999995,-29383017.210000001,-46042284.130000003,-59640323.57,-30157319.18,-30753773.260000002]
["PDA290","0205070111","Fatture da ricevere v/altri erogatori di prestazioni sanitarie - intraregione",-2785600.51,-2195879.3199999998,-2785600.51,-2195879.3199999998,-2404175.02,-2195879.3199999998]
["PDA300","0205070201","Debiti verso altri fornitori nazionali",-34289418.840000004,-287511239.07999998,-283661530.74000001,-38139127.18,-315905697.26999998,-319150938.91000003]
["PDA300","0205070202","Fatture da ricevere verso altri fornitori nazionali",-9359359.1099999994,-14638757.890000001,-9359359.1099999994,-14638757.890000001,-14320195.09,-14638757.890000001]
["PDA300","0205070203","Debiti verso altri fornitori esteri",-33664.839999999997,-1046725.94,-1025764.24,-54626.54,-1069392.08,-1039446.08]
["PDA300","0205070204","Fatture da ricevere verso altri fornitori esteri",-127330.11,-51772.21,-127330.11,-51772.21,-49807.02,-51772.21]
["PDA300","0205070205","Debiti verso professionisti e collaboratori (ad esclusione degli organi diretti)",-14394.15,-416392.57,-350886.89,-79899.83,-345039.97,-340717.73]
["PDA310","0205080101","Debiti v/istituto tesoriere",0,0,0,0,0,0]
["PDA320","0205090101","Erario c/Ires",0,-557806.42000000004,-557806.42000000004,0,-408341.33,-408341.33]
["PDA320","0205090102","Erario c/ritenute su lavoro autonomo",-493265.24,-6154670.9299999997,-6175742,-472194.17,-7403740.4199999999,-7409718.5499999998]
["PDA320","0205090103","Erario c/ritenute su lavoro dipendente",-844000.74,-33463877.68,-33517252.370000001,-790626.05,-33744103.079999998,-33740612.57]
["PDA320","0205090104","Erario c/I.V.A.",-2790049.46,-24692527.18,-25900361.960000001,-1582214.68,-7936966.3700000001,-9504287.1300000008]
["PDA320","0205090105","Erario c/Irap",-217711.49,-12241857.25,-12229581.369999999,-229987.37,-12420854.32,-12429626.130000001]
["PDA320","0205090106","Altre imposte e tasse",-28779.93,0,-28779.93,0,-785.13,-785.13]
["PDA320","0205090107","Erario c/IVA - split payment",0,0,0,0,-19856036.09,-17216476.27]
["PDA330","0205100101","Debiti verso INPDAP",-711407.61,-48238495.859999999,-48109591.210000001,-840312.26,-49146093.640000001,-49241289.700000003]
["PDA330","0205100102","Debiti verso INPS lavoratori dipendenti",-785.59,-253039.95,-253200.01,-625.53,-258155.4,-257642.79]
["PDA330","0205100104","Debiti verso INAIL",-4177.45,-1695871.72,-1700049.17,0,-1681196.55,-1675236.8]
["PDA330","0205100105","Debiti verso ENPAM",-510508.54,-8593062.6999999993,-8554648.1199999992,-548923.12,-10041013.43,-9994193.9600000009]
["PDA330","0205100106","Debiti verso ONAOSI",-54862.47,-111905.78,-112752.96000000001,-54015.29,-110977.37,-110312.56]
["PDA330","0205100107","Debiti verso altri Istituti Previdenziali",-110806.05,-646338.15,-682489.79,-74654.41,-643937.53,-600773.68000000005]
["PDA360","0205110203","Debiti verso personale retribuzioni esercizi precedenti",-283633.53999999998,-447192.1,-143843.88,-586981.76,-407111.65,-274168.63]
["PDA360","0205110204","Debiti verso il personale dipendente per fondi aziendali esercizi precedenti",-12654666.48,-8508847.9900000002,-10201928.810000001,-10961585.66,-9300106.0399999991,-7619278.9000000004]
["PDA360","0205110206","Altri debiti verso il personale per ferie maturate e non godute",-22000,-75182.12,-22000,-75182.12,-97736.77,-22303.13]
["PDA360","0205110207","Altri debiti verso il personale dipendente",-2058131.25,-87054195.269999996,-86880830.620000005,-2231495.9,-88756803.799999997,-88990120.450000003]
["PDA370","0205110301","Debiti v/gestioni liquidatorie",0,0,0,0,0,0]
["PDA380","0205110402","Debiti verso organi direttivi e istituzionali",-6864.08,-191036.95,-195883.3,-2017.73,-218364.24,-219978.17]
["PDA380","0205110403","Debiti verso assistiti",-193094.81,-1704684.22,-1649097.7,-248681.33,-1931513.49,-1937335.26]
["PDA380","0205110404","Altri debiti diversi",-683030.8,-5415617.7599999998,-5774336.5,-324312.06,-5301861.76,-5157950.34]
["PDA380","0205110406","Debiti verso personale tirocinante e borsisti",0,-746835,-746108,-727,-500132,-500859]
["PDA380","0205110407","Debiti verso altro personale esterno",-8023.1,-134770.54,-132414.44,-10379.200000000001,-155157.35999999999,-128106.84]
["PDA380","0205110409","Fatture da ricevere Altri debiti diversi",-342650.42,-321864.53999999998,-342650.42,-321864.53999999998,-416963.94,-321864.53999999998]
["ABA530","0205110511","Note credito da emettere v/Comuni",0,-1801.13,0,-1801.13,0,-1801.13]
["ABA600","0205110528","Note credito da emettere verso ASL fuori regione per mobilità attiva non soggetta a compensazione",0,0,0,0,-5252.78,0]
["ABA670","0205110534","Note credito da emettere v/clienti privati",-1513.05,-1319.52,-1513.05,-1319.52,-32249.18,-1319.52]

{"sheet":"00 PDC SP","index":1,"n_rows":784,"n_cols":15,"rows_kept":784,"cut":false,"hidden":false,"merged":[]}
[]
[null,null,"ANNO",null,null,2018]
[]
["Aggr",null,"Cod SP 2012","RF","TIPO","Conto","Descrizione Conto",{"$f":"IF($F$2=\"\",\"Saldo SP T-2\",\"Esercizio \"&F2-2)","v":"Esercizio 2016"},{"$f":"IF($F$2=\"\",\"Incrementi T-1\",\"Incrementi \"&$F$2-1)","v":"Incrementi 2017"},{"$f":"IF($F$2=\"\",\"Decrementi T-1\",\"Decrementi \"&$F$2-1)","v":"Decrementi 2017"},{"$f":"IF($F$2=\"\",\"Saldo SP T-1\",\"Esercizio \"&$F$2-1)","v":"Esercizio 2017"},{"$f":"IF($F$2=\"\",\"Incrementi T\",\"Incrementi \"&$F$2)","v":"Incrementi 2018"},{"$f":"IF($F$2=\"\",\"Decrementi T\",\"Decrementi \"&$F$2)","v":"Decrementi 2018"},{"$f":"IF($F$2=\"\",\"Saldo SP T\",\"Esercizio \"&$F$2)","v":"Esercizio 2018"}]
[{"$f":"IF(E5=\"\",C5,C5&E5)","v":"AAA020"},{"$f":"LEFT(C5,2)","v":"AA"},"AAA020",34,null,"0101010101","Costi di impianto e di ampliamento",{"$f":"SUMIF('00 Alimenta'!$B:$B,'00 PDC SP'!$F5,'00 Alimenta'!D:D)","v":0},{"$f":"SUMIF('00 Alimenta'!$B:$B,'00 PDC SP'!$F5,'00 Alimenta'!E:E)","v":0},{"$f":"SUMIF('00 Alimenta'!$B:$B,'00 PDC SP'!$F5,'00 Alimenta'!F:F)","v":0},{"$f":"SUMIF('00 Alimenta'!$B:$B,'00 PDC SP'!$F5,'00 Alimenta'!G:G)","v":0},{"$f":"SUMIF('00 Alimenta'!$B:$B,'00 PDC SP'!$F5,'00 Alimenta'!H:H)","v":0},{"$f":"SUMIF('00 Alimenta'!$B:$B,'00 PDC SP'!$F5,'00 Alimenta'!I:I)","v":0},{"$f":"K5+L5-M5","v":0}]
[{"$f":"IF(E6=\"\",C6,C6&E6)","v":"AAA050"},{"$f":"LEFT(C6,2)","v":"AA"},"AAA050",35,null,"0101010201","Costi di ricerca e sviluppo",{"$f":"SUMIF('00 Alimenta'!$B:$B,'00 PDC SP'!$F6,'00 Alimenta'!D:D)","v":0},{"$f":"SUMIF('00 Alimenta'!$B:$B,'00 PDC SP'!$F6,'00 Alimenta'!E:E)","v":0},{"$f":"SUMIF('00 Alimenta'!$B:$B,'00 PDC SP'!$F6,'00 Alimenta'!F:F)","v":0},{"$f":"SUMIF('00 Alimenta'!$B:$B,'00 PDC SP'!$F6,'00 Alimenta'!G:G)","v":0},{"$f":"SUMIF('00 Alimenta'!$B:$B,'00 PDC SP'!$F6,'00 Alimenta'!H:H)","v":0},{"$f":"SUMIF('00 Alimenta'!$B:$B,'00 PDC SP'!$F6,'00 Alimenta'!I:I)","v":0},{"$f":"K6+L6-M6","v":0}]
["AAA080","AA","AAA080",36,null,"0101010301","Diritti di brevetto e diritti di utilizzazione delle opere d'ingegno - derivanti dall'attività di ricerca",{"$f":"SUMIF('00 Alimenta'!$B:$B,'00 PDC SP'!$F7,'00 Alimenta'!D:D)","v":0},{"$f":"SUMIF('00 Alimenta'!$B:$B,'00 PDC SP'!$F7,'00 Alimenta'!E:E)","v":0},{"$f":"SUMIF('00 Alimenta'!$B:$B,'00 PDC SP'!$F7,'00 Alimenta'!F:F)","v":0},{"$f":"SUMIF('00 Alimenta'!$B:$B,'00 PDC SP'!$F7,'00 Alimenta'!G:G)","v":0},{"$f":"SUMIF('00 Alimenta'!$B:$B,'00 PDC SP'!$F7,'00 Alimenta'!H:H)","v":0},{"$f":"SUMIF('00 Alimenta'!$B:$B,'00 PDC SP'!$F7,'00 Alimenta'!I:I)","v":0},0]
["AAA100","AA","AAA100",36,null,"0101010401","Diritti di brevetto e diritti di utilizzazione delle opere d'ingegno - altri",{"$f":"SUMIF('00 Alimenta'!$B:$B,'00 PDC SP'!$F8,'00 Alimenta'!D:D)","v":0},{"$f":"SUMIF('00 Alimenta'!$B:$B,'00 PDC SP'!$F8,'00 Alimenta'!E:E)","v":0},{"$f":"SUMIF('00 Alimenta'!$B:$B,'00 PDC SP'!$F8,'00 Alimenta'!F:F)","v":0},{"$f":"SUMIF('00 Alimenta'!$B:$B,'00 PDC SP'!$F8,'00 Alimenta'!G:G)","v":0},{"$f":"SUMIF('00 Alimenta'!$B:$B,'00 PDC SP'!$F8,'00 Alimenta'!H:H)","v":0},{"$f":"SUMIF('00 Alimenta'!$B:$B,'00 PDC SP'!$F8,'00 Alimenta'!I:I)","v":0},0]
["AAA120","AA","AAA120",37,null,"0101010501","Immobilizzazioni immateriali in corso ",{"$f":"SUMIF('00 Alimenta'!$B:$B,'00 PDC SP'!$F9,'00 Alimenta'!D:D)","v":0},{"$f":"SUMIF('00 Alimenta'!$B:$B,'00 PDC SP'!$F9,'00 Alimenta'!E:E)","v":0},{"$f":"SUMIF('00 Alimenta'!$B:$B,'00 PDC SP'!$F9,'00 Alimenta'!F:F)","v":0},{"$f":"SUMIF('00 Alimenta'!$B:$B,'00 PDC SP'!$F9,'00 Alimenta'!G:G)","v":0},{"$f":"SUMIF('00 Alimenta'!$B:$B,'00 PDC SP'!$F9,'00 Alimenta'!H:H)","v":0},{"$f":"SUMIF('00 Alimenta'!$B:$B,'00 PDC SP'!$F9,'00 Alimenta'!I:I)","v":0},0]
["AAA120","AA","AAA120",37,null,"0101010502","Acconti su future acquisizioni immobilizzazioni immateriali",{"$f":"SUMIF('00 Alimenta'!$B:$B,'00 PDC SP'!$F10,'00 Alimenta'!D:D)","v":0},{"$f":"SUMIF('00 Alimenta'!$B:$B,'00 PDC SP'!$F10,'00 Alimenta'!E:E)","v":0},{"$f":"SUMIF('00 Alimenta'!$B:$B,'00 PDC SP'!$F10,'00 Alimenta'!F:F)","v":0},{"$f":"SUMIF('00 Alimenta'!$B:$B,'00 PDC SP'!$F10,'00 Alimenta'!G:G)","v":0},{"$f":"SUMIF('00 Alimenta'!$B:$B,'00 PDC SP'!$F10,'00 Alimenta'!H:H)","v":0},{"$f":"SUMIF('00 Alimenta'!$B:$B,'00 PDC SP'!$F10,'00 Alimenta'!I:I)","v":0},0]
["AAA140","AA","AAA140",38,null,"0101010601","Concessioni pluriennali",{"$f":"SUMIF('00 Alimenta'!$B:$B,'00 PDC SP'!$F11,'00 Alimenta'!D:D)","v":0},{"$f":"SUMIF('00 Alimenta'!$B:$B,'00 PDC SP'!$F11,'00 Alimenta'!E:E)","v":0},{"$f":"SUMIF('00 Alimenta'!$B:$B,'00 PDC SP'!$F11,'00 Alimenta'!F:F)","v":0},{"$f":"SUMIF('00 Alimenta'!$B:$B,'00 PDC SP'!$F11,'00 Alimenta'!G:G)","v":0},{"$f":"SUMIF('00 Alimenta'!$B:$B,'00 PDC SP'!$F11,'00 Alimenta'!H:H)","v":0},{"$f":"SUMIF('00 Alimenta'!$B:$B,'00 PDC SP'!$F11,'00 Alimenta'!I:I)","v":0},0]
["AAA140","AA","AAA140",38,null,"0101010602","Licenze d'uso software",{"$f":"SUMIF('00 Alimenta'!$B:$B,'00 PDC SP'!$F12,'00 Alimenta'!D:D)","v":1985432.37},{"$f":"SUMIF('00 Alimenta'!$B:$B,'00 PDC SP'!$F12,'00 Alimenta'!E:E)","v":209841.59},{"$f":"SUMIF('00 Alimenta'!$B:$B,'00 PDC SP'!$F12,'00 Alimenta'!F:F)","v":7129.38},{"$f":"SUMIF('00 Alimenta'!$B:$B,'00 PDC SP'!$F12,'00 Alimenta'!G:G)","v":2188144.58},{"$f":"SUMIF('00 Alimenta'!$B:$B,'00 PDC SP'!$F12,'00 Alimenta'!H:H)","v":131197.56},{"$f":"SUMIF('00 Alimenta'!$B:$B,'00 PDC SP'!$F12,'00 Alimenta'!I:I)","v":11461.65},2307880.4900000002]
["AAA140","AA","AAA140",38,null,"0101010603","Marchi e diritti simili",{"$f":"SUMIF('00 Alimenta'!$B:$B,'00 PDC SP'!$F13,'00 Alimenta'!D:D)","v":0},{"$f":"SUMIF('00 Alimenta'!$B:$B,'00 PDC SP'!$F13,'00 Alimenta'!E:E)","v":0},{"$f":"SUMIF('00 Alimenta'!$B:$B,'00 PDC SP'!$F13,'00 Alimenta'!F:F)","v":0},{"$f":"SUMIF('00 Alimenta'!$B:$B,'00 PDC SP'!$F13,'00 Alimenta'!G:G)","v":0},{"$f":"SUMIF('00 Alimenta'!$B:$B,'00 PDC SP'!$F13,'00 Alimenta'!H:H)","v":0},{"$f":"SUMIF('00 Alimenta'!$B:$B,'00 PDC SP'!$F13,'00 Alimenta'!I:I)","v":0},0]
["AAA160","AA","AAA160",38,null,"0101010701","Migliorie su beni di terzi",{"$f":"SUMIF('00 Alimenta'!$B:$B,'00 PDC SP'!$F14,'00 Alimenta'!D:D)","v":0},{"$f":"SUMIF('00 Alimenta'!$B:$B,'00 PDC SP'!$F14,'00 Alimenta'!E:E)","v":0},{"$f":"SUMIF('00 Alimenta'!$B:$B,'00 PDC SP'!$F14,'00 Alimenta'!F:F)","v":0},{"$f":"SUMIF('00 Alimenta'!$B:$B,'00 PDC SP'!$F14,'00 Alimenta'!G:G)","v":0},{"$f":"SUMIF('00 Alimenta'!$B:$B,'00 PDC SP'!$F14,'00 Alimenta'!H:H)","v":0},{"$f":"SUMIF('00 Alimenta'!$B:$B,'00 PDC SP'!$F14,'00 Alimenta'!I:I)","v":0},0]
["AAA180","AA","AAA180",38,null,"0101010801","Pubblicità",{"$f":"SUMIF('00 Alimenta'!$B:$B,'00 PDC SP'!$F15,'00 Alimenta'!D:D)","v":0},{"$f":"SUMIF('00 Alimenta'!$B:$B,'00 PDC SP'!$F15,'00 Alimenta'!E:E)","v":0},{"$f":"SUMIF('00 Alimenta'!$B:$B,'00 PDC SP'!$F15,'00 Alimenta'!F:F)","v":0},{"$f":"SUMIF('00 Alimenta'!$B:$B,'00 PDC SP'!$F15,'00 Alimenta'!G:G)","v":0},{"$f":"SUMIF('00 Alimenta'!$B:$B,'00 PDC SP'!$F15,'00 Alimenta'!H:H)","v":0},{"$f":"SUMIF('00 Alimenta'!$B:$B,'00 PDC SP'!$F15,'00 Alimenta'!I:I)","v":0},0]
["AAA200","AA","AAA200",38,null,"0101010901","Altre immobilizzazioni immateriali",{"$f":"SUMIF('00 Alimenta'!$B:$B,'00 PDC SP'!$F16,'00 Alimenta'!D:D)","v":0},{"$f":"SUMIF('00 Alimenta'!$B:$B,'00 PDC SP'!$F16,'00 Alimenta'!E:E)","v":0},{"$f":"SUMIF('00 Alimenta'!$B:$B,'00 PDC SP'!$F16,'00 Alimenta'!F:F)","v":0},{"$f":"SUMIF('00 Alimenta'!$B:$B,'00 PDC SP'!$F16,'00 Alimenta'!G:G)","v":0},{"$f":"SUMIF('00 Alimenta'!$B:$B,'00 PDC SP'!$F16,'00 Alimenta'!H:H)","v":0},{"$f":"SUMIF('00 Alimenta'!$B:$B,'00 PDC SP'!$F16,'00 Alimenta'!I:I)","v":0},0]
["AAA290","AA","AAA290",39,null,"0101020101","Terreni disponibili",{"$f":"SUMIF('00 Alimenta'!$B:$B,'00 PDC SP'!$F17,'00 Alimenta'!D:D)","v":0},{"$f":"SUMIF('00 Alimenta'!$B:$B,'00 PDC SP'!$F17,'00 Alimenta'!E:E)","v":0},{"$f":"SUMIF('00 Alimenta'!$B:$B,'00 PDC SP'!$F17,'00 Alimenta'!F:F)","v":0},{"$f":"SUMIF('00 Alimenta'!$B:$B,'00 PDC SP'!$F17,'00 Alimenta'!G:G)","v":0},{"$f":"SUMIF('00 Alimenta'!$B:$B,'00 PDC SP'!$F17,'00 Alimenta'!H:H)","v":0},{"$f":"SUMIF('00 Alimenta'!$B:$B,'00 PDC SP'!$F17,'00 Alimenta'!I:I)","v":0},0]
["AAA300","AA","AAA300",39,null,"0101020102","Terreni indisponibili",{"$f":"SUMIF('00 Alimenta'!$B:$B,'00 PDC SP'!$F18,'00 Alimenta'!D:D)","v":942655.12},{"$f":"SUMIF('00 Alimenta'!$B:$B,'00 PDC SP'!$F18,'00 Alimenta'!E:E)","v":0},{"$f":"SUMIF('00 Alimenta'!$B:$B,'00 PDC SP'!$F18,'00 Alimenta'!F:F)","v":0},{"$f":"SUMIF('00 Alimenta'!$B:$B,'00 PDC SP'!$F18,'00 Alimenta'!G:G)","v":942655.12},{"$f":"SUMIF('00 Alimenta'!$B:$B,'00 PDC SP'!$F18,'00 Alimenta'!H:H)","v":0},{"$f":"SUMIF('00 Alimenta'!$B:$B,'00 PDC SP'!$F18,'00 Alimenta'!I:I)","v":0},942655.12]
["AAA330","AA","AAA330",40,null,"0101020201","Fabbricati non strumentali (disponibili)",{"$f":"SUMIF('00 Alimenta'!$B:$B,'00 PDC SP'!$F19,'00 Alimenta'!D:D)","v":0},{"$f":"SUMIF('00 Alimenta'!$B:$B,'00 PDC SP'!$F19,'00 Alimenta'!E:E)","v":0},{"$f":"SUMIF('00 Alimenta'!$B:$B,'00 PDC SP'!$F19,'00 Alimenta'!F:F)","v":0},{"$f":"SUMIF('00 Alimenta'!$B:$B,'00 PDC SP'!$F19,'00 Alimenta'!G:G)","v":0},{"$f":"SUMIF('00 Alimenta'!$B:$B,'00 PDC SP'!$F19,'00 Alimenta'!H:H)","v":0},{"$f":"SUMIF('00 Alimenta'!$B:$B,'00 PDC SP'!$F19,'00 Alimenta'!I:I)","v":0},0]
["AAA330","AA","AAA330",40,null,"0101020202","Costruzioni leggere",{"$f":"SUMIF('00 Alimenta'!$B:$B,'00 PDC SP'!$F20,'00 Alimenta'!D:D)","v":0},{"$f":"SUMIF('00 Alimenta'!$B:$B,'00 PDC SP'!$F20,'00 Alimenta'!E:E)","v":0},{"$f":"SUMIF('00 Alimenta'!$B:$B,'00 PDC SP'!$F20,'00 Alimenta'!F:F)","v":0},{"$f":"SUMIF('00 Alimenta'!$B:$B,'00 PDC SP'!$F20,'00 Alimenta'!G:G)","v":0},{"$f":"SUMIF('00 Alimenta'!$B:$B,'00 PDC SP'!$F20,'00 Alimenta'!H:H)","v":0},{"$f":"SUMIF('00 Alimenta'!$B:$B,'00 PDC SP'!$F20,'00 Alimenta'!I:I)","v":0},0]
["AAA330","AA","AAA330",40,null,"0101020203","Manutenzioni e riparazioni straordinarie capitalizzabili fabbricati disponibili",{"$f":"SUMIF('00 Alimenta'!$B:$B,'00 PDC SP'!$F21,'00 Alimenta'!D:D)","v":0},{"$f":"SUMIF('00 Alimenta'!$B:$B,'00 PDC SP'!$F21,'00 Alimenta'!E:E)","v":0},{"$f":"SUMIF('00 Alimenta'!$B:$B,'00 PDC SP'!$F21,'00 Alimenta'!F:F)","v":0},{"$f":"SUMIF('00 Alimenta'!$B:$B,'00 PDC SP'!$F21,'00 Alimenta'!G:G)","v":0},{"$f":"SUMIF('00 Alimenta'!$B:$B,'00 PDC SP'!$F21,'00 Alimenta'!H:H)","v":0},{"$f":"SUMIF('00 Alimenta'!$B:$B,'00 PDC SP'!$F21,'00 Alimenta'!I:I)","v":0},0]
["AAA360","AA","AAA360",40,null,"0101020301","Fabbricati strumentali (indisponibili)",{"$f":"SUMIF('00 Alimenta'!$B:$B,'00 PDC SP'!$F22,'00 Alimenta'!D:D)","v":169096559.22999999},{"$f":"SUMIF('00 Alimenta'!$B:$B,'00 PDC SP'!$F22,'00 Alimenta'!E:E)","v":0},{"$f":"SUMIF('00 Alimenta'!$B:$B,'00 PDC SP'!$F22,'00 Alimenta'!F:F)","v":0},{"$f":"SUMIF('00 Alimenta'!$B:$B,'00 PDC SP'!$F22,'00 Alimenta'!G:G)","v":169096559.22999999},{"$f":"SUMIF('00 Alimenta'!$B:$B,'00 PDC SP'!$F22,'00 Alimenta'!H:H)","v":2087230},{"$f":"SUMIF('00 Alimenta'!$B:$B,'00 PDC SP'!$F22,'00 Alimenta'!I:I)","v":0},171183789.22999999]
["AAA360","AA","AAA360",40,null,"0101020302","Manutenzioni e riparazioni straordinarie capitalizzabili fabbricati indisponibili",{"$f":"SUMIF('00 Alimenta'!$B:$B,'00 PDC SP'!$F23,'00 Alimenta'!D:D)","v":0},{"$f":"SUMIF('00 Alimenta'!$B:$B,'00 PDC SP'!$F23,'00 Alimenta'!E:E)","v":0},{"$f":"SUMIF('00 Alimenta'!$B:$B,'00 PDC SP'!$F23,'00 Alimenta'!F:F)","v":0},{"$f":"SUMIF('00 Alimenta'!$B:$B,'00 PDC SP'!$F23,'00 Alimenta'!G:G)","v":0},{"$f":"SUMIF('00 Alimenta'!$B:$B,'00 PDC SP'!$F23,'00 Alimenta'!H:H)","v":0},{"$f":"SUMIF('00 Alimenta'!$B:$B,'00 PDC SP'!$F23,'00 Alimenta'!I:I)","v":0},0]
["AAA390","AA","AAA390",41,null,"0101020401","Impianti sanitari",{"$f":"SUMIF('00 Alimenta'!$B:$B,'00 PDC SP'!$F24,'00 Alimenta'!D:D)","v":0},{"$f":"SUMIF('00 Alimenta'!$B:$B,'00 PDC SP'!$F24,'00 Alimenta'!E:E)","v":0},{"$f":"SUMIF('00 Alimenta'!$B:$B,'00 PDC SP'!$F24,'00 Alimenta'!F:F)","v":0},{"$f":"SUMIF('00 Alimenta'!$B:$B,'00 PDC SP'!$F24,'00 Alimenta'!G:G)","v":0},{"$f":"SUMIF('00 Alimenta'!$B:$B,'00 PDC SP'!$F24,'00 Alimenta'!H:H)","v":0},{"$f":"SUMIF('00 Alimenta'!$B:$B,'00 PDC SP'!$F24,'00 Alimenta'!I:I)","v":0},0]
["AAA390","AA","AAA390",41,null,"0101020402","Impianti generici",{"$f":"SUMIF('00 Alimenta'!$B:$B,'00 PDC SP'!$F25,'00 Alimenta'!D:D)","v":0},{"$f":"SUMIF('00 Alimenta'!$B:$B,'00 PDC SP'!$F25,'00 Alimenta'!E:E)","v":0},{"$f":"SUMIF('00 Alimenta'!$B:$B,'00 PDC SP'!$F25,'00 Alimenta'!F:F)","v":0},{"$f":"SUMIF('00 Alimenta'!$B:$B,'00 PDC SP'!$F25,'00 Alimenta'!G:G)","v":0},{"$f":"SUMIF('00 Alimenta'!$B:$B,'00 PDC SP'!$F25,'00 Alimenta'!H:H)","v":0},{"$f":"SUMIF('00 Alimenta'!$B:$B,'00 PDC SP'!$F25,'00 Alimenta'!I:I)","v":0},0]
["AAA390","AA","AAA390",41,null,"0101020403","Macchinari sanitari",{"$f":"SUMIF('00 Alimenta'!$B:$B,'00 PDC SP'!$F26,'00 Alimenta'!D:D)","v":0},{"$f":"SUMIF('00 Alimenta'!$B:$B,'00 PDC SP'!$F26,'00 Alimenta'!E:E)","v":0},{"$f":"SUMIF('00 Alimenta'!$B:$B,'00 PDC SP'!$F26,'00 Alimenta'!F:F)","v":0},{"$f":"SUMIF('00 Alimenta'!$B:$B,'00 PDC SP'!$F26,'00 Alimenta'!G:G)","v":0},{"$f":"SUMIF('00 Alimenta'!$B:$B,'00 PDC SP'!$F26,'00 Alimenta'!H:H)","v":0},{"$f":"SUMIF('00 Alimenta'!$B:$B,'00 PDC SP'!$F26,'00 Alimenta'!I:I)","v":0},0]
["AAA390","AA","AAA390",41,null,"0101020404","Macchinari generici",{"$f":"SUMIF('00 Alimenta'!$B:$B,'00 PDC SP'!$F27,'00 Alimenta'!D:D)","v":5947030.4800000004},{"$f":"SUMIF('00 Alimenta'!$B:$B,'00 PDC SP'!$F27,'00 Alimenta'!E:E)","v":219918.7},{"$f":"SUMIF('00 Alimenta'!$B:$B,'00 PDC SP'!$F27,'00 Alimenta'!F:F)","v":171.65},{"$f":"SUMIF('00 Alimenta'!$B:$B,'00 PDC SP'!$F27,'00 Alimenta'!G:G)","v":6166777.5300000003},{"$f":"SUMIF('00 Alimenta'!$B:$B,'00 PDC SP'!$F27,'00 Alimenta'!H:H)","v":653192.51},{"$f":"SUMIF('00 Alimenta'!$B:$B,'00 PDC SP'!$F27,'00 Alimenta'!I:I)","v":17647.73},6802322.3099999996]
["AAA390","AA","AAA390",41,null,"0101020405","Impianti e macchinari < 516 euro",{"$f":"SUMIF('00 Alimenta'!$B:$B,'00 PDC SP'!$F28,'00 Alimenta'!D:D)","v":0},{"$f":"SUMIF('00 Alimenta'!$B:$B,'00 PDC SP'!$F28,'00 Alimenta'!E:E)","v":0},{"$f":"SUMIF('00 Alimenta'!$B:$B,'00 PDC SP'!$F28,'00 Alimenta'!F:F)","v":0},{"$f":"SUMIF('00 Alimenta'!$B:$B,'00 PDC SP'!$F28,'00 Alimenta'!G:G)","v":0},{"$f":"SUMIF('00 Alimenta'!$B:$B,'00 PDC SP'!$F28,'00 Alimenta'!H:H)","v":0},{"$f":"SUMIF('00 Alimenta'!$B:$B,'00 PDC SP'!$F28,'00 Alimenta'!I:I)","v":0},0]
["AAA420","AA","AAA420",42,null,"0101020501","Attrezzature sanitarie e scientifiche",{"$f":"SUMIF('00 Alimenta'!$B:$B,'00 PDC SP'!$F29,'00 Alimenta'!D:D)","v":0},{"$f":"SUMIF('00 Alimenta'!$B:$B,'00 PDC SP'!$F29,'00 Alimenta'!E:E)","v":0},{"$f":"SUMIF('00 Alimenta'!$B:$B,'00 PDC SP'!$F29,'00 Alimenta'!F:F)","v":0},{"$f":"SUMIF('00 Alimenta'!$B:$B,'00 PDC SP'!$F29,'00 Alimenta'!G:G)","v":0},{"$f":"SUMIF('00 Alimenta'!$B:$B,'00 PDC SP'!$F29,'00 Alimenta'!H:H)","v":0},{"$f":"SUMIF('00 Alimenta'!$B:$B,'00 PDC SP'!$F29,'00 Alimenta'!I:I)","v":0},0]
["AAA420","AA","AAA420",42,null,"0101020502","Attrezzature generiche",{"$f":"SUMIF('00 Alimenta'!$B:$B,'00 PDC SP'!$F30,'00 Alimenta'!D:D)","v":79051702.269999996},{"$f":"SUMIF('00 Alimenta'!$B:$B,'00 PDC SP'!$F30,'00 Alimenta'!E:E)","v":5812839.0700000003},{"$f":"SUMIF('00 Alimenta'!$B:$B,'00 PDC SP'!$F30,'00 Alimenta'!F:F)","v":146692.79999999999},{"$f":"SUMIF('00 Alimenta'!$B:$B,'00 PDC SP'!$F30,'00 Alimenta'!G:G)","v":84717848.540000007},{"$f":"SUMIF('00 Alimenta'!$B:$B,'00 PDC SP'!$F30,'00 Alimenta'!H:H)","v":4303427.6100000003},{"$f":"SUMIF('00 Alimenta'!$B:$B,'00 PDC SP'!$F30,'00 Alimenta'!I:I)","v":5885338.1699999999},83135937.980000004]
["AAA420","AA","AAA420",42,null,"0101020503","Attrezzature sanitarie e scientifiche < 516 euro",{"$f":"SUMIF('00 Alimenta'!$B:$B,'00 PDC SP'!$F31,'00 Alimenta'!D:D)","v":0},{"$f":"SUMIF('00 Alimenta'!$B:$B,'00 PDC SP'!$F31,'00 Alimenta'!E:E)","v":0},{"$f":"SUMIF('00 Alimenta'!$B:$B,'00 PDC SP'!$F31,'00 Alimenta'!F:F)","v":0},{"$f":"SUMIF('00 Alimenta'!$B:$B,'00 PDC SP'!$F31,'00 Alimenta'!G:G)","v":0},{"$f":"SUMIF('00 Alimenta'!$B:$B,'00 PDC SP'!$F31,'00 Alimenta'!H:H)","v":0},{"$f":"SUMIF('00 Alimenta'!$B:$B,'00 PDC SP'!$F31,'00 Alimenta'!I:I)","v":0},0]
["AAA450","AA","AAA450",43,null,"0101020601","Mobili e arredi",{"$f":"SUMIF('00 Alimenta'!$B:$B,'00 PDC SP'!$F32,'00 Alimenta'!D:D)","v":10368797.42},{"$f":"SUMIF('00 Alimenta'!$B:$B,'00 PDC SP'!$F32,'00 Alimenta'!E:E)","v":241394.07},{"$f":"SUMIF('00 Alimenta'!$B:$B,'00 PDC SP'!$F32,'00 Alimenta'!F:F)","v":12215.84},{"$f":"SUMIF('00 Alimenta'!$B:$B,'00 PDC SP'!$F32,'00 Alimenta'!G:G)","v":10597975.65},{"$f":"SUMIF('00 Alimenta'!$B:$B,'00 PDC SP'!$F32,'00 Alimenta'!H:H)","v":339281.25},{"$f":"SUMIF('00 Alimenta'!$B:$B,'00 PDC SP'!$F32,'00 Alimenta'!I:I)","v":91861.65},10845395.25]
["AAA450","AA","AAA450",43,null,"0101020602","Mobili d'ufficio",{"$f":"SUMIF('00 Alimenta'!$B:$B,'00 PDC SP'!$F33,'00 Alimenta'!D:D)","v":0},{"$f":"SUMIF('00 Alimenta'!$B:$B,'00 PDC SP'!$F33,'00 Alimenta'!E:E)","v":0},{"$f":"SUMIF('00 Alimenta'!$B:$B,'00 PDC SP'!$F33,'00 Alimenta'!F:F)","v":0},{"$f":"SUMIF('00 Alimenta'!$B:$B,'00 PDC SP'!$F33,'00 Alimenta'!G:G)","v":0},{"$f":"SUMIF('00 Alimenta'!$B:$B,'00 PDC SP'!$F33,'00 Alimenta'!H:H)","v":0},{"$f":"SUMIF('00 Alimenta'!$B:$B,'00 PDC SP'!$F33,'00 Alimenta'!I:I)","v":0},0]
["AAA450","AA","AAA450",43,null,"0101020603","Mobili d'ufficio < 516 euro",{"$f":"SUMIF('00 Alimenta'!$B:$B,'00 PDC SP'!$F34,'00 Alimenta'!D:D)","v":0},{"$f":"SUMIF('00 Alimenta'!$B:$B,'00 PDC SP'!$F34,'00 Alimenta'!E:E)","v":0},{"$f":"SUMIF('00 Alimenta'!$B:$B,'00 PDC SP'!$F34,'00 Alimenta'!F:F)","v":0},{"$f":"SUMIF('00 Alimenta'!$B:$B,'00 PDC SP'!$F34,'00 Alimenta'!G:G)","v":0},{"$f":"SUMIF('00 Alimenta'!$B:$B,'00 PDC SP'!$F34,'00 Alimenta'!H:H)","v":0},{"$f":"SUMIF('00 Alimenta'!$B:$B,'00 PDC SP'!$F34,'00 Alimenta'!I:I)","v":0},0]
["AAA480","AA","AAA480",44,null,"0101020701","Elicotteri",{"$f":"SUMIF('00 Alimenta'!$B:$B,'00 PDC SP'!$F35,'00 Alimenta'!D:D)","v":0},{"$f":"SUMIF('00 Alimenta'!$B:$B,'00 PDC SP'!$F35,'00 Alimenta'!E:E)","v":0},{"$f":"SUMIF('00 Alimenta'!$B:$B,'00 PDC SP'!$F35,'00 Alimenta'!F:F)","v":0},{"$f":"SUMIF('00 Alimenta'!$B:$B,'00 PDC SP'!$F35,'00 Alimenta'!G:G)","v":0},{"$f":"SUMIF('00 Alimenta'!$B:$B,'00 PDC SP'!$F35,'00 Alimenta'!H:H)","v":0},{"$f":"SUMIF('00 Alimenta'!$B:$B,'00 PDC SP'!$F35,'00 Alimenta'!I:I)","v":0},0]
["AAA480","AA","AAA480",44,null,"0101020702","Ambulanze ",{"$f":"SUMIF('00 Alimenta'!$B:$B,'00 PDC SP'!$F36,'00 Alimenta'!D:D)","v":0},{"$f":"SUMIF('00 Alimenta'!$B:$B,'00 PDC SP'!$F36,'00 Alimenta'!E:E)","v":0},{"$f":"SUMIF('00 Alimenta'!$B:$B,'00 PDC SP'!$F36,'00 Alimenta'!F:F)","v":0},{"$f":"SUMIF('00 Alimenta'!$B:$B,'00 PDC SP'!$F36,'00 Alimenta'!G:G)","v":0},{"$f":"SUMIF('00 Alimenta'!$B:$B,'00 PDC SP'!$F36,'00 Alimenta'!H:H)","v":73346.399999999994},{"$f":"SUMIF('00 Alimenta'!$B:$B,'00 PDC SP'!$F36,'00 Alimenta'!I:I)","v":0},73346.399999999994]
["AAA480","AA","AAA480",44,null,"0101020703","Altri mezzi di trasporto",{"$f":"SUMIF('00 Alimenta'!$B:$B,'00 PDC SP'!$F37,'00 Alimenta'!D:D)","v":1839959.11},{"$f":"SUMIF('00 Alimenta'!$B:$B,'00 PDC SP'!$F37,'00 Alimenta'!E:E)","v":123029.66},{"$f":"SUMIF('00 Alimenta'!$B:$B,'00 PDC SP'!$F37,'00 Alimenta'!F:F)","v":0},{"$f":"SUMIF('00 Alimenta'!$B:$B,'00 PDC SP'!$F37,'00 Alimenta'!G:G)","v":1962988.77},{"$f":"SUMIF('00 Alimenta'!$B:$B,'00 PDC SP'!$F37,'00 Alimenta'!H:H)","v":19850.57},{"$f":"SUMIF('00 Alimenta'!$B:$B,'00 PDC SP'!$F37,'00 Alimenta'!I:I)","v":149825.10999999999},1833014.23]
["AAA500","AA","AAA500",45,null,"0101020801","Oggetti d'arte",{"$f":"SUMIF('00 Alimenta'!$B:$B,'00 PDC SP'!$F38,'00 Alimenta'!D:D)","v":0},{"$f":"SUMIF('00 Alimenta'!$B:$B,'00 PDC SP'!$F38,'00 Alimenta'!E:E)","v":0},{"$f":"SUMIF('00 Alimenta'!$B:$B,'00 PDC SP'!$F38,'00 Alimenta'!F:F)","v":0},{"$f":"SUMIF('00 Alimenta'!$B:$B,'00 PDC SP'!$F38,'00 Alimenta'!G:G)","v":0},{"$f":"SUMIF('00 Alimenta'!$B:$B,'00 PDC SP'!$F38,'00 Alimenta'!H:H)","v":0},{"$f":"SUMIF('00 Alimenta'!$B:$B,'00 PDC SP'!$F38,'00 Alimenta'!I:I)","v":0},0]
["AAA520","AA","AAA520",45,null,"0101020901","Attrezzature e macchine d'ufficio",{"$f":"SUMIF('00 Alimenta'!$B:$B,'00 PDC SP'!$F39,'00 Alimenta'!D:D)","v":0},{"$f":"SUMIF('00 Alimenta'!$B:$B,'00 PDC SP'!$F39,'00 Alimenta'!E:E)","v":0},{"$f":"SUMIF('00 Alimenta'!$B:$B,'00 PDC SP'!$F39,'00 Alimenta'!F:F)","v":0},{"$f":"SUMIF('00 Alimenta'!$B:$B,'00 PDC SP'!$F39,'00 Alimenta'!G:G)","v":0},{"$f":"SUMIF('00 Alimenta'!$B:$B,'00 PDC SP'!$F39,'00 Alimenta'!H:H)","v":0},{"$f":"SUMIF('00 Alimenta'!$B:$B,'00 PDC SP'!$F39,'00 Alimenta'!I:I)","v":0},0]
["AAA520","AA","AAA520",45,null,"0101020902","Attrezzature tecnico - economali",{"$f":"SUMIF('00 Alimenta'!$B:$B,'00 PDC SP'!$F40,'00 Alimenta'!D:D)","v":0},{"$f":"SUMIF('00 Alimenta'!$B:$B,'00 PDC SP'!$F40,'00 Alimenta'!E:E)","v":0},{"$f":"SUMIF('00 Alimenta'!$B:$B,'00 PDC SP'!$F40,'00 Alimenta'!F:F)","v":0},{"$f":"SUMIF('00 Alimenta'!$B:$B,'00 PDC SP'!$F40,'00 Alimenta'!G:G)","v":0},{"$f":"SUMIF('00 Alimenta'!$B:$B,'00 PDC SP'!$F40,'00 Alimenta'!H:H)","v":0},{"$f":"SUMIF('00 Alimenta'!$B:$B,'00 PDC SP'!$F40,'00 Alimenta'!I:I)","v":0},0]
["AAA520","AA","AAA520",45,null,"0101020903","Computer e macchinari elettronici",{"$f":"SUMIF('00 Alimenta'!$B:$B,'00 PDC SP'!$F41,'00 Alimenta'!D:D)","v":5230170.92},{"$f":"SUMIF('00 Alimenta'!$B:$B,'00 PDC SP'!$F41,'00 Alimenta'!E:E)","v":261895.29},{"$f":"SUMIF('00 Alimenta'!$B:$B,'00 PDC SP'!$F41,'00 Alimenta'!F:F)","v":2012.8},{"$f":"SUMIF('00 Alimenta'!$B:$B,'00 PDC SP'!$F41,'00 Alimenta'!G:G)","v":5490053.4100000001},{"$f":"SUMIF('00 Alimenta'!$B:$B,'00 PDC SP'!$F41,'00 Alimenta'!H:H)","v":253573.24},{"$f":"SUMIF('00 Alimenta'!$B:$B,'00 PDC SP'!$F41,'00 Alimenta'!I:I)","v":327240.58},5416386.0700000003]
["AAA520","AA","AAA520",45,null,"0101020904","Altri beni materiali",{"$f":"SUMIF('00 Alimenta'!$B:$B,'00 PDC SP'!$F42,'00 Alimenta'!D:D)","v":423919.86},{"$f":"SUMIF('00 Alimenta'!$B:$B,'00 PDC SP'!$F42,'00 Alimenta'!E:E)","v":4021.71},{"$f":"SUMIF('00 Alimenta'!$B:$B,'00 PDC SP'!$F42,'00 Alimenta'!F:F)","v":0},{"$f":"SUMIF('00 Alimenta'!$B:$B,'00 PDC SP'!$F42,'00 Alimenta'!G:G)","v":427941.57},{"$f":"SUMIF('00 Alimenta'!$B:$B,'00 PDC SP'!$F42,'00 Alimenta'!H:H)","v":14224.53},{"$f":"SUMIF('00 Alimenta'!$B:$B,'00 PDC SP'!$F42,'00 Alimenta'!I:I)","v":3249.6},438916.50000000006]
["AAA520","AA","AAA520",45,null,"0101020905","Altri beni < 516 euro",{"$f":"SUMIF('00 Alimenta'!$B:$B,'00 PDC SP'!$F43,'00 Alimenta'!D:D)","v":0},{"$f":"SUMIF('00 Alimenta'!$B:$B,'00 PDC SP'!$F43,'00 Alimenta'!E:E)","v":0},{"$f":"SUMIF('00 Alimenta'!$B:$B,'00 PDC SP'!$F43,'00 Alimenta'!F:F)","v":0},{"$f":"SUMIF('00 Alimenta'!$B:$B,'00 PDC SP'!$F43,'00 Alimenta'!G:G)","v":0},{"$f":"SUMIF('00 Alimenta'!$B:$B,'00 PDC SP'!$F43,'00 Alimenta'!H:H)","v":0},{"$f":"SUMIF('00 Alimenta'!$B:$B,'00 PDC SP'!$F43,'00 Alimenta'!I:I)","v":0},0]
["AAA540","AA","AAA540",45,null,"0101021001","Fabbricati in costruzione",{"$f":"SUMIF('00 Alimenta'!$B:$B,'00 PDC SP'!$F44,'00 Alimenta'!D:D)","v":8622770.2699999996},{"$f":"SUMIF('00 Alimenta'!$B:$B,'00 PDC SP'!$F44,'00 Alimenta'!E:E)","v":950522.09},{"$f":"SUMIF('00 Alimenta'!$B:$B,'00 PDC SP'!$F44,'00 Alimenta'!F:F)","v":102440.22},{"$f":"SUMIF('00 Alimenta'!$B:$B,'00 PDC SP'!$F44,'00 Alimenta'!G:G)","v":9470852.1400000006},{"$f":"SUMIF('00 Alimenta'!$B:$B,'00 PDC SP'!$F44,'00 Alimenta'!H:H)","v":1449834.4},{"$f":"SUMIF('00 Alimenta'!$B:$B,'00 PDC SP'!$F44,'00 Alimenta'!I:I)","v":2396699.1800000002},8523987.3600000013]
["AAA540","AA","AAA540",45,null,"0101021002","Impianti e macchinari in costruzione",{"$f":"SUMIF('00 Alimenta'!$B:$B,'00 PDC SP'!$F45,'00 Alimenta'!D:D)","v":0},{"$f":"SUMIF('00 Alimenta'!$B:$B,'00 PDC SP'!$F45,'00 Alimenta'!E:E)","v":0},{"$f":"SUMIF('00 Alimenta'!$B:$B,'00 PDC SP'!$F45,'00 Alimenta'!F:F)","v":0},{"$f":"SUMIF('00 Alimenta'!$B:$B,'00 PDC SP'!$F45,'00 Alimenta'!G:G)","v":0},{"$f":"SUMIF('00 Alimenta'!$B:$B,'00 PDC SP'!$F45,'00 Alimenta'!H:H)","v":0},{"$f":"SUMIF('00 Alimenta'!$B:$B,'00 PDC SP'!$F45,'00 Alimenta'!I:I)","v":0},0]
["AAA540","AA","AAA540",45,null,"0101021003","Attrezzature sanitarie e scientifiche in costruzione",{"$f":"SUMIF('00 Alimenta'!$B:$B,'00 PDC SP'!$F46,'00 Alimenta'!D:D)","v":0},{"$f":"SUMIF('00 Alimenta'!$B:$B,'00 PDC SP'!$F46,'00 Alimenta'!E:E)","v":0},{"$f":"SUMIF('00 Alimenta'!$B:$B,'00 PDC SP'!$F46,'00 Alimenta'!F:F)","v":0},{"$f":"SUMIF('00 Alimenta'!$B:$B,'00 PDC SP'!$F46,'00 Alimenta'!G:G)","v":0},{"$f":"SUMIF('00 Alimenta'!$B:$B,'00 PDC SP'!$F46,'00 Alimenta'!H:H)","v":0},{"$f":"SUMIF('00 Alimenta'!$B:$B,'00 PDC SP'!$F46,'00 Alimenta'!I:I)","v":0},0]
["AAA540","AA","AAA540",45,null,"0101021004","Altre immobilizzazioni materiali in costruzione",{"$f":"SUMIF('00 Alimenta'!$B:$B,'00 PDC SP'!$F47,'00 Alimenta'!D:D)","v":0},{"$f":"SUMIF('00 Alimenta'!$B:$B,'00 PDC SP'!$F47,'00 Alimenta'!E:E)","v":0},{"$f":"SUMIF('00 Alimenta'!$B:$B,'00 PDC SP'!$F47,'00 Alimenta'!F:F)","v":0},{"$f":"SUMIF('00 Alimenta'!$B:$B,'00 PDC SP'!$F47,'00 Alimenta'!G:G)","v":0},{"$f":"SUMIF('00 Alimenta'!$B:$B,'00 PDC SP'!$F47,'00 Alimenta'!H:H)","v":0},{"$f":"SUMIF('00 Alimenta'!$B:$B,'00 PDC SP'!$F47,'00 Alimenta'!I:I)","v":0},0]
["AAA540","AA","AAA540",45,null,"0101021005","Acconti su future acquisizioni di immobilizzazioni materiali",{"$f":"SUMIF('00 Alimenta'!$B:$B,'00 PDC SP'!$F48,'00 Alimenta'!D:D)","v":142125.31},{"$f":"SUMIF('00 Alimenta'!$B:$B,'00 PDC SP'!$F48,'00 Alimenta'!E:E)","v":1527272.03},{"$f":"SUMIF('00 Alimenta'!$B:$B,'00 PDC SP'!$F48,'00 Alimenta'!F:F)","v":142296.91},{"$f":"SUMIF('00 Alimenta'!$B:$B,'00 PDC SP'!$F48,'00 Alimenta'!G:G)","v":1527100.43},{"$f":"SUMIF('00 Alimenta'!$B:$B,'00 PDC SP'!$F48,'00 Alimenta'!H:H)","v":66213.3},{"$f":"SUMIF('00 Alimenta'!$B:$B,'00 PDC SP'!$F48,'00 Alimenta'!I:I)","v":1527100.33},66213.399999999907]
["AAA660","AA","AAA660",46,null,"0101030101","Crediti finanziari v/Stato",{"$f":"SUMIF('00 Alimenta'!$B:$B,'00 PDC SP'!$F49,'00 Alimenta'!D:D)","v":0},{"$f":"SUMIF('00 Alimenta'!$B:$B,'00 PDC SP'!$F49,'00 Alimenta'!E:E)","v":0},{"$f":"SUMIF('00 Alimenta'!$B:$B,'00 PDC SP'!$F49,'00 Alimenta'!F:F)","v":0},{"$f":"SUMIF('00 Alimenta'!$B:$B,'00 PDC SP'!$F49,'00 Alimenta'!G:G)","v":0},{"$f":"SUMIF('00 Alimenta'!$B:$B,'00 PDC SP'!$F49,'00 Alimenta'!H:H)","v":0},{"$f":"SUMIF('00 Alimenta'!$B:$B,'00 PDC SP'!$F49,'00 Alimenta'!I:I)","v":0},0]
["AAA670","AA","AAA670",46,null,"0101030201","Crediti finanziari v/Regione",{"$f":"SUMIF('00 Alimenta'!$B:$B,'00 PDC SP'!$F50,'00 Alimenta'!D:D)","v":0},{"$f":"SUMIF('00 Alimenta'!$B:$B,'00 PDC SP'!$F50,'00 Alimenta'!E:E)","v":0},{"$f":"SUMIF('00 Alimenta'!$B:$B,'00 PDC SP'!$F50,'00 Alimenta'!F:F)","v":0},{"$f":"SUMIF('00 Alimenta'!$B:$B,'00 PDC SP'!$F50,'00 Alimenta'!G:G)","v":0},{"$f":"SUMIF('00 Alimenta'!$B:$B,'00 PDC SP'!$F50,'00 Alimenta'!H:H)","v":0},{"$f":"SUMIF('00 Alimenta'!$B:$B,'00 PDC SP'!$F50,'00 Alimenta'!I:I)","v":0},0]
["AAA680","AA","AAA680",46,null,"0101030301","Crediti finanziari v/imprese controllate",{"$f":"SUMIF('00 Alimenta'!$B:$B,'00 PDC SP'!$F51,'00 Alimenta'!D:D)","v":0},{"$f":"SUMIF('00 Alimenta'!$B:$B,'00 PDC SP'!$F51,'00 Alimenta'!E:E)","v":0},{"$f":"SUMIF('00 Alimenta'!$B:$B,'00 PDC SP'!$F51,'00 Alimenta'!F:F)","v":0},{"$f":"SUMIF('00 Alimenta'!$B:$B,'00 PDC SP'!$F51,'00 Alimenta'!G:G)","v":0},{"$f":"SUMIF('00 Alimenta'!$B:$B,'00 PDC SP'!$F51,'00 Alimenta'!H:H)","v":0},{"$f":"SUMIF('00 Alimenta'!$B:$B,'00 PDC SP'!$F51,'00 Alimenta'!I:I)","v":0},0]
["AAA680","AA","AAA680",46,null,"0101030302","Crediti finanziari v/imprese collegate",{"$f":"SUMIF('00 Alimenta'!$B:$B,'00 PDC SP'!$F52,'00 Alimenta'!D:D)","v":0},{"$f":"SUMIF('00 Alimenta'!$B:$B,'00 PDC SP'!$F52,'00 Alimenta'!E:E)","v":0},{"$f":"SUMIF('00 Alimenta'!$B:$B,'00 PDC SP'!$F52,'00 Alimenta'!F:F)","v":0},{"$f":"SUMIF('00 Alimenta'!$B:$B,'00 PDC SP'!$F52,'00 Alimenta'!G:G)","v":0},{"$f":"SUMIF('00 Alimenta'!$B:$B,'00 PDC SP'!$F52,'00 Alimenta'!H:H)","v":0},{"$f":"SUMIF('00 Alimenta'!$B:$B,'00 PDC SP'!$F52,'00 Alimenta'!I:I)","v":0},0]
["AAA690","AA","AAA690",46,null,"0101030401","Crediti finanziari v/Provincia",{"$f":"SUMIF('00 Alimenta'!$B:$B,'00 PDC SP'!$F53,'00 Alimenta'!D:D)","v":0},{"$f":"SUMIF('00 Alimenta'!$B:$B,'00 PDC SP'!$F53,'00 Alimenta'!E:E)","v":0},{"$f":"SUMIF('00 Alimenta'!$B:$B,'00 PDC SP'!$F53,'00 Alimenta'!F:F)","v":0},{"$f":"SUMIF('00 Alimenta'!$B:$B,'00 PDC SP'!$F53,'00 Alimenta'!G:G)","v":0},{"$f":"SUMIF('00 Alimenta'!$B:$B,'00 PDC SP'!$F53,'00 Alimenta'!H:H)","v":0},{"$f":"SUMIF('00 Alimenta'!$B:$B,'00 PDC SP'!$F53,'00 Alimenta'!I:I)","v":0},0]
["AAA690","AA","AAA690",46,null,"0101030402","Crediti finanziari v/Comuni",{"$f":"SUMIF('00 Alimenta'!$B:$B,'00 PDC SP'!$F54,'00 Alimenta'!D:D)","v":0},{"$f":"SUMIF('00 Alimenta'!$B:$B,'00 PDC SP'!$F54,'00 Alimenta'!E:E)","v":0},{"$f":"SUMIF('00 Alimenta'!$B:$B,'00 PDC SP'!$F54,'00 Alimenta'!F:F)","v":0},{"$f":"SUMIF('00 Alimenta'!$B:$B,'00 PDC SP'!$F54,'00 Alimenta'!G:G)","v":0},{"$f":"SUMIF('00 Alimenta'!$B:$B,'00 PDC SP'!$F54,'00 Alimenta'!H:H)","v":0},{"$f":"SUMIF('00 Alimenta'!$B:$B,'00 PDC SP'!$F54,'00 Alimenta'!I:I)","v":0},0]
["AAA690","AA","AAA690",46,null,"0101030403","Crediti finanziari v/altri",{"$f":"SUMIF('00 Alimenta'!$B:$B,'00 PDC SP'!$F55,'00 Alimenta'!D:D)","v":0},{"$f":"SUMIF('00 Alimenta'!$B:$B,'00 PDC SP'!$F55,'00 Alimenta'!E:E)","v":0},{"$f":"SUMIF('00 Alimenta'!$B:$B,'00 PDC SP'!$F55,'00 Alimenta'!F:F)","v":0},{"$f":"SUMIF('00 Alimenta'!$B:$B,'00 PDC SP'!$F55,'00 Alimenta'!G:G)","v":0},{"$f":"SUMIF('00 Alimenta'!$B:$B,'00 PDC SP'!$F55,'00 Alimenta'!H:H)","v":0},{"$f":"SUMIF('00 Alimenta'!$B:$B,'00 PDC SP'!$F55,'00 Alimenta'!I:I)","v":0},0]
["AAA690","AA","AAA690",46,null,"0101030404","Depositi cauzionali",{"$f":"SUMIF('00 Alimenta'!$B:$B,'00 PDC SP'!$F56,'00 Alimenta'!D:D)","v":14036.45},{"$f":"SUMIF('00 Alimenta'!$B:$B,'00 PDC SP'!$F56,'00 Alimenta'!E:E)","v":0},{"$f":"SUMIF('00 Alimenta'!$B:$B,'00 PDC SP'!$F56,'00 Alimenta'!F:F)","v":0},{"$f":"SUMIF('00 Alimenta'!$B:$B,'00 PDC SP'!$F56,'00 Alimenta'!G:G)","v":14036.45},{"$f":"SUMIF('00 Alimenta'!$B:$B,'00 PDC SP'!$F56,'00 Alimenta'!H:H)","v":0},{"$f":"SUMIF('00 Alimenta'!$B:$B,'00 PDC SP'!$F56,'00 Alimenta'!I:I)","v":0},14036.45]
["AAA710CN","AA","AAA710",47,"CN","0101030501","Partecipazioni in imprese controllate",{"$f":"SUMIF('00 Alimenta'!$B:$B,'00 PDC SP'!$F57,'00 Alimenta'!D:D)","v":0},{"$f":"SUMIF('00 Alimenta'!$B:$B,'00 PDC SP'!$F57,'00 Alimenta'!E:E)","v":0},{"$f":"SUMIF('00 Alimenta'!$B:$B,'00 PDC SP'!$F57,'00 Alimenta'!F:F)","v":0},{"$f":"SUMIF('00 Alimenta'!$B:$B,'00 PDC SP'!$F57,'00 Alimenta'!G:G)","v":0},{"$f":"SUMIF('00 Alimenta'!$B:$B,'00 PDC SP'!$F57,'00 Alimenta'!H:H)","v":0},{"$f":"SUMIF('00 Alimenta'!$B:$B,'00 PDC SP'!$F57,'00 Alimenta'!I:I)","v":0},0]
["AAA710CL","AA","AAA710",47,"CL","0101030502","Partecipazioni in imprese collegate",{"$f":"SUMIF('00 Alimenta'!$B:$B,'00 PDC SP'!$F58,'00 Alimenta'!D:D)","v":0},{"$f":"SUMIF('00 Alimenta'!$B:$B,'00 PDC SP'!$F58,'00 Alimenta'!E:E)","v":0},{"$f":"SUMIF('00 Alimenta'!$B:$B,'00 PDC SP'!$F58,'00 Alimenta'!F:F)","v":0},{"$f":"SUMIF('00 Alimenta'!$B:$B,'00 PDC SP'!$F58,'00 Alimenta'!G:G)","v":0},{"$f":"SUMIF('00 Alimenta'!$B:$B,'00 PDC SP'!$F58,'00 Alimenta'!H:H)","v":0},{"$f":"SUMIF('00 Alimenta'!$B:$B,'00 PDC SP'!$F58,'00 Alimenta'!I:I)","v":0},0]
["AAA710AI","AA","AAA710",47,"AI","0101030503","Partecipazioni in altre imprese",{"$f":"SUMIF('00 Alimenta'!$B:$B,'00 PDC SP'!$F59,'00 Alimenta'!D:D)","v":0},{"$f":"SUMIF('00 Alimenta'!$B:$B,'00 PDC SP'!$F59,'00 Alimenta'!E:E)","v":0},{"$f":"SUMIF('00 Alimenta'!$B:$B,'00 PDC SP'!$F59,'00 Alimenta'!F:F)","v":0},{"$f":"SUMIF('00 Alimenta'!$B:$B,'00 PDC SP'!$F59,'00 Alimenta'!G:G)","v":0},{"$f":"SUMIF('00 Alimenta'!$B:$B,'00 PDC SP'!$F59,'00 Alimenta'!H:H)","v":0},{"$f":"SUMIF('00 Alimenta'!$B:$B,'00 PDC SP'!$F59,'00 Alimenta'!I:I)","v":0},0]
["AAA730","AA","AAA730",47,null,"0101030601","Titoli di Stato",{"$f":"SUMIF('00 Alimenta'!$B:$B,'00 PDC SP'!$F60,'00 Alimenta'!D:D)","v":0},{"$f":"SUMIF('00 Alimenta'!$B:$B,'00 PDC SP'!$F60,'00 Alimenta'!E:E)","v":0},{"$f":"SUMIF('00 Alimenta'!$B:$B,'00 PDC SP'!$F60,'00 Alimenta'!F:F)","v":0},{"$f":"SUMIF('00 Alimenta'!$B:$B,'00 PDC SP'!$F60,'00 Alimenta'!G:G)","v":0},{"$f":"SUMIF('00 Alimenta'!$B:$B,'00 PDC SP'!$F60,'00 Alimenta'!H:H)","v":0},{"$f":"SUMIF('00 Alimenta'!$B:$B,'00 PDC SP'!$F60,'00 Alimenta'!I:I)","v":0},0]
["AAA740","AA","AAA740",47,null,"0101030602","Altre Obbligazioni",{"$f":"SUMIF('00 Alimenta'!$B:$B,'00 PDC SP'!$F61,'00 Alimenta'!D:D)","v":0},{"$f":"SUMIF('00 Alimenta'!$B:$B,'00 PDC SP'!$F61,'00 Alimenta'!E:E)","v":0},{"$f":"SUMIF('00 Alimenta'!$B:$B,'00 PDC SP'!$F61,'00 Alimenta'!F:F)","v":0},{"$f":"SUMIF('00 Alimenta'!$B:$B,'00 PDC SP'!$F61,'00 Alimenta'!G:G)","v":0},{"$f":"SUMIF('00 Alimenta'!$B:$B,'00 PDC SP'!$F61,'00 Alimenta'!H:H)","v":0},{"$f":"SUMIF('00 Alimenta'!$B:$B,'00 PDC SP'!$F61,'00 Alimenta'!I:I)","v":0},0]
["AAA750","AA","AAA750",47,null,"0101030603","Titoli azionari quotati in Borsa",{"$f":"SUMIF('00 Alimenta'!$B:$B,'00 PDC SP'!$F62,'00 Alimenta'!D:D)","v":0},{"$f":"SUMIF('00 Alimenta'!$B:$B,'00 PDC SP'!$F62,'00 Alimenta'!E:E)","v":0},{"$f":"SUMIF('00 Alimenta'!$B:$B,'00 PDC SP'!$F62,'00 Alimenta'!F:F)","v":0},{"$f":"SUMIF('00 Alimenta'!$B:$B,'00 PDC SP'!$F62,'00 Alimenta'!G:G)","v":0},{"$f":"SUMIF('00 Alimenta'!$B:$B,'00 PDC SP'!$F62,'00 Alimenta'!H:H)","v":0},{"$f":"SUMIF('00 Alimenta'!$B:$B,'00 PDC SP'!$F62,'00 Alimenta'!I:I)","v":0},0]
["AAA760","AA","AAA760",47,null,"0101030604","Titoli diversi",{"$f":"SUMIF('00 Alimenta'!$B:$B,'00 PDC SP'!$F63,'00 Alimenta'!D:D)","v":0},{"$f":"SUMIF('00 Alimenta'!$B:$B,'00 PDC SP'!$F63,'00 Alimenta'!E:E)","v":0},{"$f":"SUMIF('00 Alimenta'!$B:$B,'00 PDC SP'!$F63,'00 Alimenta'!F:F)","v":0},{"$f":"SUMIF('00 Alimenta'!$B:$B,'00 PDC SP'!$F63,'00 Alimenta'!G:G)","v":0},{"$f":"SUMIF('00 Alimenta'!$B:$B,'00 PDC SP'!$F63,'00 Alimenta'!H:H)","v":0},{"$f":"SUMIF('00 Alimenta'!$B:$B,'00 PDC SP'!$F63,'00 Alimenta'!I:I)","v":0},0]
["ABA020","AB","ABA020",31,null,"0102010101","Medicinali con AIC",{"$f":"SUMIF('00 Alimenta'!$B:$B,'00 PDC SP'!$F64,'00 Alimenta'!D:D)","v":4636666.55},{"$f":"SUMIF('00 Alimenta'!$B:$B,'00 PDC SP'!$F64,'00 Alimenta'!E:E)","v":4388956},{"$f":"SUMIF('00 Alimenta'!$B:$B,'00 PDC SP'!$F64,'00 Alimenta'!F:F)","v":4636666.55},{"$f":"SUMIF('00 Alimenta'!$B:$B,'00 PDC SP'!$F64,'00 Alimenta'!G:G)","v":4388956},{"$f":"SUMIF('00 Alimenta'!$B:$B,'00 PDC SP'!$F64,'00 Alimenta'!H:H)","v":9637765.4000000004},{"$f":"SUMIF('00 Alimenta'!$B:$B,'00 PDC SP'!$F64,'00 Alimenta'!I:I)","v":4388956},9637765.4000000004]
["ABA020","AB","ABA020",31,null,"0102010102","Soluzioni infusionali con AIC",{"$f":"SUMIF('00 Alimenta'!$B:$B,'00 PDC SP'!$F65,'00 Alimenta'!D:D)","v":1437.61},{"$f":"SUMIF('00 Alimenta'!$B:$B,'00 PDC SP'!$F65,'00 Alimenta'!E:E)","v":1398.76},{"$f":"SUMIF('00 Alimenta'!$B:$B,'00 PDC SP'!$F65,'00 Alimenta'!F:F)","v":1437.61},{"$f":"SUMIF('00 Alimenta'!$B:$B,'00 PDC SP'!$F65,'00 Alimenta'!G:G)","v":1398.76},{"$f":"SUMIF('00 Alimenta'!$B:$B,'00 PDC SP'!$F65,'00 Alimenta'!H:H)","v":4720.8100000000004},{"$f":"SUMIF('00 Alimenta'!$B:$B,'00 PDC SP'!$F65,'00 Alimenta'!I:I)","v":1398.76},4720.8100000000004]
["ABA020","AB","ABA020",31,null,"0102010103","Ossigeno con AIC",{"$f":"SUMIF('00 Alimenta'!$B:$B,'00 PDC SP'!$F66,'00 Alimenta'!D:D)","v":10294.49},{"$f":"SUMIF('00 Alimenta'!$B:$B,'00 PDC SP'!$F66,'00 Alimenta'!E:E)","v":1633.04},{"$f":"SUMIF('00 Alimenta'!$B:$B,'00 PDC SP'!$F66,'00 Alimenta'!F:F)","v":10294.49},{"$f":"SUMIF('00 Alimenta'!$B:$B,'00 PDC SP'!$F66,'00 Alimenta'!G:G)","v":1633.04},{"$f":"SUMIF('00 Alimenta'!$B:$B,'00 PDC SP'!$F66,'00 Alimenta'!H:H)","v":1919.27},{"$f":"SUMIF('00 Alimenta'!$B:$B,'00 PDC SP'!$F66,'00 Alimenta'!I:I)","v":1633.04},1919.27]
["ABA020","AB","ABA020",31,null,"0102010104","Altri gas medicali con AIC",{"$f":"SUMIF('00 Alimenta'!$B:$B,'00 PDC SP'!$F67,'00 Alimenta'!D:D)","v":2368.85},{"$f":"SUMIF('00 Alimenta'!$B:$B,'00 PDC SP'!$F67,'00 Alimenta'!E:E)","v":9993.4599999999991},{"$f":"SUMIF('00 Alimenta'!$B:$B,'00 PDC SP'!$F67,'00 Alimenta'!F:F)","v":2368.85},{"$f":"SUMIF('00 Alimenta'!$B:$B,'00 PDC SP'!$F67,'00 Alimenta'!G:G)","v":9993.4599999999991},{"$f":"SUMIF('00 Alimenta'!$B:$B,'00 PDC SP'!$F67,'00 Alimenta'!H:H)","v":18281.7},{"$f":"SUMIF('00 Alimenta'!$B:$B,'00 PDC SP'!$F67,'00 Alimenta'!I:I)","v":9993.4599999999991},18281.7]
["ABA020","AB","ABA020",31,null,"0102010105","Emoderivati con AIC",{"$f":"SUMIF('00 Alimenta'!$B:$B,'00 PDC SP'!$F68,'00 Alimenta'!D:D)","v":298115.40000000002},{"$f":"SUMIF('00 Alimenta'!$B:$B,'00 PDC SP'!$F68,'00 Alimenta'!E:E)","v":415087.34},{"$f":"SUMIF('00 Alimenta'!$B:$B,'00 PDC SP'!$F68,'00 Alimenta'!F:F)","v":298115.40000000002},{"$f":"SUMIF('00 Alimenta'!$B:$B,'00 PDC SP'!$F68,'00 Alimenta'!G:G)","v":415087.34},{"$f":"SUMIF('00 Alimenta'!$B:$B,'00 PDC SP'!$F68,'00 Alimenta'!H:H)","v":299372.46999999997},{"$f":"SUMIF('00 Alimenta'!$B:$B,'00 PDC SP'!$F68,'00 Alimenta'!I:I)","v":415087.34},299372.47000000003]
["ABA020","AB","ABA020",31,null,"0102010106","Medicinali senza AIC",{"$f":"SUMIF('00 Alimenta'!$B:$B,'00 PDC SP'!$F69,'00 Alimenta'!D:D)","v":126880.91},{"$f":"SUMIF('00 Alimenta'!$B:$B,'00 PDC SP'!$F69,'00 Alimenta'!E:E)","v":220505.73},{"$f":"SUMIF('00 Alimenta'!$B:$B,'00 PDC SP'!$F69,'00 Alimenta'!F:F)","v":126880.91},{"$f":"SUMIF('00 Alimenta'!$B:$B,'00 PDC SP'!$F69,'00 Alimenta'!G:G)","v":220505.73},{"$f":"SUMIF('00 Alimenta'!$B:$B,'00 PDC SP'!$F69,'00 Alimenta'!H:H)","v":153849.16},{"$f":"SUMIF('00 Alimenta'!$B:$B,'00 PDC SP'!$F69,'00 Alimenta'!I:I)","v":220505.73},153849.16]
[{"$f":"IF(E70=\"\",C70,C70&E70)","v":"ABA020"},{"$f":"LEFT(C70,2)","v":"AB"},"ABA020",31,null,"0102010107","Emoderivati di produzione regionale",{"$f":"SUMIF('00 Alimenta'!$B:$B,'00 PDC SP'!$F70,'00 Alimenta'!D:D)","v":0},{"$f":"SUMIF('00 Alimenta'!$B:$B,'00 PDC SP'!$F70,'00 Alimenta'!E:E)","v":0},{"$f":"SUMIF('00 Alimenta'!$B:$B,'00 PDC SP'!$F70,'00 Alimenta'!F:F)","v":0},{"$f":"SUMIF('00 Alimenta'!$B:$B,'00 PDC SP'!$F70,'00 Alimenta'!G:G)","v":0},{"$f":"SUMIF('00 Alimenta'!$B:$B,'00 PDC SP'!$F70,'00 Alimenta'!H:H)","v":0},{"$f":"SUMIF('00 Alimenta'!$B:$B,'00 PDC SP'!$F70,'00 Alimenta'!I:I)","v":0},{"$f":"K70+L70-M70","v":0}]
[{"$f":"IF(E71=\"\",C71,C71&E71)","v":"ABA020"},{"$f":"LEFT(C71,2)","v":"AB"},"ABA020",31,null,"0102010108","Farmaci innovativi",{"$f":"SUMIF('00 Alimenta'!$B:$B,'00 PDC SP'!$F71,'00 Alimenta'!D:D)","v":406045.08},{"$f":"SUMIF('00 Alimenta'!$B:$B,'00 PDC SP'!$F71,'00 Alimenta'!E:E)","v":796557.79},{"$f":"SUMIF('00 Alimenta'!$B:$B,'00 PDC SP'!$F71,'00 Alimenta'!F:F)","v":406045.08},{"$f":"SUMIF('00 Alimenta'!$B:$B,'00 PDC SP'!$F71,'00 Alimenta'!G:G)","v":796557.79},{"$f":"SUMIF('00 Alimenta'!$B:$B,'00 PDC SP'!$F71,'00 Alimenta'!H:H)","v":425624.06},{"$f":"SUMIF('00 Alimenta'!$B:$B,'00 PDC SP'!$F71,'00 Alimenta'!I:I)","v":796557.79},{"$f":"K71+L71-M71","v":425624.06000000006}]
["ABA030","AB","ABA030",31,null,"0102010201","Sangue ed emocomponenti",{"$f":"SUMIF('00 Alimenta'!$B:$B,'00 PDC SP'!$F72,'00 Alimenta'!D:D)","v":0},{"$f":"SUMIF('00 Alimenta'!$B:$B,'00 PDC SP'!$F72,'00 Alimenta'!E:E)","v":0},{"$f":"SUMIF('00 Alimenta'!$B:$B,'00 PDC SP'!$F72,'00 Alimenta'!F:F)","v":0},{"$f":"SUMIF('00 Alimenta'!$B:$B,'00 PDC SP'!$F72,'00 Alimenta'!G:G)","v":0},{"$f":"SUMIF('00 Alimenta'!$B:$B,'00 PDC SP'!$F72,'00 Alimenta'!H:H)","v":0},{"$f":"SUMIF('00 Alimenta'!$B:$B,'00 PDC SP'!$F72,'00 Alimenta'!I:I)","v":0},0]
["ABA040","AB","ABA040",31,null,"0102010301","Strumentazione per bioimmagini e radioterapia",{"$f":"SUMIF('00 Alimenta'!$B:$B,'00 PDC SP'!$F73,'00 Alimenta'!D:D)","v":0},{"$f":"SUMIF('00 Alimenta'!$B:$B,'00 PDC SP'!$F73,'00 Alimenta'!E:E)","v":22325.73},{"$f":"SUMIF('00 Alimenta'!$B:$B,'00 PDC SP'!$F73,'00 Alimenta'!F:F)","v":0},{"$f":"SUMIF('00 Alimenta'!$B:$B,'00 PDC SP'!$F73,'00 Alimenta'!G:G)","v":22325.73},{"$f":"SUMIF('00 Alimenta'!$B:$B,'00 PDC SP'!$F73,'00 Alimenta'!H:H)","v":57070.16},{"$f":"SUMIF('00 Alimenta'!$B:$B,'00 PDC SP'!$F73,'00 Alimenta'!I:I)","v":22325.73},57070.16," "]
["ABA040","AB","ABA040",31,null,"0102010302","Materiale per sterilizzazione",{"$f":"SUMIF('00 Alimenta'!$B:$B,'00 PDC SP'!$F74,'00 Alimenta'!D:D)","v":13554.18},{"$f":"SUMIF('00 Alimenta'!$B:$B,'00 PDC SP'!$F74,'00 Alimenta'!E:E)","v":44744.42},{"$f":"SUMIF('00 Alimenta'!$B:$B,'00 PDC SP'!$F74,'00 Alimenta'!F:F)","v":13554.18},{"$f":"SUMIF('00 Alimenta'!$B:$B,'00 PDC SP'!$F74,'00 Alimenta'!G:G)","v":44744.42},{"$f":"SUMIF('00 Alimenta'!$B:$B,'00 PDC SP'!$F74,'00 Alimenta'!H:H)","v":8572.01},{"$f":"SUMIF('00 Alimenta'!$B:$B,'00 PDC SP'!$F74,'00 Alimenta'!I:I)","v":44744.42},8572.010000000002]
["ABA040","AB","ABA040",31,null,"0102010303","Dispositivi per chirurgia mini-invasiva ed elettrochirurgia",{"$f":"SUMIF('00 Alimenta'!$B:$B,'00 PDC SP'!$F75,'00 Alimenta'!D:D)","v":174192.21},{"$f":"SUMIF('00 Alimenta'!$B:$B,'00 PDC SP'!$F75,'00 Alimenta'!E:E)","v":191192.48},{"$f":"SUMIF('00 Alimenta'!$B:$B,'00 PDC SP'!$F75,'00 Alimenta'!F:F)","v":174192.21},{"$f":"SUMIF('00 Alimenta'!$B:$B,'00 PDC SP'!$F75,'00 Alimenta'!G:G)","v":191192.48},{"$f":"SUMIF('00 Alimenta'!$B:$B,'00 PDC SP'!$F75,'00 Alimenta'!H:H)","v":237459.44},{"$f":"SUMIF('00 Alimenta'!$B:$B,'00 PDC SP'!$F75,'00 Alimenta'!I:I)","v":191192.48},237459.44000000003]
["ABA040","AB","ABA040",31,null,"0102010304","Protesi ortopediche e mezzi per osteosintesi e sintesi tendineo-legamentosa",{"$f":"SUMIF('00 Alimenta'!$B:$B,'00 PDC SP'!$F76,'00 Alimenta'!D:D)","v":50150.67},{"$f":"SUMIF('00 Alimenta'!$B:$B,'00 PDC SP'!$F76,'00 Alimenta'!E:E)","v":156988.5},{"$f":"SUMIF('00 Alimenta'!$B:$B,'00 PDC SP'!$F76,'00 Alimenta'!F:F)","v":50150.67},{"$f":"SUMIF('00 Alimenta'!$B:$B,'00 PDC SP'!$F76,'00 Alimenta'!G:G)","v":156988.5},{"$f":"SUMIF('00 Alimenta'!$B:$B,'00 PDC SP'!$F76,'00 Alimenta'!H:H)","v":125902.79},{"$f":"SUMIF('00 Alimenta'!$B:$B,'00 PDC SP'!$F76,'00 Alimenta'!I:I)","v":156988.5},125902.78999999998]
["ABA040","AB","ABA040",31,null,"0102010305","Protesi oculistiche",{"$f":"SUMIF('00 Alimenta'!$B:$B,'00 PDC SP'!$F77,'00 Alimenta'!D:D)","v":24968.06},{"$f":"SUMIF('00 Alimenta'!$B:$B,'00 PDC SP'!$F77,'00 Alimenta'!E:E)","v":21294.52},{"$f":"SUMIF('00 Alimenta'!$B:$B,'00 PDC SP'!$F77,'00 Alimenta'!F:F)","v":24968.06},{"$f":"SUMIF('00 Alimenta'!$B:$B,'00 PDC SP'!$F77,'00 Alimenta'!G:G)","v":21294.52},{"$f":"SUMIF('00 Alimenta'!$B:$B,'00 PDC SP'!$F77,'00 Alimenta'!H:H)","v":28295.8},{"$f":"SUMIF('00 Alimenta'!$B:$B,'00 PDC SP'!$F77,'00 Alimenta'!I:I)","v":21294.52},28295.8]
["ABA040","AB","ABA040",31,null,"0102010306","Protesi vascolari e cardiache",{"$f":"SUMIF('00 Alimenta'!$B:$B,'00 PDC SP'!$F78,'00 Alimenta'!D:D)","v":1839.24},{"$f":"SUMIF('00 Alimenta'!$B:$B,'00 PDC SP'!$F78,'00 Alimenta'!E:E)","v":7516.08},{"$f":"SUMIF('00 Alimenta'!$B:$B,'00 PDC SP'!$F78,'00 Alimenta'!F:F)","v":1839.24},{"$f":"SUMIF('00 Alimenta'!$B:$B,'00 PDC SP'!$F78,'00 Alimenta'!G:G)","v":7516.08},{"$f":"SUMIF('00 Alimenta'!$B:$B,'00 PDC SP'!$F78,'00 Alimenta'!H:H)","v":4904.6400000000003},{"$f":"SUMIF('00 Alimenta'!$B:$B,'00 PDC SP'!$F78,'00 Alimenta'!I:I)","v":7516.08},4904.6400000000012]
["ABA040","AB","ABA040",31,null,"0102010307","Altri dispositivi protesici impiantabili e prodotti per osteosintesi",{"$f":"SUMIF('00 Alimenta'!$B:$B,'00 PDC SP'!$F79,'00 Alimenta'!D:D)","v":10862.72},{"$f":"SUMIF('00 Alimenta'!$B:$B,'00 PDC SP'!$F79,'00 Alimenta'!E:E)","v":15680.73},{"$f":"SUMIF('00 Alimenta'!$B:$B,'00 PDC SP'!$F79,'00 Alimenta'!F:F)","v":10862.72},{"$f":"SUMIF('00 Alimenta'!$B:$B,'00 PDC SP'!$F79,'00 Alimenta'!G:G)","v":15680.73},{"$f":"SUMIF('00 Alimenta'!$B:$B,'00 PDC SP'!$F79,'00 Alimenta'!H:H)","v":8142.05},{"$f":"SUMIF('00 Alimenta'!$B:$B,'00 PDC SP'!$F79,'00 Alimenta'!I:I)","v":15680.73},8142.0499999999993]
["ABA040","AB","ABA040",31,null,"0102010308","Supporti e ausili tecnici per persone disabili",{"$f":"SUMIF('00 Alimenta'!$B:$B,'00 PDC SP'!$F80,'00 Alimenta'!D:D)","v":21594.97},{"$f":"SUMIF('00 Alimenta'!$B:$B,'00 PDC SP'!$F80,'00 Alimenta'!E:E)","v":32718.44},{"$f":"SUMIF('00 Alimenta'!$B:$B,'00 PDC SP'!$F80,'00 Alimenta'!F:F)","v":21594.97},{"$f":"SUMIF('00 Alimenta'!$B:$B,'00 PDC SP'!$F80,'00 Alimenta'!G:G)","v":32718.44},{"$f":"SUMIF('00 Alimenta'!$B:$B,'00 PDC SP'!$F80,'00 Alimenta'!H:H)","v":15277.66},{"$f":"SUMIF('00 Alimenta'!$B:$B,'00 PDC SP'!$F80,'00 Alimenta'!I:I)","v":32718.44},15277.66]
["ABA040","AB","ABA040",31,null,"0102010309","Dispositivi per emotrasfusione ed ematologia",{"$f":"SUMIF('00 Alimenta'!$B:$B,'00 PDC SP'!$F81,'00 Alimenta'!D:D)","v":45796.36},{"$f":"SUMIF('00 Alimenta'!$B:$B,'00 PDC SP'!$F81,'00 Alimenta'!E:E)","v":58519.51},{"$f":"SUMIF('00 Alimenta'!$B:$B,'00 PDC SP'!$F81,'00 Alimenta'!F:F)","v":45796.36},{"$f":"SUMIF('00 Alimenta'!$B:$B,'00 PDC SP'!$F81,'00 Alimenta'!G:G)","v":58519.51},{"$f":"SUMIF('00 Alimenta'!$B:$B,'00 PDC SP'!$F81,'00 Alimenta'!H:H)","v":43182.99},{"$f":"SUMIF('00 Alimenta'!$B:$B,'00 PDC SP'!$F81,'00 Alimenta'!I:I)","v":58519.51},43182.99]
["ABA040","AB","ABA040",31,null,"0102010310","Dispositivi per dialisi",{"$f":"SUMIF('00 Alimenta'!$B:$B,'00 PDC SP'!$F82,'00 Alimenta'!D:D)","v":179690.46},{"$f":"SUMIF('00 Alimenta'!$B:$B,'00 PDC SP'!$F82,'00 Alimenta'!E:E)","v":78184.86},{"$f":"SUMIF('00 Alimenta'!$B:$B,'00 PDC SP'!$F82,'00 Alimenta'!F:F)","v":179690.46},{"$f":"SUMIF('00 Alimenta'!$B:$B,'00 PDC SP'!$F82,'00 Alimenta'!G:G)","v":78184.86},{"$f":"SUMIF('00 Alimenta'!$B:$B,'00 PDC SP'!$F82,'00 Alimenta'!H:H)","v":349609.43},{"$f":"SUMIF('00 Alimenta'!$B:$B,'00 PDC SP'!$F82,'00 Alimenta'!I:I)","v":78184.86},349609.43]
["ABA040","AB","ABA040",31,null,"0102010311","Dispositivi medico-diagnostici in vitro (D.Lgs. 332/2000)",{"$f":"SUMIF('00 Alimenta'!$B:$B,'00 PDC SP'!$F83,'00 Alimenta'!D:D)","v":1255177.3999999999},{"$f":"SUMIF('00 Alimenta'!$B:$B,'00 PDC SP'!$F83,'00 Alimenta'!E:E)","v":1482372.12},{"$f":"SUMIF('00 Alimenta'!$B:$B,'00 PDC SP'!$F83,'00 Alimenta'!F:F)","v":1255177.3999999999},{"$f":"SUMIF('00 Alimenta'!$B:$B,'00 PDC SP'!$F83,'00 Alimenta'!G:G)","v":1482372.12},{"$f":"SUMIF('00 Alimenta'!$B:$B,'00 PDC SP'!$F83,'00 Alimenta'!H:H)","v":1412543.58},{"$f":"SUMIF('00 Alimenta'!$B:$B,'00 PDC SP'!$F83,'00 Alimenta'!I:I)","v":1482372.12},1412543.58]
["ABA040","AB","ABA040",31,null,"0102010312","Strumentazione per esplorazioni funzionali ed interventi terapeutici",{"$f":"SUMIF('00 Alimenta'!$B:$B,'00 PDC SP'!$F84,'00 Alimenta'!D:D)","v":104045.91},{"$f":"SUMIF('00 Alimenta'!$B:$B,'00 PDC SP'!$F84,'00 Alimenta'!E:E)","v":270520.31},{"$f":"SUMIF('00 Alimenta'!$B:$B,'00 PDC SP'!$F84,'00 Alimenta'!F:F)","v":104045.91},{"$f":"SUMIF('00 Alimenta'!$B:$B,'00 PDC SP'!$F84,'00 Alimenta'!G:G)","v":270520.31},{"$f":"SUMIF('00 Alimenta'!$B:$B,'00 PDC SP'!$F84,'00 Alimenta'!H:H)","v":349679.38},{"$f":"SUMIF('00 Alimenta'!$B:$B,'00 PDC SP'!$F84,'00 Alimenta'!I:I)","v":270520.31},349679.37999999995]
["ABA040","AB","ABA040",31,null,"0102010313","Strumentazione per radiologia diagnostica ed interventistica",{"$f":"SUMIF('00 Alimenta'!$B:$B,'00 PDC SP'!$F85,'00 Alimenta'!D:D)","v":589.26},{"$f":"SUMIF('00 Alimenta'!$B:$B,'00 PDC SP'!$F85,'00 Alimenta'!E:E)","v":712.51},{"$f":"SUMIF('00 Alimenta'!$B:$B,'00 PDC SP'!$F85,'00 Alimenta'!F:F)","v":589.26},{"$f":"SUMIF('00 Alimenta'!$B:$B,'00 PDC SP'!$F85,'00 Alimenta'!G:G)","v":712.51},{"$f":"SUMIF('00 Alimenta'!$B:$B,'00 PDC SP'!$F85,'00 Alimenta'!H:H)","v":971.05},{"$f":"SUMIF('00 Alimenta'!$B:$B,'00 PDC SP'!$F85,'00 Alimenta'!I:I)","v":712.51},971.05]
["ABA040","AB","ABA040",31,null,"0102010314","Strumentario chirurgico pluriuso o riusabile",{"$f":"SUMIF('00 Alimenta'!$B:$B,'00 PDC SP'!$F86,'00 Alimenta'!D:D)","v":55549.760000000002},{"$f":"SUMIF('00 Alimenta'!$B:$B,'00 PDC SP'!$F86,'00 Alimenta'!E:E)","v":92097.5},{"$f":"SUMIF('00 Alimenta'!$B:$B,'00 PDC SP'!$F86,'00 Alimenta'!F:F)","v":55549.760000000002},{"$f":"SUMIF('00 Alimenta'!$B:$B,'00 PDC SP'!$F86,'00 Alimenta'!G:G)","v":92097.5},{"$f":"SUMIF('00 Alimenta'!$B:$B,'00 PDC SP'!$F86,'00 Alimenta'!H:H)","v":59941.67},{"$f":"SUMIF('00 Alimenta'!$B:$B,'00 PDC SP'!$F86,'00 Alimenta'!I:I)","v":92097.5},59941.669999999984]
["ABA040","AB","ABA040",31,null,"0102010315","Dispositivi protesici impiantabili - vari",{"$f":"SUMIF('00 Alimenta'!$B:$B,'00 PDC SP'!$F87,'00 Alimenta'!D:D)","v":28003.05},{"$f":"SUMIF('00 Alimenta'!$B:$B,'00 PDC SP'!$F87,'00 Alimenta'!E:E)","v":80004.3},{"$f":"SUMIF('00 Alimenta'!$B:$B,'00 PDC SP'!$F87,'00 Alimenta'!F:F)","v":28003.05},{"$f":"SUMIF('00 Alimenta'!$B:$B,'00 PDC SP'!$F87,'00 Alimenta'!G:G)","v":80004.3},{"$f":"SUMIF('00 Alimenta'!$B:$B,'00 PDC SP'!$F87,'00 Alimenta'!H:H)","v":36165.230000000003},{"$f":"SUMIF('00 Alimenta'!$B:$B,'00 PDC SP'!$F87,'00 Alimenta'!I:I)","v":80004.3},36165.229999999996]
["ABA040","AB","ABA040",31,null,"0102010316","Dispositivi per sistema artero-venoso",{"$f":"SUMIF('00 Alimenta'!$B:$B,'00 PDC SP'!$F88,'00 Alimenta'!D:D)","v":132460.47},{"$f":"SUMIF('00 Alimenta'!$B:$B,'00 PDC SP'!$F88,'00 Alimenta'!E:E)","v":196661.87},{"$f":"SUMIF('00 Alimenta'!$B:$B,'00 PDC SP'!$F88,'00 Alimenta'!F:F)","v":132460.47},{"$f":"SUMIF('00 Alimenta'!$B:$B,'00 PDC SP'!$F88,'00 Alimenta'!G:G)","v":196661.87},{"$f":"SUMIF('00 Alimenta'!$B:$B,'00 PDC SP'!$F88,'00 Alimenta'!H:H)","v":341902.99},{"$f":"SUMIF('00 Alimenta'!$B:$B,'00 PDC SP'!$F88,'00 Alimenta'!I:I)","v":196661.87},341902.99]
["ABA040","AB","ABA040",31,null,"0102010317","Guide per apparato cardiocircolatorio",{"$f":"SUMIF('00 Alimenta'!$B:$B,'00 PDC SP'!$F89,'00 Alimenta'!D:D)","v":9174.4},{"$f":"SUMIF('00 Alimenta'!$B:$B,'00 PDC SP'!$F89,'00 Alimenta'!E:E)","v":16525.53},{"$f":"SUMIF('00 Alimenta'!$B:$B,'00 PDC SP'!$F89,'00 Alimenta'!F:F)","v":9174.4},{"$f":"SUMIF('00 Alimenta'!$B:$B,'00 PDC SP'!$F89,'00 Alimenta'!G:G)","v":16525.53},{"$f":"SUMIF('00 Alimenta'!$B:$B,'00 PDC SP'!$F89,'00 Alimenta'!H:H)","v":51496.86},{"$f":"SUMIF('00 Alimenta'!$B:$B,'00 PDC SP'!$F89,'00 Alimenta'!I:I)","v":16525.53},51496.86]
["ABA040","AB","ABA040",31,null,"0102010318","Altri dispositivi per apparato cardiocircolatorio",{"$f":"SUMIF('00 Alimenta'!$B:$B,'00 PDC SP'!$F90,'00 Alimenta'!D:D)","v":124428.45},{"$f":"SUMIF('00 Alimenta'!$B:$B,'00 PDC SP'!$F90,'00 Alimenta'!E:E)","v":123103.54},{"$f":"SUMIF('00 Alimenta'!$B:$B,'00 PDC SP'!$F90,'00 Alimenta'!F:F)","v":124428.45},{"$f":"SUMIF('00 Alimenta'!$B:$B,'00 PDC SP'!$F90,'00 Alimenta'!G:G)","v":123103.54},{"$f":"SUMIF('00 Alimenta'!$B:$B,'00 PDC SP'!$F90,'00 Alimenta'!H:H)","v":192131.49},{"$f":"SUMIF('00 Alimenta'!$B:$B,'00 PDC SP'!$F90,'00 Alimenta'!I:I)","v":123103.54},192131.49]
["ABA040","AB","ABA040",31,null,"0102010319","Disinfettanti, antisettici e proteolitici (D.Lgs. 46/97)",{"$f":"SUMIF('00 Alimenta'!$B:$B,'00 PDC SP'!$F91,'00 Alimenta'!D:D)","v":29235.99},{"$f":"SUMIF('00 Alimenta'!$B:$B,'00 PDC SP'!$F91,'00 Alimenta'!E:E)","v":22348.48},{"$f":"SUMIF('00 Alimenta'!$B:$B,'00 PDC SP'!$F91,'00 Alimenta'!F:F)","v":29235.99},{"$f":"SUMIF('00 Alimenta'!$B:$B,'00 PDC SP'!$F91,'00 Alimenta'!G:G)","v":22348.48},{"$f":"SUMIF('00 Alimenta'!$B:$B,'00 PDC SP'!$F91,'00 Alimenta'!H:H)","v":23214.09},{"$f":"SUMIF('00 Alimenta'!$B:$B,'00 PDC SP'!$F91,'00 Alimenta'!I:I)","v":22348.48},23214.09]
["ABA040","AB","ABA040",31,null,"0102010320","Dispositivi per apparato gastrointestinale",{"$f":"SUMIF('00 Alimenta'!$B:$B,'00 PDC SP'!$F92,'00 Alimenta'!D:D)","v":59952.07},{"$f":"SUMIF('00 Alimenta'!$B:$B,'00 PDC SP'!$F92,'00 Alimenta'!E:E)","v":83693.42},{"$f":"SUMIF('00 Alimenta'!$B:$B,'00 PDC SP'!$F92,'00 Alimenta'!F:F)","v":59952.07},{"$f":"SUMIF('00 Alimenta'!$B:$B,'00 PDC SP'!$F92,'00 Alimenta'!G:G)","v":83693.42},{"$f":"SUMIF('00 Alimenta'!$B:$B,'00 PDC SP'!$F92,'00 Alimenta'!H:H)","v":108873.9},{"$f":"SUMIF('00 Alimenta'!$B:$B,'00 PDC SP'!$F92,'00 Alimenta'!I:I)","v":83693.42},108873.90000000001]
["ABA040","AB","ABA040",31,null,"0102010321","Dispositivi da sutura",{"$f":"SUMIF('00 Alimenta'!$B:$B,'00 PDC SP'!$F93,'00 Alimenta'!D:D)","v":396218.06},{"$f":"SUMIF('00 Alimenta'!$B:$B,'00 PDC SP'!$F93,'00 Alimenta'!E:E)","v":349748.67},{"$f":"SUMIF('00 Alimenta'!$B:$B,'00 PDC SP'!$F93,'00 Alimenta'!F:F)","v":396218.06},{"$f":"SUMIF('00 Alimenta'!$B:$B,'00 PDC SP'!$F93,'00 Alimenta'!G:G)","v":349748.67},{"$f":"SUMIF('00 Alimenta'!$B:$B,'00 PDC SP'!$F93,'00 Alimenta'!H:H)","v":199430.7},{"$f":"SUMIF('00 Alimenta'!$B:$B,'00 PDC SP'!$F93,'00 Alimenta'!I:I)","v":349748.67},199430.7]
["ABA040","AB","ABA040",31,null,"0102010322","Dispositivi per sistema nervoso e midollare",{"$f":"SUMIF('00 Alimenta'!$B:$B,'00 PDC SP'!$F94,'00 Alimenta'!D:D)","v":12511.97},{"$f":"SUMIF('00 Alimenta'!$B:$B,'00 PDC SP'!$F94,'00 Alimenta'!E:E)","v":28260.43},{"$f":"SUMIF('00 Alimenta'!$B:$B,'00 PDC SP'!$F94,'00 Alimenta'!F:F)","v":12511.97},{"$f":"SUMIF('00 Alimenta'!$B:$B,'00 PDC SP'!$F94,'00 Alimenta'!G:G)","v":28260.43},{"$f":"SUMIF('00 Alimenta'!$B:$B,'00 PDC SP'!$F94,'00 Alimenta'!H:H)","v":24648.400000000001},{"$f":"SUMIF('00 Alimenta'!$B:$B,'00 PDC SP'!$F94,'00 Alimenta'!I:I)","v":28260.43},24648.400000000001]
["ABA040","AB","ABA040",31,null,"0102010323","Dispositivi per odontoiatria, oftalmologoa e otorinolaringoiatria",{"$f":"SUMIF('00 Alimenta'!$B:$B,'00 PDC SP'!$F95,'00 Alimenta'!D:D)","v":105207.2},{"$f":"SUMIF('00 Alimenta'!$B:$B,'00 PDC SP'!$F95,'00 Alimenta'!E:E)","v":71817.279999999999},{"$f":"SUMIF('00 Alimenta'!$B:$B,'00 PDC SP'!$F95,'00 Alimenta'!F:F)","v":105207.2},{"$f":"SUMIF('00 Alimenta'!$B:$B,'00 PDC SP'!$F95,'00 Alimenta'!G:G)","v":71817.279999999999},{"$f":"SUMIF('00 Alimenta'!$B:$B,'00 PDC SP'!$F95,'00 Alimenta'!H:H)","v":77787.69},{"$f":"SUMIF('00 Alimenta'!$B:$B,'00 PDC SP'!$F95,'00 Alimenta'!I:I)","v":71817.279999999999},77787.69]
["ABA040","AB","ABA040",31,null,"0102010324","Dispositivi per apparato respiratorio e anestesia",{"$f":"SUMIF('00 Alimenta'!$B:$B,'00 PDC SP'!$F96,'00 Alimenta'!D:D)","v":125642.41},{"$f":"SUMIF('00 Alimenta'!$B:$B,'00 PDC SP'!$F96,'00 Alimenta'!E:E)","v":182238.66},{"$f":"SUMIF('00 Alimenta'!$B:$B,'00 PDC SP'!$F96,'00 Alimenta'!F:F)","v":125642.41},{"$f":"SUMIF('00 Alimenta'!$B:$B,'00 PDC SP'!$F96,'00 Alimenta'!G:G)","v":182238.66},{"$f":"SUMIF('00 Alimenta'!$B:$B,'00 PDC SP'!$F96,'00 Alimenta'!H:H)","v":226521.29},{"$f":"SUMIF('00 Alimenta'!$B:$B,'00 PDC SP'!$F96,'00 Alimenta'!I:I)","v":182238.66},226521.29]
["ABA040","AB","ABA040",31,null,"0102010325","Dispositivi di protezione e ausili per incontinenza (D.Lgs. 46/97)",{"$f":"SUMIF('00 Alimenta'!$B:$B,'00 PDC SP'!$F97,'00 Alimenta'!D:D)","v":212601.7},{"$f":"SUMIF('00 Alimenta'!$B:$B,'00 PDC SP'!$F97,'00 Alimenta'!E:E)","v":196921.3},{"$f":"SUMIF('00 Alimenta'!$B:$B,'00 PDC SP'!$F97,'00 Alimenta'!F:F)","v":212601.7},{"$f":"SUMIF('00 Alimenta'!$B:$B,'00 PDC SP'!$F97,'00 Alimenta'!G:G)","v":196921.3},{"$f":"SUMIF('00 Alimenta'!$B:$B,'00 PDC SP'!$F97,'00 Alimenta'!H:H)","v":188552.61},{"$f":"SUMIF('00 Alimenta'!$B:$B,'00 PDC SP'!$F97,'00 Alimenta'!I:I)","v":196921.3},188552.61]
["ABA040","AB","ABA040",31,null,"0102010326","Dispositivi per apparato urogenitale",{"$f":"SUMIF('00 Alimenta'!$B:$B,'00 PDC SP'!$F98,'00 Alimenta'!D:D)","v":65964.789999999994},{"$f":"SUMIF('00 Alimenta'!$B:$B,'00 PDC SP'!$F98,'00 Alimenta'!E:E)","v":51126.59},{"$f":"SUMIF('00 Alimenta'!$B:$B,'00 PDC SP'!$F98,'00 Alimenta'!F:F)","v":65964.789999999994},{"$f":"SUMIF('00 Alimenta'!$B:$B,'00 PDC SP'!$F98,'00 Alimenta'!G:G)","v":51126.59},{"$f":"SUMIF('00 Alimenta'!$B:$B,'00 PDC SP'!$F98,'00 Alimenta'!H:H)","v":58158.49},{"$f":"SUMIF('00 Alimenta'!$B:$B,'00 PDC SP'!$F98,'00 Alimenta'!I:I)","v":51126.59},58158.489999999991]
["ABA040","AB","ABA040",31,null,"0102010327","Dispositivi vari",{"$f":"SUMIF('00 Alimenta'!$B:$B,'00 PDC SP'!$F99,'00 Alimenta'!D:D)","v":234985.3},{"$f":"SUMIF('00 Alimenta'!$B:$B,'00 PDC SP'!$F99,'00 Alimenta'!E:E)","v":304842.71999999997},{"$f":"SUMIF('00 Alimenta'!$B:$B,'00 PDC SP'!$F99,'00 Alimenta'!F:F)","v":234985.3},{"$f":"SUMIF('00 Alimenta'!$B:$B,'00 PDC SP'!$F99,'00 Alimenta'!G:G)","v":304842.71999999997},{"$f":"SUMIF('00 Alimenta'!$B:$B,'00 PDC SP'!$F99,'00 Alimenta'!H:H)","v":302955.27},{"$f":"SUMIF('00 Alimenta'!$B:$B,'00 PDC SP'!$F99,'00 Alimenta'!I:I)","v":304842.71999999997},302955.27]
["ABA040","AB","ABA040",31,null,"0102010328","Dispositivi da somministrazione, prelievo e raccolta",{"$f":"SUMIF('00 Alimenta'!$B:$B,'00 PDC SP'!$F100,'00 Alimenta'!D:D)","v":559635.56999999995},{"$f":"SUMIF('00 Alimenta'!$B:$B,'00 PDC SP'!$F100,'00 Alimenta'!E:E)","v":569117.94999999995},{"$f":"SUMIF('00 Alimenta'!$B:$B,'00 PDC SP'!$F100,'00 Alimenta'!F:F)","v":559635.56999999995},{"$f":"SUMIF('00 Alimenta'!$B:$B,'00 PDC SP'!$F100,'00 Alimenta'!G:G)","v":569117.94999999995},{"$f":"SUMIF('00 Alimenta'!$B:$B,'00 PDC SP'!$F100,'00 Alimenta'!H:H)","v":632496.81999999995},{"$f":"SUMIF('00 Alimenta'!$B:$B,'00 PDC SP'!$F100,'00 Alimenta'!I:I)","v":569117.94999999995},632496.82000000007]
["ABA040","AB","ABA040",31,null,"0102010329","Dispositivi per medicazioni generali e specialistiche",{"$f":"SUMIF('00 Alimenta'!$B:$B,'00 PDC SP'!$F101,'00 Alimenta'!D:D)","v":312836.58},{"$f":"SUMIF('00 Alimenta'!$B:$B,'00 PDC SP'!$F101,'00 Alimenta'!E:E)","v":357449.92},{"$f":"SUMIF('00 Alimenta'!$B:$B,'00 PDC SP'!$F101,'00 Alimenta'!F:F)","v":312836.58},{"$f":"SUMIF('00 Alimenta'!$B:$B,'00 PDC SP'!$F101,'00 Alimenta'!G:G)","v":357449.92},{"$f":"SUMIF('00 Alimenta'!$B:$B,'00 PDC SP'!$F101,'00 Alimenta'!H:H)","v":347297.22},{"$f":"SUMIF('00 Alimenta'!$B:$B,'00 PDC SP'!$F101,'00 Alimenta'!I:I)","v":357449.92},347297.21999999991]
["ABA040","AB","ABA040",31,null,"0102010330","Dispositivi impiantabili attivi",{"$f":"SUMIF('00 Alimenta'!$B:$B,'00 PDC SP'!$F102,'00 Alimenta'!D:D)","v":58041},{"$f":"SUMIF('00 Alimenta'!$B:$B,'00 PDC SP'!$F102,'00 Alimenta'!E:E)","v":30319.56},{"$f":"SUMIF('00 Alimenta'!$B:$B,'00 PDC SP'!$F102,'00 Alimenta'!F:F)","v":58041},{"$f":"SUMIF('00 Alimenta'!$B:$B,'00 PDC SP'!$F102,'00 Alimenta'!G:G)","v":30319.56},{"$f":"SUMIF('00 Alimenta'!$B:$B,'00 PDC SP'!$F102,'00 Alimenta'!H:H)","v":31197.03},{"$f":"SUMIF('00 Alimenta'!$B:$B,'00 PDC SP'!$F102,'00 Alimenta'!I:I)","v":30319.56},31197.029999999995]
["ABA050","AB","ABA050",31,null,"0102010401","Prodotti dietetici",{"$f":"SUMIF('00 Alimenta'!$B:$B,'00 PDC SP'!$F103,'00 Alimenta'!D:D)","v":4508.83},{"$f":"SUMIF('00 Alimenta'!$B:$B,'00 PDC SP'!$F103,'00 Alimenta'!E:E)","v":5615.65},{"$f":"SUMIF('00 Alimenta'!$B:$B,'00 PDC SP'!$F103,'00 Alimenta'!F:F)","v":4508.83},{"$f":"SUMIF('00 Alimenta'!$B:$B,'00 PDC SP'!$F103,'00 Alimenta'!G:G)","v":5615.65},{"$f":"SUMIF('00 Alimenta'!$B:$B,'00 PDC SP'!$F103,'00 Alimenta'!H:H)","v":5237.29},{"$f":"SUMIF('00 Alimenta'!$B:$B,'00 PDC SP'!$F103,'00 Alimenta'!I:I)","v":5615.65},5237.2899999999991]
["ABA050","AB","ABA050",31,null,"0102010402","Alimenti per nutrizione artificiale senza AIC ",{"$f":"SUMIF('00 Alimenta'!$B:$B,'00 PDC SP'!$F104,'00 Alimenta'!D:D)","v":63760.33},{"$f":"SUMIF('00 Alimenta'!$B:$B,'00 PDC SP'!$F104,'00 Alimenta'!E:E)","v":58004.47},{"$f":"SUMIF('00 Alimenta'!$B:$B,'00 PDC SP'!$F104,'00 Alimenta'!F:F)","v":63760.33},{"$f":"SUMIF('00 Alimenta'!$B:$B,'00 PDC SP'!$F104,'00 Alimenta'!G:G)","v":58004.47},{"$f":"SUMIF('00 Alimenta'!$B:$B,'00 PDC SP'!$F104,'00 Alimenta'!H:H)","v":66412.52},{"$f":"SUMIF('00 Alimenta'!$B:$B,'00 PDC SP'!$F104,'00 Alimenta'!I:I)","v":58004.47},66412.52]
["ABA060","AB","ABA060",31,null,"0102010501","Sieri",{"$f":"SUMIF('00 Alimenta'!$B:$B,'00 PDC SP'!$F105,'00 Alimenta'!D:D)","v":0},{"$f":"SUMIF('00 Alimenta'!$B:$B,'00 PDC SP'!$F105,'00 Alimenta'!E:E)","v":0},{"$f":"SUMIF('00 Alimenta'!$B:$B,'00 PDC SP'!$F105,'00 Alimenta'!F:F)","v":0},{"$f":"SUMIF('00 Alimenta'!$B:$B,'00 PDC SP'!$F105,'00 Alimenta'!G:G)","v":0},{"$f":"SUMIF('00 Alimenta'!$B:$B,'00 PDC SP'!$F105,'00 Alimenta'!H:H)","v":0},{"$f":"SUMIF('00 Alimenta'!$B:$B,'00 PDC SP'!$F105,'00 Alimenta'!I:I)","v":0},0]
["ABA060","AB","ABA060",31,null,"0102010502","Vaccini obbligatori",{"$f":"SUMIF('00 Alimenta'!$B:$B,'00 PDC SP'!$F106,'00 Alimenta'!D:D)","v":0},{"$f":"SUMIF('00 Alimenta'!$B:$B,'00 PDC SP'!$F106,'00 Alimenta'!E:E)","v":0},{"$f":"SUMIF('00 Alimenta'!$B:$B,'00 PDC SP'!$F106,'00 Alimenta'!F:F)","v":0},{"$f":"SUMIF('00 Alimenta'!$B:$B,'00 PDC SP'!$F106,'00 Alimenta'!G:G)","v":0},{"$f":"SUMIF('00 Alimenta'!$B:$B,'00 PDC SP'!$F106,'00 Alimenta'!H:H)","v":0},{"$f":"SUMIF('00 Alimenta'!$B:$B,'00 PDC SP'!$F106,'00 Alimenta'!I:I)","v":0},0]
["ABA060","AB","ABA060",31,null,"0102010503","Altri Vaccini",{"$f":"SUMIF('00 Alimenta'!$B:$B,'00 PDC SP'!$F107,'00 Alimenta'!D:D)","v":0},{"$f":"SUMIF('00 Alimenta'!$B:$B,'00 PDC SP'!$F107,'00 Alimenta'!E:E)","v":1112.76},{"$f":"SUMIF('00 Alimenta'!$B:$B,'00 PDC SP'!$F107,'00 Alimenta'!F:F)","v":0},{"$f":"SUMIF('00 Alimenta'!$B:$B,'00 PDC SP'!$F107,'00 Alimenta'!G:G)","v":1112.76},{"$f":"SUMIF('00 Alimenta'!$B:$B,'00 PDC SP'!$F107,'00 Alimenta'!H:H)","v":2856.7},{"$f":"SUMIF('00 Alimenta'!$B:$B,'00 PDC SP'!$F107,'00 Alimenta'!I:I)","v":1112.76},2856.7]
["ABA060","AB","ABA060",31,null,"0102010504","Altri materiali per la profilassi",{"$f":"SUMIF('00 Alimenta'!$B:$B,'00 PDC SP'!$F108,'00 Alimenta'!D:D)","v":0},{"$f":"SUMIF('00 Alimenta'!$B:$B,'00 PDC SP'!$F108,'00 Alimenta'!E:E)","v":0},{"$f":"SUMIF('00 Alimenta'!$B:$B,'00 PDC SP'!$F108,'00 Alimenta'!F:F)","v":0},{"$f":"SUMIF('00 Alimenta'!$B:$B,'00 PDC SP'!$F108,'00 Alimenta'!G:G)","v":0},{"$f":"SUMIF('00 Alimenta'!$B:$B,'00 PDC SP'!$F108,'00 Alimenta'!H:H)","v":0},{"$f":"SUMIF('00 Alimenta'!$B:$B,'00 PDC SP'!$F108,'00 Alimenta'!I:I)","v":0},0]
["ABA070","AB","ABA070",31,null,"0102010601","Prodotti chimici",{"$f":"SUMIF('00 Alimenta'!$B:$B,'00 PDC SP'!$F109,'00 Alimenta'!D:D)","v":0},{"$f":"SUMIF('00 Alimenta'!$B:$B,'00 PDC SP'!$F109,'00 Alimenta'!E:E)","v":0},{"$f":"SUMIF('00 Alimenta'!$B:$B,'00 PDC SP'!$F109,'00 Alimenta'!F:F)","v":0},{"$f":"SUMIF('00 Alimenta'!$B:$B,'00 PDC SP'!$F109,'00 Alimenta'!G:G)","v":0},{"$f":"SUMIF('00 Alimenta'!$B:$B,'00 PDC SP'!$F109,'00 Alimenta'!H:H)","v":0},{"$f":"SUMIF('00 Alimenta'!$B:$B,'00 PDC SP'!$F109,'00 Alimenta'!I:I)","v":0},0]
["ABA080","AB","ABA080",31,null,"0102010701","Medicinali ad uso veterinario",{"$f":"SUMIF('00 Alimenta'!$B:$B,'00 PDC SP'!$F110,'00 Alimenta'!D:D)","v":0},{"$f":"SUMIF('00 Alimenta'!$B:$B,'00 PDC SP'!$F110,'00 Alimenta'!E:E)","v":0},{"$f":"SUMIF('00 Alimenta'!$B:$B,'00 PDC SP'!$F110,'00 Alimenta'!F:F)","v":0},{"$f":"SUMIF('00 Alimenta'!$B:$B,'00 PDC SP'!$F110,'00 Alimenta'!G:G)","v":0},{"$f":"SUMIF('00 Alimenta'!$B:$B,'00 PDC SP'!$F110,'00 Alimenta'!H:H)","v":0},{"$f":"SUMIF('00 Alimenta'!$B:$B,'00 PDC SP'!$F110,'00 Alimenta'!I:I)","v":0},0]
["ABA080","AB","ABA080",31,null,"0102010702","Materiali chirurgici, sanitari e diagnostici per uso veterinario",{"$f":"SUMIF('00 Alimenta'!$B:$B,'00 PDC SP'!$F111,'00 Alimenta'!D:D)","v":0},{"$f":"SUMIF('00 Alimenta'!$B:$B,'00 PDC SP'!$F111,'00 Alimenta'!E:E)","v":0},{"$f":"SUMIF('00 Alimenta'!$B:$B,'00 PDC SP'!$F111,'00 Alimenta'!F:F)","v":0},{"$f":"SUMIF('00 Alimenta'!$B:$B,'00 PDC SP'!$F111,'00 Alimenta'!G:G)","v":0},{"$f":"SUMIF('00 Alimenta'!$B:$B,'00 PDC SP'!$F111,'00 Alimenta'!H:H)","v":0},{"$f":"SUMIF('00 Alimenta'!$B:$B,'00 PDC SP'!$F111,'00 Alimenta'!I:I)","v":0},0]
["ABA080","AB","ABA080",31,null,"0102010703","Altri materiali e beni sanitari per uso veterinario",{"$f":"SUMIF('00 Alimenta'!$B:$B,'00 PDC SP'!$F112,'00 Alimenta'!D:D)","v":0},{"$f":"SUMIF('00 Alimenta'!$B:$B,'00 PDC SP'!$F112,'00 Alimenta'!E:E)","v":0},{"$f":"SUMIF('00 Alimenta'!$B:$B,'00 PDC SP'!$F112,'00 Alimenta'!F:F)","v":0},{"$f":"SUMIF('00 Alimenta'!$B:$B,'00 PDC SP'!$F112,'00 Alimenta'!G:G)","v":0},{"$f":"SUMIF('00 Alimenta'!$B:$B,'00 PDC SP'!$F112,'00 Alimenta'!H:H)","v":0},{"$f":"SUMIF('00 Alimenta'!$B:$B,'00 PDC SP'!$F112,'00 Alimenta'!I:I)","v":0},0]
["ABA090","AB","ABA090",31,null,"0102010801","Vetrerie e materiale plastico per laboratorio",{"$f":"SUMIF('00 Alimenta'!$B:$B,'00 PDC SP'!$F113,'00 Alimenta'!D:D)","v":26506.58},{"$f":"SUMIF('00 Alimenta'!$B:$B,'00 PDC SP'!$F113,'00 Alimenta'!E:E)","v":42717.86},{"$f":"SUMIF('00 Alimenta'!$B:$B,'00 PDC SP'!$F113,'00 Alimenta'!F:F)","v":26506.58},{"$f":"SUMIF('00 Alimenta'!$B:$B,'00 PDC SP'!$F113,'00 Alimenta'!G:G)","v":42717.86},{"$f":"SUMIF('00 Alimenta'!$B:$B,'00 PDC SP'!$F113,'00 Alimenta'!H:H)","v":22568.66},{"$f":"SUMIF('00 Alimenta'!$B:$B,'00 PDC SP'!$F113,'00 Alimenta'!I:I)","v":42717.86},22568.660000000003]
["ABA090","AB","ABA090",31,null,"0102010802","Materiali di consumo non specifici per strumentazione diagnostica ",{"$f":"SUMIF('00 Alimenta'!$B:$B,'00 PDC SP'!$F114,'00 Alimenta'!D:D)","v":82188.66},{"$f":"SUMIF('00 Alimenta'!$B:$B,'00 PDC SP'!$F114,'00 Alimenta'!E:E)","v":125485.73},{"$f":"SUMIF('00 Alimenta'!$B:$B,'00 PDC SP'!$F114,'00 Alimenta'!F:F)","v":82188.66},{"$f":"SUMIF('00 Alimenta'!$B:$B,'00 PDC SP'!$F114,'00 Alimenta'!G:G)","v":125485.73},{"$f":"SUMIF('00 Alimenta'!$B:$B,'00 PDC SP'!$F114,'00 Alimenta'!H:H)","v":93627.14},{"$f":"SUMIF('00 Alimenta'!$B:$B,'00 PDC SP'!$F114,'00 Alimenta'!I:I)","v":125485.73},93627.14]
["ABA090","AB","ABA090",31,null,"0102010803","Altri beni e prodotti sanitari",{"$f":"SUMIF('00 Alimenta'!$B:$B,'00 PDC SP'!$F115,'00 Alimenta'!D:D)","v":102717.74},{"$f":"SUMIF('00 Alimenta'!$B:$B,'00 PDC SP'!$F115,'00 Alimenta'!E:E)","v":127988.56},{"$f":"SUMIF('00 Alimenta'!$B:$B,'00 PDC SP'!$F115,'00 Alimenta'!F:F)","v":102717.74},{"$f":"SUMIF('00 Alimenta'!$B:$B,'00 PDC SP'!$F115,'00 Alimenta'!G:G)","v":127988.56},{"$f":"SUMIF('00 Alimenta'!$B:$B,'00 PDC SP'!$F115,'00 Alimenta'!H:H)","v":180987.44},{"$f":"SUMIF('00 Alimenta'!$B:$B,'00 PDC SP'!$F115,'00 Alimenta'!I:I)","v":127988.56},180987.44]
["ABA100","AB","ABA100",32,null,"0102010901","Acconti per acquisto di beni e prodotti sanitari",{"$f":"SUMIF('00 Alimenta'!$B:$B,'00 PDC SP'!$F116,'00 Alimenta'!D:D)","v":0},{"$f":"SUMIF('00 Alimenta'!$B:$B,'00 PDC SP'!$F116,'00 Alimenta'!E:E)","v":0},{"$f":"SUMIF('00 Alimenta'!$B:$B,'00 PDC SP'!$F116,'00 Alimenta'!F:F)","v":0},{"$f":"SUMIF('00 Alimenta'!$B:$B,'00 PDC SP'!$F116,'00 Alimenta'!G:G)","v":0},{"$f":"SUMIF('00 Alimenta'!$B:$B,'00 PDC SP'!$F116,'00 Alimenta'!H:H)","v":0},{"$f":"SUMIF('00 Alimenta'!$B:$B,'00 PDC SP'!$F116,'00 Alimenta'!I:I)","v":0},0]
["ABA120","AB","ABA120",31,null,"0102011001","Prodotti alimentari",{"$f":"SUMIF('00 Alimenta'!$B:$B,'00 PDC SP'!$F117,'00 Alimenta'!D:D)","v":0},{"$f":"SUMIF('00 Alimenta'!$B:$B,'00 PDC SP'!$F117,'00 Alimenta'!E:E)","v":0},{"$f":"SUMIF('00 Alimenta'!$B:$B,'00 PDC SP'!$F117,'00 Alimenta'!F:F)","v":0},{"$f":"SUMIF('00 Alimenta'!$B:$B,'00 PDC SP'!$F117,'00 Alimenta'!G:G)","v":0},{"$f":"SUMIF('00 Alimenta'!$B:$B,'00 PDC SP'!$F117,'00 Alimenta'!H:H)","v":0},{"$f":"SUMIF('00 Alimenta'!$B:$B,'00 PDC SP'!$F117,'00 Alimenta'!I:I)","v":0},0]
["ABA130","AB","ABA130",31,null,"0102011101","Materiali di guardaroba, di pulizia, e di convivenza in genere",{"$f":"SUMIF('00 Alimenta'!$B:$B,'00 PDC SP'!$F118,'00 Alimenta'!D:D)","v":35073.03},{"$f":"SUMIF('00 Alimenta'!$B:$B,'00 PDC SP'!$F118,'00 Alimenta'!E:E)","v":29727.94},{"$f":"SUMIF('00 Alimenta'!$B:$B,'00 PDC SP'!$F118,'00 Alimenta'!F:F)","v":35073.03},{"$f":"SUMIF('00 Alimenta'!$B:$B,'00 PDC SP'!$F118,'00 Alimenta'!G:G)","v":29727.94},{"$f":"SUMIF('00 Alimenta'!$B:$B,'00 PDC SP'!$F118,'00 Alimenta'!H:H)","v":29504.9},{"$f":"SUMIF('00 Alimenta'!$B:$B,'00 PDC SP'!$F118,'00 Alimenta'!I:I)","v":29727.94},29504.899999999998]
["ABA140","AB","ABA140",31,null,"0102011201","Combustibili, carburanti e lubrificanti",{"$f":"SUMIF('00 Alimenta'!$B:$B,'00 PDC SP'!$F119,'00 Alimenta'!D:D)","v":0},{"$f":"SUMIF('00 Alimenta'!$B:$B,'00 PDC SP'!$F119,'00 Alimenta'!E:E)","v":0},{"$f":"SUMIF('00 Alimenta'!$B:$B,'00 PDC SP'!$F119,'00 Alimenta'!F:F)","v":0},{"$f":"SUMIF('00 Alimenta'!$B:$B,'00 PDC SP'!$F119,'00 Alimenta'!G:G)","v":0},{"$f":"SUMIF('00 Alimenta'!$B:$B,'00 PDC SP'!$F119,'00 Alimenta'!H:H)","v":0},{"$f":"SUMIF('00 Alimenta'!$B:$B,'00 PDC SP'!$F119,'00 Alimenta'!I:I)","v":0},0]
["ABA150","AB","ABA150",31,null,"0102011301","Supporti informatici",{"$f":"SUMIF('00 Alimenta'!$B:$B,'00 PDC SP'!$F120,'00 Alimenta'!D:D)","v":171772.85},{"$f":"SUMIF('00 Alimenta'!$B:$B,'00 PDC SP'!$F120,'00 Alimenta'!E:E)","v":192555.39},{"$f":"SUMIF('00 Alimenta'!$B:$B,'00 PDC SP'!$F120,'00 Alimenta'!F:F)","v":171772.85},{"$f":"SUMIF('00 Alimenta'!$B:$B,'00 PDC SP'!$F120,'00 Alimenta'!G:G)","v":192555.39},{"$f":"SUMIF('00 Alimenta'!$B:$B,'00 PDC SP'!$F120,'00 Alimenta'!H:H)","v":102147.29},{"$f":"SUMIF('00 Alimenta'!$B:$B,'00 PDC SP'!$F120,'00 Alimenta'!I:I)","v":192555.39},102147.28999999998]
["ABA150","AB","ABA150",31,null,"0102011302","Cancelleria e stampati",{"$f":"SUMIF('00 Alimenta'!$B:$B,'00 PDC SP'!$F121,'00 Alimenta'!D:D)","v":161363.28},{"$f":"SUMIF('00 Alimenta'!$B:$B,'00 PDC SP'!$F121,'00 Alimenta'!E:E)","v":169734.96},{"$f":"SUMIF('00 Alimenta'!$B:$B,'00 PDC SP'!$F121,'00 Alimenta'!F:F)","v":161363.28},{"$f":"SUMIF('00 Alimenta'!$B:$B,'00 PDC SP'!$F121,'00 Alimenta'!G:G)","v":169734.96},{"$f":"SUMIF('00 Alimenta'!$B:$B,'00 PDC SP'!$F121,'00 Alimenta'!H:H)","v":107409.14},{"$f":"SUMIF('00 Alimenta'!$B:$B,'00 PDC SP'!$F121,'00 Alimenta'!I:I)","v":169734.96},107409.13999999998]
["ABA160","AB","ABA160",31,null,"0102011401","Materiale per la manutenzione di immobili e loro pertinenze",{"$f":"SUMIF('00 Alimenta'!$B:$B,'00 PDC SP'!$F122,'00 Alimenta'!D:D)","v":55250.31},{"$f":"SUMIF('00 Alimenta'!$B:$B,'00 PDC SP'!$F122,'00 Alimenta'!E:E)","v":85875.45},{"$f":"SUMIF('00 Alimenta'!$B:$B,'00 PDC SP'!$F122,'00 Alimenta'!F:F)","v":55250.31},{"$f":"SUMIF('00 Alimenta'!$B:$B,'00 PDC SP'!$F122,'00 Alimenta'!G:G)","v":85875.45},{"$f":"SUMIF('00 Alimenta'!$B:$B,'00 PDC SP'!$F122,'00 Alimenta'!H:H)","v":139324.97},{"$f":"SUMIF('00 Alimenta'!$B:$B,'00 PDC SP'!$F122,'00 Alimenta'!I:I)","v":85875.45},139324.96999999997]
["ABA160","AB","ABA160",31,null,"0102011402","Materiale per la manutenzione di mobili e macchine",{"$f":"SUMIF('00 Alimenta'!$B:$B,'00 PDC SP'!$F123,'00 Alimenta'!D:D)","v":0},{"$f":"SUMIF('00 Alimenta'!$B:$B,'00 PDC SP'!$F123,'00 Alimenta'!E:E)","v":0},{"$f":"SUMIF('00 Alimenta'!$B:$B,'00 PDC SP'!$F123,'00 Alimenta'!F:F)","v":0},{"$f":"SUMIF('00 Alimenta'!$B:$B,'00 PDC SP'!$F123,'00 Alimenta'!G:G)","v":0},{"$f":"SUMIF('00 Alimenta'!$B:$B,'00 PDC SP'!$F123,'00 Alimenta'!H:H)","v":0},{"$f":"SUMIF('00 Alimenta'!$B:$B,'00 PDC SP'!$F123,'00 Alimenta'!I:I)","v":0},0]
["ABA160","AB","ABA160",31,null,"0102011403","Materiale per la manutenzione di attrezzature tecnico scientifiche sanitarie",{"$f":"SUMIF('00 Alimenta'!$B:$B,'00 PDC SP'!$F124,'00 Alimenta'!D:D)","v":25964.41},{"$f":"SUMIF('00 Alimenta'!$B:$B,'00 PDC SP'!$F124,'00 Alimenta'!E:E)","v":26463.29},{"$f":"SUMIF('00 Alimenta'!$B:$B,'00 PDC SP'!$F124,'00 Alimenta'!F:F)","v":25964.41},{"$f":"SUMIF('00 Alimenta'!$B:$B,'00 PDC SP'!$F124,'00 Alimenta'!G:G)","v":26463.29},{"$f":"SUMIF('00 Alimenta'!$B:$B,'00 PDC SP'!$F124,'00 Alimenta'!H:H)","v":15166.69},{"$f":"SUMIF('00 Alimenta'!$B:$B,'00 PDC SP'!$F124,'00 Alimenta'!I:I)","v":26463.29},15166.690000000002]
["ABA160","AB","ABA160",31,null,"0102011404","Materiale per la manutenzione di automezzi",{"$f":"SUMIF('00 Alimenta'!$B:$B,'00 PDC SP'!$F125,'00 Alimenta'!D:D)","v":0},{"$f":"SUMIF('00 Alimenta'!$B:$B,'00 PDC SP'!$F125,'00 Alimenta'!E:E)","v":0},{"$f":"SUMIF('00 Alimenta'!$B:$B,'00 PDC SP'!$F125,'00 Alimenta'!F:F)","v":0},{"$f":"SUMIF('00 Alimenta'!$B:$B,'00 PDC SP'!$F125,'00 Alimenta'!G:G)","v":0},{"$f":"SUMIF('00 Alimenta'!$B:$B,'00 PDC SP'!$F125,'00 Alimenta'!H:H)","v":0},{"$f":"SUMIF('00 Alimenta'!$B:$B,'00 PDC SP'!$F125,'00 Alimenta'!I:I)","v":0},0]
["ABA160","AB","ABA160",31,null,"0102011405","Materiale per la manutenzione di altro",{"$f":"SUMIF('00 Alimenta'!$B:$B,'00 PDC SP'!$F126,'00 Alimenta'!D:D)","v":3934.22},{"$f":"SUMIF('00 Alimenta'!$B:$B,'00 PDC SP'!$F126,'00 Alimenta'!E:E)","v":5031.3999999999996},{"$f":"SUMIF('00 Alimenta'!$B:$B,'00 PDC SP'!$F126,'00 Alimenta'!F:F)","v":3934.22},{"$f":"SUMIF('00 Alimenta'!$B:$B,'00 PDC SP'!$F126,'00 Alimenta'!G:G)","v":5031.3999999999996},{"$f":"SUMIF('00 Alimenta'!$B:$B,'00 PDC SP'!$F126,'00 Alimenta'!H:H)","v":4064.04},{"$f":"SUMIF('00 Alimenta'!$B:$B,'00 PDC SP'!$F126,'00 Alimenta'!I:I)","v":5031.3999999999996},4064.0399999999991]
["ABA170","AB","ABA170",31,null,"0102011501","Altri beni e prodotti non sanitari",{"$f":"SUMIF('00 Alimenta'!$B:$B,'00 PDC SP'!$F127,'00 Alimenta'!D:D)","v":2869.46},{"$f":"SUMIF('00 Alimenta'!$B:$B,'00 PDC SP'!$F127,'00 Alimenta'!E:E)","v":1229.74},{"$f":"SUMIF('00 Alimenta'!$B:$B,'00 PDC SP'!$F127,'00 Alimenta'!F:F)","v":2869.46},{"$f":"SUMIF('00 Alimenta'!$B:$B,'00 PDC SP'!$F127,'00 Alimenta'!G:G)","v":1229.74},{"$f":"SUMIF('00 Alimenta'!$B:$B,'00 PDC SP'!$F127,'00 Alimenta'!H:H)","v":502.43},{"$f":"SUMIF('00 Alimenta'!$B:$B,'00 PDC SP'!$F127,'00 Alimenta'!I:I)","v":1229.74},502.43000000000006]
["ABA180","AB","ABA180",32,null,"0102011601","Acconti per acquisto di beni e prodotti non sanitari",{"$f":"SUMIF('00 Alimenta'!$B:$B,'00 PDC SP'!$F128,'00 Alimenta'!D:D)","v":0},{"$f":"SUMIF('00 Alimenta'!$B:$B,'00 PDC SP'!$F128,'00 Alimenta'!E:E)","v":0},{"$f":"SUMIF('00 Alimenta'!$B:$B,'00 PDC SP'!$F128,'00 Alimenta'!F:F)","v":0},{"$f":"SUMIF('00 Alimenta'!$B:$B,'00 PDC SP'!$F128,'00 Alimenta'!G:G)","v":0},{"$f":"SUMIF('00 Alimenta'!$B:$B,'00 PDC SP'!$F128,'00 Alimenta'!H:H)","v":0},{"$f":"SUMIF('00 Alimenta'!$B:$B,'00 PDC SP'!$F128,'00 Alimenta'!I:I)","v":0},0]
["ABA210CR","AB","ABA210",21,"CR","0102020101","Crediti v/Stato per spesa corrente - Integrazione a norma del D.L.vo 56/2000",{"$f":"SUMIF('00 Alimenta'!$B:$B,'00 PDC SP'!$F129,'00 Alimenta'!D:D)","v":5970.26},{"$f":"SUMIF('00 Alimenta'!$B:$B,'00 PDC SP'!$F129,'00 Alimenta'!E:E)","v":12202.45},{"$f":"SUMIF('00 Alimenta'!$B:$B,'00 PDC SP'!$F129,'00 Alimenta'!F:F)","v":18172.71},{"$f":"SUMIF('00 Alimenta'!$B:$B,'00 PDC SP'!$F129,'00 Alimenta'!G:G)","v":0},{"$f":"SUMIF('00 Alimenta'!$B:$B,'00 PDC SP'!$F129,'00 Alimenta'!H:H)","v":50822.1},{"$f":"SUMIF('00 Alimenta'!$B:$B,'00 PDC SP'!$F129,'00 Alimenta'!I:I)","v":48520.58},2301.5199999999968]
["ABA220CR","AB","ABA220",21,"CR","0102020201","Crediti v/Stato per spesa corrente - FSN",{"$f":"SUMIF('00 Alimenta'!$B:$B,'00 PDC SP'!$F130,'00 Alimenta'!D:D)","v":0},{"$f":"SUMIF('00 Alimenta'!$B:$B,'00 PDC SP'!$F130,'00 Alimenta'!E:E)","v":0},{"$f":"SUMIF('00 Alimenta'!$B:$B,'00 PDC SP'!$F130,'00 Alimenta'!F:F)","v":0},{"$f":"SUMIF('00 Alimenta'!$B:$B,'00 PDC SP'!$F130,'00 Alimenta'!G:G)","v":0},{"$f":"SUMIF('00 Alimenta'!$B:$B,'00 PDC SP'!$F130,'00 Alimenta'!H:H)","v":0},{"$f":"SUMIF('00 Alimenta'!$B:$B,'00 PDC SP'!$F130,'00 Alimenta'!I:I)","v":0},0]
["ABA230CR","AB","ABA230",21,"CR","0102020301","Crediti v/Stato per mobilità attiva pubblica extraregionale",{"$f":"SUMIF('00 Alimenta'!$B:$B,'00 PDC SP'!$F131,'00 Alimenta'!D:D)","v":0},{"$f":"SUMIF('00 Alimenta'!$B:$B,'00 PDC SP'!$F131,'00 Alimenta'!E:E)","v":0},{"$f":"SUMIF('00 Alimenta'!$B:$B,'00 PDC SP'!$F131,'00 Alimenta'!F:F)","v":0},{"$f":"SUMIF('00 Alimenta'!$B:$B,'00 PDC SP'!$F131,'00 Alimenta'!G:G)","v":0},{"$f":"SUMIF('00 Alimenta'!$B:$B,'00 PDC SP'!$F131,'00 Alimenta'!H:H)","v":0},{"$f":"SUMIF('00 Alimenta'!$B:$B,'00 PDC SP'!$F131,'00 Alimenta'!I:I)","v":0},0]
["ABA230CR","AB","ABA230",21,"CR","0102020302","Crediti v/Stato per mobilità attiva privata extraregionale",{"$f":"SUMIF('00 Alimenta'!$B:$B,'00 PDC SP'!$F132,'00 Alimenta'!D:D)","v":0},{"$f":"SUMIF('00 Alimenta'!$B:$B,'00 PDC SP'!$F132,'00 Alimenta'!E:E)","v":0},{"$f":"SUMIF('00 Alimenta'!$B:$B,'00 PDC SP'!$F132,'00 Alimenta'!F:F)","v":0},{"$f":"SUMIF('00 Alimenta'!$B:$B,'00 PDC SP'!$F132,'00 Alimenta'!G:G)","v":0},{"$f":"SUMIF('00 Alimenta'!$B:$B,'00 PDC SP'!$F132,'00 Alimenta'!H:H)","v":0},{"$f":"SUMIF('00 Alimenta'!$B:$B,'00 PDC SP'!$F132,'00 Alimenta'!I:I)","v":0},0]
["ABA240CR","AB","ABA240",21,"CR","0102020401","Crediti v/Stato per mobilità attiva internazionale",{"$f":"SUMIF('00 Alimenta'!$B:$B,'00 PDC SP'!$F133,'00 Alimenta'!D:D)","v":0},{"$f":"SUMIF('00 Alimenta'!$B:$B,'00 PDC SP'!$F133,'00 Alimenta'!E:E)","v":0},{"$f":"SUMIF('00 Alimenta'!$B:$B,'00 PDC SP'!$F133,'00 Alimenta'!F:F)","v":0},{"$f":"SUMIF('00 Alimenta'!$B:$B,'00 PDC SP'!$F133,'00 Alimenta'!G:G)","v":0},{"$f":"SUMIF('00 Alimenta'!$B:$B,'00 PDC SP'!$F133,'00 Alimenta'!H:H)","v":0},{"$f":"SUMIF('00 Alimenta'!$B:$B,'00 PDC SP'!$F133,'00 Alimenta'!I:I)","v":0},0]
["ABA250CR","AB","ABA250",21,"CR","0102020501","Crediti v/Stato per acconto quota fabbisogno sanitario regionale standard",{"$f":"SUMIF('00 Alimenta'!$B:$B,'00 PDC SP'!$F134,'00 Alimenta'!D:D)","v":0},{"$f":"SUMIF('00 Alimenta'!$B:$B,'00 PDC SP'!$F134,'00 Alimenta'!E:E)","v":0},{"$f":"SUMIF('00 Alimenta'!$B:$B,'00 PDC SP'!$F134,'00 Alimenta'!F:F)","v":0},{"$f":"SUMIF('00 Alimenta'!$B:$B,'00 PDC SP'!$F134,'00 Alimenta'!G:G)","v":0},{"$f":"SUMIF('00 Alimenta'!$B:$B,'00 PDC SP'!$F134,'00 Alimenta'!H:H)","v":0},{"$f":"SUMIF('00 Alimenta'!$B:$B,'00 PDC SP'!$F134,'00 Alimenta'!I:I)","v":0},0]
[{"$f":"IF(E135=\"\",C135,C135&E135)","v":"ABA260CR"},{"$f":"LEFT(C135,2)","v":"AB"},"ABA260",21,"CR","0102020601","Crediti v/Stato per finanziamento sanitario aggiuntivo corrente",{"$f":"SUMIF('00 Alimenta'!$B:$B,'00 PDC SP'!$F135,'00 Alimenta'!D:D)","v":0},{"$f":"SUMIF('00 Alimenta'!$B:$B,'00 PDC SP'!$F135,'00 Alimenta'!E:E)","v":0},{"$f":"SUMIF('00 Alimenta'!$B:$B,'00 PDC SP'!$F135,'00 Alimenta'!F:F)","v":0},{"$f":"SUMIF('00 Alimenta'!$B:$B,'00 PDC SP'!$F135,'00 Alimenta'!G:G)","v":0},{"$f":"SUMIF('00 Alimenta'!$B:$B,'00 PDC SP'!$F135,'00 Alimenta'!H:H)","v":0},{"$f":"SUMIF('00 Alimenta'!$B:$B,'00 PDC SP'!$F135,'00 Alimenta'!I:I)","v":0},{"$f":"K135+L135-M135","v":0}]
["ABA270CR","AB","ABA270",21,"CR","0102020701","Crediti v/Stato per spesa corrente - altro",{"$f":"SUMIF('00 Alimenta'!$B:$B,'00 PDC SP'!$F136,'00 Alimenta'!D:D)","v":0},{"$f":"SUMIF('00 Alimenta'!$B:$B,'00 PDC SP'!$F136,'00 Alimenta'!E:E)","v":0},{"$f":"SUMIF('00 Alimenta'!$B:$B,'00 PDC SP'!$F136,'00 Alimenta'!F:F)","v":0},{"$f":"SUMIF('00 Alimenta'!$B:$B,'00 PDC SP'!$F136,'00 Alimenta'!G:G)","v":0},{"$f":"SUMIF('00 Alimenta'!$B:$B,'00 PDC SP'!$F136,'00 Alimenta'!H:H)","v":0},{"$f":"SUMIF('00 Alimenta'!$B:$B,'00 PDC SP'!$F136,'00 Alimenta'!I:I)","v":0},0]
["ABA280CR","AB","ABA280",48,"CR","0102020801","Crediti v/Stato per finanziamenti per investimenti",{"$f":"SUMIF('00 Alimenta'!$B:$B,'00 PDC SP'!$F137,'00 Alimenta'!D:D)","v":0},{"$f":"SUMIF('00 Alimenta'!$B:$B,'00 PDC SP'!$F137,'00 Alimenta'!E:E)","v":0},{"$f":"SUMIF('00 Alimenta'!$B:$B,'00 PDC SP'!$F137,'00 Alimenta'!F:F)","v":0},{"$f":"SUMIF('00 Alimenta'!$B:$B,'00 PDC SP'!$F137,'00 Alimenta'!G:G)","v":0},{"$f":"SUMIF('00 Alimenta'!$B:$B,'00 PDC SP'!$F137,'00 Alimenta'!H:H)","v":0},{"$f":"SUMIF('00 Alimenta'!$B:$B,'00 PDC SP'!$F137,'00 Alimenta'!I:I)","v":0},0]
["ABA300CR","AB","ABA300",21,"CR","0102020901","Crediti v/Stato per ricerca corrente - Ministero della Salute",{"$f":"SUMIF('00 Alimenta'!$B:$B,'00 PDC SP'!$F138,'00 Alimenta'!D:D)","v":0},{"$f":"SUMIF('00 Alimenta'!$B:$B,'00 PDC SP'!$F138,'00 Alimenta'!E:E)","v":0},{"$f":"SUMIF('00 Alimenta'!$B:$B,'00 PDC SP'!$F138,'00 Alimenta'!F:F)","v":0},{"$f":"SUMIF('00 Alimenta'!$B:$B,'00 PDC SP'!$F138,'00 Alimenta'!G:G)","v":0},{"$f":"SUMIF('00 Alimenta'!$B:$B,'00 PDC SP'!$F138,'00 Alimenta'!H:H)","v":0},{"$f":"SUMIF('00 Alimenta'!$B:$B,'00 PDC SP'!$F138,'00 Alimenta'!I:I)","v":0},0]
["ABA310CR","AB","ABA310",21,"CR","0102020902","Crediti v/Stato per ricerca finalizzata - Ministero della Salute",{"$f":"SUMIF('00 Alimenta'!$B:$B,'00 PDC SP'!$F139,'00 Alimenta'!D:D)","v":4620},{"$f":"SUMIF('00 Alimenta'!$B:$B,'00 PDC SP'!$F139,'00 Alimenta'!E:E)","v":0},{"$f":"SUMIF('00 Alimenta'!$B:$B,'00 PDC SP'!$F139,'00 Alimenta'!F:F)","v":0},{"$f":"SUMIF('00 Alimenta'!$B:$B,'00 PDC SP'!$F139,'00 Alimenta'!G:G)","v":4620},{"$f":"SUMIF('00 Alimenta'!$B:$B,'00 PDC SP'!$F139,'00 Alimenta'!H:H)","v":10300},{"$f":"SUMIF('00 Alimenta'!$B:$B,'00 PDC SP'!$F139,'00 Alimenta'!I:I)","v":10300},4620]
["ABA320CR","AB","ABA320",21,"CR","0102020903","Crediti v/Stato per ricerca - altre Amministrazioni centrali",{"$f":"SUMIF('00 Alimenta'!$B:$B,'00 PDC SP'!$F140,'00 Alimenta'!D:D)","v":0},{"$f":"SUMIF('00 Alimenta'!$B:$B,'00 PDC SP'!$F140,'00 Alimenta'!E:E)","v":0},{"$f":"SUMIF('00 Alimenta'!$B:$B,'00 PDC SP'!$F140,'00 Alimenta'!F:F)","v":0},{"$f":"SUMIF('00 Alimenta'!$B:$B,'00 PDC SP'!$F140,'00 Alimenta'!G:G)","v":0},{"$f":"SUMIF('00 Alimenta'!$B:$B,'00 PDC SP'!$F140,'00 Alimenta'!H:H)","v":0},{"$f":"SUMIF('00 Alimenta'!$B:$B,'00 PDC SP'!$F140,'00 Alimenta'!I:I)","v":0},0]
["ABA330CR","AB","ABA330",21,"CR","0102020904","Crediti v/Stato per ricerca - finanziamenti per investimenti",{"$f":"SUMIF('00 Alimenta'!$B:$B,'00 PDC SP'!$F141,'00 Alimenta'!D:D)","v":0},{"$f":"SUMIF('00 Alimenta'!$B:$B,'00 PDC SP'!$F141,'00 Alimenta'!E:E)","v":0},{"$f":"SUMIF('00 Alimenta'!$B:$B,'00 PDC SP'!$F141,'00 Alimenta'!F:F)","v":0},{"$f":"SUMIF('00 Alimenta'!$B:$B,'00 PDC SP'!$F141,'00 Alimenta'!G:G)","v":0},{"$f":"SUMIF('00 Alimenta'!$B:$B,'00 PDC SP'!$F141,'00 Alimenta'!H:H)","v":0},{"$f":"SUMIF('00 Alimenta'!$B:$B,'00 PDC SP'!$F141,'00 Alimenta'!I:I)","v":0},0]
["ABA340CR","AB","ABA340",21,"CR","0102021001","Crediti v/prefetture",{"$f":"SUMIF('00 Alimenta'!$B:$B,'00 PDC SP'!$F142,'00 Alimenta'!D:D)","v":93462.74},{"$f":"SUMIF('00 Alimenta'!$B:$B,'00 PDC SP'!$F142,'00 Alimenta'!E:E)","v":0},{"$f":"SUMIF('00 Alimenta'!$B:$B,'00 PDC SP'!$F142,'00 Alimenta'!F:F)","v":0},{"$f":"SUMIF('00 Alimenta'!$B:$B,'00 PDC SP'!$F142,'00 Alimenta'!G:G)","v":93462.74},{"$f":"SUMIF('00 Alimenta'!$B:$B,'00 PDC SP'!$F142,'00 Alimenta'!H:H)","v":93462.74},{"$f":"SUMIF('00 Alimenta'!$B:$B,'00 PDC SP'!$F142,'00 Alimenta'!I:I)","v":186925.48},0]
["ABA370CR","AB","ABA370",25,"CR","0102021101","Crediti v/Regione o Provincia Autonoma per spesa corrente - IRAP",{"$f":"SUMIF('00 Alimenta'!$B:$B,'00 PDC SP'!$F143,'00 Alimenta'!D:D)","v":0},{"$f":"SUMIF('00 Alimenta'!$B:$B,'00 PDC SP'!$F143,'00 Alimenta'!E:E)","v":0},{"$f":"SUMIF('00 Alimenta'!$B:$B,'00 PDC SP'!$F143,'00 Alimenta'!F:F)","v":0},{"$f":"SUMIF('00 Alimenta'!$B:$B,'00 PDC SP'!$F143,'00 Alimenta'!G:G)","v":0},{"$f":"SUMIF('00 Alimenta'!$B:$B,'00 PDC SP'!$F143,'00 Alimenta'!H:H)","v":0},{"$f":"SUMIF('00 Alimenta'!$B:$B,'00 PDC SP'!$F143,'00 Alimenta'!I:I)","v":0},0]
["ABA380CR","AB","ABA380",25,"CR","0102021102","Crediti v/Regione o Provincia Autonoma per spesa corrente - Addizionale IRPEF",{"$f":"SUMIF('00 Alimenta'!$B:$B,'00 PDC SP'!$F144,'00 Alimenta'!D:D)","v":0},{"$f":"SUMIF('00 Alimenta'!$B:$B,'00 PDC SP'!$F144,'00 Alimenta'!E:E)","v":0},{"$f":"SUMIF('00 Alimenta'!$B:$B,'00 PDC SP'!$F144,'00 Alimenta'!F:F)","v":0},{"$f":"SUMIF('00 Alimenta'!$B:$B,'00 PDC SP'!$F144,'00 Alimenta'!G:G)","v":0},{"$f":"SUMIF('00 Alimenta'!$B:$B,'00 PDC SP'!$F144,'00 Alimenta'!H:H)","v":0},{"$f":"SUMIF('00 Alimenta'!$B:$B,'00 PDC SP'!$F144,'00 Alimenta'!I:I)","v":0},0]
["ABA390CR","AB","ABA390",25,"CR","0102021103","Crediti v/Regione o Provincia Autonoma per quota FSR",{"$f":"SUMIF('00 Alimenta'!$B:$B,'00 PDC SP'!$F145,'00 Alimenta'!D:D)","v":149470398.15000001},{"$f":"SUMIF('00 Alimenta'!$B:$B,'00 PDC SP'!$F145,'00 Alimenta'!E:E)","v":611234256.89999998},{"$f":"SUMIF('00 Alimenta'!$B:$B,'00 PDC SP'!$F145,'00 Alimenta'!F:F)","v":641777088.98000002},{"$f":"SUMIF('00 Alimenta'!$B:$B,'00 PDC SP'!$F145,'00 Alimenta'!G:G)","v":118927566.06999999},{"$f":"SUMIF('00 Alimenta'!$B:$B,'00 PDC SP'!$F145,'00 Alimenta'!H:H)","v":699144829.10000002},{"$f":"SUMIF('00 Alimenta'!$B:$B,'00 PDC SP'!$F145,'00 Alimenta'!I:I)","v":673828882.24000001},144243512.93000007]
["ABA400CR","AB","ABA400",25,"CR","0102021104","Crediti v/Regione o Provincia Autonoma per mobilità attiva intraregionale",{"$f":"SUMIF('00 Alimenta'!$B:$B,'00 PDC SP'!$F146,'00 Alimenta'!D:D)","v":1343946.39},{"$f":"SUMIF('00 Alimenta'!$B:$B,'00 PDC SP'!$F146,'00 Alimenta'!E:E)","v":98488215.590000004},{"$f":"SUMIF('00 Alimenta'!$B:$B,'00 PDC SP'!$F146,'00 Alimenta'!F:F)","v":98575322.590000004},{"$f":"SUMIF('00 Alimenta'!$B:$B,'00 PDC SP'!$F146,'00 Alimenta'!G:G)","v":1256839.3899999999},{"$f":"SUMIF('00 Alimenta'!$B:$B,'00 PDC SP'!$F146,'00 Alimenta'!H:H)","v":99510381.010000005},{"$f":"SUMIF('00 Alimenta'!$B:$B,'00 PDC SP'!$F146,'00 Alimenta'!I:I)","v":99510381},1256839.400000006]
["ABA400FE","AB","ABA400",25,"FE","0102021105","Fatture da emettere v/Regione per mobilità attiva intraregionale",{"$f":"SUMIF('00 Alimenta'!$B:$B,'00 PDC SP'!$F147,'00 Alimenta'!D:D)","v":0},{"$f":"SUMIF('00 Alimenta'!$B:$B,'00 PDC SP'!$F147,'00 Alimenta'!E:E)","v":0},{"$f":"SUMIF('00 Alimenta'!$B:$B,'00 PDC SP'!$F147,'00 Alimenta'!F:F)","v":0},{"$f":"SUMIF('00 Alimenta'!$B:$B,'00 PDC SP'!$F147,'00 Alimenta'!G:G)","v":0},{"$f":"SUMIF('00 Alimenta'!$B:$B,'00 PDC SP'!$F147,'00 Alimenta'!H:H)","v":0},{"$f":"SUMIF('00 Alimenta'!$B:$B,'00 PDC SP'!$F147,'00 Alimenta'!I:I)","v":0},0]
["ABA400FE","AB","ABA400",25,"FE","0102021106","Fatture da emettere v/Regione per mobilità attiva intraregionale da privato",{"$f":"SUMIF('00 Alimenta'!$B:$B,'00 PDC SP'!$F148,'00 Alimenta'!D:D)","v":0},{"$f":"SUMIF('00 Alimenta'!$B:$B,'00 PDC SP'!$F148,'00 Alimenta'!E:E)","v":0},{"$f":"SUMIF('00 Alimenta'!$B:$B,'00 PDC SP'!$F148,'00 Alimenta'!F:F)","v":0},{"$f":"SUMIF('00 Alimenta'!$B:$B,'00 PDC SP'!$F148,'00 Alimenta'!G:G)","v":0},{"$f":"SUMIF('00 Alimenta'!$B:$B,'00 PDC SP'!$F148,'00 Alimenta'!H:H)","v":0},{"$f":"SUMIF('00 Alimenta'!$B:$B,'00 PDC SP'!$F148,'00 Alimenta'!I:I)","v":0},0]
["ABA410CR","AB","ABA410",25,"CR","0102021107","Crediti v/Regione o Provincia Autonoma per mobilità attiva extraregionale",{"$f":"SUMIF('00 Alimenta'!$B:$B,'00 PDC SP'!$F149,'00 Alimenta'!D:D)","v":19005500.289999999},{"$f":"SUMIF('00 Alimenta'!$B:$B,'00 PDC SP'!$F149,'00 Alimenta'!E:E)","v":17628432.399999999},{"$f":"SUMIF('00 Alimenta'!$B:$B,'00 PDC SP'!$F149,'00 Alimenta'!F:F)","v":17628432.399999999},{"$f":"SUMIF('00 Alimenta'!$B:$B,'00 PDC SP'!$F149,'00 Alimenta'!G:G)","v":19005500.289999999},{"$f":"SUMIF('00 Alimenta'!$B:$B,'00 PDC SP'!$F149,'00 Alimenta'!H:H)","v":23288119.719999999},{"$f":"SUMIF('00 Alimenta'!$B:$B,'00 PDC SP'!$F149,'00 Alimenta'!I:I)","v":23288119.719999999},19005500.289999999]
["ABA410FE","AB","ABA410",25,"FE","0102021108","Fatture da emettere v/Regione per mobilità attiva extraregionale",{"$f":"SUMIF('00 Alimenta'!$B:$B,'00 PDC SP'!$F150,'00 Alimenta'!D:D)","v":0},{"$f":"SUMIF('00 Alimenta'!$B:$B,'00 PDC SP'!$F150,'00 Alimenta'!E:E)","v":0},{"$f":"SUMIF('00 Alimenta'!$B:$B,'00 PDC SP'!$F150,'00 Alimenta'!F:F)","v":0},{"$f":"SUMIF('00 Alimenta'!$B:$B,'00 PDC SP'!$F150,'00 Alimenta'!G:G)","v":0},{"$f":"SUMIF('00 Alimenta'!$B:$B,'00 PDC SP'!$F150,'00 Alimenta'!H:H)","v":0},{"$f":"SUMIF('00 Alimenta'!$B:$B,'00 PDC SP'!$F150,'00 Alimenta'!I:I)","v":0},0]
["ABA420CR","AB","ABA420",25,"CR","0102021109","Crediti v/Regione o Provincia Autonoma per acconto quota FSR",{"$f":"SUMIF('00 Alimenta'!$B:$B,'00 PDC SP'!$F151,'00 Alimenta'!D:D)","v":0},{"$f":"SUMIF('00 Alimenta'!$B:$B,'00 PDC SP'!$F151,'00 Alimenta'!E:E)","v":546891755},{"$f":"SUMIF('00 Alimenta'!$B:$B,'00 PDC SP'!$F151,'00 Alimenta'!F:F)","v":546891755},{"$f":"SUMIF('00 Alimenta'!$B:$B,'00 PDC SP'!$F151,'00 Alimenta'!G:G)","v":0},{"$f":"SUMIF('00 Alimenta'!$B:$B,'00 PDC SP'!$F151,'00 Alimenta'!H:H)","v":581529568.47000003},{"$f":"SUMIF('00 Alimenta'!$B:$B,'00 PDC SP'!$F151,'00 Alimenta'!I:I)","v":581529568.47000003},0]
["ABA420FE","AB","ABA420",25,"FE","0102021110","Fatture da emettere v/Regione per creditiv/Regione o Provincia Autonoma per acconto FSR",{"$f":"SUMIF('00 Alimenta'!$B:$B,'00 PDC SP'!$F152,'00 Alimenta'!D:D)","v":0},{"$f":"SUMIF('00 Alimenta'!$B:$B,'00 PDC SP'!$F152,'00 Alimenta'!E:E)","v":0},{"$f":"SUMIF('00 Alimenta'!$B:$B,'00 PDC SP'!$F152,'00 Alimenta'!F:F)","v":0},{"$f":"SUMIF('00 Alimenta'!$B:$B,'00 PDC SP'!$F152,'00 Alimenta'!G:G)","v":0},{"$f":"SUMIF('00 Alimenta'!$B:$B,'00 PDC SP'!$F152,'00 Alimenta'!H:H)","v":0},{"$f":"SUMIF('00 Alimenta'!$B:$B,'00 PDC SP'!$F152,'00 Alimenta'!I:I)","v":0},0]
["ABA430CR","AB","ABA430",25,"CR","0102021111","Crediti v/Regione o Provincia Autonoma per finanziamento sanitario aggiuntivo corrente LEA",{"$f":"SUMIF('00 Alimenta'!$B:$B,'00 PDC SP'!$F153,'00 Alimenta'!D:D)","v":11868474.890000001},{"$f":"SUMIF('00 Alimenta'!$B:$B,'00 PDC SP'!$F153,'00 Alimenta'!E:E)","v":5146816.37},{"$f":"SUMIF('00 Alimenta'!$B:$B,'00 PDC SP'!$F153,'00 Alimenta'!F:F)","v":6631200.2400000002},{"$f":"SUMIF('00 Alimenta'!$B:$B,'00 PDC SP'!$F153,'00 Alimenta'!G:G)","v":10384091.02},{"$f":"SUMIF('00 Alimenta'!$B:$B,'00 PDC SP'!$F153,'00 Alimenta'!H:H)","v":2899011.66},{"$f":"SUMIF('00 Alimenta'!$B:$B,'00 PDC SP'!$F153,'00 Alimenta'!I:I)","v":3904796.15},9378306.5299999993]
["ABA440CR","AB","ABA440",25,"CR","0102021112","Crediti v/Regione o Provincia Autonoma per finanziamento sanitario aggiuntivo corrente extra LEA",{"$f":"SUMIF('00 Alimenta'!$B:$B,'00 PDC SP'!$F154,'00 Alimenta'!D:D)","v":0},{"$f":"SUMIF('00 Alimenta'!$B:$B,'00 PDC SP'!$F154,'00 Alimenta'!E:E)","v":0},{"$f":"SUMIF('00 Alimenta'!$B:$B,'00 PDC SP'!$F154,'00 Alimenta'!F:F)","v":0},{"$f":"SUMIF('00 Alimenta'!$B:$B,'00 PDC SP'!$F154,'00 Alimenta'!G:G)","v":0},{"$f":"SUMIF('00 Alimenta'!$B:$B,'00 PDC SP'!$F154,'00 Alimenta'!H:H)","v":0},{"$f":"SUMIF('00 Alimenta'!$B:$B,'00 PDC SP'!$F154,'00 Alimenta'!I:I)","v":0},0]
["ABA450CR","AB","ABA450",25,"CR","0102021113","Crediti v/Regione o Provincia Autonoma per spesa corrente - altro",{"$f":"SUMIF('00 Alimenta'!$B:$B,'00 PDC SP'!$F155,'00 Alimenta'!D:D)","v":0},{"$f":"SUMIF('00 Alimenta'!$B:$B,'00 PDC SP'!$F155,'00 Alimenta'!E:E)","v":0},{"$f":"SUMIF('00 Alimenta'!$B:$B,'00 PDC SP'!$F155,'00 Alimenta'!F:F)","v":0},{"$f":"SUMIF('00 Alimenta'!$B:$B,'00 PDC SP'!$F155,'00 Alimenta'!G:G)","v":0},{"$f":"SUMIF('00 Alimenta'!$B:$B,'00 PDC SP'!$F155,'00 Alimenta'!H:H)","v":0},{"$f":"SUMIF('00 Alimenta'!$B:$B,'00 PDC SP'!$F155,'00 Alimenta'!I:I)","v":0},0]
["ABA460CR","AB","ABA460",25,"CR","0102021114","Crediti v/Regione o Provincia Autonoma per ricerca",{"$f":"SUMIF('00 Alimenta'!$B:$B,'00 PDC SP'!$F156,'00 Alimenta'!D:D)","v":0},{"$f":"SUMIF('00 Alimenta'!$B:$B,'00 PDC SP'!$F156,'00 Alimenta'!E:E)","v":0},{"$f":"SUMIF('00 Alimenta'!$B:$B,'00 PDC SP'!$F156,'00 Alimenta'!F:F)","v":0},{"$f":"SUMIF('00 Alimenta'!$B:$B,'00 PDC SP'!$F156,'00 Alimenta'!G:G)","v":0},{"$f":"SUMIF('00 Alimenta'!$B:$B,'00 PDC SP'!$F156,'00 Alimenta'!H:H)","v":0},{"$f":"SUMIF('00 Alimenta'!$B:$B,'00 PDC SP'!$F156,'00 Alimenta'!I:I)","v":0},0]
["ABA400CR","AB","ABA400",25,"CR","0102021115","Netting mobilità intraregionale ante 2007",{"$f":"SUMIF('00 Alimenta'!$B:$B,'00 PDC SP'!$F157,'00 Alimenta'!D:D)","v":15592903.99},{"$f":"SUMIF('00 Alimenta'!$B:$B,'00 PDC SP'!$F157,'00 Alimenta'!E:E)","v":0},{"$f":"SUMIF('00 Alimenta'!$B:$B,'00 PDC SP'!$F157,'00 Alimenta'!F:F)","v":0},{"$f":"SUMIF('00 Alimenta'!$B:$B,'00 PDC SP'!$F157,'00 Alimenta'!G:G)","v":15592903.99},{"$f":"SUMIF('00 Alimenta'!$B:$B,'00 PDC SP'!$F157,'00 Alimenta'!H:H)","v":0},{"$f":"SUMIF('00 Alimenta'!$B:$B,'00 PDC SP'!$F157,'00 Alimenta'!I:I)","v":0},15592903.99]
["ABA410CR","AB","ABA410",25,"CR","0102021116","Netting mobilità extraregionale ante 2007",{"$f":"SUMIF('00 Alimenta'!$B:$B,'00 PDC SP'!$F158,'00 Alimenta'!D:D)","v":0},{"$f":"SUMIF('00 Alimenta'!$B:$B,'00 PDC SP'!$F158,'00 Alimenta'!E:E)","v":0},{"$f":"SUMIF('00 Alimenta'!$B:$B,'00 PDC SP'!$F158,'00 Alimenta'!F:F)","v":0},{"$f":"SUMIF('00 Alimenta'!$B:$B,'00 PDC SP'!$F158,'00 Alimenta'!G:G)","v":0},{"$f":"SUMIF('00 Alimenta'!$B:$B,'00 PDC SP'!$F158,'00 Alimenta'!H:H)","v":0},{"$f":"SUMIF('00 Alimenta'!$B:$B,'00 PDC SP'!$F158,'00 Alimenta'!I:I)","v":0},0]
[{"$f":"IF(E159=\"\",C159,C159&E159)","v":"ABA420CR"},{"$f":"LEFT(C159,2)","v":"AB"},"ABA420",25,"CR","0102021117","Crediti v/Regione o Provincia Autonoma per acconto quota FSR per DPC",null,null,null,{"$f":"SUMIF('00 Alimenta'!$B:$B,'00 PDC SP'!$F159,'00 Alimenta'!G:G)","v":0},{"$f":"SUMIF('00 Alimenta'!$B:$B,'00 PDC SP'!$F159,'00 Alimenta'!H:H)","v":21620901.280000001},{"$f":"SUMIF('00 Alimenta'!$B:$B,'00 PDC SP'!$F159,'00 Alimenta'!I:I)","v":21620901.280000001},{"$f":"K159+L159-M159","v":0}]
["ABA480CR","AB","ABA480",49,"CR","0102021201","Crediti v/Regione o Provincia Autonoma per finanziamenti per investimenti",{"$f":"SUMIF('00 Alimenta'!$B:$B,'00 PDC SP'!$F160,'00 Alimenta'!D:D)","v":38255},{"$f":"SUMIF('00 Alimenta'!$B:$B,'00 PDC SP'!$F160,'00 Alimenta'!E:E)","v":0},{"$f":"SUMIF('00 Alimenta'!$B:$B,'00 PDC SP'!$F160,'00 Alimenta'!F:F)","v":0},{"$f":"SUMIF('00 Alimenta'!$B:$B,'00 PDC SP'!$F160,'00 Alimenta'!G:G)","v":38255},{"$f":"SUMIF('00 Alimenta'!$B:$B,'00 PDC SP'!$F160,'00 Alimenta'!H:H)","v":0},{"$f":"SUMIF('00 Alimenta'!$B:$B,'00 PDC SP'!$F160,'00 Alimenta'!I:I)","v":0},38255]
["ABA490CR","AB","ABA490",50,"CR","0102021202","Crediti v/Regione o Provincia Autonoma per incremento fondo dotazione",{"$f":"SUMIF('00 Alimenta'!$B:$B,'00 PDC SP'!$F161,'00 Alimenta'!D:D)","v":0},{"$f":"SUMIF('00 Alimenta'!$B:$B,'00 PDC SP'!$F161,'00 Alimenta'!E:E)","v":0},{"$f":"SUMIF('00 Alimenta'!$B:$B,'00 PDC SP'!$F161,'00 Alimenta'!F:F)","v":0},{"$f":"SUMIF('00 Alimenta'!$B:$B,'00 PDC SP'!$F161,'00 Alimenta'!G:G)","v":0},{"$f":"SUMIF('00 Alimenta'!$B:$B,'00 PDC SP'!$F161,'00 Alimenta'!H:H)","v":0},{"$f":"SUMIF('00 Alimenta'!$B:$B,'00 PDC SP'!$F161,'00 Alimenta'!I:I)","v":0},0]
["ABA500CR","AB","ABA500",51,"CR","0102021203","Crediti v/Regione o Provincia Autonoma per ripiano perdite",{"$f":"SUMIF('00 Alimenta'!$B:$B,'00 PDC SP'!$F162,'00 Alimenta'!D:D)","v":21602059.57},{"$f":"SUMIF('00 Alimenta'!$B:$B,'00 PDC SP'!$F162,'00 Alimenta'!E:E)","v":14264710},{"$f":"SUMIF('00 Alimenta'!$B:$B,'00 PDC SP'!$F162,'00 Alimenta'!F:F)","v":21602059.57},{"$f":"SUMIF('00 Alimenta'!$B:$B,'00 PDC SP'!$F162,'00 Alimenta'!G:G)","v":14264710},{"$f":"SUMIF('00 Alimenta'!$B:$B,'00 PDC SP'!$F162,'00 Alimenta'!H:H)","v":13609624},{"$f":"SUMIF('00 Alimenta'!$B:$B,'00 PDC SP'!$F162,'00 Alimenta'!I:I)","v":0},27874334]
["ABA510CR","AB","ABA510",52,"CR","0102021204","Crediti v/Regione per copertura debiti al 31/12/2005",{"$f":"SUMIF('00 Alimenta'!$B:$B,'00 PDC SP'!$F163,'00 Alimenta'!D:D)","v":0},{"$f":"SUMIF('00 Alimenta'!$B:$B,'00 PDC SP'!$F163,'00 Alimenta'!E:E)","v":0},{"$f":"SUMIF('00 Alimenta'!$B:$B,'00 PDC SP'!$F163,'00 Alimenta'!F:F)","v":0},{"$f":"SUMIF('00 Alimenta'!$B:$B,'00 PDC SP'!$F163,'00 Alimenta'!G:G)","v":0},{"$f":"SUMIF('00 Alimenta'!$B:$B,'00 PDC SP'!$F163,'00 Alimenta'!H:H)","v":0},{"$f":"SUMIF('00 Alimenta'!$B:$B,'00 PDC SP'!$F163,'00 Alimenta'!I:I)","v":0},0]
["ABA520CR","AB","ABA520",49,"CR","0102021205","Crediti v/Regione o Provincia Autonoma per ricostituzione risorse da investimenti esercizi precedenti",{"$f":"SUMIF('00 Alimenta'!$B:$B,'00 PDC SP'!$F164,'00 Alimenta'!D:D)","v":0},{"$f":"SUMIF('00 Alimenta'!$B:$B,'00 PDC SP'!$F164,'00 Alimenta'!E:E)","v":0},{"$f":"SUMIF('00 Alimenta'!$B:$B,'00 PDC SP'!$F164,'00 Alimenta'!F:F)","v":0},{"$f":"SUMIF('00 Alimenta'!$B:$B,'00 PDC SP'!$F164,'00 Alimenta'!G:G)","v":0},{"$f":"SUMIF('00 Alimenta'!$B:$B,'00 PDC SP'!$F164,'00 Alimenta'!H:H)","v":0},{"$f":"SUMIF('00 Alimenta'!$B:$B,'00 PDC SP'!$F164,'00 Alimenta'!I:I)","v":0},0]
["ABA530CR","AB","ABA530",26,"CR","0102021301","Crediti v/Comuni",{"$f":"SUMIF('00 Alimenta'!$B:$B,'00 PDC SP'!$F165,'00 Alimenta'!D:D)","v":82801.820000000007},{"$f":"SUMIF('00 Alimenta'!$B:$B,'00 PDC SP'!$F165,'00 Alimenta'!E:E)","v":115218.01},{"$f":"SUMIF('00 Alimenta'!$B:$B,'00 PDC SP'!$F165,'00 Alimenta'!F:F)","v":34661.25},{"$f":"SUMIF('00 Alimenta'!$B:$B,'00 PDC SP'!$F165,'00 Alimenta'!G:G)","v":163358.57999999999},{"$f":"SUMIF('00 Alimenta'!$B:$B,'00 PDC SP'!$F165,'00 Alimenta'!H:H)","v":111857.28},{"$f":"SUMIF('00 Alimenta'!$B:$B,'00 PDC SP'!$F165,'00 Alimenta'!I:I)","v":91803.89},183411.96999999997]
["ABA530FE","AB","ABA530",26,"FE","0102021302","Fatture da emettere v/Comuni",{"$f":"SUMIF('00 Alimenta'!$B:$B,'00 PDC SP'!$F166,'00 Alimenta'!D:D)","v":5505.16},{"$f":"SUMIF('00 Alimenta'!$B:$B,'00 PDC SP'!$F166,'00 Alimenta'!E:E)","v":58770.9},{"$f":"SUMIF('00 Alimenta'!$B:$B,'00 PDC SP'!$F166,'00 Alimenta'!F:F)","v":5505.16},{"$f":"SUMIF('00 Alimenta'!$B:$B,'00 PDC SP'!$F166,'00 Alimenta'!G:G)","v":58770.9},{"$f":"SUMIF('00 Alimenta'!$B:$B,'00 PDC SP'!$F166,'00 Alimenta'!H:H)","v":53342.51},{"$f":"SUMIF('00 Alimenta'!$B:$B,'00 PDC SP'!$F166,'00 Alimenta'!I:I)","v":58770.9},53342.51]
["ABA560CR","AB","ABA560",27,"CR","0102021401","Crediti v/ASL della Regione",{"$f":"SUMIF('00 Alimenta'!$B:$B,'00 PDC SP'!$F167,'00 Alimenta'!D:D)","v":0},{"$f":"SUMIF('00 Alimenta'!$B:$B,'00 PDC SP'!$F167,'00 Alimenta'!E:E)","v":0},{"$f":"SUMIF('00 Alimenta'!$B:$B,'00 PDC SP'!$F167,'00 Alimenta'!F:F)","v":0},{"$f":"SUMIF('00 Alimenta'!$B:$B,'00 PDC SP'!$F167,'00 Alimenta'!G:G)","v":0},{"$f":"SUMIF('00 Alimenta'!$B:$B,'00 PDC SP'!$F167,'00 Alimenta'!H:H)","v":0},{"$f":"SUMIF('00 Alimenta'!$B:$B,'00 PDC SP'!$F167,'00 Alimenta'!I:I)","v":0},0]
["ABA560CR","AB","ABA560",27,"CR","0102021402","Crediti v/ASL Avezzano Sulmona L'Aquila per mobilità in compensazione",{"$f":"SUMIF('00 Alimenta'!$B:$B,'00 PDC SP'!$F168,'00 Alimenta'!D:D)","v":0},{"$f":"SUMIF('00 Alimenta'!$B:$B,'00 PDC SP'!$F168,'00 Alimenta'!E:E)","v":0},{"$f":"SUMIF('00 Alimenta'!$B:$B,'00 PDC SP'!$F168,'00 Alimenta'!F:F)","v":0},{"$f":"SUMIF('00 Alimenta'!$B:$B,'00 PDC SP'!$F168,'00 Alimenta'!G:G)","v":0},{"$f":"SUMIF('00 Alimenta'!$B:$B,'00 PDC SP'!$F168,'00 Alimenta'!H:H)","v":0},{"$f":"SUMIF('00 Alimenta'!$B:$B,'00 PDC SP'!$F168,'00 Alimenta'!I:I)","v":0},0]
["ABA560FE","AB","ABA560",27,"FE","0102021403","Fatture da emettere v/ASL Avezzano Sulmona L'Aquila per mobilità in compensazione",{"$f":"SUMIF('00 Alimenta'!$B:$B,'00 PDC SP'!$F169,'00 Alimenta'!D:D)","v":0},{"$f":"SUMIF('00 Alimenta'!$B:$B,'00 PDC SP'!$F169,'00 Alimenta'!E:E)","v":0},{"$f":"SUMIF('00 Alimenta'!$B:$B,'00 PDC SP'!$F169,'00 Alimenta'!F:F)","v":0},{"$f":"SUMIF('00 Alimenta'!$B:$B,'00 PDC SP'!$F169,'00 Alimenta'!G:G)","v":0},{"$f":"SUMIF('00 Alimenta'!$B:$B,'00 PDC SP'!$F169,'00 Alimenta'!H:H)","v":0},{"$f":"SUMIF('00 Alimenta'!$B:$B,'00 PDC SP'!$F169,'00 Alimenta'!I:I)","v":0},0]
["ABA560CR","AB","ABA560",27,"CR","0102021404","Crediti v/ASL Lanciano Vasto Chieti per mobilità in compensazione",{"$f":"SUMIF('00 Alimenta'!$B:$B,'00 PDC SP'!$F170,'00 Alimenta'!D:D)","v":0},{"$f":"SUMIF('00 Alimenta'!$B:$B,'00 PDC SP'!$F170,'00 Alimenta'!E:E)","v":0},{"$f":"SUMIF('00 Alimenta'!$B:$B,'00 PDC SP'!$F170,'00 Alimenta'!F:F)","v":0},{"$f":"SUMIF('00 Alimenta'!$B:$B,'00 PDC SP'!$F170,'00 Alimenta'!G:G)","v":0},{"$f":"SUMIF('00 Alimenta'!$B:$B,'00 PDC SP'!$F170,'00 Alimenta'!H:H)","v":0},{"$f":"SUMIF('00 Alimenta'!$B:$B,'00 PDC SP'!$F170,'00 Alimenta'!I:I)","v":0},0]
["ABA560FE","AB","ABA560",27,"FE","0102021405","Fatture da emettere v/ASL Lanciano Vasto Chieti per mobilità in compensazione",{"$f":"SUMIF('00 Alimenta'!$B:$B,'00 PDC SP'!$F171,'00 Alimenta'!D:D)","v":0},{"$f":"SUMIF('00 Alimenta'!$B:$B,'00 PDC SP'!$F171,'00 Alimenta'!E:E)","v":0},{"$f":"SUMIF('00 Alimenta'!$B:$B,'00 PDC SP'!$F171,'00 Alimenta'!F:F)","v":0},{"$f":"SUMIF('00 Alimenta'!$B:$B,'00 PDC SP'!$F171,'00 Alimenta'!G:G)","v":0},{"$f":"SUMIF('00 Alimenta'!$B:$B,'00 PDC SP'!$F171,'00 Alimenta'!H:H)","v":0},{"$f":"SUMIF('00 Alimenta'!$B:$B,'00 PDC SP'!$F171,'00 Alimenta'!I:I)","v":0},0]
["ABA560CR","AB","ABA560",27,"CR","0102021406","Crediti v/ASL Pescara per mobilità in compensazione",{"$f":"SUMIF('00 Alimenta'!$B:$B,'00 PDC SP'!$F172,'00 Alimenta'!D:D)","v":0},{"$f":"SUMIF('00 Alimenta'!$B:$B,'00 PDC SP'!$F172,'00 Alimenta'!E:E)","v":0},{"$f":"SUMIF('00 Alimenta'!$B:$B,'00 PDC SP'!$F172,'00 Alimenta'!F:F)","v":0},{"$f":"SUMIF('00 Alimenta'!$B:$B,'00 PDC SP'!$F172,'00 Alimenta'!G:G)","v":0},{"$f":"SUMIF('00 Alimenta'!$B:$B,'00 PDC SP'!$F172,'00 Alimenta'!H:H)","v":0},{"$f":"SUMIF('00 Alimenta'!$B:$B,'00 PDC SP'!$F172,'00 Alimenta'!I:I)","v":0},0]
["ABA560FE","AB","ABA560",27,"FE","0102021407","Fatture da emettere v/ASL Pescara per mobilità in compensazione",{"$f":"SUMIF('00 Alimenta'!$B:$B,'00 PDC SP'!$F173,'00 Alimenta'!D:D)","v":0},{"$f":"SUMIF('00 Alimenta'!$B:$B,'00 PDC SP'!$F173,'00 Alimenta'!E:E)","v":0},{"$f":"SUMIF('00 Alimenta'!$B:$B,'00 PDC SP'!$F173,'00 Alimenta'!F:F)","v":0},{"$f":"SUMIF('00 Alimenta'!$B:$B,'00 PDC SP'!$F173,'00 Alimenta'!G:G)","v":0},{"$f":"SUMIF('00 Alimenta'!$B:$B,'00 PDC SP'!$F173,'00 Alimenta'!H:H)","v":0},{"$f":"SUMIF('00 Alimenta'!$B:$B,'00 PDC SP'!$F173,'00 Alimenta'!I:I)","v":0},0]
["ABA560CR","AB","ABA560",27,"CR","0102021408","Crediti v/ASL Teramo per mobilità in compensazione",{"$f":"SUMIF('00 Alimenta'!$B:$B,'00 PDC SP'!$F174,'00 Alimenta'!D:D)","v":0},{"$f":"SUMIF('00 Alimenta'!$B:$B,'00 PDC SP'!$F174,'00 Alimenta'!E:E)","v":0},{"$f":"SUMIF('00 Alimenta'!$B:$B,'00 PDC SP'!$F174,'00 Alimenta'!F:F)","v":0},{"$f":"SUMIF('00 Alimenta'!$B:$B,'00 PDC SP'!$F174,'00 Alimenta'!G:G)","v":0},{"$f":"SUMIF('00 Alimenta'!$B:$B,'00 PDC SP'!$F174,'00 Alimenta'!H:H)","v":0},{"$f":"SUMIF('00 Alimenta'!$B:$B,'00 PDC SP'!$F174,'00 Alimenta'!I:I)","v":0},0]
["ABA560FE","AB","ABA560",27,"FE","0102021409","Fatture da emettere v/ASL Teramo per mobilità in compensazione",{"$f":"SUMIF('00 Alimenta'!$B:$B,'00 PDC SP'!$F175,'00 Alimenta'!D:D)","v":0},{"$f":"SUMIF('00 Alimenta'!$B:$B,'00 PDC SP'!$F175,'00 Alimenta'!E:E)","v":0},{"$f":"SUMIF('00 Alimenta'!$B:$B,'00 PDC SP'!$F175,'00 Alimenta'!F:F)","v":0},{"$f":"SUMIF('00 Alimenta'!$B:$B,'00 PDC SP'!$F175,'00 Alimenta'!G:G)","v":0},{"$f":"SUMIF('00 Alimenta'!$B:$B,'00 PDC SP'!$F175,'00 Alimenta'!H:H)","v":0},{"$f":"SUMIF('00 Alimenta'!$B:$B,'00 PDC SP'!$F175,'00 Alimenta'!I:I)","v":0},0]
["ABA570CR","AB","ABA570",27,"CR","0102021410","Crediti v/asl Avezzano Sulmona L'Aquila per mobilità non in compensazione",{"$f":"SUMIF('00 Alimenta'!$B:$B,'00 PDC SP'!$F176,'00 Alimenta'!D:D)","v":0},{"$f":"SUMIF('00 Alimenta'!$B:$B,'00 PDC SP'!$F176,'00 Alimenta'!E:E)","v":0},{"$f":"SUMIF('00 Alimenta'!$B:$B,'00 PDC SP'!$F176,'00 Alimenta'!F:F)","v":0},{"$f":"SUMIF('00 Alimenta'!$B:$B,'00 PDC SP'!$F176,'00 Alimenta'!G:G)","v":0},{"$f":"SUMIF('00 Alimenta'!$B:$B,'00 PDC SP'!$F176,'00 Alimenta'!H:H)","v":0},{"$f":"SUMIF('00 Alimenta'!$B:$B,'00 PDC SP'!$F176,'00 Alimenta'!I:I)","v":0},0]
["ABA570FE","AB","ABA570",27,"FE","0102021411","Fatture da emettere v/ASL Avezzano Sulmona L'Aquila per mobilità non in compensazione",{"$f":"SUMIF('00 Alimenta'!$B:$B,'00 PDC SP'!$F177,'00 Alimenta'!D:D)","v":0},{"$f":"SUMIF('00 Alimenta'!$B:$B,'00 PDC SP'!$F177,'00 Alimenta'!E:E)","v":0},{"$f":"SUMIF('00 Alimenta'!$B:$B,'00 PDC SP'!$F177,'00 Alimenta'!F:F)","v":0},{"$f":"SUMIF('00 Alimenta'!$B:$B,'00 PDC SP'!$F177,'00 Alimenta'!G:G)","v":0},{"$f":"SUMIF('00 Alimenta'!$B:$B,'00 PDC SP'!$F177,'00 Alimenta'!H:H)","v":0},{"$f":"SUMIF('00 Alimenta'!$B:$B,'00 PDC SP'!$F177,'00 Alimenta'!I:I)","v":0},0]
["ABA570CR","AB","ABA570",27,"CR","0102021412","Crediti v/ASL Lanciano Vasto Chieti per mobilità non in compensazione",{"$f":"SUMIF('00 Alimenta'!$B:$B,'00 PDC SP'!$F178,'00 Alimenta'!D:D)","v":0},{"$f":"SUMIF('00 Alimenta'!$B:$B,'00 PDC SP'!$F178,'00 Alimenta'!E:E)","v":0},{"$f":"SUMIF('00 Alimenta'!$B:$B,'00 PDC SP'!$F178,'00 Alimenta'!F:F)","v":0},{"$f":"SUMIF('00 Alimenta'!$B:$B,'00 PDC SP'!$F178,'00 Alimenta'!G:G)","v":0},{"$f":"SUMIF('00 Alimenta'!$B:$B,'00 PDC SP'!$F178,'00 Alimenta'!H:H)","v":0},{"$f":"SUMIF('00 Alimenta'!$B:$B,'00 PDC SP'!$F178,'00 Alimenta'!I:I)","v":0},0]
["ABA570FE","AB","ABA570",27,"FE","0102021413","Fatture da emettere v/ASL Lanciano Vasto Chieti per mobilità non in compensazione",{"$f":"SUMIF('00 Alimenta'!$B:$B,'00 PDC SP'!$F179,'00 Alimenta'!D:D)","v":0},{"$f":"SUMIF('00 Alimenta'!$B:$B,'00 PDC SP'!$F179,'00 Alimenta'!E:E)","v":0},{"$f":"SUMIF('00 Alimenta'!$B:$B,'00 PDC SP'!$F179,'00 Alimenta'!F:F)","v":0},{"$f":"SUMIF('00 Alimenta'!$B:$B,'00 PDC SP'!$F179,'00 Alimenta'!G:G)","v":0},{"$f":"SUMIF('00 Alimenta'!$B:$B,'00 PDC SP'!$F179,'00 Alimenta'!H:H)","v":0},{"$f":"SUMIF('00 Alimenta'!$B:$B,'00 PDC SP'!$F179,'00 Alimenta'!I:I)","v":0},0]
["ABA570CR","AB","ABA570",27,"CR","0102021414","Crediti v/ASL Pescara per mobilità non in compensazione",{"$f":"SUMIF('00 Alimenta'!$B:$B,'00 PDC SP'!$F180,'00 Alimenta'!D:D)","v":0},{"$f":"SUMIF('00 Alimenta'!$B:$B,'00 PDC SP'!$F180,'00 Alimenta'!E:E)","v":0},{"$f":"SUMIF('00 Alimenta'!$B:$B,'00 PDC SP'!$F180,'00 Alimenta'!F:F)","v":0},{"$f":"SUMIF('00 Alimenta'!$B:$B,'00 PDC SP'!$F180,'00 Alimenta'!G:G)","v":0},{"$f":"SUMIF('00 Alimenta'!$B:$B,'00 PDC SP'!$F180,'00 Alimenta'!H:H)","v":0},{"$f":"SUMIF('00 Alimenta'!$B:$B,'00 PDC SP'!$F180,'00 Alimenta'!I:I)","v":0},0]
["ABA570FE","AB","ABA570",27,"FE","0102021415","Fatture da emettere v/ASL Pescara per mobilità non in compensazione",{"$f":"SUMIF('00 Alimenta'!$B:$B,'00 PDC SP'!$F181,'00 Alimenta'!D:D)","v":0},{"$f":"SUMIF('00 Alimenta'!$B:$B,'00 PDC SP'!$F181,'00 Alimenta'!E:E)","v":0},{"$f":"SUMIF('00 Alimenta'!$B:$B,'00 PDC SP'!$F181,'00 Alimenta'!F:F)","v":0},{"$f":"SUMIF('00 Alimenta'!$B:$B,'00 PDC SP'!$F181,'00 Alimenta'!G:G)","v":0},{"$f":"SUMIF('00 Alimenta'!$B:$B,'00 PDC SP'!$F181,'00 Alimenta'!H:H)","v":0},{"$f":"SUMIF('00 Alimenta'!$B:$B,'00 PDC SP'!$F181,'00 Alimenta'!I:I)","v":0},0]
["ABA570CR","AB","ABA570",27,"CR","0102021416","Crediti v/ASL Teramo per mobilità non in compensazione",{"$f":"SUMIF('00 Alimenta'!$B:$B,'00 PDC SP'!$F182,'00 Alimenta'!D:D)","v":0},{"$f":"SUMIF('00 Alimenta'!$B:$B,'00 PDC SP'!$F182,'00 Alimenta'!E:E)","v":0},{"$f":"SUMIF('00 Alimenta'!$B:$B,'00 PDC SP'!$F182,'00 Alimenta'!F:F)","v":0},{"$f":"SUMIF('00 Alimenta'!$B:$B,'00 PDC SP'!$F182,'00 Alimenta'!G:G)","v":0},{"$f":"SUMIF('00 Alimenta'!$B:$B,'00 PDC SP'!$F182,'00 Alimenta'!H:H)","v":0},{"$f":"SUMIF('00 Alimenta'!$B:$B,'00 PDC SP'!$F182,'00 Alimenta'!I:I)","v":0},0]
["ABA570FE","AB","ABA570",27,"FE","0102021417","Fatture da emettere v/ASL Teramo per mobilità non in compensazione",{"$f":"SUMIF('00 Alimenta'!$B:$B,'00 PDC SP'!$F183,'00 Alimenta'!D:D)","v":0},{"$f":"SUMIF('00 Alimenta'!$B:$B,'00 PDC SP'!$F183,'00 Alimenta'!E:E)","v":0},{"$f":"SUMIF('00 Alimenta'!$B:$B,'00 PDC SP'!$F183,'00 Alimenta'!F:F)","v":0},{"$f":"SUMIF('00 Alimenta'!$B:$B,'00 PDC SP'!$F183,'00 Alimenta'!G:G)","v":0},{"$f":"SUMIF('00 Alimenta'!$B:$B,'00 PDC SP'!$F183,'00 Alimenta'!H:H)","v":0},{"$f":"SUMIF('00 Alimenta'!$B:$B,'00 PDC SP'!$F183,'00 Alimenta'!I:I)","v":0},0]
["ABA580CR","AB","ABA580",27,"CR","0102021418","Crediti v/ASL Avezzano Sulmona L'Aquila per altre prestazioni",{"$f":"SUMIF('00 Alimenta'!$B:$B,'00 PDC SP'!$F184,'00 Alimenta'!D:D)","v":677413.43},{"$f":"SUMIF('00 Alimenta'!$B:$B,'00 PDC SP'!$F184,'00 Alimenta'!E:E)","v":4655668.13},{"$f":"SUMIF('00 Alimenta'!$B:$B,'00 PDC SP'!$F184,'00 Alimenta'!F:F)","v":4847041.5999999996},{"$f":"SUMIF('00 Alimenta'!$B:$B,'00 PDC SP'!$F184,'00 Alimenta'!G:G)","v":486039.96},{"$f":"SUMIF('00 Alimenta'!$B:$B,'00 PDC SP'!$F184,'00 Alimenta'!H:H)","v":214056.28},{"$f":"SUMIF('00 Alimenta'!$B:$B,'00 PDC SP'!$F184,'00 Alimenta'!I:I)","v":210042.87},490053.37]
["ABA580FE","AB","ABA580",27,"FE","0102021419","Fatture da emettere v/ASL Avezzano Sulmona L'Aquila per altre prestazioni",{"$f":"SUMIF('00 Alimenta'!$B:$B,'00 PDC SP'!$F185,'00 Alimenta'!D:D)","v":18535.41},{"$f":"SUMIF('00 Alimenta'!$B:$B,'00 PDC SP'!$F185,'00 Alimenta'!E:E)","v":8143.77},{"$f":"SUMIF('00 Alimenta'!$B:$B,'00 PDC SP'!$F185,'00 Alimenta'!F:F)","v":18535.41},{"$f":"SUMIF('00 Alimenta'!$B:$B,'00 PDC SP'!$F185,'00 Alimenta'!G:G)","v":8143.77},{"$f":"SUMIF('00 Alimenta'!$B:$B,'00 PDC SP'!$F185,'00 Alimenta'!H:H)","v":37721.199999999997},{"$f":"SUMIF('00 Alimenta'!$B:$B,'00 PDC SP'!$F185,'00 Alimenta'!I:I)","v":8143.77},37721.199999999997]
["ABA580CR","AB","ABA580",27,"CR","0102021420","Crediti v/ASL Lanciano Vasto Chieti per altre prestazioni",{"$f":"SUMIF('00 Alimenta'!$B:$B,'00 PDC SP'!$F186,'00 Alimenta'!D:D)","v":281885.15999999997},{"$f":"SUMIF('00 Alimenta'!$B:$B,'00 PDC SP'!$F186,'00 Alimenta'!E:E)","v":127601.11},{"$f":"SUMIF('00 Alimenta'!$B:$B,'00 PDC SP'!$F186,'00 Alimenta'!F:F)","v":175640.8},{"$f":"SUMIF('00 Alimenta'!$B:$B,'00 PDC SP'!$F186,'00 Alimenta'!G:G)","v":233845.47},{"$f":"SUMIF('00 Alimenta'!$B:$B,'00 PDC SP'!$F186,'00 Alimenta'!H:H)","v":110654.79},{"$f":"SUMIF('00 Alimenta'!$B:$B,'00 PDC SP'!$F186,'00 Alimenta'!I:I)","v":99868.92},244631.34000000003]
["ABA580FE","AB","ABA580",27,"FE","0102021421","Fatture da emettere v/ASL Lanciano Vasto Chieti per altre prestazioni",{"$f":"SUMIF('00 Alimenta'!$B:$B,'00 PDC SP'!$F187,'00 Alimenta'!D:D)","v":5700.13},{"$f":"SUMIF('00 Alimenta'!$B:$B,'00 PDC SP'!$F187,'00 Alimenta'!E:E)","v":1282.71},{"$f":"SUMIF('00 Alimenta'!$B:$B,'00 PDC SP'!$F187,'00 Alimenta'!F:F)","v":5700.13},{"$f":"SUMIF('00 Alimenta'!$B:$B,'00 PDC SP'!$F187,'00 Alimenta'!G:G)","v":1282.71},{"$f":"SUMIF('00 Alimenta'!$B:$B,'00 PDC SP'!$F187,'00 Alimenta'!H:H)","v":25919.58},{"$f":"SUMIF('00 Alimenta'!$B:$B,'00 PDC SP'!$F187,'00 Alimenta'!I:I)","v":1282.71},25919.58]
["ABA580CR","AB","ABA580",27,"CR","0102021422","Crediti v/ASL Pescara per altre prestazioni",{"$f":"SUMIF('00 Alimenta'!$B:$B,'00 PDC SP'!$F188,'00 Alimenta'!D:D)","v":0},{"$f":"SUMIF('00 Alimenta'!$B:$B,'00 PDC SP'!$F188,'00 Alimenta'!E:E)","v":0},{"$f":"SUMIF('00 Alimenta'!$B:$B,'00 PDC SP'!$F188,'00 Alimenta'!F:F)","v":0},{"$f":"SUMIF('00 Alimenta'!$B:$B,'00 PDC SP'!$F188,'00 Alimenta'!G:G)","v":0},{"$f":"SUMIF('00 Alimenta'!$B:$B,'00 PDC SP'!$F188,'00 Alimenta'!H:H)","v":0},{"$f":"SUMIF('00 Alimenta'!$B:$B,'00 PDC SP'!$F188,'00 Alimenta'!I:I)","v":0},0]
["ABA580FE","AB","ABA580",27,"FE","0102021423","Fatture da emettere v/ASL Pescara per altre prestazioni",{"$f":"SUMIF('00 Alimenta'!$B:$B,'00 PDC SP'!$F189,'00 Alimenta'!D:D)","v":0},{"$f":"SUMIF('00 Alimenta'!$B:$B,'00 PDC SP'!$F189,'00 Alimenta'!E:E)","v":0},{"$f":"SUMIF('00 Alimenta'!$B:$B,'00 PDC SP'!$F189,'00 Alimenta'!F:F)","v":0},{"$f":"SUMIF('00 Alimenta'!$B:$B,'00 PDC SP'!$F189,'00 Alimenta'!G:G)","v":0},{"$f":"SUMIF('00 Alimenta'!$B:$B,'00 PDC SP'!$F189,'00 Alimenta'!H:H)","v":0},{"$f":"SUMIF('00 Alimenta'!$B:$B,'00 PDC SP'!$F189,'00 Alimenta'!I:I)","v":0},0]
["ABA580CR","AB","ABA580",27,"CR","0102021424","Crediti v/ASL Teramo per altre prestazioni",{"$f":"SUMIF('00 Alimenta'!$B:$B,'00 PDC SP'!$F190,'00 Alimenta'!D:D)","v":4005697.04},{"$f":"SUMIF('00 Alimenta'!$B:$B,'00 PDC SP'!$F190,'00 Alimenta'!E:E)","v":62418.61},{"$f":"SUMIF('00 Alimenta'!$B:$B,'00 PDC SP'!$F190,'00 Alimenta'!F:F)","v":212668.34},{"$f":"SUMIF('00 Alimenta'!$B:$B,'00 PDC SP'!$F190,'00 Alimenta'!G:G)","v":3855447.31},{"$f":"SUMIF('00 Alimenta'!$B:$B,'00 PDC SP'!$F190,'00 Alimenta'!H:H)","v":11975.84},{"$f":"SUMIF('00 Alimenta'!$B:$B,'00 PDC SP'!$F190,'00 Alimenta'!I:I)","v":29003.38},3838419.77]
["ABA580FE","AB","ABA580",27,"FE","0102021425","Fatture da emettere v/ASL Teramo per altre prestazioni",{"$f":"SUMIF('00 Alimenta'!$B:$B,'00 PDC SP'!$F191,'00 Alimenta'!D:D)","v":563.75},{"$f":"SUMIF('00 Alimenta'!$B:$B,'00 PDC SP'!$F191,'00 Alimenta'!E:E)","v":5559.81},{"$f":"SUMIF('00 Alimenta'!$B:$B,'00 PDC SP'!$F191,'00 Alimenta'!F:F)","v":563.75},{"$f":"SUMIF('00 Alimenta'!$B:$B,'00 PDC SP'!$F191,'00 Alimenta'!G:G)","v":5559.81},{"$f":"SUMIF('00 Alimenta'!$B:$B,'00 PDC SP'!$F191,'00 Alimenta'!H:H)","v":4159.83},{"$f":"SUMIF('00 Alimenta'!$B:$B,'00 PDC SP'!$F191,'00 Alimenta'!I:I)","v":5559.81},4159.829999999999]
["ABA590CR","AB","ABA590",27,"CR","0102021501","Acconto quota FSR da distribuire",{"$f":"SUMIF('00 Alimenta'!$B:$B,'00 PDC SP'!$F192,'00 Alimenta'!D:D)","v":0},{"$f":"SUMIF('00 Alimenta'!$B:$B,'00 PDC SP'!$F192,'00 Alimenta'!E:E)","v":0},{"$f":"SUMIF('00 Alimenta'!$B:$B,'00 PDC SP'!$F192,'00 Alimenta'!F:F)","v":0},{"$f":"SUMIF('00 Alimenta'!$B:$B,'00 PDC SP'!$F192,'00 Alimenta'!G:G)","v":0},{"$f":"SUMIF('00 Alimenta'!$B:$B,'00 PDC SP'!$F192,'00 Alimenta'!H:H)","v":0},{"$f":"SUMIF('00 Alimenta'!$B:$B,'00 PDC SP'!$F192,'00 Alimenta'!I:I)","v":0},0]
["ABA600CR","AB","ABA600",27,"CR","0102021601","Crediti v/Aziende sanitarie pubbliche Extraregione",{"$f":"SUMIF('00 Alimenta'!$B:$B,'00 PDC SP'!$F193,'00 Alimenta'!D:D)","v":153298.79},{"$f":"SUMIF('00 Alimenta'!$B:$B,'00 PDC SP'!$F193,'00 Alimenta'!E:E)","v":161597.98000000001},{"$f":"SUMIF('00 Alimenta'!$B:$B,'00 PDC SP'!$F193,'00 Alimenta'!F:F)","v":186310.75},{"$f":"SUMIF('00 Alimenta'!$B:$B,'00 PDC SP'!$F193,'00 Alimenta'!G:G)","v":128586.02},{"$f":"SUMIF('00 Alimenta'!$B:$B,'00 PDC SP'!$F193,'00 Alimenta'!H:H)","v":238832},{"$f":"SUMIF('00 Alimenta'!$B:$B,'00 PDC SP'!$F193,'00 Alimenta'!I:I)","v":210160.77},157257.25000000003]
["ABA600FE","AB","ABA600",27,"FE","0102021602","Fatture da emettere v/Aziende Sanitarie Pubbliche Extraregione",{"$f":"SUMIF('00 Alimenta'!$B:$B,'00 PDC SP'!$F194,'00 Alimenta'!D:D)","v":47833.03},{"$f":"SUMIF('00 Alimenta'!$B:$B,'00 PDC SP'!$F194,'00 Alimenta'!E:E)","v":85649.52},{"$f":"SUMIF('00 Alimenta'!$B:$B,'00 PDC SP'!$F194,'00 Alimenta'!F:F)","v":47833.03},{"$f":"SUMIF('00 Alimenta'!$B:$B,'00 PDC SP'!$F194,'00 Alimenta'!G:G)","v":85649.52},{"$f":"SUMIF('00 Alimenta'!$B:$B,'00 PDC SP'!$F194,'00 Alimenta'!H:H)","v":44097.25},{"$f":"SUMIF('00 Alimenta'!$B:$B,'00 PDC SP'!$F194,'00 Alimenta'!I:I)","v":85649.52},44097.25]
["ABA620CR","AB","ABA620",28,"CR","0102021701","Crediti v/ARTA",{"$f":"SUMIF('00 Alimenta'!$B:$B,'00 PDC SP'!$F195,'00 Alimenta'!D:D)","v":5931.31},{"$f":"SUMIF('00 Alimenta'!$B:$B,'00 PDC SP'!$F195,'00 Alimenta'!E:E)","v":0},{"$f":"SUMIF('00 Alimenta'!$B:$B,'00 PDC SP'!$F195,'00 Alimenta'!F:F)","v":0},{"$f":"SUMIF('00 Alimenta'!$B:$B,'00 PDC SP'!$F195,'00 Alimenta'!G:G)","v":5931.31},{"$f":"SUMIF('00 Alimenta'!$B:$B,'00 PDC SP'!$F195,'00 Alimenta'!H:H)","v":0},{"$f":"SUMIF('00 Alimenta'!$B:$B,'00 PDC SP'!$F195,'00 Alimenta'!I:I)","v":0},5931.31]
["ABA620FE","AB","ABA620",28,"FE","0102021702","Fatture da emettere v/ARTA",{"$f":"SUMIF('00 Alimenta'!$B:$B,'00 PDC SP'!$F196,'00 Alimenta'!D:D)","v":0},{"$f":"SUMIF('00 Alimenta'!$B:$B,'00 PDC SP'!$F196,'00 Alimenta'!E:E)","v":0},{"$f":"SUMIF('00 Alimenta'!$B:$B,'00 PDC SP'!$F196,'00 Alimenta'!F:F)","v":0},{"$f":"SUMIF('00 Alimenta'!$B:$B,'00 PDC SP'!$F196,'00 Alimenta'!G:G)","v":0},{"$f":"SUMIF('00 Alimenta'!$B:$B,'00 PDC SP'!$F196,'00 Alimenta'!H:H)","v":0},{"$f":"SUMIF('00 Alimenta'!$B:$B,'00 PDC SP'!$F196,'00 Alimenta'!I:I)","v":0},0]
["ABA620CR","AB","ABA620",28,"CR","0102021703","Crediti v/Società controllate e collegate (enti regionali)",{"$f":"SUMIF('00 Alimenta'!$B:$B,'00 PDC SP'!$F197,'00 Alimenta'!D:D)","v":0},{"$f":"SUMIF('00 Alimenta'!$B:$B,'00 PDC SP'!$F197,'00 Alimenta'!E:E)","v":0},{"$f":"SUMIF('00 Alimenta'!$B:$B,'00 PDC SP'!$F197,'00 Alimenta'!F:F)","v":0},{"$f":"SUMIF('00 Alimenta'!$B:$B,'00 PDC SP'!$F197,'00 Alimenta'!G:G)","v":0},{"$f":"SUMIF('00 Alimenta'!$B:$B,'00 PDC SP'!$F197,'00 Alimenta'!H:H)","v":0},{"$f":"SUMIF('00 Alimenta'!$B:$B,'00 PDC SP'!$F197,'00 Alimenta'!I:I)","v":0},0]
["ABA620FE","AB","ABA620",28,"FE","0102021704","Fatture da emetterev/Società controllate e collegate",{"$f":"SUMIF('00 Alimenta'!$B:$B,'00 PDC SP'!$F198,'00 Alimenta'!D:D)","v":0},{"$f":"SUMIF('00 Alimenta'!$B:$B,'00 PDC SP'!$F198,'00 Alimenta'!E:E)","v":0},{"$f":"SUMIF('00 Alimenta'!$B:$B,'00 PDC SP'!$F198,'00 Alimenta'!F:F)","v":0},{"$f":"SUMIF('00 Alimenta'!$B:$B,'00 PDC SP'!$F198,'00 Alimenta'!G:G)","v":0},{"$f":"SUMIF('00 Alimenta'!$B:$B,'00 PDC SP'!$F198,'00 Alimenta'!H:H)","v":0},{"$f":"SUMIF('00 Alimenta'!$B:$B,'00 PDC SP'!$F198,'00 Alimenta'!I:I)","v":0},0]
["ABA620CR","AB","ABA620",28,"CR","0102021705","Crediti v/enti regionali",{"$f":"SUMIF('00 Alimenta'!$B:$B,'00 PDC SP'!$F199,'00 Alimenta'!D:D)","v":0},{"$f":"SUMIF('00 Alimenta'!$B:$B,'00 PDC SP'!$F199,'00 Alimenta'!E:E)","v":0},{"$f":"SUMIF('00 Alimenta'!$B:$B,'00 PDC SP'!$F199,'00 Alimenta'!F:F)","v":0},{"$f":"SUMIF('00 Alimenta'!$B:$B,'00 PDC SP'!$F199,'00 Alimenta'!G:G)","v":0},{"$f":"SUMIF('00 Alimenta'!$B:$B,'00 PDC SP'!$F199,'00 Alimenta'!H:H)","v":0},{"$f":"SUMIF('00 Alimenta'!$B:$B,'00 PDC SP'!$F199,'00 Alimenta'!I:I)","v":0},0]
[{"$f":"IF(E200=\"\",C200,C200&E200)","v":"ABA620FE"},{"$f":"LEFT(C200,2)","v":"AB"},"ABA620",28,"FE","0102021706","Fatture da emettere v/enti regionali",{"$f":"SUMIF('00 Alimenta'!$B:$B,'00 PDC SP'!$F200,'00 Alimenta'!D:D)","v":0},{"$f":"SUMIF('00 Alimenta'!$B:$B,'00 PDC SP'!$F200,'00 Alimenta'!E:E)","v":0},{"$f":"SUMIF('00 Alimenta'!$B:$B,'00 PDC SP'!$F200,'00 Alimenta'!F:F)","v":0},{"$f":"SUMIF('00 Alimenta'!$B:$B,'00 PDC SP'!$F200,'00 Alimenta'!G:G)","v":0},{"$f":"SUMIF('00 Alimenta'!$B:$B,'00 PDC SP'!$F200,'00 Alimenta'!H:H)","v":0},{"$f":"SUMIF('00 Alimenta'!$B:$B,'00 PDC SP'!$F200,'00 Alimenta'!I:I)","v":0},{"$f":"K200+L200-M200","v":0}]
["ABA630CR","AB","ABA630",28,"CR","0102021801","Crediti v/sperimentazioni gestionali",{"$f":"SUMIF('00 Alimenta'!$B:$B,'00 PDC SP'!$F201,'00 Alimenta'!D:D)","v":0},{"$f":"SUMIF('00 Alimenta'!$B:$B,'00 PDC SP'!$F201,'00 Alimenta'!E:E)","v":0},{"$f":"SUMIF('00 Alimenta'!$B:$B,'00 PDC SP'!$F201,'00 Alimenta'!F:F)","v":0},{"$f":"SUMIF('00 Alimenta'!$B:$B,'00 PDC SP'!$F201,'00 Alimenta'!G:G)","v":0},{"$f":"SUMIF('00 Alimenta'!$B:$B,'00 PDC SP'!$F201,'00 Alimenta'!H:H)","v":0},{"$f":"SUMIF('00 Alimenta'!$B:$B,'00 PDC SP'!$F201,'00 Alimenta'!I:I)","v":0},0]
["ABA630FE","AB","ABA630",28,"FE","0102021802","Fatture da emettere v/sperimentazioni gestionali",{"$f":"SUMIF('00 Alimenta'!$B:$B,'00 PDC SP'!$F202,'00 Alimenta'!D:D)","v":0},{"$f":"SUMIF('00 Alimenta'!$B:$B,'00 PDC SP'!$F202,'00 Alimenta'!E:E)","v":0},{"$f":"SUMIF('00 Alimenta'!$B:$B,'00 PDC SP'!$F202,'00 Alimenta'!F:F)","v":0},{"$f":"SUMIF('00 Alimenta'!$B:$B,'00 PDC SP'!$F202,'00 Alimenta'!G:G)","v":0},{"$f":"SUMIF('00 Alimenta'!$B:$B,'00 PDC SP'!$F202,'00 Alimenta'!H:H)","v":0},{"$f":"SUMIF('00 Alimenta'!$B:$B,'00 PDC SP'!$F202,'00 Alimenta'!I:I)","v":0},0]
["ABA640CR","AB","ABA640",28,"CR","0102021901","Crediti v/altre partecipate",{"$f":"SUMIF('00 Alimenta'!$B:$B,'00 PDC SP'!$F203,'00 Alimenta'!D:D)","v":0},{"$f":"SUMIF('00 Alimenta'!$B:$B,'00 PDC SP'!$F203,'00 Alimenta'!E:E)","v":0},{"$f":"SUMIF('00 Alimenta'!$B:$B,'00 PDC SP'!$F203,'00 Alimenta'!F:F)","v":0},{"$f":"SUMIF('00 Alimenta'!$B:$B,'00 PDC SP'!$F203,'00 Alimenta'!G:G)","v":0},{"$f":"SUMIF('00 Alimenta'!$B:$B,'00 PDC SP'!$F203,'00 Alimenta'!H:H)","v":0},{"$f":"SUMIF('00 Alimenta'!$B:$B,'00 PDC SP'!$F203,'00 Alimenta'!I:I)","v":0},0]
["ABA640FE","AB","ABA640",28,"FE","0102021902","Fatture da emettere v/altre partecipate",{"$f":"SUMIF('00 Alimenta'!$B:$B,'00 PDC SP'!$F204,'00 Alimenta'!D:D)","v":0},{"$f":"SUMIF('00 Alimenta'!$B:$B,'00 PDC SP'!$F204,'00 Alimenta'!E:E)","v":0},{"$f":"SUMIF('00 Alimenta'!$B:$B,'00 PDC SP'!$F204,'00 Alimenta'!F:F)","v":0},{"$f":"SUMIF('00 Alimenta'!$B:$B,'00 PDC SP'!$F204,'00 Alimenta'!G:G)","v":0},{"$f":"SUMIF('00 Alimenta'!$B:$B,'00 PDC SP'!$F204,'00 Alimenta'!H:H)","v":0},{"$f":"SUMIF('00 Alimenta'!$B:$B,'00 PDC SP'!$F204,'00 Alimenta'!I:I)","v":0},0]
["ABA650CR","AB","ABA650",29,"CR","0102022001","Erario c/Ires",{"$f":"SUMIF('00 Alimenta'!$B:$B,'00 PDC SP'!$F205,'00 Alimenta'!D:D)","v":236},{"$f":"SUMIF('00 Alimenta'!$B:$B,'00 PDC SP'!$F205,'00 Alimenta'!E:E)","v":0},{"$f":"SUMIF('00 Alimenta'!$B:$B,'00 PDC SP'!$F205,'00 Alimenta'!F:F)","v":236},{"$f":"SUMIF('00 Alimenta'!$B:$B,'00 PDC SP'!$F205,'00 Alimenta'!G:G)","v":0},{"$f":"SUMIF('00 Alimenta'!$B:$B,'00 PDC SP'!$F205,'00 Alimenta'!H:H)","v":81792},{"$f":"SUMIF('00 Alimenta'!$B:$B,'00 PDC SP'!$F205,'00 Alimenta'!I:I)","v":81792},0]
["ABA650CR","AB","ABA650",29,"CR","0102022002","Erario c/Ires per acconti versati",{"$f":"SUMIF('00 Alimenta'!$B:$B,'00 PDC SP'!$F206,'00 Alimenta'!D:D)","v":0},{"$f":"SUMIF('00 Alimenta'!$B:$B,'00 PDC SP'!$F206,'00 Alimenta'!E:E)","v":490066},{"$f":"SUMIF('00 Alimenta'!$B:$B,'00 PDC SP'!$F206,'00 Alimenta'!F:F)","v":490066},{"$f":"SUMIF('00 Alimenta'!$B:$B,'00 PDC SP'!$F206,'00 Alimenta'!G:G)","v":0},{"$f":"SUMIF('00 Alimenta'!$B:$B,'00 PDC SP'!$F206,'00 Alimenta'!H:H)","v":408274},{"$f":"SUMIF('00 Alimenta'!$B:$B,'00 PDC SP'!$F206,'00 Alimenta'!I:I)","v":408274},0]
["ABA650CR","AB","ABA650",29,"CR","0102022003","Erario c/ritenute",{"$f":"SUMIF('00 Alimenta'!$B:$B,'00 PDC SP'!$F207,'00 Alimenta'!D:D)","v":133.94999999999999},{"$f":"SUMIF('00 Alimenta'!$B:$B,'00 PDC SP'!$F207,'00 Alimenta'!E:E)","v":6.45},{"$f":"SUMIF('00 Alimenta'!$B:$B,'00 PDC SP'!$F207,'00 Alimenta'!F:F)","v":140.4},{"$f":"SUMIF('00 Alimenta'!$B:$B,'00 PDC SP'!$F207,'00 Alimenta'!G:G)","v":0},{"$f":"SUMIF('00 Alimenta'!$B:$B,'00 PDC SP'!$F207,'00 Alimenta'!H:H)","v":80.5},{"$f":"SUMIF('00 Alimenta'!$B:$B,'00 PDC SP'!$F207,'00 Alimenta'!I:I)","v":0},80.5]
["ABA650CR","AB","ABA650",29,"CR","0102022004","Erario c/Iva in sospensione su fatture di acquisto",{"$f":"SUMIF('00 Alimenta'!$B:$B,'00 PDC SP'!$F208,'00 Alimenta'!D:D)","v":0},{"$f":"SUMIF('00 Alimenta'!$B:$B,'00 PDC SP'!$F208,'00 Alimenta'!E:E)","v":0},{"$f":"SUMIF('00 Alimenta'!$B:$B,'00 PDC SP'!$F208,'00 Alimenta'!F:F)","v":0},{"$f":"SUMIF('00 Alimenta'!$B:$B,'00 PDC SP'!$F208,'00 Alimenta'!G:G)","v":0},{"$f":"SUMIF('00 Alimenta'!$B:$B,'00 PDC SP'!$F208,'00 Alimenta'!H:H)","v":0},{"$f":"SUMIF('00 Alimenta'!$B:$B,'00 PDC SP'!$F208,'00 Alimenta'!I:I)","v":0},0]
["ABA650CR","AB","ABA650",29,"CR","0102022005","Erario c/Iva per acconti versati",{"$f":"SUMIF('00 Alimenta'!$B:$B,'00 PDC SP'!$F209,'00 Alimenta'!D:D)","v":10317},{"$f":"SUMIF('00 Alimenta'!$B:$B,'00 PDC SP'!$F209,'00 Alimenta'!E:E)","v":6806},{"$f":"SUMIF('00 Alimenta'!$B:$B,'00 PDC SP'!$F209,'00 Alimenta'!F:F)","v":10209},{"$f":"SUMIF('00 Alimenta'!$B:$B,'00 PDC SP'!$F209,'00 Alimenta'!G:G)","v":6914},{"$f":"SUMIF('00 Alimenta'!$B:$B,'00 PDC SP'!$F209,'00 Alimenta'!H:H)","v":15421},{"$f":"SUMIF('00 Alimenta'!$B:$B,'00 PDC SP'!$F209,'00 Alimenta'!I:I)","v":6806},15529]
["ABA650CR","AB","ABA650",29,"CR","0102022006","Erario c/Iva chiesta a rimborso",{"$f":"SUMIF('00 Alimenta'!$B:$B,'00 PDC SP'!$F210,'00 Alimenta'!D:D)","v":1295.04},{"$f":"SUMIF('00 Alimenta'!$B:$B,'00 PDC SP'!$F210,'00 Alimenta'!E:E)","v":0},{"$f":"SUMIF('00 Alimenta'!$B:$B,'00 PDC SP'!$F210,'00 Alimenta'!F:F)","v":0},{"$f":"SUMIF('00 Alimenta'!$B:$B,'00 PDC SP'!$F210,'00 Alimenta'!G:G)","v":1295.04},{"$f":"SUMIF('00 Alimenta'!$B:$B,'00 PDC SP'!$F210,'00 Alimenta'!H:H)","v":0},{"$f":"SUMIF('00 Alimenta'!$B:$B,'00 PDC SP'!$F210,'00 Alimenta'!I:I)","v":0},1295.04]
["ABA650CR","AB","ABA650",29,"CR","0102022007","Credito verso Erario per imposte anticipate",{"$f":"SUMIF('00 Alimenta'!$B:$B,'00 PDC SP'!$F211,'00 Alimenta'!D:D)","v":0},{"$f":"SUMIF('00 Alimenta'!$B:$B,'00 PDC SP'!$F211,'00 Alimenta'!E:E)","v":0},{"$f":"SUMIF('00 Alimenta'!$B:$B,'00 PDC SP'!$F211,'00 Alimenta'!F:F)","v":0},{"$f":"SUMIF('00 Alimenta'!$B:$B,'00 PDC SP'!$F211,'00 Alimenta'!G:G)","v":0},{"$f":"SUMIF('00 Alimenta'!$B:$B,'00 PDC SP'!$F211,'00 Alimenta'!H:H)","v":0},{"$f":"SUMIF('00 Alimenta'!$B:$B,'00 PDC SP'!$F211,'00 Alimenta'!I:I)","v":0},0]
["ABA650CR","AB","ABA650",29,"CR","0102022008","Erario c/IRAP per acconti versati",{"$f":"SUMIF('00 Alimenta'!$B:$B,'00 PDC SP'!$F212,'00 Alimenta'!D:D)","v":0},{"$f":"SUMIF('00 Alimenta'!$B:$B,'00 PDC SP'!$F212,'00 Alimenta'!E:E)","v":0},{"$f":"SUMIF('00 Alimenta'!$B:$B,'00 PDC SP'!$F212,'00 Alimenta'!F:F)","v":0},{"$f":"SUMIF('00 Alimenta'!$B:$B,'00 PDC SP'!$F212,'00 Alimenta'!G:G)","v":0},{"$f":"SUMIF('00 Alimenta'!$B:$B,'00 PDC SP'!$F212,'00 Alimenta'!H:H)","v":0},{"$f":"SUMIF('00 Alimenta'!$B:$B,'00 PDC SP'!$F212,'00 Alimenta'!I:I)","v":0},0]
["ABA650CR","AB","ABA650",29,"CR","0102022009","Credito per IRAP ",{"$f":"SUMIF('00 Alimenta'!$B:$B,'00 PDC SP'!$F213,'00 Alimenta'!D:D)","v":0},{"$f":"SUMIF('00 Alimenta'!$B:$B,'00 PDC SP'!$F213,'00 Alimenta'!E:E)","v":0},{"$f":"SUMIF('00 Alimenta'!$B:$B,'00 PDC SP'!$F213,'00 Alimenta'!F:F)","v":0},{"$f":"SUMIF('00 Alimenta'!$B:$B,'00 PDC SP'!$F213,'00 Alimenta'!G:G)","v":0},{"$f":"SUMIF('00 Alimenta'!$B:$B,'00 PDC SP'!$F213,'00 Alimenta'!H:H)","v":0},{"$f":"SUMIF('00 Alimenta'!$B:$B,'00 PDC SP'!$F213,'00 Alimenta'!I:I)","v":0},0]
["ABA650CR","AB","ABA650",29,"CR","0102022010","Crediti per imposte esercizi precedenti",{"$f":"SUMIF('00 Alimenta'!$B:$B,'00 PDC SP'!$F214,'00 Alimenta'!D:D)","v":0},{"$f":"SUMIF('00 Alimenta'!$B:$B,'00 PDC SP'!$F214,'00 Alimenta'!E:E)","v":0},{"$f":"SUMIF('00 Alimenta'!$B:$B,'00 PDC SP'!$F214,'00 Alimenta'!F:F)","v":0},{"$f":"SUMIF('00 Alimenta'!$B:$B,'00 PDC SP'!$F214,'00 Alimenta'!G:G)","v":0},{"$f":"SUMIF('00 Alimenta'!$B:$B,'00 PDC SP'!$F214,'00 Alimenta'!H:H)","v":0},{"$f":"SUMIF('00 Alimenta'!$B:$B,'00 PDC SP'!$F214,'00 Alimenta'!I:I)","v":0},0]
["ABA650CR","AB","ABA650",29,"CR","0102022011","Altri crediti verso Erario",{"$f":"SUMIF('00 Alimenta'!$B:$B,'00 PDC SP'!$F215,'00 Alimenta'!D:D)","v":25.17},{"$f":"SUMIF('00 Alimenta'!$B:$B,'00 PDC SP'!$F215,'00 Alimenta'!E:E)","v":0},{"$f":"SUMIF('00 Alimenta'!$B:$B,'00 PDC SP'!$F215,'00 Alimenta'!F:F)","v":25.17},{"$f":"SUMIF('00 Alimenta'!$B:$B,'00 PDC SP'!$F215,'00 Alimenta'!G:G)","v":0},{"$f":"SUMIF('00 Alimenta'!$B:$B,'00 PDC SP'!$F215,'00 Alimenta'!H:H)","v":0},{"$f":"SUMIF('00 Alimenta'!$B:$B,'00 PDC SP'!$F215,'00 Alimenta'!I:I)","v":0},0]
["ABA670CR","AB","ABA670",30,"CR","0102022101","Crediti v/clienti privati",{"$f":"SUMIF('00 Alimenta'!$B:$B,'00 PDC SP'!$F216,'00 Alimenta'!D:D)","v":4482065.57},{"$f":"SUMIF('00 Alimenta'!$B:$B,'00 PDC SP'!$F216,'00 Alimenta'!E:E)","v":7010533.3899999997},{"$f":"SUMIF('00 Alimenta'!$B:$B,'00 PDC SP'!$F216,'00 Alimenta'!F:F)","v":6901036.5700000003},{"$f":"SUMIF('00 Alimenta'!$B:$B,'00 PDC SP'!$F216,'00 Alimenta'!G:G)","v":4591562.3899999997},{"$f":"SUMIF('00 Alimenta'!$B:$B,'00 PDC SP'!$F216,'00 Alimenta'!H:H)","v":9715318.3399999999},{"$f":"SUMIF('00 Alimenta'!$B:$B,'00 PDC SP'!$F216,'00 Alimenta'!I:I)","v":9771870.0800000001},4535010.6500000004]
["ABA670FE","AB","ABA670",30,"FE","0102022102","Fatture da emettere v/clienti privati",{"$f":"SUMIF('00 Alimenta'!$B:$B,'00 PDC SP'!$F217,'00 Alimenta'!D:D)","v":434714.74},{"$f":"SUMIF('00 Alimenta'!$B:$B,'00 PDC SP'!$F217,'00 Alimenta'!E:E)","v":190888.78},{"$f":"SUMIF('00 Alimenta'!$B:$B,'00 PDC SP'!$F217,'00 Alimenta'!F:F)","v":434714.74},{"$f":"SUMIF('00 Alimenta'!$B:$B,'00 PDC SP'!$F217,'00 Alimenta'!G:G)","v":190888.78},{"$f":"SUMIF('00 Alimenta'!$B:$B,'00 PDC SP'!$F217,'00 Alimenta'!H:H)","v":608342.13},{"$f":"SUMIF('00 Alimenta'!$B:$B,'00 PDC SP'!$F217,'00 Alimenta'!I:I)","v":190888.78},608342.13]
["ABA670CR","AB","ABA670",30,"CR","0102022103","Crediti v/utenza per proventi da ticket",{"$f":"SUMIF('00 Alimenta'!$B:$B,'00 PDC SP'!$F218,'00 Alimenta'!D:D)","v":30761.84},{"$f":"SUMIF('00 Alimenta'!$B:$B,'00 PDC SP'!$F218,'00 Alimenta'!E:E)","v":8483861.8399999999},{"$f":"SUMIF('00 Alimenta'!$B:$B,'00 PDC SP'!$F218,'00 Alimenta'!F:F)","v":8476602.5},{"$f":"SUMIF('00 Alimenta'!$B:$B,'00 PDC SP'!$F218,'00 Alimenta'!G:G)","v":38021.18},{"$f":"SUMIF('00 Alimenta'!$B:$B,'00 PDC SP'!$F218,'00 Alimenta'!H:H)","v":8500208.6999999993},{"$f":"SUMIF('00 Alimenta'!$B:$B,'00 PDC SP'!$F218,'00 Alimenta'!I:I)","v":8524029.6500000004},14200.229999998584]
["ABA670FE","AB","ABA670",30,"FE","0102022104","Fatture da emettere v/utenza per proventi da ticket",{"$f":"SUMIF('00 Alimenta'!$B:$B,'00 PDC SP'!$F219,'00 Alimenta'!D:D)","v":0},{"$f":"SUMIF('00 Alimenta'!$B:$B,'00 PDC SP'!$F219,'00 Alimenta'!E:E)","v":0},{"$f":"SUMIF('00 Alimenta'!$B:$B,'00 PDC SP'!$F219,'00 Alimenta'!F:F)","v":0},{"$f":"SUMIF('00 Alimenta'!$B:$B,'00 PDC SP'!$F219,'00 Alimenta'!G:G)","v":0},{"$f":"SUMIF('00 Alimenta'!$B:$B,'00 PDC SP'!$F219,'00 Alimenta'!H:H)","v":0},{"$f":"SUMIF('00 Alimenta'!$B:$B,'00 PDC SP'!$F219,'00 Alimenta'!I:I)","v":0},0]
["ABA670CR","AB","ABA670",30,"CR","0102022105","Crediti v/clienti privati per anticipi mobilità attiva",{"$f":"SUMIF('00 Alimenta'!$B:$B,'00 PDC SP'!$F220,'00 Alimenta'!D:D)","v":0},{"$f":"SUMIF('00 Alimenta'!$B:$B,'00 PDC SP'!$F220,'00 Alimenta'!E:E)","v":0},{"$f":"SUMIF('00 Alimenta'!$B:$B,'00 PDC SP'!$F220,'00 Alimenta'!F:F)","v":0},{"$f":"SUMIF('00 Alimenta'!$B:$B,'00 PDC SP'!$F220,'00 Alimenta'!G:G)","v":0},{"$f":"SUMIF('00 Alimenta'!$B:$B,'00 PDC SP'!$F220,'00 Alimenta'!H:H)","v":0},{"$f":"SUMIF('00 Alimenta'!$B:$B,'00 PDC SP'!$F220,'00 Alimenta'!I:I)","v":0},0]
["ABA670FE","AB","ABA670",30,"FE","0102022106","Fatture da emettere v/clienti privati per anticipi mobilità attiva",{"$f":"SUMIF('00 Alimenta'!$B:$B,'00 PDC SP'!$F221,'00 Alimenta'!D:D)","v":0},{"$f":"SUMIF('00 Alimenta'!$B:$B,'00 PDC SP'!$F221,'00 Alimenta'!E:E)","v":0},{"$f":"SUMIF('00 Alimenta'!$B:$B,'00 PDC SP'!$F221,'00 Alimenta'!F:F)","v":0},{"$f":"SUMIF('00 Alimenta'!$B:$B,'00 PDC SP'!$F221,'00 Alimenta'!G:G)","v":0},{"$f":"SUMIF('00 Alimenta'!$B:$B,'00 PDC SP'!$F221,'00 Alimenta'!H:H)","v":0},{"$f":"SUMIF('00 Alimenta'!$B:$B,'00 PDC SP'!$F221,'00 Alimenta'!I:I)","v":0},0]
["ABA670CR","AB","ABA670",30,"CR","0102022107","Crediti v/società controllate e collegate (clienti privati)",{"$f":"SUMIF('00 Alimenta'!$B:$B,'00 PDC SP'!$F222,'00 Alimenta'!D:D)","v":0},{"$f":"SUMIF('00 Alimenta'!$B:$B,'00 PDC SP'!$F222,'00 Alimenta'!E:E)","v":0},{"$f":"SUMIF('00 Alimenta'!$B:$B,'00 PDC SP'!$F222,'00 Alimenta'!F:F)","v":0},{"$f":"SUMIF('00 Alimenta'!$B:$B,'00 PDC SP'!$F222,'00 Alimenta'!G:G)","v":0},{"$f":"SUMIF('00 Alimenta'!$B:$B,'00 PDC SP'!$F222,'00 Alimenta'!H:H)","v":0},{"$f":"SUMIF('00 Alimenta'!$B:$B,'00 PDC SP'!$F222,'00 Alimenta'!I:I)","v":0},0]
["ABA670FE","AB","ABA670",30,"FE","0102022108","Fatture da emettere v/clienti privati per anticipi mobilità attiva",{"$f":"SUMIF('00 Alimenta'!$B:$B,'00 PDC SP'!$F223,'00 Alimenta'!D:D)","v":0},{"$f":"SUMIF('00 Alimenta'!$B:$B,'00 PDC SP'!$F223,'00 Alimenta'!E:E)","v":0},{"$f":"SUMIF('00 Alimenta'!$B:$B,'00 PDC SP'!$F223,'00 Alimenta'!F:F)","v":0},{"$f":"SUMIF('00 Alimenta'!$B:$B,'00 PDC SP'!$F223,'00 Alimenta'!G:G)","v":0},{"$f":"SUMIF('00 Alimenta'!$B:$B,'00 PDC SP'!$F223,'00 Alimenta'!H:H)","v":0},{"$f":"SUMIF('00 Alimenta'!$B:$B,'00 PDC SP'!$F223,'00 Alimenta'!I:I)","v":0},0]
["ABA670CR","AB","ABA670",30,"CR","0102022109","Crediti v/dipendenti",{"$f":"SUMIF('00 Alimenta'!$B:$B,'00 PDC SP'!$F224,'00 Alimenta'!D:D)","v":112928.29},{"$f":"SUMIF('00 Alimenta'!$B:$B,'00 PDC SP'!$F224,'00 Alimenta'!E:E)","v":168312.19},{"$f":"SUMIF('00 Alimenta'!$B:$B,'00 PDC SP'!$F224,'00 Alimenta'!F:F)","v":203256.06},{"$f":"SUMIF('00 Alimenta'!$B:$B,'00 PDC SP'!$F224,'00 Alimenta'!G:G)","v":77984.42},{"$f":"SUMIF('00 Alimenta'!$B:$B,'00 PDC SP'!$F224,'00 Alimenta'!H:H)","v":103264.73},{"$f":"SUMIF('00 Alimenta'!$B:$B,'00 PDC SP'!$F224,'00 Alimenta'!I:I)","v":179303.71},1945.4400000000023]
["ABA670CR","AB","ABA670",30,"CR","0102022110","Acconti verso erogatori (privati accreditati e convenzionati) di prestazioni sanitarie",{"$f":"SUMIF('00 Alimenta'!$B:$B,'00 PDC SP'!$F225,'00 Alimenta'!D:D)","v":0},{"$f":"SUMIF('00 Alimenta'!$B:$B,'00 PDC SP'!$F225,'00 Alimenta'!E:E)","v":0},{"$f":"SUMIF('00 Alimenta'!$B:$B,'00 PDC SP'!$F225,'00 Alimenta'!F:F)","v":0},{"$f":"SUMIF('00 Alimenta'!$B:$B,'00 PDC SP'!$F225,'00 Alimenta'!G:G)","v":0},{"$f":"SUMIF('00 Alimenta'!$B:$B,'00 PDC SP'!$F225,'00 Alimenta'!H:H)","v":0},{"$f":"SUMIF('00 Alimenta'!$B:$B,'00 PDC SP'!$F225,'00 Alimenta'!I:I)","v":0},0]
["ABA670CR","AB","ABA670",30,"CR","0102022111","Acconti verso altri fornitori",{"$f":"SUMIF('00 Alimenta'!$B:$B,'00 PDC SP'!$F226,'00 Alimenta'!D:D)","v":2309},{"$f":"SUMIF('00 Alimenta'!$B:$B,'00 PDC SP'!$F226,'00 Alimenta'!E:E)","v":0},{"$f":"SUMIF('00 Alimenta'!$B:$B,'00 PDC SP'!$F226,'00 Alimenta'!F:F)","v":2309},{"$f":"SUMIF('00 Alimenta'!$B:$B,'00 PDC SP'!$F226,'00 Alimenta'!G:G)","v":0},{"$f":"SUMIF('00 Alimenta'!$B:$B,'00 PDC SP'!$F226,'00 Alimenta'!H:H)","v":432985.28},{"$f":"SUMIF('00 Alimenta'!$B:$B,'00 PDC SP'!$F226,'00 Alimenta'!I:I)","v":432985.28},0]
["ABA680CR","AB","ABA680",30,"CR","0102022201","Crediti v/gestioni liquidatorie",{"$f":"SUMIF('00 Alimenta'!$B:$B,'00 PDC SP'!$F227,'00 Alimenta'!D:D)","v":0},{"$f":"SUMIF('00 Alimenta'!$B:$B,'00 PDC SP'!$F227,'00 Alimenta'!E:E)","v":0},{"$f":"SUMIF('00 Alimenta'!$B:$B,'00 PDC SP'!$F227,'00 Alimenta'!F:F)","v":0},{"$f":"SUMIF('00 Alimenta'!$B:$B,'00 PDC SP'!$F227,'00 Alimenta'!G:G)","v":0},{"$f":"SUMIF('00 Alimenta'!$B:$B,'00 PDC SP'!$F227,'00 Alimenta'!H:H)","v":0},{"$f":"SUMIF('00 Alimenta'!$B:$B,'00 PDC SP'!$F227,'00 Alimenta'!I:I)","v":0},0]
["ABA680FE","AB","ABA680",30,"FE","0102022202","Fatture da emettere v/gestioni liquidatorie",{"$f":"SUMIF('00 Alimenta'!$B:$B,'00 PDC SP'!$F228,'00 Alimenta'!D:D)","v":0},{"$f":"SUMIF('00 Alimenta'!$B:$B,'00 PDC SP'!$F228,'00 Alimenta'!E:E)","v":0},{"$f":"SUMIF('00 Alimenta'!$B:$B,'00 PDC SP'!$F228,'00 Alimenta'!F:F)","v":0},{"$f":"SUMIF('00 Alimenta'!$B:$B,'00 PDC SP'!$F228,'00 Alimenta'!G:G)","v":0},{"$f":"SUMIF('00 Alimenta'!$B:$B,'00 PDC SP'!$F228,'00 Alimenta'!H:H)","v":0},{"$f":"SUMIF('00 Alimenta'!$B:$B,'00 PDC SP'!$F228,'00 Alimenta'!I:I)","v":0},0]
["ABA690CR","AB","ABA690",30,"CR","0102022301","Crediti v/altri soggetti pubblici",{"$f":"SUMIF('00 Alimenta'!$B:$B,'00 PDC SP'!$F229,'00 Alimenta'!D:D)","v":377131.4},{"$f":"SUMIF('00 Alimenta'!$B:$B,'00 PDC SP'!$F229,'00 Alimenta'!E:E)","v":421422.51},{"$f":"SUMIF('00 Alimenta'!$B:$B,'00 PDC SP'!$F229,'00 Alimenta'!F:F)","v":404603.36},{"$f":"SUMIF('00 Alimenta'!$B:$B,'00 PDC SP'!$F229,'00 Alimenta'!G:G)","v":393950.55},{"$f":"SUMIF('00 Alimenta'!$B:$B,'00 PDC SP'!$F229,'00 Alimenta'!H:H)","v":288535.49},{"$f":"SUMIF('00 Alimenta'!$B:$B,'00 PDC SP'!$F229,'00 Alimenta'!I:I)","v":464939.33},217546.71000000002]
["ABA690FE","AB","ABA690",30,"FE","0102022302","Fatture da emettere v/altri soggetti pubblici",{"$f":"SUMIF('00 Alimenta'!$B:$B,'00 PDC SP'!$F230,'00 Alimenta'!D:D)","v":75.28},{"$f":"SUMIF('00 Alimenta'!$B:$B,'00 PDC SP'!$F230,'00 Alimenta'!E:E)","v":585.44000000000005},{"$f":"SUMIF('00 Alimenta'!$B:$B,'00 PDC SP'!$F230,'00 Alimenta'!F:F)","v":75.28},{"$f":"SUMIF('00 Alimenta'!$B:$B,'00 PDC SP'!$F230,'00 Alimenta'!G:G)","v":585.44000000000005},{"$f":"SUMIF('00 Alimenta'!$B:$B,'00 PDC SP'!$F230,'00 Alimenta'!H:H)","v":0},{"$f":"SUMIF('00 Alimenta'!$B:$B,'00 PDC SP'!$F230,'00 Alimenta'!I:I)","v":585.44000000000005},0]
["ABA700CR","AB","ABA700",30,"CR","0102022401","Crediti v/altri soggetti pubblici per ricerca",{"$f":"SUMIF('00 Alimenta'!$B:$B,'00 PDC SP'!$F231,'00 Alimenta'!D:D)","v":0},{"$f":"SUMIF('00 Alimenta'!$B:$B,'00 PDC SP'!$F231,'00 Alimenta'!E:E)","v":0},{"$f":"SUMIF('00 Alimenta'!$B:$B,'00 PDC SP'!$F231,'00 Alimenta'!F:F)","v":0},{"$f":"SUMIF('00 Alimenta'!$B:$B,'00 PDC SP'!$F231,'00 Alimenta'!G:G)","v":0},{"$f":"SUMIF('00 Alimenta'!$B:$B,'00 PDC SP'!$F231,'00 Alimenta'!H:H)","v":0},{"$f":"SUMIF('00 Alimenta'!$B:$B,'00 PDC SP'!$F231,'00 Alimenta'!I:I)","v":0},0]
["ABA700FE","AB","ABA700",30,"FE","0102022402","Fatture da emettere v/altri soggetti pubblici per ricerca",{"$f":"SUMIF('00 Alimenta'!$B:$B,'00 PDC SP'!$F232,'00 Alimenta'!D:D)","v":0},{"$f":"SUMIF('00 Alimenta'!$B:$B,'00 PDC SP'!$F232,'00 Alimenta'!E:E)","v":0},{"$f":"SUMIF('00 Alimenta'!$B:$B,'00 PDC SP'!$F232,'00 Alimenta'!F:F)","v":0},{"$f":"SUMIF('00 Alimenta'!$B:$B,'00 PDC SP'!$F232,'00 Alimenta'!G:G)","v":0},{"$f":"SUMIF('00 Alimenta'!$B:$B,'00 PDC SP'!$F232,'00 Alimenta'!H:H)","v":0},{"$f":"SUMIF('00 Alimenta'!$B:$B,'00 PDC SP'!$F232,'00 Alimenta'!I:I)","v":0},0]
["ABA710CR","AB","ABA710",30,"CR","0102022501","Altri Crediti diversi",{"$f":"SUMIF('00 Alimenta'!$B:$B,'00 PDC SP'!$F233,'00 Alimenta'!D:D)","v":881137.05},{"$f":"SUMIF('00 Alimenta'!$B:$B,'00 PDC SP'!$F233,'00 Alimenta'!E:E)","v":1921398.5},{"$f":"SUMIF('00 Alimenta'!$B:$B,'00 PDC SP'!$F233,'00 Alimenta'!F:F)","v":1616680.59},{"$f":"SUMIF('00 Alimenta'!$B:$B,'00 PDC SP'!$F233,'00 Alimenta'!G:G)","v":1185854.96},{"$f":"SUMIF('00 Alimenta'!$B:$B,'00 PDC SP'!$F233,'00 Alimenta'!H:H)","v":739010.91},{"$f":"SUMIF('00 Alimenta'!$B:$B,'00 PDC SP'!$F233,'00 Alimenta'!I:I)","v":1059463.17},865402.70000000019]
["ABA710FE","AB","ABA710",30,"FE","0102022502","Fatture da emettere v/Altri Crediti diversi",{"$f":"SUMIF('00 Alimenta'!$B:$B,'00 PDC SP'!$F234,'00 Alimenta'!D:D)","v":0},{"$f":"SUMIF('00 Alimenta'!$B:$B,'00 PDC SP'!$F234,'00 Alimenta'!E:E)","v":0},{"$f":"SUMIF('00 Alimenta'!$B:$B,'00 PDC SP'!$F234,'00 Alimenta'!F:F)","v":0},{"$f":"SUMIF('00 Alimenta'!$B:$B,'00 PDC SP'!$F234,'00 Alimenta'!G:G)","v":0},{"$f":"SUMIF('00 Alimenta'!$B:$B,'00 PDC SP'!$F234,'00 Alimenta'!H:H)","v":0},{"$f":"SUMIF('00 Alimenta'!$B:$B,'00 PDC SP'!$F234,'00 Alimenta'!I:I)","v":0},0]
["ABA710CR","AB","ABA710",30,"CR","0102022503","Acconti a farmacie",{"$f":"SUMIF('00 Alimenta'!$B:$B,'00 PDC SP'!$F235,'00 Alimenta'!D:D)","v":0},{"$f":"SUMIF('00 Alimenta'!$B:$B,'00 PDC SP'!$F235,'00 Alimenta'!E:E)","v":0},{"$f":"SUMIF('00 Alimenta'!$B:$B,'00 PDC SP'!$F235,'00 Alimenta'!F:F)","v":0},{"$f":"SUMIF('00 Alimenta'!$B:$B,'00 PDC SP'!$F235,'00 Alimenta'!G:G)","v":0},{"$f":"SUMIF('00 Alimenta'!$B:$B,'00 PDC SP'!$F235,'00 Alimenta'!H:H)","v":0},{"$f":"SUMIF('00 Alimenta'!$B:$B,'00 PDC SP'!$F235,'00 Alimenta'!I:I)","v":0},0]
["PDA090FR","PD","PDA090",12,"FR","0102022601","Note credito da ricevere verso Regione per mobilità passiva intraregionale",{"$f":"SUMIF('00 Alimenta'!$B:$B,'00 PDC SP'!$F236,'00 Alimenta'!D:D)","v":0},{"$f":"SUMIF('00 Alimenta'!$B:$B,'00 PDC SP'!$F236,'00 Alimenta'!E:E)","v":0},{"$f":"SUMIF('00 Alimenta'!$B:$B,'00 PDC SP'!$F236,'00 Alimenta'!F:F)","v":0},{"$f":"SUMIF('00 Alimenta'!$B:$B,'00 PDC SP'!$F236,'00 Alimenta'!G:G)","v":0},{"$f":"SUMIF('00 Alimenta'!$B:$B,'00 PDC SP'!$F236,'00 Alimenta'!H:H)","v":0},{"$f":"SUMIF('00 Alimenta'!$B:$B,'00 PDC SP'!$F236,'00 Alimenta'!I:I)","v":0},0]
["PDA100FR","PD","PDA100",12,"FR","0102022602","Note credito da ricevere verso Regione per mobilità passiva extraregionale",{"$f":"SUMIF('00 Alimenta'!$B:$B,'00 PDC SP'!$F237,'00 Alimenta'!D:D)","v":0},{"$f":"SUMIF('00 Alimenta'!$B:$B,'00 PDC SP'!$F237,'00 Alimenta'!E:E)","v":0},{"$f":"SUMIF('00 Alimenta'!$B:$B,'00 PDC SP'!$F237,'00 Alimenta'!F:F)","v":0},{"$f":"SUMIF('00 Alimenta'!$B:$B,'00 PDC SP'!$F237,'00 Alimenta'!G:G)","v":0},{"$f":"SUMIF('00 Alimenta'!$B:$B,'00 PDC SP'!$F237,'00 Alimenta'!H:H)","v":0},{"$f":"SUMIF('00 Alimenta'!$B:$B,'00 PDC SP'!$F237,'00 Alimenta'!I:I)","v":0},0]
["PDA120FR","PD","PDA120",12,"FR","0102022603","Note credito da ricevere Altri debiti v/Regione o Provincia Autonoma",{"$f":"SUMIF('00 Alimenta'!$B:$B,'00 PDC SP'!$F238,'00 Alimenta'!D:D)","v":0},{"$f":"SUMIF('00 Alimenta'!$B:$B,'00 PDC SP'!$F238,'00 Alimenta'!E:E)","v":0},{"$f":"SUMIF('00 Alimenta'!$B:$B,'00 PDC SP'!$F238,'00 Alimenta'!F:F)","v":0},{"$f":"SUMIF('00 Alimenta'!$B:$B,'00 PDC SP'!$F238,'00 Alimenta'!G:G)","v":0},{"$f":"SUMIF('00 Alimenta'!$B:$B,'00 PDC SP'!$F238,'00 Alimenta'!H:H)","v":0},{"$f":"SUMIF('00 Alimenta'!$B:$B,'00 PDC SP'!$F238,'00 Alimenta'!I:I)","v":0},0]
["PDA130FR","PD","PDA130",13,"FR","0102022604","Note credito da ricevere verso Comuni",{"$f":"SUMIF('00 Alimenta'!$B:$B,'00 PDC SP'!$F239,'00 Alimenta'!D:D)","v":0},{"$f":"SUMIF('00 Alimenta'!$B:$B,'00 PDC SP'!$F239,'00 Alimenta'!E:E)","v":0},{"$f":"SUMIF('00 Alimenta'!$B:$B,'00 PDC SP'!$F239,'00 Alimenta'!F:F)","v":0},{"$f":"SUMIF('00 Alimenta'!$B:$B,'00 PDC SP'!$F239,'00 Alimenta'!G:G)","v":0},{"$f":"SUMIF('00 Alimenta'!$B:$B,'00 PDC SP'!$F239,'00 Alimenta'!H:H)","v":0},{"$f":"SUMIF('00 Alimenta'!$B:$B,'00 PDC SP'!$F239,'00 Alimenta'!I:I)","v":0},0]
["PDA160FR","PD","PDA160",14,"FR","0102022605","Note di credito da ricevere verso ASL/AO/IRCCS della Regione",{"$f":"SUMIF('00 Alimenta'!$B:$B,'00 PDC SP'!$F240,'00 Alimenta'!D:D)","v":0},{"$f":"SUMIF('00 Alimenta'!$B:$B,'00 PDC SP'!$F240,'00 Alimenta'!E:E)","v":0},{"$f":"SUMIF('00 Alimenta'!$B:$B,'00 PDC SP'!$F240,'00 Alimenta'!F:F)","v":0},{"$f":"SUMIF('00 Alimenta'!$B:$B,'00 PDC SP'!$F240,'00 Alimenta'!G:G)","v":0},{"$f":"SUMIF('00 Alimenta'!$B:$B,'00 PDC SP'!$F240,'00 Alimenta'!H:H)","v":0},{"$f":"SUMIF('00 Alimenta'!$B:$B,'00 PDC SP'!$F240,'00 Alimenta'!I:I)","v":0},0]
["PDA160FR","PD","PDA160",14,"FR","0102022606","Note credito da ricevere v/ASL Avezzano Sulmona L'Aquila per quota FSR",{"$f":"SUMIF('00 Alimenta'!$B:$B,'00 PDC SP'!$F241,'00 Alimenta'!D:D)","v":0},{"$f":"SUMIF('00 Alimenta'!$B:$B,'00 PDC SP'!$F241,'00 Alimenta'!E:E)","v":0},{"$f":"SUMIF('00 Alimenta'!$B:$B,'00 PDC SP'!$F241,'00 Alimenta'!F:F)","v":0},{"$f":"SUMIF('00 Alimenta'!$B:$B,'00 PDC SP'!$F241,'00 Alimenta'!G:G)","v":0},{"$f":"SUMIF('00 Alimenta'!$B:$B,'00 PDC SP'!$F241,'00 Alimenta'!H:H)","v":0},{"$f":"SUMIF('00 Alimenta'!$B:$B,'00 PDC SP'!$F241,'00 Alimenta'!I:I)","v":0},0]
["PDA160FR","PD","PDA160",14,"FR","0102022607","Note credito da ricevere v/ASL Lanciano Vasto Chieti per quota FSR",{"$f":"SUMIF('00 Alimenta'!$B:$B,'00 PDC SP'!$F242,'00 Alimenta'!D:D)","v":0},{"$f":"SUMIF('00 Alimenta'!$B:$B,'00 PDC SP'!$F242,'00 Alimenta'!E:E)","v":0},{"$f":"SUMIF('00 Alimenta'!$B:$B,'00 PDC SP'!$F242,'00 Alimenta'!F:F)","v":0},{"$f":"SUMIF('00 Alimenta'!$B:$B,'00 PDC SP'!$F242,'00 Alimenta'!G:G)","v":0},{"$f":"SUMIF('00 Alimenta'!$B:$B,'00 PDC SP'!$F242,'00 Alimenta'!H:H)","v":0},{"$f":"SUMIF('00 Alimenta'!$B:$B,'00 PDC SP'!$F242,'00 Alimenta'!I:I)","v":0},0]
["PDA160FR","PD","PDA160",14,"FR","0102022608","Note credito da ricevere v/ASL Pescara per quota FSR",{"$f":"SUMIF('00 Alimenta'!$B:$B,'00 PDC SP'!$F243,'00 Alimenta'!D:D)","v":0},{"$f":"SUMIF('00 Alimenta'!$B:$B,'00 PDC SP'!$F243,'00 Alimenta'!E:E)","v":0},{"$f":"SUMIF('00 Alimenta'!$B:$B,'00 PDC SP'!$F243,'00 Alimenta'!F:F)","v":0},{"$f":"SUMIF('00 Alimenta'!$B:$B,'00 PDC SP'!$F243,'00 Alimenta'!G:G)","v":0},{"$f":"SUMIF('00 Alimenta'!$B:$B,'00 PDC SP'!$F243,'00 Alimenta'!H:H)","v":0},{"$f":"SUMIF('00 Alimenta'!$B:$B,'00 PDC SP'!$F243,'00 Alimenta'!I:I)","v":0},0]
["PDA160FR","PD","PDA160",14,"FR","0102022609","Note credito da ricevere v/ASL Teramo per quota FSR",{"$f":"SUMIF('00 Alimenta'!$B:$B,'00 PDC SP'!$F244,'00 Alimenta'!D:D)","v":0},{"$f":"SUMIF('00 Alimenta'!$B:$B,'00 PDC SP'!$F244,'00 Alimenta'!E:E)","v":0},{"$f":"SUMIF('00 Alimenta'!$B:$B,'00 PDC SP'!$F244,'00 Alimenta'!F:F)","v":0},{"$f":"SUMIF('00 Alimenta'!$B:$B,'00 PDC SP'!$F244,'00 Alimenta'!G:G)","v":0},{"$f":"SUMIF('00 Alimenta'!$B:$B,'00 PDC SP'!$F244,'00 Alimenta'!H:H)","v":0},{"$f":"SUMIF('00 Alimenta'!$B:$B,'00 PDC SP'!$F244,'00 Alimenta'!I:I)","v":0},0]
["PDA170FR","PD","PDA170",14,"FR","0102022610","Note credito da ricevere v/ASL Avezzano Sulmona L'Aquila per finanziamento sanitario aggiuntivo corrente LEA",{"$f":"SUMIF('00 Alimenta'!$B:$B,'00 PDC SP'!$F245,'00 Alimenta'!D:D)","v":0},{"$f":"SUMIF('00 Alimenta'!$B:$B,'00 PDC SP'!$F245,'00 Alimenta'!E:E)","v":0},{"$f":"SUMIF('00 Alimenta'!$B:$B,'00 PDC SP'!$F245,'00 Alimenta'!F:F)","v":0},{"$f":"SUMIF('00 Alimenta'!$B:$B,'00 PDC SP'!$F245,'00 Alimenta'!G:G)","v":0},{"$f":"SUMIF('00 Alimenta'!$B:$B,'00 PDC SP'!$F245,'00 Alimenta'!H:H)","v":0},{"$f":"SUMIF('00 Alimenta'!$B:$B,'00 PDC SP'!$F245,'00 Alimenta'!I:I)","v":0},0]
["PDA170FR","PD","PDA170",14,"FR","0102022611","Note credito da ricevere v/ASL Lanciano Vasto Chieti per finanziamento sanitario aggiuntivo corrente LEA",{"$f":"SUMIF('00 Alimenta'!$B:$B,'00 PDC SP'!$F246,'00 Alimenta'!D:D)","v":0},{"$f":"SUMIF('00 Alimenta'!$B:$B,'00 PDC SP'!$F246,'00 Alimenta'!E:E)","v":0},{"$f":"SUMIF('00 Alimenta'!$B:$B,'00 PDC SP'!$F246,'00 Alimenta'!F:F)","v":0},{"$f":"SUMIF('00 Alimenta'!$B:$B,'00 PDC SP'!$F246,'00 Alimenta'!G:G)","v":0},{"$f":"SUMIF('00 Alimenta'!$B:$B,'00 PDC SP'!$F246,'00 Alimenta'!H:H)","v":0},{"$f":"SUMIF('00 Alimenta'!$B:$B,'00 PDC SP'!$F246,'00 Alimenta'!I:I)","v":0},0]
["PDA170FR","PD","PDA170",14,"FR","0102022612","Note credito da ricevere v/ASL Pescara per finanziamento sanitario aggiuntivo corrente LEA",{"$f":"SUMIF('00 Alimenta'!$B:$B,'00 PDC SP'!$F247,'00 Alimenta'!D:D)","v":0},{"$f":"SUMIF('00 Alimenta'!$B:$B,'00 PDC SP'!$F247,'00 Alimenta'!E:E)","v":0},{"$f":"SUMIF('00 Alimenta'!$B:$B,'00 PDC SP'!$F247,'00 Alimenta'!F:F)","v":0},{"$f":"SUMIF('00 Alimenta'!$B:$B,'00 PDC SP'!$F247,'00 Alimenta'!G:G)","v":0},{"$f":"SUMIF('00 Alimenta'!$B:$B,'00 PDC SP'!$F247,'00 Alimenta'!H:H)","v":0},{"$f":"SUMIF('00 Alimenta'!$B:$B,'00 PDC SP'!$F247,'00 Alimenta'!I:I)","v":0},0]
["PDA170FR","PD","PDA170",14,"FR","0102022613","Note credito da ricevere v/ASL Teramo per finanziamento sanitario aggiuntivo corrente LEA",{"$f":"SUMIF('00 Alimenta'!$B:$B,'00 PDC SP'!$F248,'00 Alimenta'!D:D)","v":0},{"$f":"SUMIF('00 Alimenta'!$B:$B,'00 PDC SP'!$F248,'00 Alimenta'!E:E)","v":0},{"$f":"SUMIF('00 Alimenta'!$B:$B,'00 PDC SP'!$F248,'00 Alimenta'!F:F)","v":0},{"$f":"SUMIF('00 Alimenta'!$B:$B,'00 PDC SP'!$F248,'00 Alimenta'!G:G)","v":0},{"$f":"SUMIF('00 Alimenta'!$B:$B,'00 PDC SP'!$F248,'00 Alimenta'!H:H)","v":0},{"$f":"SUMIF('00 Alimenta'!$B:$B,'00 PDC SP'!$F248,'00 Alimenta'!I:I)","v":0},0]
["PDA180FR","PD","PDA180",14,"FR","0102022614","Note credito da ricevere v/ASL Avezzano Sulmona L'Aquila per finanziamento sanitario aggiuntivo corrente extra LEA",{"$f":"SUMIF('00 Alimenta'!$B:$B,'00 PDC SP'!$F249,'00 Alimenta'!D:D)","v":0},{"$f":"SUMIF('00 Alimenta'!$B:$B,'00 PDC SP'!$F249,'00 Alimenta'!E:E)","v":0},{"$f":"SUMIF('00 Alimenta'!$B:$B,'00 PDC SP'!$F249,'00 Alimenta'!F:F)","v":0},{"$f":"SUMIF('00 Alimenta'!$B:$B,'00 PDC SP'!$F249,'00 Alimenta'!G:G)","v":0},{"$f":"SUMIF('00 Alimenta'!$B:$B,'00 PDC SP'!$F249,'00 Alimenta'!H:H)","v":0},{"$f":"SUMIF('00 Alimenta'!$B:$B,'00 PDC SP'!$F249,'00 Alimenta'!I:I)","v":0},0]
["PDA180FR","PD","PDA180",14,"FR","0102022615","Note credito da ricevere v/ASL Lanciano Vasto Chieti per finanziamento sanitario aggiuntivo corrente extra LEA",{"$f":"SUMIF('00 Alimenta'!$B:$B,'00 PDC SP'!$F250,'00 Alimenta'!D:D)","v":0},{"$f":"SUMIF('00 Alimenta'!$B:$B,'00 PDC SP'!$F250,'00 Alimenta'!E:E)","v":0},{"$f":"SUMIF('00 Alimenta'!$B:$B,'00 PDC SP'!$F250,'00 Alimenta'!F:F)","v":0},{"$f":"SUMIF('00 Alimenta'!$B:$B,'00 PDC SP'!$F250,'00 Alimenta'!G:G)","v":0},{"$f":"SUMIF('00 Alimenta'!$B:$B,'00 PDC SP'!$F250,'00 Alimenta'!H:H)","v":0},{"$f":"SUMIF('00 Alimenta'!$B:$B,'00 PDC SP'!$F250,'00 Alimenta'!I:I)","v":0},0]
["PDA180FR","PD","PDA180",14,"FR","0102022616","Note credito da ricevere v/ASL Pescara per finanziamento sanitario aggiuntivo corrente extra LEA",{"$f":"SUMIF('00 Alimenta'!$B:$B,'00 PDC SP'!$F251,'00 Alimenta'!D:D)","v":0},{"$f":"SUMIF('00 Alimenta'!$B:$B,'00 PDC SP'!$F251,'00 Alimenta'!E:E)","v":0},{"$f":"SUMIF('00 Alimenta'!$B:$B,'00 PDC SP'!$F251,'00 Alimenta'!F:F)","v":0},{"$f":"SUMIF('00 Alimenta'!$B:$B,'00 PDC SP'!$F251,'00 Alimenta'!G:G)","v":0},{"$f":"SUMIF('00 Alimenta'!$B:$B,'00 PDC SP'!$F251,'00 Alimenta'!H:H)","v":0},{"$f":"SUMIF('00 Alimenta'!$B:$B,'00 PDC SP'!$F251,'00 Alimenta'!I:I)","v":0},0]
["PDA180FR","PD","PDA180",14,"FR","0102022617","Note credito da ricevere v/ASL Teramo per finanziamento sanitario aggiuntivo corrente extra LEA",{"$f":"SUMIF('00 Alimenta'!$B:$B,'00 PDC SP'!$F252,'00 Alimenta'!D:D)","v":0},{"$f":"SUMIF('00 Alimenta'!$B:$B,'00 PDC SP'!$F252,'00 Alimenta'!E:E)","v":0},{"$f":"SUMIF('00 Alimenta'!$B:$B,'00 PDC SP'!$F252,'00 Alimenta'!F:F)","v":0},{"$f":"SUMIF('00 Alimenta'!$B:$B,'00 PDC SP'!$F252,'00 Alimenta'!G:G)","v":0},{"$f":"SUMIF('00 Alimenta'!$B:$B,'00 PDC SP'!$F252,'00 Alimenta'!H:H)","v":0},{"$f":"SUMIF('00 Alimenta'!$B:$B,'00 PDC SP'!$F252,'00 Alimenta'!I:I)","v":0},0]
["PDA200FR","PD","PDA200",14,"FR","0102022618","Note credito da ricevere v/ASL Avezzano Sulmona L'Aquila per mobilità non in compensazione",{"$f":"SUMIF('00 Alimenta'!$B:$B,'00 PDC SP'!$F253,'00 Alimenta'!D:D)","v":0},{"$f":"SUMIF('00 Alimenta'!$B:$B,'00 PDC SP'!$F253,'00 Alimenta'!E:E)","v":0},{"$f":"SUMIF('00 Alimenta'!$B:$B,'00 PDC SP'!$F253,'00 Alimenta'!F:F)","v":0},{"$f":"SUMIF('00 Alimenta'!$B:$B,'00 PDC SP'!$F253,'00 Alimenta'!G:G)","v":0},{"$f":"SUMIF('00 Alimenta'!$B:$B,'00 PDC SP'!$F253,'00 Alimenta'!H:H)","v":0},{"$f":"SUMIF('00 Alimenta'!$B:$B,'00 PDC SP'!$F253,'00 Alimenta'!I:I)","v":0},0]
["PDA200FR","PD","PDA200",14,"FR","0102022619","Note credito da ricevere v/ASL Lanciano Vasto Chieti per mobilità non in compensazione",{"$f":"SUMIF('00 Alimenta'!$B:$B,'00 PDC SP'!$F254,'00 Alimenta'!D:D)","v":0},{"$f":"SUMIF('00 Alimenta'!$B:$B,'00 PDC SP'!$F254,'00 Alimenta'!E:E)","v":0},{"$f":"SUMIF('00 Alimenta'!$B:$B,'00 PDC SP'!$F254,'00 Alimenta'!F:F)","v":0},{"$f":"SUMIF('00 Alimenta'!$B:$B,'00 PDC SP'!$F254,'00 Alimenta'!G:G)","v":0},{"$f":"SUMIF('00 Alimenta'!$B:$B,'00 PDC SP'!$F254,'00 Alimenta'!H:H)","v":0},{"$f":"SUMIF('00 Alimenta'!$B:$B,'00 PDC SP'!$F254,'00 Alimenta'!I:I)","v":0},0]
["PDA200FR","PD","PDA200",14,"FR","0102022620","Note credito da ricevere v/ASL Pescara per mobilità non in compensazione",{"$f":"SUMIF('00 Alimenta'!$B:$B,'00 PDC SP'!$F255,'00 Alimenta'!D:D)","v":0},{"$f":"SUMIF('00 Alimenta'!$B:$B,'00 PDC SP'!$F255,'00 Alimenta'!E:E)","v":0},{"$f":"SUMIF('00 Alimenta'!$B:$B,'00 PDC SP'!$F255,'00 Alimenta'!F:F)","v":0},{"$f":"SUMIF('00 Alimenta'!$B:$B,'00 PDC SP'!$F255,'00 Alimenta'!G:G)","v":0},{"$f":"SUMIF('00 Alimenta'!$B:$B,'00 PDC SP'!$F255,'00 Alimenta'!H:H)","v":0},{"$f":"SUMIF('00 Alimenta'!$B:$B,'00 PDC SP'!$F255,'00 Alimenta'!I:I)","v":0},0]
["PDA200FR","PD","PDA200",14,"FR","0102022621","Note credito da ricevere v/ASL Teramo per mobilità non in compensazione",{"$f":"SUMIF('00 Alimenta'!$B:$B,'00 PDC SP'!$F256,'00 Alimenta'!D:D)","v":0},{"$f":"SUMIF('00 Alimenta'!$B:$B,'00 PDC SP'!$F256,'00 Alimenta'!E:E)","v":0},{"$f":"SUMIF('00 Alimenta'!$B:$B,'00 PDC SP'!$F256,'00 Alimenta'!F:F)","v":0},{"$f":"SUMIF('00 Alimenta'!$B:$B,'00 PDC SP'!$F256,'00 Alimenta'!G:G)","v":0},{"$f":"SUMIF('00 Alimenta'!$B:$B,'00 PDC SP'!$F256,'00 Alimenta'!H:H)","v":0},{"$f":"SUMIF('00 Alimenta'!$B:$B,'00 PDC SP'!$F256,'00 Alimenta'!I:I)","v":0},0]
["PDA210FR","PD","PDA210",14,"FR","0102022622","Note credito da ricevere v/ASL Avezzano Sulmona L'Aquila per altre prestazioni",{"$f":"SUMIF('00 Alimenta'!$B:$B,'00 PDC SP'!$F257,'00 Alimenta'!D:D)","v":0},{"$f":"SUMIF('00 Alimenta'!$B:$B,'00 PDC SP'!$F257,'00 Alimenta'!E:E)","v":0},{"$f":"SUMIF('00 Alimenta'!$B:$B,'00 PDC SP'!$F257,'00 Alimenta'!F:F)","v":0},{"$f":"SUMIF('00 Alimenta'!$B:$B,'00 PDC SP'!$F257,'00 Alimenta'!G:G)","v":0},{"$f":"SUMIF('00 Alimenta'!$B:$B,'00 PDC SP'!$F257,'00 Alimenta'!H:H)","v":0},{"$f":"SUMIF('00 Alimenta'!$B:$B,'00 PDC SP'!$F257,'00 Alimenta'!I:I)","v":0},0]
["PDA210FR","PD","PDA210",14,"FR","0102022623","Note credito da ricevere v/ASL Lanciano Vasto Chieti per altre prestazioni",{"$f":"SUMIF('00 Alimenta'!$B:$B,'00 PDC SP'!$F258,'00 Alimenta'!D:D)","v":0},{"$f":"SUMIF('00 Alimenta'!$B:$B,'00 PDC SP'!$F258,'00 Alimenta'!E:E)","v":0},{"$f":"SUMIF('00 Alimenta'!$B:$B,'00 PDC SP'!$F258,'00 Alimenta'!F:F)","v":0},{"$f":"SUMIF('00 Alimenta'!$B:$B,'00 PDC SP'!$F258,'00 Alimenta'!G:G)","v":0},{"$f":"SUMIF('00 Alimenta'!$B:$B,'00 PDC SP'!$F258,'00 Alimenta'!H:H)","v":57.75},{"$f":"SUMIF('00 Alimenta'!$B:$B,'00 PDC SP'!$F258,'00 Alimenta'!I:I)","v":0},57.75]
["PDA210FR","PD","PDA210",14,"FR","0102022624","Note credito da ricevere v/ASL Pescara per altre prestazioni",{"$f":"SUMIF('00 Alimenta'!$B:$B,'00 PDC SP'!$F259,'00 Alimenta'!D:D)","v":0},{"$f":"SUMIF('00 Alimenta'!$B:$B,'00 PDC SP'!$F259,'00 Alimenta'!E:E)","v":0},{"$f":"SUMIF('00 Alimenta'!$B:$B,'00 PDC SP'!$F259,'00 Alimenta'!F:F)","v":0},{"$f":"SUMIF('00 Alimenta'!$B:$B,'00 PDC SP'!$F259,'00 Alimenta'!G:G)","v":0},{"$f":"SUMIF('00 Alimenta'!$B:$B,'00 PDC SP'!$F259,'00 Alimenta'!H:H)","v":0},{"$f":"SUMIF('00 Alimenta'!$B:$B,'00 PDC SP'!$F259,'00 Alimenta'!I:I)","v":0},0]
["PDA210FR","PD","PDA210",14,"FR","0102022625","Note credito da ricevere v/ASL Teramo per altre prestazioni",{"$f":"SUMIF('00 Alimenta'!$B:$B,'00 PDC SP'!$F260,'00 Alimenta'!D:D)","v":0},{"$f":"SUMIF('00 Alimenta'!$B:$B,'00 PDC SP'!$F260,'00 Alimenta'!E:E)","v":0},{"$f":"SUMIF('00 Alimenta'!$B:$B,'00 PDC SP'!$F260,'00 Alimenta'!F:F)","v":0},{"$f":"SUMIF('00 Alimenta'!$B:$B,'00 PDC SP'!$F260,'00 Alimenta'!G:G)","v":0},{"$f":"SUMIF('00 Alimenta'!$B:$B,'00 PDC SP'!$F260,'00 Alimenta'!H:H)","v":0},{"$f":"SUMIF('00 Alimenta'!$B:$B,'00 PDC SP'!$F260,'00 Alimenta'!I:I)","v":0},0]
["PDA220FR","PD","PDA220",14,"FR","0102022626","Note credito da ricevere v/Aziende sanitarie pubbliche Extraregione",{"$f":"SUMIF('00 Alimenta'!$B:$B,'00 PDC SP'!$F261,'00 Alimenta'!D:D)","v":60.85},{"$f":"SUMIF('00 Alimenta'!$B:$B,'00 PDC SP'!$F261,'00 Alimenta'!E:E)","v":0},{"$f":"SUMIF('00 Alimenta'!$B:$B,'00 PDC SP'!$F261,'00 Alimenta'!F:F)","v":60.85},{"$f":"SUMIF('00 Alimenta'!$B:$B,'00 PDC SP'!$F261,'00 Alimenta'!G:G)","v":0},{"$f":"SUMIF('00 Alimenta'!$B:$B,'00 PDC SP'!$F261,'00 Alimenta'!H:H)","v":0},{"$f":"SUMIF('00 Alimenta'!$B:$B,'00 PDC SP'!$F261,'00 Alimenta'!I:I)","v":0},0]
["PDA230FR","PD","PDA230",14,"FR","0102022627","Note credito da ricevere v/ASL Avezzano Sulmona L'Aquila per versamenti c/patrimonio netto",{"$f":"SUMIF('00 Alimenta'!$B:$B,'00 PDC SP'!$F262,'00 Alimenta'!D:D)","v":0},{"$f":"SUMIF('00 Alimenta'!$B:$B,'00 PDC SP'!$F262,'00 Alimenta'!E:E)","v":0},{"$f":"SUMIF('00 Alimenta'!$B:$B,'00 PDC SP'!$F262,'00 Alimenta'!F:F)","v":0},{"$f":"SUMIF('00 Alimenta'!$B:$B,'00 PDC SP'!$F262,'00 Alimenta'!G:G)","v":0},{"$f":"SUMIF('00 Alimenta'!$B:$B,'00 PDC SP'!$F262,'00 Alimenta'!H:H)","v":0},{"$f":"SUMIF('00 Alimenta'!$B:$B,'00 PDC SP'!$F262,'00 Alimenta'!I:I)","v":0},0]
["PDA230FR","PD","PDA230",14,"FR","0102022628","Note credito da ricevere v/ASL Lanciano Vasto Chieti per versamenti c/patrimonio netto",{"$f":"SUMIF('00 Alimenta'!$B:$B,'00 PDC SP'!$F263,'00 Alimenta'!D:D)","v":0},{"$f":"SUMIF('00 Alimenta'!$B:$B,'00 PDC SP'!$F263,'00 Alimenta'!E:E)","v":0},{"$f":"SUMIF('00 Alimenta'!$B:$B,'00 PDC SP'!$F263,'00 Alimenta'!F:F)","v":0},{"$f":"SUMIF('00 Alimenta'!$B:$B,'00 PDC SP'!$F263,'00 Alimenta'!G:G)","v":0},{"$f":"SUMIF('00 Alimenta'!$B:$B,'00 PDC SP'!$F263,'00 Alimenta'!H:H)","v":0},{"$f":"SUMIF('00 Alimenta'!$B:$B,'00 PDC SP'!$F263,'00 Alimenta'!I:I)","v":0},0]
[{"$f":"IF(E264=\"\",C264,C264&E264)","v":"PDA230FR"},{"$f":"LEFT(C264,2)","v":"PD"},"PDA230",14,"FR","0102022629","Note credito da ricevere v/ASL Pescara per versamenti c/patrimonio netto",{"$f":"SUMIF('00 Alimenta'!$B:$B,'00 PDC SP'!$F264,'00 Alimenta'!D:D)","v":0},{"$f":"SUMIF('00 Alimenta'!$B:$B,'00 PDC SP'!$F264,'00 Alimenta'!E:E)","v":0},{"$f":"SUMIF('00 Alimenta'!$B:$B,'00 PDC SP'!$F264,'00 Alimenta'!F:F)","v":0},{"$f":"SUMIF('00 Alimenta'!$B:$B,'00 PDC SP'!$F264,'00 Alimenta'!G:G)","v":0},{"$f":"SUMIF('00 Alimenta'!$B:$B,'00 PDC SP'!$F264,'00 Alimenta'!H:H)","v":0},{"$f":"SUMIF('00 Alimenta'!$B:$B,'00 PDC SP'!$F264,'00 Alimenta'!I:I)","v":0},{"$f":"K264+L264-M264","v":0}]
["PDA230FR","PD","PDA230",14,"FR","0102022630","Note credito da ricevere v/ASL Teramo per versamenti c/patrimonio netto",{"$f":"SUMIF('00 Alimenta'!$B:$B,'00 PDC SP'!$F265,'00 Alimenta'!D:D)","v":0},{"$f":"SUMIF('00 Alimenta'!$B:$B,'00 PDC SP'!$F265,'00 Alimenta'!E:E)","v":0},{"$f":"SUMIF('00 Alimenta'!$B:$B,'00 PDC SP'!$F265,'00 Alimenta'!F:F)","v":0},{"$f":"SUMIF('00 Alimenta'!$B:$B,'00 PDC SP'!$F265,'00 Alimenta'!G:G)","v":0},{"$f":"SUMIF('00 Alimenta'!$B:$B,'00 PDC SP'!$F265,'00 Alimenta'!H:H)","v":0},{"$f":"SUMIF('00 Alimenta'!$B:$B,'00 PDC SP'!$F265,'00 Alimenta'!I:I)","v":0},0]
["PDA250FR","PD","PDA250",15,"FR","0102022631","Note credito da ricevere v/enti regionali",{"$f":"SUMIF('00 Alimenta'!$B:$B,'00 PDC SP'!$F266,'00 Alimenta'!D:D)","v":0},{"$f":"SUMIF('00 Alimenta'!$B:$B,'00 PDC SP'!$F266,'00 Alimenta'!E:E)","v":0},{"$f":"SUMIF('00 Alimenta'!$B:$B,'00 PDC SP'!$F266,'00 Alimenta'!F:F)","v":0},{"$f":"SUMIF('00 Alimenta'!$B:$B,'00 PDC SP'!$F266,'00 Alimenta'!G:G)","v":0},{"$f":"SUMIF('00 Alimenta'!$B:$B,'00 PDC SP'!$F266,'00 Alimenta'!H:H)","v":0},{"$f":"SUMIF('00 Alimenta'!$B:$B,'00 PDC SP'!$F266,'00 Alimenta'!I:I)","v":0},0]
["PDA260FR","PD","PDA260",15,"FR","0102022632","Note credito da ricevere v/sperimentazioni gestionali",{"$f":"SUMIF('00 Alimenta'!$B:$B,'00 PDC SP'!$F267,'00 Alimenta'!D:D)","v":0},{"$f":"SUMIF('00 Alimenta'!$B:$B,'00 PDC SP'!$F267,'00 Alimenta'!E:E)","v":0},{"$f":"SUMIF('00 Alimenta'!$B:$B,'00 PDC SP'!$F267,'00 Alimenta'!F:F)","v":0},{"$f":"SUMIF('00 Alimenta'!$B:$B,'00 PDC SP'!$F267,'00 Alimenta'!G:G)","v":0},{"$f":"SUMIF('00 Alimenta'!$B:$B,'00 PDC SP'!$F267,'00 Alimenta'!H:H)","v":0},{"$f":"SUMIF('00 Alimenta'!$B:$B,'00 PDC SP'!$F267,'00 Alimenta'!I:I)","v":0},0]
["PDA270FR","PD","PDA270",15,"FR","0102022633","Note credito da ricevere v/altre partecipate",{"$f":"SUMIF('00 Alimenta'!$B:$B,'00 PDC SP'!$F268,'00 Alimenta'!D:D)","v":0},{"$f":"SUMIF('00 Alimenta'!$B:$B,'00 PDC SP'!$F268,'00 Alimenta'!E:E)","v":0},{"$f":"SUMIF('00 Alimenta'!$B:$B,'00 PDC SP'!$F268,'00 Alimenta'!F:F)","v":0},{"$f":"SUMIF('00 Alimenta'!$B:$B,'00 PDC SP'!$F268,'00 Alimenta'!G:G)","v":0},{"$f":"SUMIF('00 Alimenta'!$B:$B,'00 PDC SP'!$F268,'00 Alimenta'!H:H)","v":0},{"$f":"SUMIF('00 Alimenta'!$B:$B,'00 PDC SP'!$F268,'00 Alimenta'!I:I)","v":0},0]
["PDA290FR","PD","PDA290",16,"FR","0102022634","Note di credito v/IRCCS privati e Policlinici",{"$f":"SUMIF('00 Alimenta'!$B:$B,'00 PDC SP'!$F269,'00 Alimenta'!D:D)","v":130.68},{"$f":"SUMIF('00 Alimenta'!$B:$B,'00 PDC SP'!$F269,'00 Alimenta'!E:E)","v":0},{"$f":"SUMIF('00 Alimenta'!$B:$B,'00 PDC SP'!$F269,'00 Alimenta'!F:F)","v":130.68},{"$f":"SUMIF('00 Alimenta'!$B:$B,'00 PDC SP'!$F269,'00 Alimenta'!G:G)","v":0},{"$f":"SUMIF('00 Alimenta'!$B:$B,'00 PDC SP'!$F269,'00 Alimenta'!H:H)","v":0},{"$f":"SUMIF('00 Alimenta'!$B:$B,'00 PDC SP'!$F269,'00 Alimenta'!I:I)","v":0},0]
["PDA290FR","PD","PDA290",16,"FR","0102022635","Note credito da ricevere v/Ospedali Classificati",{"$f":"SUMIF('00 Alimenta'!$B:$B,'00 PDC SP'!$F270,'00 Alimenta'!D:D)","v":0},{"$f":"SUMIF('00 Alimenta'!$B:$B,'00 PDC SP'!$F270,'00 Alimenta'!E:E)","v":0},{"$f":"SUMIF('00 Alimenta'!$B:$B,'00 PDC SP'!$F270,'00 Alimenta'!F:F)","v":0},{"$f":"SUMIF('00 Alimenta'!$B:$B,'00 PDC SP'!$F270,'00 Alimenta'!G:G)","v":0},{"$f":"SUMIF('00 Alimenta'!$B:$B,'00 PDC SP'!$F270,'00 Alimenta'!H:H)","v":0},{"$f":"SUMIF('00 Alimenta'!$B:$B,'00 PDC SP'!$F270,'00 Alimenta'!I:I)","v":0},0]
["PDA290FR","PD","PDA290",16,"FR","0102022636","Note credito da ricevere v/Case di Cura",{"$f":"SUMIF('00 Alimenta'!$B:$B,'00 PDC SP'!$F271,'00 Alimenta'!D:D)","v":11856.03},{"$f":"SUMIF('00 Alimenta'!$B:$B,'00 PDC SP'!$F271,'00 Alimenta'!E:E)","v":1930071.03},{"$f":"SUMIF('00 Alimenta'!$B:$B,'00 PDC SP'!$F271,'00 Alimenta'!F:F)","v":11856.03},{"$f":"SUMIF('00 Alimenta'!$B:$B,'00 PDC SP'!$F271,'00 Alimenta'!G:G)","v":1930071.03},{"$f":"SUMIF('00 Alimenta'!$B:$B,'00 PDC SP'!$F271,'00 Alimenta'!H:H)","v":4610.6099999999997},{"$f":"SUMIF('00 Alimenta'!$B:$B,'00 PDC SP'!$F271,'00 Alimenta'!I:I)","v":1930071.03},4610.6100000001024]
["PDA290FR","PD","PDA290",16,"FR","0102022637","Note credito da ricevere v/altri erogatori di prestazioni sanitarie - intraregione",{"$f":"SUMIF('00 Alimenta'!$B:$B,'00 PDC SP'!$F272,'00 Alimenta'!D:D)","v":32465151.420000002},{"$f":"SUMIF('00 Alimenta'!$B:$B,'00 PDC SP'!$F272,'00 Alimenta'!E:E)","v":101316.42},{"$f":"SUMIF('00 Alimenta'!$B:$B,'00 PDC SP'!$F272,'00 Alimenta'!F:F)","v":5232350.32},{"$f":"SUMIF('00 Alimenta'!$B:$B,'00 PDC SP'!$F272,'00 Alimenta'!G:G)","v":27334117.52},{"$f":"SUMIF('00 Alimenta'!$B:$B,'00 PDC SP'!$F272,'00 Alimenta'!H:H)","v":2829706.77},{"$f":"SUMIF('00 Alimenta'!$B:$B,'00 PDC SP'!$F272,'00 Alimenta'!I:I)","v":4272293.9400000004},25891530.349999998]
["PDA300FR","PD","PDA300",16,"FR","0102022638","Note credito da ricevere verso altri fornitori nazionali",{"$f":"SUMIF('00 Alimenta'!$B:$B,'00 PDC SP'!$F273,'00 Alimenta'!D:D)","v":1988690.31},{"$f":"SUMIF('00 Alimenta'!$B:$B,'00 PDC SP'!$F273,'00 Alimenta'!E:E)","v":1123439.08},{"$f":"SUMIF('00 Alimenta'!$B:$B,'00 PDC SP'!$F273,'00 Alimenta'!F:F)","v":1988690.31},{"$f":"SUMIF('00 Alimenta'!$B:$B,'00 PDC SP'!$F273,'00 Alimenta'!G:G)","v":1123439.08},{"$f":"SUMIF('00 Alimenta'!$B:$B,'00 PDC SP'!$F273,'00 Alimenta'!H:H)","v":1282410.6399999999},{"$f":"SUMIF('00 Alimenta'!$B:$B,'00 PDC SP'!$F273,'00 Alimenta'!I:I)","v":1123439.08},1282410.6399999997]
["PDA300FR","PD","PDA300",16,"FR","0102022639","Note credito da ricevere verso altri fornitori esteri",{"$f":"SUMIF('00 Alimenta'!$B:$B,'00 PDC SP'!$F274,'00 Alimenta'!D:D)","v":0},{"$f":"SUMIF('00 Alimenta'!$B:$B,'00 PDC SP'!$F274,'00 Alimenta'!E:E)","v":6362},{"$f":"SUMIF('00 Alimenta'!$B:$B,'00 PDC SP'!$F274,'00 Alimenta'!F:F)","v":0},{"$f":"SUMIF('00 Alimenta'!$B:$B,'00 PDC SP'!$F274,'00 Alimenta'!G:G)","v":6362},{"$f":"SUMIF('00 Alimenta'!$B:$B,'00 PDC SP'!$F274,'00 Alimenta'!H:H)","v":0},{"$f":"SUMIF('00 Alimenta'!$B:$B,'00 PDC SP'!$F274,'00 Alimenta'!I:I)","v":6362},0]
["PDA370FR","PD","PDA370",19,"FR","0102022640","Note credito da ricevere v/gestioni liquidatorie",{"$f":"SUMIF('00 Alimenta'!$B:$B,'00 PDC SP'!$F275,'00 Alimenta'!D:D)","v":0},{"$f":"SUMIF('00 Alimenta'!$B:$B,'00 PDC SP'!$F275,'00 Alimenta'!E:E)","v":0},{"$f":"SUMIF('00 Alimenta'!$B:$B,'00 PDC SP'!$F275,'00 Alimenta'!F:F)","v":0},{"$f":"SUMIF('00 Alimenta'!$B:$B,'00 PDC SP'!$F275,'00 Alimenta'!G:G)","v":0},{"$f":"SUMIF('00 Alimenta'!$B:$B,'00 PDC SP'!$F275,'00 Alimenta'!H:H)","v":0},{"$f":"SUMIF('00 Alimenta'!$B:$B,'00 PDC SP'!$F275,'00 Alimenta'!I:I)","v":0},0]
["PDA380FR","PD","PDA380",19,"FR","0102022641","Note credito da ricevere per altri debiti diversi",{"$f":"SUMIF('00 Alimenta'!$B:$B,'00 PDC SP'!$F276,'00 Alimenta'!D:D)","v":295.04000000000002},{"$f":"SUMIF('00 Alimenta'!$B:$B,'00 PDC SP'!$F276,'00 Alimenta'!E:E)","v":5013.58},{"$f":"SUMIF('00 Alimenta'!$B:$B,'00 PDC SP'!$F276,'00 Alimenta'!F:F)","v":295.04000000000002},{"$f":"SUMIF('00 Alimenta'!$B:$B,'00 PDC SP'!$F276,'00 Alimenta'!G:G)","v":5013.58},{"$f":"SUMIF('00 Alimenta'!$B:$B,'00 PDC SP'!$F276,'00 Alimenta'!H:H)","v":2286.0100000000002},{"$f":"SUMIF('00 Alimenta'!$B:$B,'00 PDC SP'!$F276,'00 Alimenta'!I:I)","v":5013.58},2286.0100000000002]
["ABA730CN","AB","ABA730",9,"CN","0102030101","Partecipazioni in imprese controllate",{"$f":"SUMIF('00 Alimenta'!$B:$B,'00 PDC SP'!$F277,'00 Alimenta'!D:D)","v":0},{"$f":"SUMIF('00 Alimenta'!$B:$B,'00 PDC SP'!$F277,'00 Alimenta'!E:E)","v":0},{"$f":"SUMIF('00 Alimenta'!$B:$B,'00 PDC SP'!$F277,'00 Alimenta'!F:F)","v":0},{"$f":"SUMIF('00 Alimenta'!$B:$B,'00 PDC SP'!$F277,'00 Alimenta'!G:G)","v":0},{"$f":"SUMIF('00 Alimenta'!$B:$B,'00 PDC SP'!$F277,'00 Alimenta'!H:H)","v":0},{"$f":"SUMIF('00 Alimenta'!$B:$B,'00 PDC SP'!$F277,'00 Alimenta'!I:I)","v":0},0]
["ABA730CL","AB","ABA730",9,"CL","0102030102","Partecipazioni in imprese collegate",{"$f":"SUMIF('00 Alimenta'!$B:$B,'00 PDC SP'!$F278,'00 Alimenta'!D:D)","v":0},{"$f":"SUMIF('00 Alimenta'!$B:$B,'00 PDC SP'!$F278,'00 Alimenta'!E:E)","v":0},{"$f":"SUMIF('00 Alimenta'!$B:$B,'00 PDC SP'!$F278,'00 Alimenta'!F:F)","v":0},{"$f":"SUMIF('00 Alimenta'!$B:$B,'00 PDC SP'!$F278,'00 Alimenta'!G:G)","v":0},{"$f":"SUMIF('00 Alimenta'!$B:$B,'00 PDC SP'!$F278,'00 Alimenta'!H:H)","v":0},{"$f":"SUMIF('00 Alimenta'!$B:$B,'00 PDC SP'!$F278,'00 Alimenta'!I:I)","v":0},0]
["ABA730AI","AB","ABA730",9,"AI","0102030103","Partecipazioni in altre imprese",{"$f":"SUMIF('00 Alimenta'!$B:$B,'00 PDC SP'!$F279,'00 Alimenta'!D:D)","v":0},{"$f":"SUMIF('00 Alimenta'!$B:$B,'00 PDC SP'!$F279,'00 Alimenta'!E:E)","v":0},{"$f":"SUMIF('00 Alimenta'!$B:$B,'00 PDC SP'!$F279,'00 Alimenta'!F:F)","v":0},{"$f":"SUMIF('00 Alimenta'!$B:$B,'00 PDC SP'!$F279,'00 Alimenta'!G:G)","v":0},{"$f":"SUMIF('00 Alimenta'!$B:$B,'00 PDC SP'!$F279,'00 Alimenta'!H:H)","v":0},{"$f":"SUMIF('00 Alimenta'!$B:$B,'00 PDC SP'!$F279,'00 Alimenta'!I:I)","v":0},0]
["ABA740","AB","ABA740",9,null,"0102030201","Altri titoli che non costituiscono immobilizzazioni",{"$f":"SUMIF('00 Alimenta'!$B:$B,'00 PDC SP'!$F280,'00 Alimenta'!D:D)","v":0},{"$f":"SUMIF('00 Alimenta'!$B:$B,'00 PDC SP'!$F280,'00 Alimenta'!E:E)","v":0},{"$f":"SUMIF('00 Alimenta'!$B:$B,'00 PDC SP'!$F280,'00 Alimenta'!F:F)","v":0},{"$f":"SUMIF('00 Alimenta'!$B:$B,'00 PDC SP'!$F280,'00 Alimenta'!G:G)","v":0},{"$f":"SUMIF('00 Alimenta'!$B:$B,'00 PDC SP'!$F280,'00 Alimenta'!H:H)","v":0},{"$f":"SUMIF('00 Alimenta'!$B:$B,'00 PDC SP'!$F280,'00 Alimenta'!I:I)","v":0},0]
["ABA760","AB","ABA760",57,null,"0102040101","Cassa ticket",{"$f":"SUMIF('00 Alimenta'!$B:$B,'00 PDC SP'!$F281,'00 Alimenta'!D:D)","v":20000},{"$f":"SUMIF('00 Alimenta'!$B:$B,'00 PDC SP'!$F281,'00 Alimenta'!E:E)","v":0},{"$f":"SUMIF('00 Alimenta'!$B:$B,'00 PDC SP'!$F281,'00 Alimenta'!F:F)","v":0},{"$f":"SUMIF('00 Alimenta'!$B:$B,'00 PDC SP'!$F281,'00 Alimenta'!G:G)","v":20000},{"$f":"SUMIF('00 Alimenta'!$B:$B,'00 PDC SP'!$F281,'00 Alimenta'!H:H)","v":0},{"$f":"SUMIF('00 Alimenta'!$B:$B,'00 PDC SP'!$F281,'00 Alimenta'!I:I)","v":0},20000]
["ABA760","AB","ABA760",57,null,"0102040102","Cassa economale",{"$f":"SUMIF('00 Alimenta'!$B:$B,'00 PDC SP'!$F282,'00 Alimenta'!D:D)","v":0},{"$f":"SUMIF('00 Alimenta'!$B:$B,'00 PDC SP'!$F282,'00 Alimenta'!E:E)","v":90884.92},{"$f":"SUMIF('00 Alimenta'!$B:$B,'00 PDC SP'!$F282,'00 Alimenta'!F:F)","v":90884.92},{"$f":"SUMIF('00 Alimenta'!$B:$B,'00 PDC SP'!$F282,'00 Alimenta'!G:G)","v":0},{"$f":"SUMIF('00 Alimenta'!$B:$B,'00 PDC SP'!$F282,'00 Alimenta'!H:H)","v":52671.15},{"$f":"SUMIF('00 Alimenta'!$B:$B,'00 PDC SP'!$F282,'00 Alimenta'!I:I)","v":52671.15},0]
["ABA770","AB","ABA770",57,null,"0102040201","Istituto Tesoriere",{"$f":"SUMIF('00 Alimenta'!$B:$B,'00 PDC SP'!$F283,'00 Alimenta'!D:D)","v":26889884.399999999},{"$f":"SUMIF('00 Alimenta'!$B:$B,'00 PDC SP'!$F283,'00 Alimenta'!E:E)","v":674025083},{"$f":"SUMIF('00 Alimenta'!$B:$B,'00 PDC SP'!$F283,'00 Alimenta'!F:F)","v":631356001.04999995},{"$f":"SUMIF('00 Alimenta'!$B:$B,'00 PDC SP'!$F283,'00 Alimenta'!G:G)","v":69558966.349999994},{"$f":"SUMIF('00 Alimenta'!$B:$B,'00 PDC SP'!$F283,'00 Alimenta'!H:H)","v":625609944.79999995},{"$f":"SUMIF('00 Alimenta'!$B:$B,'00 PDC SP'!$F283,'00 Alimenta'!I:I)","v":648972836.83000004},46196074.319999933]
["ABA780","AB","ABA780",57,null,"0102040301","Tesoreria Unica",{"$f":"SUMIF('00 Alimenta'!$B:$B,'00 PDC SP'!$F284,'00 Alimenta'!D:D)","v":0},{"$f":"SUMIF('00 Alimenta'!$B:$B,'00 PDC SP'!$F284,'00 Alimenta'!E:E)","v":0},{"$f":"SUMIF('00 Alimenta'!$B:$B,'00 PDC SP'!$F284,'00 Alimenta'!F:F)","v":0},{"$f":"SUMIF('00 Alimenta'!$B:$B,'00 PDC SP'!$F284,'00 Alimenta'!G:G)","v":0},{"$f":"SUMIF('00 Alimenta'!$B:$B,'00 PDC SP'!$F284,'00 Alimenta'!H:H)","v":0},{"$f":"SUMIF('00 Alimenta'!$B:$B,'00 PDC SP'!$F284,'00 Alimenta'!I:I)","v":0},0]
["ABA790","AB","ABA790",57,null,"0102040401","Conto corrente postale",{"$f":"SUMIF('00 Alimenta'!$B:$B,'00 PDC SP'!$F285,'00 Alimenta'!D:D)","v":1570006.74},{"$f":"SUMIF('00 Alimenta'!$B:$B,'00 PDC SP'!$F285,'00 Alimenta'!E:E)","v":1732809.77},{"$f":"SUMIF('00 Alimenta'!$B:$B,'00 PDC SP'!$F285,'00 Alimenta'!F:F)","v":75200.34},{"$f":"SUMIF('00 Alimenta'!$B:$B,'00 PDC SP'!$F285,'00 Alimenta'!G:G)","v":3227616.17},{"$f":"SUMIF('00 Alimenta'!$B:$B,'00 PDC SP'!$F285,'00 Alimenta'!H:H)","v":1458253.24},{"$f":"SUMIF('00 Alimenta'!$B:$B,'00 PDC SP'!$F285,'00 Alimenta'!I:I)","v":3393835},1292034.4100000001]
["ACA010","AC","ACA010",33,null,"0103010101","Ratei attivi",{"$f":"SUMIF('00 Alimenta'!$B:$B,'00 PDC SP'!$F286,'00 Alimenta'!D:D)","v":0},{"$f":"SUMIF('00 Alimenta'!$B:$B,'00 PDC SP'!$F286,'00 Alimenta'!E:E)","v":0},{"$f":"SUMIF('00 Alimenta'!$B:$B,'00 PDC SP'!$F286,'00 Alimenta'!F:F)","v":0},{"$f":"SUMIF('00 Alimenta'!$B:$B,'00 PDC SP'!$F286,'00 Alimenta'!G:G)","v":0},{"$f":"SUMIF('00 Alimenta'!$B:$B,'00 PDC SP'!$F286,'00 Alimenta'!H:H)","v":0},{"$f":"SUMIF('00 Alimenta'!$B:$B,'00 PDC SP'!$F286,'00 Alimenta'!I:I)","v":0},0]
["ACA020","AC","ACA020",33,null,"0103010201","Ratei attivi v/Aziende sanitarie pubbliche della Regione",{"$f":"SUMIF('00 Alimenta'!$B:$B,'00 PDC SP'!$F287,'00 Alimenta'!D:D)","v":0},{"$f":"SUMIF('00 Alimenta'!$B:$B,'00 PDC SP'!$F287,'00 Alimenta'!E:E)","v":0},{"$f":"SUMIF('00 Alimenta'!$B:$B,'00 PDC SP'!$F287,'00 Alimenta'!F:F)","v":0},{"$f":"SUMIF('00 Alimenta'!$B:$B,'00 PDC SP'!$F287,'00 Alimenta'!G:G)","v":0},{"$f":"SUMIF('00 Alimenta'!$B:$B,'00 PDC SP'!$F287,'00 Alimenta'!H:H)","v":0},{"$f":"SUMIF('00 Alimenta'!$B:$B,'00 PDC SP'!$F287,'00 Alimenta'!I:I)","v":0},0]
["ACA040","AC","ACA040",33,null,"0103020101","Risconti attivi",{"$f":"SUMIF('00 Alimenta'!$B:$B,'00 PDC SP'!$F288,'00 Alimenta'!D:D)","v":1502862.22},{"$f":"SUMIF('00 Alimenta'!$B:$B,'00 PDC SP'!$F288,'00 Alimenta'!E:E)","v":8698.51},{"$f":"SUMIF('00 Alimenta'!$B:$B,'00 PDC SP'!$F288,'00 Alimenta'!F:F)","v":1502862.22},{"$f":"SUMIF('00 Alimenta'!$B:$B,'00 PDC SP'!$F288,'00 Alimenta'!G:G)","v":8698.51},{"$f":"SUMIF('00 Alimenta'!$B:$B,'00 PDC SP'!$F288,'00 Alimenta'!H:H)","v":10533.97},{"$f":"SUMIF('00 Alimenta'!$B:$B,'00 PDC SP'!$F288,'00 Alimenta'!I:I)","v":8698.51},10533.97]
["ACA050","AC","ACA050",33,null,"0103020201","Risconti attivi v/Aziende sanitarie pubbliche della Regione",{"$f":"SUMIF('00 Alimenta'!$B:$B,'00 PDC SP'!$F289,'00 Alimenta'!D:D)","v":0},{"$f":"SUMIF('00 Alimenta'!$B:$B,'00 PDC SP'!$F289,'00 Alimenta'!E:E)","v":0},{"$f":"SUMIF('00 Alimenta'!$B:$B,'00 PDC SP'!$F289,'00 Alimenta'!F:F)","v":0},{"$f":"SUMIF('00 Alimenta'!$B:$B,'00 PDC SP'!$F289,'00 Alimenta'!G:G)","v":0},{"$f":"SUMIF('00 Alimenta'!$B:$B,'00 PDC SP'!$F289,'00 Alimenta'!H:H)","v":0},{"$f":"SUMIF('00 Alimenta'!$B:$B,'00 PDC SP'!$F289,'00 Alimenta'!I:I)","v":0},0]
["ADA000","AD","ADA000",0,null,"0104010101","Canoni di leasing ancora da pagare",{"$f":"SUMIF('00 Alimenta'!$B:$B,'00 PDC SP'!$F290,'00 Alimenta'!D:D)","v":0},{"$f":"SUMIF('00 Alimenta'!$B:$B,'00 PDC SP'!$F290,'00 Alimenta'!E:E)","v":0},{"$f":"SUMIF('00 Alimenta'!$B:$B,'00 PDC SP'!$F290,'00 Alimenta'!F:F)","v":0},{"$f":"SUMIF('00 Alimenta'!$B:$B,'00 PDC SP'!$F290,'00 Alimenta'!G:G)","v":0},{"$f":"SUMIF('00 Alimenta'!$B:$B,'00 PDC SP'!$F290,'00 Alimenta'!H:H)","v":0},{"$f":"SUMIF('00 Alimenta'!$B:$B,'00 PDC SP'!$F290,'00 Alimenta'!I:I)","v":0},0]
["ADA010","AD","ADA010",0,null,"0104020101","Depositi cauzionali",{"$f":"SUMIF('00 Alimenta'!$B:$B,'00 PDC SP'!$F291,'00 Alimenta'!D:D)","v":0},{"$f":"SUMIF('00 Alimenta'!$B:$B,'00 PDC SP'!$F291,'00 Alimenta'!E:E)","v":0},{"$f":"SUMIF('00 Alimenta'!$B:$B,'00 PDC SP'!$F291,'00 Alimenta'!F:F)","v":0},{"$f":"SUMIF('00 Alimenta'!$B:$B,'00 PDC SP'!$F291,'00 Alimenta'!G:G)","v":0},{"$f":"SUMIF('00 Alimenta'!$B:$B,'00 PDC SP'!$F291,'00 Alimenta'!H:H)","v":0},{"$f":"SUMIF('00 Alimenta'!$B:$B,'00 PDC SP'!$F291,'00 Alimenta'!I:I)","v":0},0]
["ADA020","AD","ADA020",0,null,"0104030101","Beni in comodato",{"$f":"SUMIF('00 Alimenta'!$B:$B,'00 PDC SP'!$F292,'00 Alimenta'!D:D)","v":0},{"$f":"SUMIF('00 Alimenta'!$B:$B,'00 PDC SP'!$F292,'00 Alimenta'!E:E)","v":0},{"$f":"SUMIF('00 Alimenta'!$B:$B,'00 PDC SP'!$F292,'00 Alimenta'!F:F)","v":0},{"$f":"SUMIF('00 Alimenta'!$B:$B,'00 PDC SP'!$F292,'00 Alimenta'!G:G)","v":0},{"$f":"SUMIF('00 Alimenta'!$B:$B,'00 PDC SP'!$F292,'00 Alimenta'!H:H)","v":0},{"$f":"SUMIF('00 Alimenta'!$B:$B,'00 PDC SP'!$F292,'00 Alimenta'!I:I)","v":0},0]
["ADA030","AD","ADA030",0,null,"0104040101","Garanzie prestate",{"$f":"SUMIF('00 Alimenta'!$B:$B,'00 PDC SP'!$F293,'00 Alimenta'!D:D)","v":0},{"$f":"SUMIF('00 Alimenta'!$B:$B,'00 PDC SP'!$F293,'00 Alimenta'!E:E)","v":0},{"$f":"SUMIF('00 Alimenta'!$B:$B,'00 PDC SP'!$F293,'00 Alimenta'!F:F)","v":0},{"$f":"SUMIF('00 Alimenta'!$B:$B,'00 PDC SP'!$F293,'00 Alimenta'!G:G)","v":0},{"$f":"SUMIF('00 Alimenta'!$B:$B,'00 PDC SP'!$F293,'00 Alimenta'!H:H)","v":0},{"$f":"SUMIF('00 Alimenta'!$B:$B,'00 PDC SP'!$F293,'00 Alimenta'!I:I)","v":0},0]
["ADA030","AD","ADA030",0,null,"0104040102","Garanzie ricevute",{"$f":"SUMIF('00 Alimenta'!$B:$B,'00 PDC SP'!$F294,'00 Alimenta'!D:D)","v":0},{"$f":"SUMIF('00 Alimenta'!$B:$B,'00 PDC SP'!$F294,'00 Alimenta'!E:E)","v":0},{"$f":"SUMIF('00 Alimenta'!$B:$B,'00 PDC SP'!$F294,'00 Alimenta'!F:F)","v":0},{"$f":"SUMIF('00 Alimenta'!$B:$B,'00 PDC SP'!$F294,'00 Alimenta'!G:G)","v":0},{"$f":"SUMIF('00 Alimenta'!$B:$B,'00 PDC SP'!$F294,'00 Alimenta'!H:H)","v":0},{"$f":"SUMIF('00 Alimenta'!$B:$B,'00 PDC SP'!$F294,'00 Alimenta'!I:I)","v":0},0]
["ADA030","AD","ADA030",0,null,"0104040103","Beni presso terzi",{"$f":"SUMIF('00 Alimenta'!$B:$B,'00 PDC SP'!$F295,'00 Alimenta'!D:D)","v":0},{"$f":"SUMIF('00 Alimenta'!$B:$B,'00 PDC SP'!$F295,'00 Alimenta'!E:E)","v":0},{"$f":"SUMIF('00 Alimenta'!$B:$B,'00 PDC SP'!$F295,'00 Alimenta'!F:F)","v":0},{"$f":"SUMIF('00 Alimenta'!$B:$B,'00 PDC SP'!$F295,'00 Alimenta'!G:G)","v":0},{"$f":"SUMIF('00 Alimenta'!$B:$B,'00 PDC SP'!$F295,'00 Alimenta'!H:H)","v":0},{"$f":"SUMIF('00 Alimenta'!$B:$B,'00 PDC SP'!$F295,'00 Alimenta'!I:I)","v":0},0]
["ADA030","AD","ADA030",0,null,"0104040104","Beni in contenzioso",{"$f":"SUMIF('00 Alimenta'!$B:$B,'00 PDC SP'!$F296,'00 Alimenta'!D:D)","v":0},{"$f":"SUMIF('00 Alimenta'!$B:$B,'00 PDC SP'!$F296,'00 Alimenta'!E:E)","v":0},{"$f":"SUMIF('00 Alimenta'!$B:$B,'00 PDC SP'!$F296,'00 Alimenta'!F:F)","v":0},{"$f":"SUMIF('00 Alimenta'!$B:$B,'00 PDC SP'!$F296,'00 Alimenta'!G:G)","v":0},{"$f":"SUMIF('00 Alimenta'!$B:$B,'00 PDC SP'!$F296,'00 Alimenta'!H:H)","v":0},{"$f":"SUMIF('00 Alimenta'!$B:$B,'00 PDC SP'!$F296,'00 Alimenta'!I:I)","v":0},0]
["ADA030","AD","ADA030",0,null,"0104040105","Altri impegni assunti",{"$f":"SUMIF('00 Alimenta'!$B:$B,'00 PDC SP'!$F297,'00 Alimenta'!D:D)","v":0},{"$f":"SUMIF('00 Alimenta'!$B:$B,'00 PDC SP'!$F297,'00 Alimenta'!E:E)","v":0},{"$f":"SUMIF('00 Alimenta'!$B:$B,'00 PDC SP'!$F297,'00 Alimenta'!F:F)","v":0},{"$f":"SUMIF('00 Alimenta'!$B:$B,'00 PDC SP'!$F297,'00 Alimenta'!G:G)","v":0},{"$f":"SUMIF('00 Alimenta'!$B:$B,'00 PDC SP'!$F297,'00 Alimenta'!H:H)","v":0},{"$f":"SUMIF('00 Alimenta'!$B:$B,'00 PDC SP'!$F297,'00 Alimenta'!I:I)","v":0},0]
["ADA030","AD","ADA030",0,null,"0104040106","Altri contri d'ordine",{"$f":"SUMIF('00 Alimenta'!$B:$B,'00 PDC SP'!$F298,'00 Alimenta'!D:D)","v":0},{"$f":"SUMIF('00 Alimenta'!$B:$B,'00 PDC SP'!$F298,'00 Alimenta'!E:E)","v":0},{"$f":"SUMIF('00 Alimenta'!$B:$B,'00 PDC SP'!$F298,'00 Alimenta'!F:F)","v":0},{"$f":"SUMIF('00 Alimenta'!$B:$B,'00 PDC SP'!$F298,'00 Alimenta'!G:G)","v":0},{"$f":"SUMIF('00 Alimenta'!$B:$B,'00 PDC SP'!$F298,'00 Alimenta'!H:H)","v":0},{"$f":"SUMIF('00 Alimenta'!$B:$B,'00 PDC SP'!$F298,'00 Alimenta'!I:I)","v":0},0]
["PAA000","PA","PAA000",53,null,"0201010101","Fondo di dotazione",{"$f":"SUMIF('00 Alimenta'!$B:$B,'00 PDC SP'!$F299,'00 Alimenta'!D:D)","v":0},{"$f":"SUMIF('00 Alimenta'!$B:$B,'00 PDC SP'!$F299,'00 Alimenta'!E:E)","v":0},{"$f":"SUMIF('00 Alimenta'!$B:$B,'00 PDC SP'!$F299,'00 Alimenta'!F:F)","v":0},{"$f":"SUMIF('00 Alimenta'!$B:$B,'00 PDC SP'!$F299,'00 Alimenta'!G:G)","v":0},{"$f":"SUMIF('00 Alimenta'!$B:$B,'00 PDC SP'!$F299,'00 Alimenta'!H:H)","v":0},{"$f":"SUMIF('00 Alimenta'!$B:$B,'00 PDC SP'!$F299,'00 Alimenta'!I:I)","v":0},0]
["PAA020","PA","PAA020",5,null,"0201020101","Finanziamenti per beni di prima dotazione",{"$f":"SUMIF('00 Alimenta'!$B:$B,'00 PDC SP'!$F300,'00 Alimenta'!D:D)","v":67286349.670000002},{"$f":"SUMIF('00 Alimenta'!$B:$B,'00 PDC SP'!$F300,'00 Alimenta'!E:E)","v":0},{"$f":"SUMIF('00 Alimenta'!$B:$B,'00 PDC SP'!$F300,'00 Alimenta'!F:F)","v":3577467.93},{"$f":"SUMIF('00 Alimenta'!$B:$B,'00 PDC SP'!$F300,'00 Alimenta'!G:G)","v":63708881.740000002},{"$f":"SUMIF('00 Alimenta'!$B:$B,'00 PDC SP'!$F300,'00 Alimenta'!H:H)","v":0},{"$f":"SUMIF('00 Alimenta'!$B:$B,'00 PDC SP'!$F300,'00 Alimenta'!I:I)","v":3577467.93},60131413.810000002]
["PAA040","PA","PAA040",5,null,"0201020201","Finanziamenti da Stato per investimenti - ex art. 20 legge 67/88",{"$f":"SUMIF('00 Alimenta'!$B:$B,'00 PDC SP'!$F301,'00 Alimenta'!D:D)","v":0},{"$f":"SUMIF('00 Alimenta'!$B:$B,'00 PDC SP'!$F301,'00 Alimenta'!E:E)","v":0},{"$f":"SUMIF('00 Alimenta'!$B:$B,'00 PDC SP'!$F301,'00 Alimenta'!F:F)","v":0},{"$f":"SUMIF('00 Alimenta'!$B:$B,'00 PDC SP'!$F301,'00 Alimenta'!G:G)","v":0},{"$f":"SUMIF('00 Alimenta'!$B:$B,'00 PDC SP'!$F301,'00 Alimenta'!H:H)","v":0},{"$f":"SUMIF('00 Alimenta'!$B:$B,'00 PDC SP'!$F301,'00 Alimenta'!I:I)","v":0},0]
["PAA050","PA","PAA050",5,null,"0201020301","Finanziamenti da Stato per investimenti - ricerca",{"$f":"SUMIF('00 Alimenta'!$B:$B,'00 PDC SP'!$F302,'00 Alimenta'!D:D)","v":0},{"$f":"SUMIF('00 Alimenta'!$B:$B,'00 PDC SP'!$F302,'00 Alimenta'!E:E)","v":0},{"$f":"SUMIF('00 Alimenta'!$B:$B,'00 PDC SP'!$F302,'00 Alimenta'!F:F)","v":0},{"$f":"SUMIF('00 Alimenta'!$B:$B,'00 PDC SP'!$F302,'00 Alimenta'!G:G)","v":0},{"$f":"SUMIF('00 Alimenta'!$B:$B,'00 PDC SP'!$F302,'00 Alimenta'!H:H)","v":0},{"$f":"SUMIF('00 Alimenta'!$B:$B,'00 PDC SP'!$F302,'00 Alimenta'!I:I)","v":0},0]
["PAA060","PA","PAA060",5,null,"0201020401","Finanziamenti da Stato per investimenti - altro",{"$f":"SUMIF('00 Alimenta'!$B:$B,'00 PDC SP'!$F303,'00 Alimenta'!D:D)","v":0},{"$f":"SUMIF('00 Alimenta'!$B:$B,'00 PDC SP'!$F303,'00 Alimenta'!E:E)","v":0},{"$f":"SUMIF('00 Alimenta'!$B:$B,'00 PDC SP'!$F303,'00 Alimenta'!F:F)","v":0},{"$f":"SUMIF('00 Alimenta'!$B:$B,'00 PDC SP'!$F303,'00 Alimenta'!G:G)","v":0},{"$f":"SUMIF('00 Alimenta'!$B:$B,'00 PDC SP'!$F303,'00 Alimenta'!H:H)","v":0},{"$f":"SUMIF('00 Alimenta'!$B:$B,'00 PDC SP'!$F303,'00 Alimenta'!I:I)","v":0},0]
["PAA070","PA","PAA070",5,null,"0201020501","Finanziamenti da Regione per investimenti",{"$f":"SUMIF('00 Alimenta'!$B:$B,'00 PDC SP'!$F304,'00 Alimenta'!D:D)","v":38902957.799999997},{"$f":"SUMIF('00 Alimenta'!$B:$B,'00 PDC SP'!$F304,'00 Alimenta'!E:E)","v":122252.5},{"$f":"SUMIF('00 Alimenta'!$B:$B,'00 PDC SP'!$F304,'00 Alimenta'!F:F)","v":1468544.84},{"$f":"SUMIF('00 Alimenta'!$B:$B,'00 PDC SP'!$F304,'00 Alimenta'!G:G)","v":37556665.460000001},{"$f":"SUMIF('00 Alimenta'!$B:$B,'00 PDC SP'!$F304,'00 Alimenta'!H:H)","v":2138846.64},{"$f":"SUMIF('00 Alimenta'!$B:$B,'00 PDC SP'!$F304,'00 Alimenta'!I:I)","v":1674245.68},38021266.420000002]
["PAA080","PA","PAA080",5,null,"0201020601","Finanziamenti da altri soggetti pubblici per investimenti",{"$f":"SUMIF('00 Alimenta'!$B:$B,'00 PDC SP'!$F305,'00 Alimenta'!D:D)","v":0},{"$f":"SUMIF('00 Alimenta'!$B:$B,'00 PDC SP'!$F305,'00 Alimenta'!E:E)","v":0},{"$f":"SUMIF('00 Alimenta'!$B:$B,'00 PDC SP'!$F305,'00 Alimenta'!F:F)","v":0},{"$f":"SUMIF('00 Alimenta'!$B:$B,'00 PDC SP'!$F305,'00 Alimenta'!G:G)","v":0},{"$f":"SUMIF('00 Alimenta'!$B:$B,'00 PDC SP'!$F305,'00 Alimenta'!H:H)","v":0},{"$f":"SUMIF('00 Alimenta'!$B:$B,'00 PDC SP'!$F305,'00 Alimenta'!I:I)","v":0},0]
["PAA090","PA","PAA090",5,null,"0201020701","Finanziamenti per investimenti da rettifica contributi in conto esercizio",{"$f":"SUMIF('00 Alimenta'!$B:$B,'00 PDC SP'!$F306,'00 Alimenta'!D:D)","v":16121598.27},{"$f":"SUMIF('00 Alimenta'!$B:$B,'00 PDC SP'!$F306,'00 Alimenta'!E:E)","v":6506318.8899999997},{"$f":"SUMIF('00 Alimenta'!$B:$B,'00 PDC SP'!$F306,'00 Alimenta'!F:F)","v":4730694.3099999996},{"$f":"SUMIF('00 Alimenta'!$B:$B,'00 PDC SP'!$F306,'00 Alimenta'!G:G)","v":17897222.850000001},{"$f":"SUMIF('00 Alimenta'!$B:$B,'00 PDC SP'!$F306,'00 Alimenta'!H:H)","v":4347846.8099999996},{"$f":"SUMIF('00 Alimenta'!$B:$B,'00 PDC SP'!$F306,'00 Alimenta'!I:I)","v":5185207.28},17059862.379999999]
["PAA100","PA","PAA100",53,null,"0201030101","Riserve da donazioni e lasciti vincolati ad investimenti",{"$f":"SUMIF('00 Alimenta'!$B:$B,'00 PDC SP'!$F307,'00 Alimenta'!D:D)","v":170994.85},{"$f":"SUMIF('00 Alimenta'!$B:$B,'00 PDC SP'!$F307,'00 Alimenta'!E:E)","v":78486.47},{"$f":"SUMIF('00 Alimenta'!$B:$B,'00 PDC SP'!$F307,'00 Alimenta'!F:F)","v":48286.07},{"$f":"SUMIF('00 Alimenta'!$B:$B,'00 PDC SP'!$F307,'00 Alimenta'!G:G)","v":201195.25},{"$f":"SUMIF('00 Alimenta'!$B:$B,'00 PDC SP'!$F307,'00 Alimenta'!H:H)","v":114032.88},{"$f":"SUMIF('00 Alimenta'!$B:$B,'00 PDC SP'!$F307,'00 Alimenta'!I:I)","v":54754.03},260474.1]
["PAA120","PA","PAA120",6,null,"0201040101","Riserve da rivalutazioni",{"$f":"SUMIF('00 Alimenta'!$B:$B,'00 PDC SP'!$F308,'00 Alimenta'!D:D)","v":0},{"$f":"SUMIF('00 Alimenta'!$B:$B,'00 PDC SP'!$F308,'00 Alimenta'!E:E)","v":0},{"$f":"SUMIF('00 Alimenta'!$B:$B,'00 PDC SP'!$F308,'00 Alimenta'!F:F)","v":0},{"$f":"SUMIF('00 Alimenta'!$B:$B,'00 PDC SP'!$F308,'00 Alimenta'!G:G)","v":0},{"$f":"SUMIF('00 Alimenta'!$B:$B,'00 PDC SP'!$F308,'00 Alimenta'!H:H)","v":0},{"$f":"SUMIF('00 Alimenta'!$B:$B,'00 PDC SP'!$F308,'00 Alimenta'!I:I)","v":0},0]
["PAA130","PA","PAA130",6,null,"0201040201","Riserve da plusvalenze da reinvestire",{"$f":"SUMIF('00 Alimenta'!$B:$B,'00 PDC SP'!$F309,'00 Alimenta'!D:D)","v":0},{"$f":"SUMIF('00 Alimenta'!$B:$B,'00 PDC SP'!$F309,'00 Alimenta'!E:E)","v":0},{"$f":"SUMIF('00 Alimenta'!$B:$B,'00 PDC SP'!$F309,'00 Alimenta'!F:F)","v":0},{"$f":"SUMIF('00 Alimenta'!$B:$B,'00 PDC SP'!$F309,'00 Alimenta'!G:G)","v":0},{"$f":"SUMIF('00 Alimenta'!$B:$B,'00 PDC SP'!$F309,'00 Alimenta'!H:H)","v":0},{"$f":"SUMIF('00 Alimenta'!$B:$B,'00 PDC SP'!$F309,'00 Alimenta'!I:I)","v":0},0]
["PAA140","PA","PAA140",6,null,"0201040301","Contributi da reinvestire",{"$f":"SUMIF('00 Alimenta'!$B:$B,'00 PDC SP'!$F310,'00 Alimenta'!D:D)","v":0},{"$f":"SUMIF('00 Alimenta'!$B:$B,'00 PDC SP'!$F310,'00 Alimenta'!E:E)","v":0},{"$f":"SUMIF('00 Alimenta'!$B:$B,'00 PDC SP'!$F310,'00 Alimenta'!F:F)","v":0},{"$f":"SUMIF('00 Alimenta'!$B:$B,'00 PDC SP'!$F310,'00 Alimenta'!G:G)","v":0},{"$f":"SUMIF('00 Alimenta'!$B:$B,'00 PDC SP'!$F310,'00 Alimenta'!H:H)","v":0},{"$f":"SUMIF('00 Alimenta'!$B:$B,'00 PDC SP'!$F310,'00 Alimenta'!I:I)","v":0},0]
["PAA150","PA","PAA150",6,null,"0201040401","Riserve da utili di esercizio destinati ad investimenti",{"$f":"SUMIF('00 Alimenta'!$B:$B,'00 PDC SP'!$F311,'00 Alimenta'!D:D)","v":0},{"$f":"SUMIF('00 Alimenta'!$B:$B,'00 PDC SP'!$F311,'00 Alimenta'!E:E)","v":0},{"$f":"SUMIF('00 Alimenta'!$B:$B,'00 PDC SP'!$F311,'00 Alimenta'!F:F)","v":0},{"$f":"SUMIF('00 Alimenta'!$B:$B,'00 PDC SP'!$F311,'00 Alimenta'!G:G)","v":0},{"$f":"SUMIF('00 Alimenta'!$B:$B,'00 PDC SP'!$F311,'00 Alimenta'!H:H)","v":0},{"$f":"SUMIF('00 Alimenta'!$B:$B,'00 PDC SP'!$F311,'00 Alimenta'!I:I)","v":0},0]
["PAA160","PA","PAA160",6,null,"0201040501","Riserve diverse",{"$f":"SUMIF('00 Alimenta'!$B:$B,'00 PDC SP'!$F312,'00 Alimenta'!D:D)","v":2730000},{"$f":"SUMIF('00 Alimenta'!$B:$B,'00 PDC SP'!$F312,'00 Alimenta'!E:E)","v":0},{"$f":"SUMIF('00 Alimenta'!$B:$B,'00 PDC SP'!$F312,'00 Alimenta'!F:F)","v":0},{"$f":"SUMIF('00 Alimenta'!$B:$B,'00 PDC SP'!$F312,'00 Alimenta'!G:G)","v":2730000},{"$f":"SUMIF('00 Alimenta'!$B:$B,'00 PDC SP'!$F312,'00 Alimenta'!H:H)","v":0},{"$f":"SUMIF('00 Alimenta'!$B:$B,'00 PDC SP'!$F312,'00 Alimenta'!I:I)","v":0},2730000]
["PAA180","PA","PAA180",53,null,"0201050101","Contributi per copertura debiti al 31/12/2005",{"$f":"SUMIF('00 Alimenta'!$B:$B,'00 PDC SP'!$F313,'00 Alimenta'!D:D)","v":0},{"$f":"SUMIF('00 Alimenta'!$B:$B,'00 PDC SP'!$F313,'00 Alimenta'!E:E)","v":0},{"$f":"SUMIF('00 Alimenta'!$B:$B,'00 PDC SP'!$F313,'00 Alimenta'!F:F)","v":0},{"$f":"SUMIF('00 Alimenta'!$B:$B,'00 PDC SP'!$F313,'00 Alimenta'!G:G)","v":0},{"$f":"SUMIF('00 Alimenta'!$B:$B,'00 PDC SP'!$F313,'00 Alimenta'!H:H)","v":0},{"$f":"SUMIF('00 Alimenta'!$B:$B,'00 PDC SP'!$F313,'00 Alimenta'!I:I)","v":0},0]
["PAA190","PA","PAA190",53,null,"0201050201","Contributi per ricostituzione risorse da investimenti esercizi precedenti",{"$f":"SUMIF('00 Alimenta'!$B:$B,'00 PDC SP'!$F314,'00 Alimenta'!D:D)","v":0},{"$f":"SUMIF('00 Alimenta'!$B:$B,'00 PDC SP'!$F314,'00 Alimenta'!E:E)","v":0},{"$f":"SUMIF('00 Alimenta'!$B:$B,'00 PDC SP'!$F314,'00 Alimenta'!F:F)","v":0},{"$f":"SUMIF('00 Alimenta'!$B:$B,'00 PDC SP'!$F314,'00 Alimenta'!G:G)","v":0},{"$f":"SUMIF('00 Alimenta'!$B:$B,'00 PDC SP'!$F314,'00 Alimenta'!H:H)","v":0},{"$f":"SUMIF('00 Alimenta'!$B:$B,'00 PDC SP'!$F314,'00 Alimenta'!I:I)","v":0},0]
["PAA200","PA","PAA200",53,null,"0201050301","Altro - contributi per ripiano perdite",{"$f":"SUMIF('00 Alimenta'!$B:$B,'00 PDC SP'!$F315,'00 Alimenta'!D:D)","v":30778127.57},{"$f":"SUMIF('00 Alimenta'!$B:$B,'00 PDC SP'!$F315,'00 Alimenta'!E:E)","v":14264710},{"$f":"SUMIF('00 Alimenta'!$B:$B,'00 PDC SP'!$F315,'00 Alimenta'!F:F)","v":30778127.57},{"$f":"SUMIF('00 Alimenta'!$B:$B,'00 PDC SP'!$F315,'00 Alimenta'!G:G)","v":14264710},{"$f":"SUMIF('00 Alimenta'!$B:$B,'00 PDC SP'!$F315,'00 Alimenta'!H:H)","v":13609624},{"$f":"SUMIF('00 Alimenta'!$B:$B,'00 PDC SP'!$F315,'00 Alimenta'!I:I)","v":0},27874334]
["PAA210","PA","PAA210",53,null,"0201060101","UTILI PORTATI A NUOVO",{"$f":"SUMIF('00 Alimenta'!$B:$B,'00 PDC SP'!$F316,'00 Alimenta'!D:D)","v":0},{"$f":"SUMIF('00 Alimenta'!$B:$B,'00 PDC SP'!$F316,'00 Alimenta'!E:E)","v":0},{"$f":"SUMIF('00 Alimenta'!$B:$B,'00 PDC SP'!$F316,'00 Alimenta'!F:F)","v":0},{"$f":"SUMIF('00 Alimenta'!$B:$B,'00 PDC SP'!$F316,'00 Alimenta'!G:G)","v":0},{"$f":"SUMIF('00 Alimenta'!$B:$B,'00 PDC SP'!$F316,'00 Alimenta'!H:H)","v":0},{"$f":"SUMIF('00 Alimenta'!$B:$B,'00 PDC SP'!$F316,'00 Alimenta'!I:I)","v":0},0]
["PAA210","PA","PAA210",53,null,"0201060102","PERDITE PORTATI A NUOVO",{"$f":"SUMIF('00 Alimenta'!$B:$B,'00 PDC SP'!$F317,'00 Alimenta'!D:D)","v":-30778127.57},{"$f":"SUMIF('00 Alimenta'!$B:$B,'00 PDC SP'!$F317,'00 Alimenta'!E:E)","v":30778127.57},{"$f":"SUMIF('00 Alimenta'!$B:$B,'00 PDC SP'!$F317,'00 Alimenta'!F:F)","v":14264709.560000001},{"$f":"SUMIF('00 Alimenta'!$B:$B,'00 PDC SP'!$F317,'00 Alimenta'!G:G)","v":-14264709.560000001},{"$f":"SUMIF('00 Alimenta'!$B:$B,'00 PDC SP'!$F317,'00 Alimenta'!H:H)","v":0},{"$f":"SUMIF('00 Alimenta'!$B:$B,'00 PDC SP'!$F317,'00 Alimenta'!I:I)","v":13609624.26},-27874333.82]
["PAA220","UT","PAA220",53,null,"0201070101","UTILE D'ESERCIZIO",{"$f":"SUMIF('00 Alimenta'!$B:$B,'00 PDC SP'!$F318,'00 Alimenta'!D:D)","v":0},{"$f":"SUMIF('00 Alimenta'!$B:$B,'00 PDC SP'!$F318,'00 Alimenta'!E:E)","v":0},{"$f":"SUMIF('00 Alimenta'!$B:$B,'00 PDC SP'!$F318,'00 Alimenta'!F:F)","v":0},{"$f":"SUMIF('00 Alimenta'!$B:$B,'00 PDC SP'!$F318,'00 Alimenta'!G:G)","v":0},{"$f":"SUMIF('00 Alimenta'!$B:$B,'00 PDC SP'!$F318,'00 Alimenta'!H:H)","v":1677.34},{"$f":"SUMIF('00 Alimenta'!$B:$B,'00 PDC SP'!$F318,'00 Alimenta'!I:I)","v":0},1677.34]
["PAA220","UT","PAA220",53,null,"0201070102","PERDITA D'ESERCIZIO",{"$f":"SUMIF('00 Alimenta'!$B:$B,'00 PDC SP'!$F319,'00 Alimenta'!D:D)","v":-14264709.560000001},{"$f":"SUMIF('00 Alimenta'!$B:$B,'00 PDC SP'!$F319,'00 Alimenta'!E:E)","v":14264709.560000001},{"$f":"SUMIF('00 Alimenta'!$B:$B,'00 PDC SP'!$F319,'00 Alimenta'!F:F)","v":13609624.26},{"$f":"SUMIF('00 Alimenta'!$B:$B,'00 PDC SP'!$F319,'00 Alimenta'!G:G)","v":-13609624.26},{"$f":"SUMIF('00 Alimenta'!$B:$B,'00 PDC SP'!$F319,'00 Alimenta'!H:H)","v":13609624.26},{"$f":"SUMIF('00 Alimenta'!$B:$B,'00 PDC SP'!$F319,'00 Alimenta'!I:I)","v":0},0]
["AAA030","AA","AAA030",4,null,"0202010101","F.do Amm.to costi di impianto e di ampliamento",{"$f":"SUMIF('00 Alimenta'!$B:$B,'00 PDC SP'!$F320,'00 Alimenta'!D:D)","v":0},{"$f":"SUMIF('00 Alimenta'!$B:$B,'00 PDC SP'!$F320,'00 Alimenta'!E:E)","v":0},{"$f":"SUMIF('00 Alimenta'!$B:$B,'00 PDC SP'!$F320,'00 Alimenta'!F:F)","v":0},{"$f":"SUMIF('00 Alimenta'!$B:$B,'00 PDC SP'!$F320,'00 Alimenta'!G:G)","v":0},{"$f":"SUMIF('00 Alimenta'!$B:$B,'00 PDC SP'!$F320,'00 Alimenta'!H:H)","v":0},{"$f":"SUMIF('00 Alimenta'!$B:$B,'00 PDC SP'!$F320,'00 Alimenta'!I:I)","v":0},0]
["AAA060","AA","AAA060",4,null,"0202010201","F.do Amm.to costi di ricerca e sviluppo",{"$f":"SUMIF('00 Alimenta'!$B:$B,'00 PDC SP'!$F321,'00 Alimenta'!D:D)","v":0},{"$f":"SUMIF('00 Alimenta'!$B:$B,'00 PDC SP'!$F321,'00 Alimenta'!E:E)","v":0},{"$f":"SUMIF('00 Alimenta'!$B:$B,'00 PDC SP'!$F321,'00 Alimenta'!F:F)","v":0},{"$f":"SUMIF('00 Alimenta'!$B:$B,'00 PDC SP'!$F321,'00 Alimenta'!G:G)","v":0},{"$f":"SUMIF('00 Alimenta'!$B:$B,'00 PDC SP'!$F321,'00 Alimenta'!H:H)","v":0},{"$f":"SUMIF('00 Alimenta'!$B:$B,'00 PDC SP'!$F321,'00 Alimenta'!I:I)","v":0},0]
["AAA090","AA","AAA090",4,null,"0202010301","F.do Amm.to diritti di brevetto e diritti di utilizzazione delle opere d'ingegno - derivanti dall'attività di ricerca",{"$f":"SUMIF('00 Alimenta'!$B:$B,'00 PDC SP'!$F322,'00 Alimenta'!D:D)","v":0},{"$f":"SUMIF('00 Alimenta'!$B:$B,'00 PDC SP'!$F322,'00 Alimenta'!E:E)","v":0},{"$f":"SUMIF('00 Alimenta'!$B:$B,'00 PDC SP'!$F322,'00 Alimenta'!F:F)","v":0},{"$f":"SUMIF('00 Alimenta'!$B:$B,'00 PDC SP'!$F322,'00 Alimenta'!G:G)","v":0},{"$f":"SUMIF('00 Alimenta'!$B:$B,'00 PDC SP'!$F322,'00 Alimenta'!H:H)","v":0},{"$f":"SUMIF('00 Alimenta'!$B:$B,'00 PDC SP'!$F322,'00 Alimenta'!I:I)","v":0},0]
["AAA110","AA","AAA110",4,null,"0202010401","F.do Amm.to diritti di brevetto e diritti di utilizzazione delle opere d'ingegno - altri",{"$f":"SUMIF('00 Alimenta'!$B:$B,'00 PDC SP'!$F323,'00 Alimenta'!D:D)","v":0},{"$f":"SUMIF('00 Alimenta'!$B:$B,'00 PDC SP'!$F323,'00 Alimenta'!E:E)","v":0},{"$f":"SUMIF('00 Alimenta'!$B:$B,'00 PDC SP'!$F323,'00 Alimenta'!F:F)","v":0},{"$f":"SUMIF('00 Alimenta'!$B:$B,'00 PDC SP'!$F323,'00 Alimenta'!G:G)","v":0},{"$f":"SUMIF('00 Alimenta'!$B:$B,'00 PDC SP'!$F323,'00 Alimenta'!H:H)","v":0},{"$f":"SUMIF('00 Alimenta'!$B:$B,'00 PDC SP'!$F323,'00 Alimenta'!I:I)","v":0},0]
["AAA150","AA","AAA150",4,null,"0202010501","F.do Amm.to concessioni pluriennali",{"$f":"SUMIF('00 Alimenta'!$B:$B,'00 PDC SP'!$F324,'00 Alimenta'!D:D)","v":0},{"$f":"SUMIF('00 Alimenta'!$B:$B,'00 PDC SP'!$F324,'00 Alimenta'!E:E)","v":0},{"$f":"SUMIF('00 Alimenta'!$B:$B,'00 PDC SP'!$F324,'00 Alimenta'!F:F)","v":0},{"$f":"SUMIF('00 Alimenta'!$B:$B,'00 PDC SP'!$F324,'00 Alimenta'!G:G)","v":0},{"$f":"SUMIF('00 Alimenta'!$B:$B,'00 PDC SP'!$F324,'00 Alimenta'!H:H)","v":0},{"$f":"SUMIF('00 Alimenta'!$B:$B,'00 PDC SP'!$F324,'00 Alimenta'!I:I)","v":0},0]
["AAA150","AA","AAA150",4,null,"0202010601","F.do Amm.to licenze d'uso software",{"$f":"SUMIF('00 Alimenta'!$B:$B,'00 PDC SP'!$F325,'00 Alimenta'!D:D)","v":-1558625.15},{"$f":"SUMIF('00 Alimenta'!$B:$B,'00 PDC SP'!$F325,'00 Alimenta'!E:E)","v":-136552.39000000001},{"$f":"SUMIF('00 Alimenta'!$B:$B,'00 PDC SP'!$F325,'00 Alimenta'!F:F)","v":0},{"$f":"SUMIF('00 Alimenta'!$B:$B,'00 PDC SP'!$F325,'00 Alimenta'!G:G)","v":-1695177.54},{"$f":"SUMIF('00 Alimenta'!$B:$B,'00 PDC SP'!$F325,'00 Alimenta'!H:H)","v":-160938.81},{"$f":"SUMIF('00 Alimenta'!$B:$B,'00 PDC SP'!$F325,'00 Alimenta'!I:I)","v":-11461.65},-1844654.7000000002]
["AAA150","AA","AAA150",4,null,"0202010701","F.do amm.to marchi e diritti simili",{"$f":"SUMIF('00 Alimenta'!$B:$B,'00 PDC SP'!$F326,'00 Alimenta'!D:D)","v":0},{"$f":"SUMIF('00 Alimenta'!$B:$B,'00 PDC SP'!$F326,'00 Alimenta'!E:E)","v":0},{"$f":"SUMIF('00 Alimenta'!$B:$B,'00 PDC SP'!$F326,'00 Alimenta'!F:F)","v":0},{"$f":"SUMIF('00 Alimenta'!$B:$B,'00 PDC SP'!$F326,'00 Alimenta'!G:G)","v":0},{"$f":"SUMIF('00 Alimenta'!$B:$B,'00 PDC SP'!$F326,'00 Alimenta'!H:H)","v":0},{"$f":"SUMIF('00 Alimenta'!$B:$B,'00 PDC SP'!$F326,'00 Alimenta'!I:I)","v":0},0]
["AAA170","AA","AAA170",4,null,"0202010801","F.do Amm.to migliorie su beni di terzi",{"$f":"SUMIF('00 Alimenta'!$B:$B,'00 PDC SP'!$F327,'00 Alimenta'!D:D)","v":0},{"$f":"SUMIF('00 Alimenta'!$B:$B,'00 PDC SP'!$F327,'00 Alimenta'!E:E)","v":0},{"$f":"SUMIF('00 Alimenta'!$B:$B,'00 PDC SP'!$F327,'00 Alimenta'!F:F)","v":0},{"$f":"SUMIF('00 Alimenta'!$B:$B,'00 PDC SP'!$F327,'00 Alimenta'!G:G)","v":0},{"$f":"SUMIF('00 Alimenta'!$B:$B,'00 PDC SP'!$F327,'00 Alimenta'!H:H)","v":0},{"$f":"SUMIF('00 Alimenta'!$B:$B,'00 PDC SP'!$F327,'00 Alimenta'!I:I)","v":0},0]
[{"$f":"IF(E328=\"\",C328,C328&E328)","v":"AAA190"},{"$f":"LEFT(C328,2)","v":"AA"},"AAA190",4,null,"0202010901","F.do Amm.to pubblicità",{"$f":"SUMIF('00 Alimenta'!$B:$B,'00 PDC SP'!$F328,'00 Alimenta'!D:D)","v":0},{"$f":"SUMIF('00 Alimenta'!$B:$B,'00 PDC SP'!$F328,'00 Alimenta'!E:E)","v":0},{"$f":"SUMIF('00 Alimenta'!$B:$B,'00 PDC SP'!$F328,'00 Alimenta'!F:F)","v":0},{"$f":"SUMIF('00 Alimenta'!$B:$B,'00 PDC SP'!$F328,'00 Alimenta'!G:G)","v":0},{"$f":"SUMIF('00 Alimenta'!$B:$B,'00 PDC SP'!$F328,'00 Alimenta'!H:H)","v":0},{"$f":"SUMIF('00 Alimenta'!$B:$B,'00 PDC SP'!$F328,'00 Alimenta'!I:I)","v":0},{"$f":"K328+L328-M328","v":0}]
["AAA210","AA","AAA210",4,null,"0202011001","F.do Amm.to altre immobilizzazioni immateriali",{"$f":"SUMIF('00 Alimenta'!$B:$B,'00 PDC SP'!$F329,'00 Alimenta'!D:D)","v":0},{"$f":"SUMIF('00 Alimenta'!$B:$B,'00 PDC SP'!$F329,'00 Alimenta'!E:E)","v":0},{"$f":"SUMIF('00 Alimenta'!$B:$B,'00 PDC SP'!$F329,'00 Alimenta'!F:F)","v":0},{"$f":"SUMIF('00 Alimenta'!$B:$B,'00 PDC SP'!$F329,'00 Alimenta'!G:G)","v":0},{"$f":"SUMIF('00 Alimenta'!$B:$B,'00 PDC SP'!$F329,'00 Alimenta'!H:H)","v":0},{"$f":"SUMIF('00 Alimenta'!$B:$B,'00 PDC SP'!$F329,'00 Alimenta'!I:I)","v":0},0]
["AAA340","AA","AAA340",2,null,"0202020101","F.do Amm.to Fabbricati non strumentali (disponibili)",{"$f":"SUMIF('00 Alimenta'!$B:$B,'00 PDC SP'!$F330,'00 Alimenta'!D:D)","v":0},{"$f":"SUMIF('00 Alimenta'!$B:$B,'00 PDC SP'!$F330,'00 Alimenta'!E:E)","v":0},{"$f":"SUMIF('00 Alimenta'!$B:$B,'00 PDC SP'!$F330,'00 Alimenta'!F:F)","v":0},{"$f":"SUMIF('00 Alimenta'!$B:$B,'00 PDC SP'!$F330,'00 Alimenta'!G:G)","v":0},{"$f":"SUMIF('00 Alimenta'!$B:$B,'00 PDC SP'!$F330,'00 Alimenta'!H:H)","v":0},{"$f":"SUMIF('00 Alimenta'!$B:$B,'00 PDC SP'!$F330,'00 Alimenta'!I:I)","v":0},0]
["AAA340","AA","AAA340",2,null,"0202020201","F.do Amm.to costruzioni leggere",{"$f":"SUMIF('00 Alimenta'!$B:$B,'00 PDC SP'!$F331,'00 Alimenta'!D:D)","v":0},{"$f":"SUMIF('00 Alimenta'!$B:$B,'00 PDC SP'!$F331,'00 Alimenta'!E:E)","v":0},{"$f":"SUMIF('00 Alimenta'!$B:$B,'00 PDC SP'!$F331,'00 Alimenta'!F:F)","v":0},{"$f":"SUMIF('00 Alimenta'!$B:$B,'00 PDC SP'!$F331,'00 Alimenta'!G:G)","v":0},{"$f":"SUMIF('00 Alimenta'!$B:$B,'00 PDC SP'!$F331,'00 Alimenta'!H:H)","v":0},{"$f":"SUMIF('00 Alimenta'!$B:$B,'00 PDC SP'!$F331,'00 Alimenta'!I:I)","v":0},0]
["AAA370","AA","AAA370",2,null,"0202020301","F.do Amm.to Fabbricati strumentali (indisponibili)",{"$f":"SUMIF('00 Alimenta'!$B:$B,'00 PDC SP'!$F332,'00 Alimenta'!D:D)","v":-85911487.290000007},{"$f":"SUMIF('00 Alimenta'!$B:$B,'00 PDC SP'!$F332,'00 Alimenta'!E:E)","v":-4970287.05},{"$f":"SUMIF('00 Alimenta'!$B:$B,'00 PDC SP'!$F332,'00 Alimenta'!F:F)","v":0},{"$f":"SUMIF('00 Alimenta'!$B:$B,'00 PDC SP'!$F332,'00 Alimenta'!G:G)","v":-90881774.340000004},{"$f":"SUMIF('00 Alimenta'!$B:$B,'00 PDC SP'!$F332,'00 Alimenta'!H:H)","v":-4970458.6100000003},{"$f":"SUMIF('00 Alimenta'!$B:$B,'00 PDC SP'!$F332,'00 Alimenta'!I:I)","v":0},-95852232.950000003]
["AAA400","AA","AAA400",3,null,"0202020401","F.do ammortamento impianti sanitari",{"$f":"SUMIF('00 Alimenta'!$B:$B,'00 PDC SP'!$F333,'00 Alimenta'!D:D)","v":0},{"$f":"SUMIF('00 Alimenta'!$B:$B,'00 PDC SP'!$F333,'00 Alimenta'!E:E)","v":0},{"$f":"SUMIF('00 Alimenta'!$B:$B,'00 PDC SP'!$F333,'00 Alimenta'!F:F)","v":0},{"$f":"SUMIF('00 Alimenta'!$B:$B,'00 PDC SP'!$F333,'00 Alimenta'!G:G)","v":0},{"$f":"SUMIF('00 Alimenta'!$B:$B,'00 PDC SP'!$F333,'00 Alimenta'!H:H)","v":0},{"$f":"SUMIF('00 Alimenta'!$B:$B,'00 PDC SP'!$F333,'00 Alimenta'!I:I)","v":0},0]
["AAA400","AA","AAA400",3,null,"0202020501","F.do ammortamento impianti generici",{"$f":"SUMIF('00 Alimenta'!$B:$B,'00 PDC SP'!$F334,'00 Alimenta'!D:D)","v":0},{"$f":"SUMIF('00 Alimenta'!$B:$B,'00 PDC SP'!$F334,'00 Alimenta'!E:E)","v":0},{"$f":"SUMIF('00 Alimenta'!$B:$B,'00 PDC SP'!$F334,'00 Alimenta'!F:F)","v":0},{"$f":"SUMIF('00 Alimenta'!$B:$B,'00 PDC SP'!$F334,'00 Alimenta'!G:G)","v":0},{"$f":"SUMIF('00 Alimenta'!$B:$B,'00 PDC SP'!$F334,'00 Alimenta'!H:H)","v":0},{"$f":"SUMIF('00 Alimenta'!$B:$B,'00 PDC SP'!$F334,'00 Alimenta'!I:I)","v":0},0]
["AAA400","AA","AAA400",3,null,"0202020601","F.do amm.to macchinari sanitari",{"$f":"SUMIF('00 Alimenta'!$B:$B,'00 PDC SP'!$F335,'00 Alimenta'!D:D)","v":0},{"$f":"SUMIF('00 Alimenta'!$B:$B,'00 PDC SP'!$F335,'00 Alimenta'!E:E)","v":0},{"$f":"SUMIF('00 Alimenta'!$B:$B,'00 PDC SP'!$F335,'00 Alimenta'!F:F)","v":0},{"$f":"SUMIF('00 Alimenta'!$B:$B,'00 PDC SP'!$F335,'00 Alimenta'!G:G)","v":0},{"$f":"SUMIF('00 Alimenta'!$B:$B,'00 PDC SP'!$F335,'00 Alimenta'!H:H)","v":0},{"$f":"SUMIF('00 Alimenta'!$B:$B,'00 PDC SP'!$F335,'00 Alimenta'!I:I)","v":0},0]
["AAA400","AA","AAA400",3,null,"0202020701","F.do ammortamento macchinari generici",{"$f":"SUMIF('00 Alimenta'!$B:$B,'00 PDC SP'!$F336,'00 Alimenta'!D:D)","v":-4888094.1900000004},{"$f":"SUMIF('00 Alimenta'!$B:$B,'00 PDC SP'!$F336,'00 Alimenta'!E:E)","v":-263002.39},{"$f":"SUMIF('00 Alimenta'!$B:$B,'00 PDC SP'!$F336,'00 Alimenta'!F:F)","v":0},{"$f":"SUMIF('00 Alimenta'!$B:$B,'00 PDC SP'!$F336,'00 Alimenta'!G:G)","v":-5151096.58},{"$f":"SUMIF('00 Alimenta'!$B:$B,'00 PDC SP'!$F336,'00 Alimenta'!H:H)","v":-243006.53},{"$f":"SUMIF('00 Alimenta'!$B:$B,'00 PDC SP'!$F336,'00 Alimenta'!I:I)","v":-244.8},-5393858.3100000005]
["AAA400","AA","AAA400",3,null,"0202020801","F.do Amm.to impianti e macchinari < 516 euro",{"$f":"SUMIF('00 Alimenta'!$B:$B,'00 PDC SP'!$F337,'00 Alimenta'!D:D)","v":0},{"$f":"SUMIF('00 Alimenta'!$B:$B,'00 PDC SP'!$F337,'00 Alimenta'!E:E)","v":0},{"$f":"SUMIF('00 Alimenta'!$B:$B,'00 PDC SP'!$F337,'00 Alimenta'!F:F)","v":0},{"$f":"SUMIF('00 Alimenta'!$B:$B,'00 PDC SP'!$F337,'00 Alimenta'!G:G)","v":0},{"$f":"SUMIF('00 Alimenta'!$B:$B,'00 PDC SP'!$F337,'00 Alimenta'!H:H)","v":0},{"$f":"SUMIF('00 Alimenta'!$B:$B,'00 PDC SP'!$F337,'00 Alimenta'!I:I)","v":0},0]
["AAA430","AA","AAA430",3,null,"0202020901","F.do Amm.to Attrezzature sanitarie e scientifiche",{"$f":"SUMIF('00 Alimenta'!$B:$B,'00 PDC SP'!$F338,'00 Alimenta'!D:D)","v":0},{"$f":"SUMIF('00 Alimenta'!$B:$B,'00 PDC SP'!$F338,'00 Alimenta'!E:E)","v":0},{"$f":"SUMIF('00 Alimenta'!$B:$B,'00 PDC SP'!$F338,'00 Alimenta'!F:F)","v":0},{"$f":"SUMIF('00 Alimenta'!$B:$B,'00 PDC SP'!$F338,'00 Alimenta'!G:G)","v":0},{"$f":"SUMIF('00 Alimenta'!$B:$B,'00 PDC SP'!$F338,'00 Alimenta'!H:H)","v":0},{"$f":"SUMIF('00 Alimenta'!$B:$B,'00 PDC SP'!$F338,'00 Alimenta'!I:I)","v":0},0]
["AAA430","AA","AAA430",3,null,"0202021001","F.do Amm.to Attrezzature generiche",{"$f":"SUMIF('00 Alimenta'!$B:$B,'00 PDC SP'!$F339,'00 Alimenta'!D:D)","v":-66333749.009999998},{"$f":"SUMIF('00 Alimenta'!$B:$B,'00 PDC SP'!$F339,'00 Alimenta'!E:E)","v":-4163720.13},{"$f":"SUMIF('00 Alimenta'!$B:$B,'00 PDC SP'!$F339,'00 Alimenta'!F:F)","v":-70.78},{"$f":"SUMIF('00 Alimenta'!$B:$B,'00 PDC SP'!$F339,'00 Alimenta'!G:G)","v":-70497398.359999999},{"$f":"SUMIF('00 Alimenta'!$B:$B,'00 PDC SP'!$F339,'00 Alimenta'!H:H)","v":-4807326.2300000004},{"$f":"SUMIF('00 Alimenta'!$B:$B,'00 PDC SP'!$F339,'00 Alimenta'!I:I)","v":-5868448.4900000002},-69436276.100000009]
["AAA430","AA","AAA430",3,null,"0202021101","F.do amm.to attrezzature sanitarie e scientifiche < 516 euro",{"$f":"SUMIF('00 Alimenta'!$B:$B,'00 PDC SP'!$F340,'00 Alimenta'!D:D)","v":0},{"$f":"SUMIF('00 Alimenta'!$B:$B,'00 PDC SP'!$F340,'00 Alimenta'!E:E)","v":0},{"$f":"SUMIF('00 Alimenta'!$B:$B,'00 PDC SP'!$F340,'00 Alimenta'!F:F)","v":0},{"$f":"SUMIF('00 Alimenta'!$B:$B,'00 PDC SP'!$F340,'00 Alimenta'!G:G)","v":0},{"$f":"SUMIF('00 Alimenta'!$B:$B,'00 PDC SP'!$F340,'00 Alimenta'!H:H)","v":0},{"$f":"SUMIF('00 Alimenta'!$B:$B,'00 PDC SP'!$F340,'00 Alimenta'!I:I)","v":0},0]
["AAA460","AA","AAA460",3,null,"0202021201","F.do Amm.to mobili e arredi",{"$f":"SUMIF('00 Alimenta'!$B:$B,'00 PDC SP'!$F341,'00 Alimenta'!D:D)","v":-8722595.6699999999},{"$f":"SUMIF('00 Alimenta'!$B:$B,'00 PDC SP'!$F341,'00 Alimenta'!E:E)","v":-361188.29},{"$f":"SUMIF('00 Alimenta'!$B:$B,'00 PDC SP'!$F341,'00 Alimenta'!F:F)","v":0},{"$f":"SUMIF('00 Alimenta'!$B:$B,'00 PDC SP'!$F341,'00 Alimenta'!G:G)","v":-9083783.9600000009},{"$f":"SUMIF('00 Alimenta'!$B:$B,'00 PDC SP'!$F341,'00 Alimenta'!H:H)","v":-354383.59},{"$f":"SUMIF('00 Alimenta'!$B:$B,'00 PDC SP'!$F341,'00 Alimenta'!I:I)","v":-89444.45},-9348723.1000000015]
["AAA460","AA","AAA460",3,null,"0202021301","F.do Amm.to mobili d'ufficio",{"$f":"SUMIF('00 Alimenta'!$B:$B,'00 PDC SP'!$F342,'00 Alimenta'!D:D)","v":0},{"$f":"SUMIF('00 Alimenta'!$B:$B,'00 PDC SP'!$F342,'00 Alimenta'!E:E)","v":0},{"$f":"SUMIF('00 Alimenta'!$B:$B,'00 PDC SP'!$F342,'00 Alimenta'!F:F)","v":0},{"$f":"SUMIF('00 Alimenta'!$B:$B,'00 PDC SP'!$F342,'00 Alimenta'!G:G)","v":0},{"$f":"SUMIF('00 Alimenta'!$B:$B,'00 PDC SP'!$F342,'00 Alimenta'!H:H)","v":0},{"$f":"SUMIF('00 Alimenta'!$B:$B,'00 PDC SP'!$F342,'00 Alimenta'!I:I)","v":0},0]
["AAA460","AA","AAA460",3,null,"0202021401","F.do amm.to mobili d'ufficio < 516 euro",{"$f":"SUMIF('00 Alimenta'!$B:$B,'00 PDC SP'!$F343,'00 Alimenta'!D:D)","v":0},{"$f":"SUMIF('00 Alimenta'!$B:$B,'00 PDC SP'!$F343,'00 Alimenta'!E:E)","v":0},{"$f":"SUMIF('00 Alimenta'!$B:$B,'00 PDC SP'!$F343,'00 Alimenta'!F:F)","v":0},{"$f":"SUMIF('00 Alimenta'!$B:$B,'00 PDC SP'!$F343,'00 Alimenta'!G:G)","v":0},{"$f":"SUMIF('00 Alimenta'!$B:$B,'00 PDC SP'!$F343,'00 Alimenta'!H:H)","v":0},{"$f":"SUMIF('00 Alimenta'!$B:$B,'00 PDC SP'!$F343,'00 Alimenta'!I:I)","v":0},0]
["AAA490","AA","AAA490",3,null,"0202021501","F.do Amm.to Elicotteri",{"$f":"SUMIF('00 Alimenta'!$B:$B,'00 PDC SP'!$F344,'00 Alimenta'!D:D)","v":0},{"$f":"SUMIF('00 Alimenta'!$B:$B,'00 PDC SP'!$F344,'00 Alimenta'!E:E)","v":0},{"$f":"SUMIF('00 Alimenta'!$B:$B,'00 PDC SP'!$F344,'00 Alimenta'!F:F)","v":0},{"$f":"SUMIF('00 Alimenta'!$B:$B,'00 PDC SP'!$F344,'00 Alimenta'!G:G)","v":0},{"$f":"SUMIF('00 Alimenta'!$B:$B,'00 PDC SP'!$F344,'00 Alimenta'!H:H)","v":0},{"$f":"SUMIF('00 Alimenta'!$B:$B,'00 PDC SP'!$F344,'00 Alimenta'!I:I)","v":0},0]
["AAA490","AA","AAA490",3,null,"0202021601","F.do Amm.to Ambulanze ",{"$f":"SUMIF('00 Alimenta'!$B:$B,'00 PDC SP'!$F345,'00 Alimenta'!D:D)","v":0},{"$f":"SUMIF('00 Alimenta'!$B:$B,'00 PDC SP'!$F345,'00 Alimenta'!E:E)","v":0},{"$f":"SUMIF('00 Alimenta'!$B:$B,'00 PDC SP'!$F345,'00 Alimenta'!F:F)","v":0},{"$f":"SUMIF('00 Alimenta'!$B:$B,'00 PDC SP'!$F345,'00 Alimenta'!G:G)","v":0},{"$f":"SUMIF('00 Alimenta'!$B:$B,'00 PDC SP'!$F345,'00 Alimenta'!H:H)","v":-601.44000000000005},{"$f":"SUMIF('00 Alimenta'!$B:$B,'00 PDC SP'!$F345,'00 Alimenta'!I:I)","v":0},-601.44000000000005]
["AAA490","AA","AAA490",3,null,"0202021701","F.do Amm.to Altri mezzi di trasporto",{"$f":"SUMIF('00 Alimenta'!$B:$B,'00 PDC SP'!$F346,'00 Alimenta'!D:D)","v":-1605809.11},{"$f":"SUMIF('00 Alimenta'!$B:$B,'00 PDC SP'!$F346,'00 Alimenta'!E:E)","v":-122740.86},{"$f":"SUMIF('00 Alimenta'!$B:$B,'00 PDC SP'!$F346,'00 Alimenta'!F:F)","v":0},{"$f":"SUMIF('00 Alimenta'!$B:$B,'00 PDC SP'!$F346,'00 Alimenta'!G:G)","v":-1728549.97},{"$f":"SUMIF('00 Alimenta'!$B:$B,'00 PDC SP'!$F346,'00 Alimenta'!H:H)","v":-92937.66},{"$f":"SUMIF('00 Alimenta'!$B:$B,'00 PDC SP'!$F346,'00 Alimenta'!I:I)","v":-149825.10999999999},-1671662.52]
["AAA530","AA","AAA530",3,null,"0202021801","F.do Amm.to attrezzature e macchine d'ufficio",{"$f":"SUMIF('00 Alimenta'!$B:$B,'00 PDC SP'!$F347,'00 Alimenta'!D:D)","v":0},{"$f":"SUMIF('00 Alimenta'!$B:$B,'00 PDC SP'!$F347,'00 Alimenta'!E:E)","v":0},{"$f":"SUMIF('00 Alimenta'!$B:$B,'00 PDC SP'!$F347,'00 Alimenta'!F:F)","v":0},{"$f":"SUMIF('00 Alimenta'!$B:$B,'00 PDC SP'!$F347,'00 Alimenta'!G:G)","v":0},{"$f":"SUMIF('00 Alimenta'!$B:$B,'00 PDC SP'!$F347,'00 Alimenta'!H:H)","v":0},{"$f":"SUMIF('00 Alimenta'!$B:$B,'00 PDC SP'!$F347,'00 Alimenta'!I:I)","v":0},0]
["AAA530","AA","AAA530",3,null,"0202021901","F.do Amm.to attrezzature tecnico - economali",{"$f":"SUMIF('00 Alimenta'!$B:$B,'00 PDC SP'!$F348,'00 Alimenta'!D:D)","v":0},{"$f":"SUMIF('00 Alimenta'!$B:$B,'00 PDC SP'!$F348,'00 Alimenta'!E:E)","v":0},{"$f":"SUMIF('00 Alimenta'!$B:$B,'00 PDC SP'!$F348,'00 Alimenta'!F:F)","v":0},{"$f":"SUMIF('00 Alimenta'!$B:$B,'00 PDC SP'!$F348,'00 Alimenta'!G:G)","v":0},{"$f":"SUMIF('00 Alimenta'!$B:$B,'00 PDC SP'!$F348,'00 Alimenta'!H:H)","v":0},{"$f":"SUMIF('00 Alimenta'!$B:$B,'00 PDC SP'!$F348,'00 Alimenta'!I:I)","v":0},0]
["AAA530","AA","AAA530",3,null,"0202022001","F.do Amm.to computer e macchinari elettronici",{"$f":"SUMIF('00 Alimenta'!$B:$B,'00 PDC SP'!$F349,'00 Alimenta'!D:D)","v":-4633056.04},{"$f":"SUMIF('00 Alimenta'!$B:$B,'00 PDC SP'!$F349,'00 Alimenta'!E:E)","v":-228512.78},{"$f":"SUMIF('00 Alimenta'!$B:$B,'00 PDC SP'!$F349,'00 Alimenta'!F:F)","v":-2012.8},{"$f":"SUMIF('00 Alimenta'!$B:$B,'00 PDC SP'!$F349,'00 Alimenta'!G:G)","v":-4859556.0199999996},{"$f":"SUMIF('00 Alimenta'!$B:$B,'00 PDC SP'!$F349,'00 Alimenta'!H:H)","v":-237629.17},{"$f":"SUMIF('00 Alimenta'!$B:$B,'00 PDC SP'!$F349,'00 Alimenta'!I:I)","v":-308936.13},-4788249.0599999996]
["AAA530","AA","AAA530",3,null,"0202022101","F.do Amm.to altri beni materiali",{"$f":"SUMIF('00 Alimenta'!$B:$B,'00 PDC SP'!$F350,'00 Alimenta'!D:D)","v":-379763.03},{"$f":"SUMIF('00 Alimenta'!$B:$B,'00 PDC SP'!$F350,'00 Alimenta'!E:E)","v":-16373.87},{"$f":"SUMIF('00 Alimenta'!$B:$B,'00 PDC SP'!$F350,'00 Alimenta'!F:F)","v":0},{"$f":"SUMIF('00 Alimenta'!$B:$B,'00 PDC SP'!$F350,'00 Alimenta'!G:G)","v":-396136.9},{"$f":"SUMIF('00 Alimenta'!$B:$B,'00 PDC SP'!$F350,'00 Alimenta'!H:H)","v":-14155.8},{"$f":"SUMIF('00 Alimenta'!$B:$B,'00 PDC SP'!$F350,'00 Alimenta'!I:I)","v":-3249.6},-407043.10000000003]
["AAA530","AA","AAA530",3,null,"0202022201","F.do Amm.to altri beni < 516 euro",{"$f":"SUMIF('00 Alimenta'!$B:$B,'00 PDC SP'!$F351,'00 Alimenta'!D:D)","v":0},{"$f":"SUMIF('00 Alimenta'!$B:$B,'00 PDC SP'!$F351,'00 Alimenta'!E:E)","v":0},{"$f":"SUMIF('00 Alimenta'!$B:$B,'00 PDC SP'!$F351,'00 Alimenta'!F:F)","v":0},{"$f":"SUMIF('00 Alimenta'!$B:$B,'00 PDC SP'!$F351,'00 Alimenta'!G:G)","v":0},{"$f":"SUMIF('00 Alimenta'!$B:$B,'00 PDC SP'!$F351,'00 Alimenta'!H:H)","v":0},{"$f":"SUMIF('00 Alimenta'!$B:$B,'00 PDC SP'!$F351,'00 Alimenta'!I:I)","v":0},0]
["AAA230","AA","AAA230",34,null,"0202030101","F.do Svalut. Costi di impianto e di ampliamento",{"$f":"SUMIF('00 Alimenta'!$B:$B,'00 PDC SP'!$F352,'00 Alimenta'!D:D)","v":0},{"$f":"SUMIF('00 Alimenta'!$B:$B,'00 PDC SP'!$F352,'00 Alimenta'!E:E)","v":0},{"$f":"SUMIF('00 Alimenta'!$B:$B,'00 PDC SP'!$F352,'00 Alimenta'!F:F)","v":0},{"$f":"SUMIF('00 Alimenta'!$B:$B,'00 PDC SP'!$F352,'00 Alimenta'!G:G)","v":0},{"$f":"SUMIF('00 Alimenta'!$B:$B,'00 PDC SP'!$F352,'00 Alimenta'!H:H)","v":0},{"$f":"SUMIF('00 Alimenta'!$B:$B,'00 PDC SP'!$F352,'00 Alimenta'!I:I)","v":0},0]
["AAA240","AA","AAA240",35,null,"0202030102","F.do Svalut. Costi di ricerca e sviluppo",{"$f":"SUMIF('00 Alimenta'!$B:$B,'00 PDC SP'!$F353,'00 Alimenta'!D:D)","v":0},{"$f":"SUMIF('00 Alimenta'!$B:$B,'00 PDC SP'!$F353,'00 Alimenta'!E:E)","v":0},{"$f":"SUMIF('00 Alimenta'!$B:$B,'00 PDC SP'!$F353,'00 Alimenta'!F:F)","v":0},{"$f":"SUMIF('00 Alimenta'!$B:$B,'00 PDC SP'!$F353,'00 Alimenta'!G:G)","v":0},{"$f":"SUMIF('00 Alimenta'!$B:$B,'00 PDC SP'!$F353,'00 Alimenta'!H:H)","v":0},{"$f":"SUMIF('00 Alimenta'!$B:$B,'00 PDC SP'!$F353,'00 Alimenta'!I:I)","v":0},0]
["AAA250","AA","AAA250",36,null,"0202030103","F.do Svalut. Diritti di brevetto e diritti di utilizzazione delle opere d'ingegno",{"$f":"SUMIF('00 Alimenta'!$B:$B,'00 PDC SP'!$F354,'00 Alimenta'!D:D)","v":0},{"$f":"SUMIF('00 Alimenta'!$B:$B,'00 PDC SP'!$F354,'00 Alimenta'!E:E)","v":0},{"$f":"SUMIF('00 Alimenta'!$B:$B,'00 PDC SP'!$F354,'00 Alimenta'!F:F)","v":0},{"$f":"SUMIF('00 Alimenta'!$B:$B,'00 PDC SP'!$F354,'00 Alimenta'!G:G)","v":0},{"$f":"SUMIF('00 Alimenta'!$B:$B,'00 PDC SP'!$F354,'00 Alimenta'!H:H)","v":0},{"$f":"SUMIF('00 Alimenta'!$B:$B,'00 PDC SP'!$F354,'00 Alimenta'!I:I)","v":0},0]
["AAA260","AA","AAA260",38,null,"0202030104","F.do Svalut.  Concessioni pluriennali",{"$f":"SUMIF('00 Alimenta'!$B:$B,'00 PDC SP'!$F355,'00 Alimenta'!D:D)","v":0},{"$f":"SUMIF('00 Alimenta'!$B:$B,'00 PDC SP'!$F355,'00 Alimenta'!E:E)","v":0},{"$f":"SUMIF('00 Alimenta'!$B:$B,'00 PDC SP'!$F355,'00 Alimenta'!F:F)","v":0},{"$f":"SUMIF('00 Alimenta'!$B:$B,'00 PDC SP'!$F355,'00 Alimenta'!G:G)","v":0},{"$f":"SUMIF('00 Alimenta'!$B:$B,'00 PDC SP'!$F355,'00 Alimenta'!H:H)","v":0},{"$f":"SUMIF('00 Alimenta'!$B:$B,'00 PDC SP'!$F355,'00 Alimenta'!I:I)","v":0},0]
["AAA260","AA","AAA260",38,null,"0202030105","F.do Svalut. Licenze d'uso software",{"$f":"SUMIF('00 Alimenta'!$B:$B,'00 PDC SP'!$F356,'00 Alimenta'!D:D)","v":0},{"$f":"SUMIF('00 Alimenta'!$B:$B,'00 PDC SP'!$F356,'00 Alimenta'!E:E)","v":0},{"$f":"SUMIF('00 Alimenta'!$B:$B,'00 PDC SP'!$F356,'00 Alimenta'!F:F)","v":0},{"$f":"SUMIF('00 Alimenta'!$B:$B,'00 PDC SP'!$F356,'00 Alimenta'!G:G)","v":0},{"$f":"SUMIF('00 Alimenta'!$B:$B,'00 PDC SP'!$F356,'00 Alimenta'!H:H)","v":0},{"$f":"SUMIF('00 Alimenta'!$B:$B,'00 PDC SP'!$F356,'00 Alimenta'!I:I)","v":0},0]
["AAA260","AA","AAA260",38,null,"0202030106","F.do Svalut. Marchi",{"$f":"SUMIF('00 Alimenta'!$B:$B,'00 PDC SP'!$F357,'00 Alimenta'!D:D)","v":0},{"$f":"SUMIF('00 Alimenta'!$B:$B,'00 PDC SP'!$F357,'00 Alimenta'!E:E)","v":0},{"$f":"SUMIF('00 Alimenta'!$B:$B,'00 PDC SP'!$F357,'00 Alimenta'!F:F)","v":0},{"$f":"SUMIF('00 Alimenta'!$B:$B,'00 PDC SP'!$F357,'00 Alimenta'!G:G)","v":0},{"$f":"SUMIF('00 Alimenta'!$B:$B,'00 PDC SP'!$F357,'00 Alimenta'!H:H)","v":0},{"$f":"SUMIF('00 Alimenta'!$B:$B,'00 PDC SP'!$F357,'00 Alimenta'!I:I)","v":0},0]
["AAA260","AA","AAA260",38,null,"0202030107","F.do Svalut. Altre immobilizzazioni immateriali",{"$f":"SUMIF('00 Alimenta'!$B:$B,'00 PDC SP'!$F358,'00 Alimenta'!D:D)","v":0},{"$f":"SUMIF('00 Alimenta'!$B:$B,'00 PDC SP'!$F358,'00 Alimenta'!E:E)","v":0},{"$f":"SUMIF('00 Alimenta'!$B:$B,'00 PDC SP'!$F358,'00 Alimenta'!F:F)","v":0},{"$f":"SUMIF('00 Alimenta'!$B:$B,'00 PDC SP'!$F358,'00 Alimenta'!G:G)","v":0},{"$f":"SUMIF('00 Alimenta'!$B:$B,'00 PDC SP'!$F358,'00 Alimenta'!H:H)","v":0},{"$f":"SUMIF('00 Alimenta'!$B:$B,'00 PDC SP'!$F358,'00 Alimenta'!I:I)","v":0},0]
["AAA560","AA","AAA560",39,null,"0202030201","F.do Svalut. Terreni",{"$f":"SUMIF('00 Alimenta'!$B:$B,'00 PDC SP'!$F359,'00 Alimenta'!D:D)","v":0},{"$f":"SUMIF('00 Alimenta'!$B:$B,'00 PDC SP'!$F359,'00 Alimenta'!E:E)","v":0},{"$f":"SUMIF('00 Alimenta'!$B:$B,'00 PDC SP'!$F359,'00 Alimenta'!F:F)","v":0},{"$f":"SUMIF('00 Alimenta'!$B:$B,'00 PDC SP'!$F359,'00 Alimenta'!G:G)","v":0},{"$f":"SUMIF('00 Alimenta'!$B:$B,'00 PDC SP'!$F359,'00 Alimenta'!H:H)","v":0},{"$f":"SUMIF('00 Alimenta'!$B:$B,'00 PDC SP'!$F359,'00 Alimenta'!I:I)","v":0},0]
["AAA570","AA","AAA570",40,null,"0202030202","F.do Svalut. Fabbricati non strumentali (disponibili)",{"$f":"SUMIF('00 Alimenta'!$B:$B,'00 PDC SP'!$F360,'00 Alimenta'!D:D)","v":0},{"$f":"SUMIF('00 Alimenta'!$B:$B,'00 PDC SP'!$F360,'00 Alimenta'!E:E)","v":0},{"$f":"SUMIF('00 Alimenta'!$B:$B,'00 PDC SP'!$F360,'00 Alimenta'!F:F)","v":0},{"$f":"SUMIF('00 Alimenta'!$B:$B,'00 PDC SP'!$F360,'00 Alimenta'!G:G)","v":0},{"$f":"SUMIF('00 Alimenta'!$B:$B,'00 PDC SP'!$F360,'00 Alimenta'!H:H)","v":0},{"$f":"SUMIF('00 Alimenta'!$B:$B,'00 PDC SP'!$F360,'00 Alimenta'!I:I)","v":0},0]
["AAA570","AA","AAA570",40,null,"0202030203","F.do Svalut. Fabbricati strumentali (indisponibili)",{"$f":"SUMIF('00 Alimenta'!$B:$B,'00 PDC SP'!$F361,'00 Alimenta'!D:D)","v":0},{"$f":"SUMIF('00 Alimenta'!$B:$B,'00 PDC SP'!$F361,'00 Alimenta'!E:E)","v":0},{"$f":"SUMIF('00 Alimenta'!$B:$B,'00 PDC SP'!$F361,'00 Alimenta'!F:F)","v":0},{"$f":"SUMIF('00 Alimenta'!$B:$B,'00 PDC SP'!$F361,'00 Alimenta'!G:G)","v":0},{"$f":"SUMIF('00 Alimenta'!$B:$B,'00 PDC SP'!$F361,'00 Alimenta'!H:H)","v":0},{"$f":"SUMIF('00 Alimenta'!$B:$B,'00 PDC SP'!$F361,'00 Alimenta'!I:I)","v":0},0]
["AAA580","AA","AAA580",41,null,"0202030204","F.do Svalut. Impianti e macchinari",{"$f":"SUMIF('00 Alimenta'!$B:$B,'00 PDC SP'!$F362,'00 Alimenta'!D:D)","v":0},{"$f":"SUMIF('00 Alimenta'!$B:$B,'00 PDC SP'!$F362,'00 Alimenta'!E:E)","v":0},{"$f":"SUMIF('00 Alimenta'!$B:$B,'00 PDC SP'!$F362,'00 Alimenta'!F:F)","v":0},{"$f":"SUMIF('00 Alimenta'!$B:$B,'00 PDC SP'!$F362,'00 Alimenta'!G:G)","v":0},{"$f":"SUMIF('00 Alimenta'!$B:$B,'00 PDC SP'!$F362,'00 Alimenta'!H:H)","v":0},{"$f":"SUMIF('00 Alimenta'!$B:$B,'00 PDC SP'!$F362,'00 Alimenta'!I:I)","v":0},0]
["AAA590","AA","AAA590",42,null,"0202030205","F.do Svalut. Attrezzature sanitarie e scientifiche",{"$f":"SUMIF('00 Alimenta'!$B:$B,'00 PDC SP'!$F363,'00 Alimenta'!D:D)","v":0},{"$f":"SUMIF('00 Alimenta'!$B:$B,'00 PDC SP'!$F363,'00 Alimenta'!E:E)","v":0},{"$f":"SUMIF('00 Alimenta'!$B:$B,'00 PDC SP'!$F363,'00 Alimenta'!F:F)","v":0},{"$f":"SUMIF('00 Alimenta'!$B:$B,'00 PDC SP'!$F363,'00 Alimenta'!G:G)","v":0},{"$f":"SUMIF('00 Alimenta'!$B:$B,'00 PDC SP'!$F363,'00 Alimenta'!H:H)","v":0},{"$f":"SUMIF('00 Alimenta'!$B:$B,'00 PDC SP'!$F363,'00 Alimenta'!I:I)","v":0},0]
["AAA600","AA","AAA600",43,null,"0202030206","F.do Svalut. Mobili e arredi",{"$f":"SUMIF('00 Alimenta'!$B:$B,'00 PDC SP'!$F364,'00 Alimenta'!D:D)","v":0},{"$f":"SUMIF('00 Alimenta'!$B:$B,'00 PDC SP'!$F364,'00 Alimenta'!E:E)","v":0},{"$f":"SUMIF('00 Alimenta'!$B:$B,'00 PDC SP'!$F364,'00 Alimenta'!F:F)","v":0},{"$f":"SUMIF('00 Alimenta'!$B:$B,'00 PDC SP'!$F364,'00 Alimenta'!G:G)","v":0},{"$f":"SUMIF('00 Alimenta'!$B:$B,'00 PDC SP'!$F364,'00 Alimenta'!H:H)","v":0},{"$f":"SUMIF('00 Alimenta'!$B:$B,'00 PDC SP'!$F364,'00 Alimenta'!I:I)","v":0},0]
["AAA610","AA","AAA610",44,null,"0202030207","F.do Svalut. Automezzi e altri mezzi di trasporto",{"$f":"SUMIF('00 Alimenta'!$B:$B,'00 PDC SP'!$F365,'00 Alimenta'!D:D)","v":0},{"$f":"SUMIF('00 Alimenta'!$B:$B,'00 PDC SP'!$F365,'00 Alimenta'!E:E)","v":0},{"$f":"SUMIF('00 Alimenta'!$B:$B,'00 PDC SP'!$F365,'00 Alimenta'!F:F)","v":0},{"$f":"SUMIF('00 Alimenta'!$B:$B,'00 PDC SP'!$F365,'00 Alimenta'!G:G)","v":0},{"$f":"SUMIF('00 Alimenta'!$B:$B,'00 PDC SP'!$F365,'00 Alimenta'!H:H)","v":0},{"$f":"SUMIF('00 Alimenta'!$B:$B,'00 PDC SP'!$F365,'00 Alimenta'!I:I)","v":0},0]
["AAA620","AA","AAA620",45,null,"0202030208","F.do Svalut. Oggetti d'arte",{"$f":"SUMIF('00 Alimenta'!$B:$B,'00 PDC SP'!$F366,'00 Alimenta'!D:D)","v":0},{"$f":"SUMIF('00 Alimenta'!$B:$B,'00 PDC SP'!$F366,'00 Alimenta'!E:E)","v":0},{"$f":"SUMIF('00 Alimenta'!$B:$B,'00 PDC SP'!$F366,'00 Alimenta'!F:F)","v":0},{"$f":"SUMIF('00 Alimenta'!$B:$B,'00 PDC SP'!$F366,'00 Alimenta'!G:G)","v":0},{"$f":"SUMIF('00 Alimenta'!$B:$B,'00 PDC SP'!$F366,'00 Alimenta'!H:H)","v":0},{"$f":"SUMIF('00 Alimenta'!$B:$B,'00 PDC SP'!$F366,'00 Alimenta'!I:I)","v":0},0]
["AAA630","AA","AAA630",45,null,"0202030209","F.do Svalut. Altre immobilizzazioni materiali",{"$f":"SUMIF('00 Alimenta'!$B:$B,'00 PDC SP'!$F367,'00 Alimenta'!D:D)","v":0},{"$f":"SUMIF('00 Alimenta'!$B:$B,'00 PDC SP'!$F367,'00 Alimenta'!E:E)","v":0},{"$f":"SUMIF('00 Alimenta'!$B:$B,'00 PDC SP'!$F367,'00 Alimenta'!F:F)","v":0},{"$f":"SUMIF('00 Alimenta'!$B:$B,'00 PDC SP'!$F367,'00 Alimenta'!G:G)","v":0},{"$f":"SUMIF('00 Alimenta'!$B:$B,'00 PDC SP'!$F367,'00 Alimenta'!H:H)","v":0},{"$f":"SUMIF('00 Alimenta'!$B:$B,'00 PDC SP'!$F367,'00 Alimenta'!I:I)","v":0},0]
["AAA690","AA","AAA690",46,null,"0202030301","F.do svalutazione crediti finanziari",{"$f":"SUMIF('00 Alimenta'!$B:$B,'00 PDC SP'!$F368,'00 Alimenta'!D:D)","v":0},{"$f":"SUMIF('00 Alimenta'!$B:$B,'00 PDC SP'!$F368,'00 Alimenta'!E:E)","v":0},{"$f":"SUMIF('00 Alimenta'!$B:$B,'00 PDC SP'!$F368,'00 Alimenta'!F:F)","v":0},{"$f":"SUMIF('00 Alimenta'!$B:$B,'00 PDC SP'!$F368,'00 Alimenta'!G:G)","v":0},{"$f":"SUMIF('00 Alimenta'!$B:$B,'00 PDC SP'!$F368,'00 Alimenta'!H:H)","v":0},{"$f":"SUMIF('00 Alimenta'!$B:$B,'00 PDC SP'!$F368,'00 Alimenta'!I:I)","v":0},0]
["ABA090","AB","ABA090",10,null,"0202030401","F.do deprezzamento magazzino beni sanitari",{"$f":"SUMIF('00 Alimenta'!$B:$B,'00 PDC SP'!$F369,'00 Alimenta'!D:D)","v":0},{"$f":"SUMIF('00 Alimenta'!$B:$B,'00 PDC SP'!$F369,'00 Alimenta'!E:E)","v":0},{"$f":"SUMIF('00 Alimenta'!$B:$B,'00 PDC SP'!$F369,'00 Alimenta'!F:F)","v":0},{"$f":"SUMIF('00 Alimenta'!$B:$B,'00 PDC SP'!$F369,'00 Alimenta'!G:G)","v":0},{"$f":"SUMIF('00 Alimenta'!$B:$B,'00 PDC SP'!$F369,'00 Alimenta'!H:H)","v":0},{"$f":"SUMIF('00 Alimenta'!$B:$B,'00 PDC SP'!$F369,'00 Alimenta'!I:I)","v":0},0]
["ABA170","AB","ABA170",10,null,"0202030402","F.do deprezzamento magazzino beni non sanitari",{"$f":"SUMIF('00 Alimenta'!$B:$B,'00 PDC SP'!$F370,'00 Alimenta'!D:D)","v":0},{"$f":"SUMIF('00 Alimenta'!$B:$B,'00 PDC SP'!$F370,'00 Alimenta'!E:E)","v":0},{"$f":"SUMIF('00 Alimenta'!$B:$B,'00 PDC SP'!$F370,'00 Alimenta'!F:F)","v":0},{"$f":"SUMIF('00 Alimenta'!$B:$B,'00 PDC SP'!$F370,'00 Alimenta'!G:G)","v":0},{"$f":"SUMIF('00 Alimenta'!$B:$B,'00 PDC SP'!$F370,'00 Alimenta'!H:H)","v":0},{"$f":"SUMIF('00 Alimenta'!$B:$B,'00 PDC SP'!$F370,'00 Alimenta'!I:I)","v":0},0]
["ABA230FS","AB","ABA230",10,"FS","0202030501","F.do svalutazione crediti v/Stato per mobilità attiva pubblica extraregionale",{"$f":"SUMIF('00 Alimenta'!$B:$B,'00 PDC SP'!$F371,'00 Alimenta'!D:D)","v":0},{"$f":"SUMIF('00 Alimenta'!$B:$B,'00 PDC SP'!$F371,'00 Alimenta'!E:E)","v":0},{"$f":"SUMIF('00 Alimenta'!$B:$B,'00 PDC SP'!$F371,'00 Alimenta'!F:F)","v":0},{"$f":"SUMIF('00 Alimenta'!$B:$B,'00 PDC SP'!$F371,'00 Alimenta'!G:G)","v":0},{"$f":"SUMIF('00 Alimenta'!$B:$B,'00 PDC SP'!$F371,'00 Alimenta'!H:H)","v":0},{"$f":"SUMIF('00 Alimenta'!$B:$B,'00 PDC SP'!$F371,'00 Alimenta'!I:I)","v":0},0]
["ABA230FS","AB","ABA230",10,"FS","0202030502","F.do svalutazione crediti v/Stato per mobilità attiva privata extraregionale",{"$f":"SUMIF('00 Alimenta'!$B:$B,'00 PDC SP'!$F372,'00 Alimenta'!D:D)","v":0},{"$f":"SUMIF('00 Alimenta'!$B:$B,'00 PDC SP'!$F372,'00 Alimenta'!E:E)","v":0},{"$f":"SUMIF('00 Alimenta'!$B:$B,'00 PDC SP'!$F372,'00 Alimenta'!F:F)","v":0},{"$f":"SUMIF('00 Alimenta'!$B:$B,'00 PDC SP'!$F372,'00 Alimenta'!G:G)","v":0},{"$f":"SUMIF('00 Alimenta'!$B:$B,'00 PDC SP'!$F372,'00 Alimenta'!H:H)","v":0},{"$f":"SUMIF('00 Alimenta'!$B:$B,'00 PDC SP'!$F372,'00 Alimenta'!I:I)","v":0},0]
["ABA240FS","AB","ABA240",10,"FS","0202030503","F.do svalutazione crediti v/Stato per mobilità attiva internazionale",{"$f":"SUMIF('00 Alimenta'!$B:$B,'00 PDC SP'!$F373,'00 Alimenta'!D:D)","v":0},{"$f":"SUMIF('00 Alimenta'!$B:$B,'00 PDC SP'!$F373,'00 Alimenta'!E:E)","v":0},{"$f":"SUMIF('00 Alimenta'!$B:$B,'00 PDC SP'!$F373,'00 Alimenta'!F:F)","v":0},{"$f":"SUMIF('00 Alimenta'!$B:$B,'00 PDC SP'!$F373,'00 Alimenta'!G:G)","v":0},{"$f":"SUMIF('00 Alimenta'!$B:$B,'00 PDC SP'!$F373,'00 Alimenta'!H:H)","v":0},{"$f":"SUMIF('00 Alimenta'!$B:$B,'00 PDC SP'!$F373,'00 Alimenta'!I:I)","v":0},0]
["ABA250FS","AB","ABA250",10,"FS","0202030504","F.do svalutazione crediti v/Stato per acconto quota fabbisogno sanitario regionale standard",{"$f":"SUMIF('00 Alimenta'!$B:$B,'00 PDC SP'!$F374,'00 Alimenta'!D:D)","v":0},{"$f":"SUMIF('00 Alimenta'!$B:$B,'00 PDC SP'!$F374,'00 Alimenta'!E:E)","v":0},{"$f":"SUMIF('00 Alimenta'!$B:$B,'00 PDC SP'!$F374,'00 Alimenta'!F:F)","v":0},{"$f":"SUMIF('00 Alimenta'!$B:$B,'00 PDC SP'!$F374,'00 Alimenta'!G:G)","v":0},{"$f":"SUMIF('00 Alimenta'!$B:$B,'00 PDC SP'!$F374,'00 Alimenta'!H:H)","v":0},{"$f":"SUMIF('00 Alimenta'!$B:$B,'00 PDC SP'!$F374,'00 Alimenta'!I:I)","v":0},0]
["ABA270FS","AB","ABA270",10,"FS","0202030505","F.do svalutazione crediti v/Stato per spesa corrente - altro",{"$f":"SUMIF('00 Alimenta'!$B:$B,'00 PDC SP'!$F375,'00 Alimenta'!D:D)","v":0},{"$f":"SUMIF('00 Alimenta'!$B:$B,'00 PDC SP'!$F375,'00 Alimenta'!E:E)","v":0},{"$f":"SUMIF('00 Alimenta'!$B:$B,'00 PDC SP'!$F375,'00 Alimenta'!F:F)","v":0},{"$f":"SUMIF('00 Alimenta'!$B:$B,'00 PDC SP'!$F375,'00 Alimenta'!G:G)","v":0},{"$f":"SUMIF('00 Alimenta'!$B:$B,'00 PDC SP'!$F375,'00 Alimenta'!H:H)","v":0},{"$f":"SUMIF('00 Alimenta'!$B:$B,'00 PDC SP'!$F375,'00 Alimenta'!I:I)","v":0},0]
["ABA280FS","AB","ABA280",10,"FS","0202030506","F.do svalutazione crediti v/Stato per finanziamenti per investimenti",{"$f":"SUMIF('00 Alimenta'!$B:$B,'00 PDC SP'!$F376,'00 Alimenta'!D:D)","v":0},{"$f":"SUMIF('00 Alimenta'!$B:$B,'00 PDC SP'!$F376,'00 Alimenta'!E:E)","v":0},{"$f":"SUMIF('00 Alimenta'!$B:$B,'00 PDC SP'!$F376,'00 Alimenta'!F:F)","v":0},{"$f":"SUMIF('00 Alimenta'!$B:$B,'00 PDC SP'!$F376,'00 Alimenta'!G:G)","v":0},{"$f":"SUMIF('00 Alimenta'!$B:$B,'00 PDC SP'!$F376,'00 Alimenta'!H:H)","v":0},{"$f":"SUMIF('00 Alimenta'!$B:$B,'00 PDC SP'!$F376,'00 Alimenta'!I:I)","v":0},0]
["ABA300FS","AB","ABA300",10,"FS","0202030507","F.do svalutazione crediti v/Stato per ricerca corrente - Ministero della Salute",{"$f":"SUMIF('00 Alimenta'!$B:$B,'00 PDC SP'!$F377,'00 Alimenta'!D:D)","v":0},{"$f":"SUMIF('00 Alimenta'!$B:$B,'00 PDC SP'!$F377,'00 Alimenta'!E:E)","v":0},{"$f":"SUMIF('00 Alimenta'!$B:$B,'00 PDC SP'!$F377,'00 Alimenta'!F:F)","v":0},{"$f":"SUMIF('00 Alimenta'!$B:$B,'00 PDC SP'!$F377,'00 Alimenta'!G:G)","v":0},{"$f":"SUMIF('00 Alimenta'!$B:$B,'00 PDC SP'!$F377,'00 Alimenta'!H:H)","v":0},{"$f":"SUMIF('00 Alimenta'!$B:$B,'00 PDC SP'!$F377,'00 Alimenta'!I:I)","v":0},0]
["ABA310FS","AB","ABA310",10,"FS","0202030508","F.do svalutazione crediti v/Stato per ricerca finalizzata - Ministero della Salute",{"$f":"SUMIF('00 Alimenta'!$B:$B,'00 PDC SP'!$F378,'00 Alimenta'!D:D)","v":0},{"$f":"SUMIF('00 Alimenta'!$B:$B,'00 PDC SP'!$F378,'00 Alimenta'!E:E)","v":0},{"$f":"SUMIF('00 Alimenta'!$B:$B,'00 PDC SP'!$F378,'00 Alimenta'!F:F)","v":0},{"$f":"SUMIF('00 Alimenta'!$B:$B,'00 PDC SP'!$F378,'00 Alimenta'!G:G)","v":0},{"$f":"SUMIF('00 Alimenta'!$B:$B,'00 PDC SP'!$F378,'00 Alimenta'!H:H)","v":0},{"$f":"SUMIF('00 Alimenta'!$B:$B,'00 PDC SP'!$F378,'00 Alimenta'!I:I)","v":0},0]
["ABA320FS","AB","ABA320",10,"FS","0202030509","F.do svalutazione crediti v/Stato per ricerca - altre Amministrazioni centrali",{"$f":"SUMIF('00 Alimenta'!$B:$B,'00 PDC SP'!$F379,'00 Alimenta'!D:D)","v":0},{"$f":"SUMIF('00 Alimenta'!$B:$B,'00 PDC SP'!$F379,'00 Alimenta'!E:E)","v":0},{"$f":"SUMIF('00 Alimenta'!$B:$B,'00 PDC SP'!$F379,'00 Alimenta'!F:F)","v":0},{"$f":"SUMIF('00 Alimenta'!$B:$B,'00 PDC SP'!$F379,'00 Alimenta'!G:G)","v":0},{"$f":"SUMIF('00 Alimenta'!$B:$B,'00 PDC SP'!$F379,'00 Alimenta'!H:H)","v":0},{"$f":"SUMIF('00 Alimenta'!$B:$B,'00 PDC SP'!$F379,'00 Alimenta'!I:I)","v":0},0]
["ABA330FS","AB","ABA330",10,"FS","0202030510","F.do svalutazione crediti v/Stato per ricerca - finanziamenti per investimenti",{"$f":"SUMIF('00 Alimenta'!$B:$B,'00 PDC SP'!$F380,'00 Alimenta'!D:D)","v":0},{"$f":"SUMIF('00 Alimenta'!$B:$B,'00 PDC SP'!$F380,'00 Alimenta'!E:E)","v":0},{"$f":"SUMIF('00 Alimenta'!$B:$B,'00 PDC SP'!$F380,'00 Alimenta'!F:F)","v":0},{"$f":"SUMIF('00 Alimenta'!$B:$B,'00 PDC SP'!$F380,'00 Alimenta'!G:G)","v":0},{"$f":"SUMIF('00 Alimenta'!$B:$B,'00 PDC SP'!$F380,'00 Alimenta'!H:H)","v":0},{"$f":"SUMIF('00 Alimenta'!$B:$B,'00 PDC SP'!$F380,'00 Alimenta'!I:I)","v":0},0]
["ABA340FS","AB","ABA340",10,"FS","0202030511","F.do svalutazione crediti v/prefetture",{"$f":"SUMIF('00 Alimenta'!$B:$B,'00 PDC SP'!$F381,'00 Alimenta'!D:D)","v":0},{"$f":"SUMIF('00 Alimenta'!$B:$B,'00 PDC SP'!$F381,'00 Alimenta'!E:E)","v":0},{"$f":"SUMIF('00 Alimenta'!$B:$B,'00 PDC SP'!$F381,'00 Alimenta'!F:F)","v":0},{"$f":"SUMIF('00 Alimenta'!$B:$B,'00 PDC SP'!$F381,'00 Alimenta'!G:G)","v":0},{"$f":"SUMIF('00 Alimenta'!$B:$B,'00 PDC SP'!$F381,'00 Alimenta'!H:H)","v":0},{"$f":"SUMIF('00 Alimenta'!$B:$B,'00 PDC SP'!$F381,'00 Alimenta'!I:I)","v":0},0]
["ABA460FS","AB","ABA460",10,"FS","0202030512","F.do svalutazione crediti v/Regione o Provincia Autonoma per ricerca",{"$f":"SUMIF('00 Alimenta'!$B:$B,'00 PDC SP'!$F382,'00 Alimenta'!D:D)","v":0},{"$f":"SUMIF('00 Alimenta'!$B:$B,'00 PDC SP'!$F382,'00 Alimenta'!E:E)","v":0},{"$f":"SUMIF('00 Alimenta'!$B:$B,'00 PDC SP'!$F382,'00 Alimenta'!F:F)","v":0},{"$f":"SUMIF('00 Alimenta'!$B:$B,'00 PDC SP'!$F382,'00 Alimenta'!G:G)","v":0},{"$f":"SUMIF('00 Alimenta'!$B:$B,'00 PDC SP'!$F382,'00 Alimenta'!H:H)","v":0},{"$f":"SUMIF('00 Alimenta'!$B:$B,'00 PDC SP'!$F382,'00 Alimenta'!I:I)","v":0},0]
["ABA480FS","AB","ABA480",10,"FS","0202030513","F.do svalutazione crediti v/Regione o Provincia Autonoma per finanziamenti per investimenti",{"$f":"SUMIF('00 Alimenta'!$B:$B,'00 PDC SP'!$F383,'00 Alimenta'!D:D)","v":0},{"$f":"SUMIF('00 Alimenta'!$B:$B,'00 PDC SP'!$F383,'00 Alimenta'!E:E)","v":0},{"$f":"SUMIF('00 Alimenta'!$B:$B,'00 PDC SP'!$F383,'00 Alimenta'!F:F)","v":0},{"$f":"SUMIF('00 Alimenta'!$B:$B,'00 PDC SP'!$F383,'00 Alimenta'!G:G)","v":0},{"$f":"SUMIF('00 Alimenta'!$B:$B,'00 PDC SP'!$F383,'00 Alimenta'!H:H)","v":0},{"$f":"SUMIF('00 Alimenta'!$B:$B,'00 PDC SP'!$F383,'00 Alimenta'!I:I)","v":0},0]
["ABA490FS","AB","ABA490",10,"FS","0202030514","F.do svalutazione crediti v/Regione per incremento fondo di dotazione",{"$f":"SUMIF('00 Alimenta'!$B:$B,'00 PDC SP'!$F384,'00 Alimenta'!D:D)","v":0},{"$f":"SUMIF('00 Alimenta'!$B:$B,'00 PDC SP'!$F384,'00 Alimenta'!E:E)","v":0},{"$f":"SUMIF('00 Alimenta'!$B:$B,'00 PDC SP'!$F384,'00 Alimenta'!F:F)","v":0},{"$f":"SUMIF('00 Alimenta'!$B:$B,'00 PDC SP'!$F384,'00 Alimenta'!G:G)","v":0},{"$f":"SUMIF('00 Alimenta'!$B:$B,'00 PDC SP'!$F384,'00 Alimenta'!H:H)","v":0},{"$f":"SUMIF('00 Alimenta'!$B:$B,'00 PDC SP'!$F384,'00 Alimenta'!I:I)","v":0},0]
["ABA500FS","AB","ABA500",10,"FS","0202030515","F.do svalutazione crediti v/Regione per ripiano perdite",{"$f":"SUMIF('00 Alimenta'!$B:$B,'00 PDC SP'!$F385,'00 Alimenta'!D:D)","v":0},{"$f":"SUMIF('00 Alimenta'!$B:$B,'00 PDC SP'!$F385,'00 Alimenta'!E:E)","v":0},{"$f":"SUMIF('00 Alimenta'!$B:$B,'00 PDC SP'!$F385,'00 Alimenta'!F:F)","v":0},{"$f":"SUMIF('00 Alimenta'!$B:$B,'00 PDC SP'!$F385,'00 Alimenta'!G:G)","v":0},{"$f":"SUMIF('00 Alimenta'!$B:$B,'00 PDC SP'!$F385,'00 Alimenta'!H:H)","v":0},{"$f":"SUMIF('00 Alimenta'!$B:$B,'00 PDC SP'!$F385,'00 Alimenta'!I:I)","v":0},0]
["ABA510FS","AB","ABA510",10,"FS","0202030516","F.do svalutazione crediti v/Regione per copertura debiti al 31/12/2005",{"$f":"SUMIF('00 Alimenta'!$B:$B,'00 PDC SP'!$F386,'00 Alimenta'!D:D)","v":0},{"$f":"SUMIF('00 Alimenta'!$B:$B,'00 PDC SP'!$F386,'00 Alimenta'!E:E)","v":0},{"$f":"SUMIF('00 Alimenta'!$B:$B,'00 PDC SP'!$F386,'00 Alimenta'!F:F)","v":0},{"$f":"SUMIF('00 Alimenta'!$B:$B,'00 PDC SP'!$F386,'00 Alimenta'!G:G)","v":0},{"$f":"SUMIF('00 Alimenta'!$B:$B,'00 PDC SP'!$F386,'00 Alimenta'!H:H)","v":0},{"$f":"SUMIF('00 Alimenta'!$B:$B,'00 PDC SP'!$F386,'00 Alimenta'!I:I)","v":0},0]
["ABA530FS","AB","ABA530",10,"FS","0202030517","F.do svalutazione crediti v/Comuni",{"$f":"SUMIF('00 Alimenta'!$B:$B,'00 PDC SP'!$F387,'00 Alimenta'!D:D)","v":0},{"$f":"SUMIF('00 Alimenta'!$B:$B,'00 PDC SP'!$F387,'00 Alimenta'!E:E)","v":0},{"$f":"SUMIF('00 Alimenta'!$B:$B,'00 PDC SP'!$F387,'00 Alimenta'!F:F)","v":0},{"$f":"SUMIF('00 Alimenta'!$B:$B,'00 PDC SP'!$F387,'00 Alimenta'!G:G)","v":0},{"$f":"SUMIF('00 Alimenta'!$B:$B,'00 PDC SP'!$F387,'00 Alimenta'!H:H)","v":0},{"$f":"SUMIF('00 Alimenta'!$B:$B,'00 PDC SP'!$F387,'00 Alimenta'!I:I)","v":0},0]
["ABA580FS","AB","ABA580",10,"FS","0202030518","F.do svalutazione Crediti  v/Aziende sanitarie pubbliche della Regione",{"$f":"SUMIF('00 Alimenta'!$B:$B,'00 PDC SP'!$F388,'00 Alimenta'!D:D)","v":-3259926.7},{"$f":"SUMIF('00 Alimenta'!$B:$B,'00 PDC SP'!$F388,'00 Alimenta'!E:E)","v":0},{"$f":"SUMIF('00 Alimenta'!$B:$B,'00 PDC SP'!$F388,'00 Alimenta'!F:F)","v":0},{"$f":"SUMIF('00 Alimenta'!$B:$B,'00 PDC SP'!$F388,'00 Alimenta'!G:G)","v":-3259926.7},{"$f":"SUMIF('00 Alimenta'!$B:$B,'00 PDC SP'!$F388,'00 Alimenta'!H:H)","v":0},{"$f":"SUMIF('00 Alimenta'!$B:$B,'00 PDC SP'!$F388,'00 Alimenta'!I:I)","v":0},-3259926.7]
["ABA600FS","AB","ABA600",10,"FS","0202030519","F.do svalutazione crediti v/Aziende sanitarie pubbliche Extraregione",{"$f":"SUMIF('00 Alimenta'!$B:$B,'00 PDC SP'!$F389,'00 Alimenta'!D:D)","v":0},{"$f":"SUMIF('00 Alimenta'!$B:$B,'00 PDC SP'!$F389,'00 Alimenta'!E:E)","v":0},{"$f":"SUMIF('00 Alimenta'!$B:$B,'00 PDC SP'!$F389,'00 Alimenta'!F:F)","v":0},{"$f":"SUMIF('00 Alimenta'!$B:$B,'00 PDC SP'!$F389,'00 Alimenta'!G:G)","v":0},{"$f":"SUMIF('00 Alimenta'!$B:$B,'00 PDC SP'!$F389,'00 Alimenta'!H:H)","v":0},{"$f":"SUMIF('00 Alimenta'!$B:$B,'00 PDC SP'!$F389,'00 Alimenta'!I:I)","v":0},0]
["ABA620FS","AB","ABA620",10,"FS","0202030520","F.do svalutazione crediti v/enti regionali",{"$f":"SUMIF('00 Alimenta'!$B:$B,'00 PDC SP'!$F390,'00 Alimenta'!D:D)","v":0},{"$f":"SUMIF('00 Alimenta'!$B:$B,'00 PDC SP'!$F390,'00 Alimenta'!E:E)","v":0},{"$f":"SUMIF('00 Alimenta'!$B:$B,'00 PDC SP'!$F390,'00 Alimenta'!F:F)","v":0},{"$f":"SUMIF('00 Alimenta'!$B:$B,'00 PDC SP'!$F390,'00 Alimenta'!G:G)","v":0},{"$f":"SUMIF('00 Alimenta'!$B:$B,'00 PDC SP'!$F390,'00 Alimenta'!H:H)","v":0},{"$f":"SUMIF('00 Alimenta'!$B:$B,'00 PDC SP'!$F390,'00 Alimenta'!I:I)","v":0},0]
["ABA630FS","AB","ABA630",10,"FS","0202030521","F.do svalutazione crediti verso sperimentazioni gestionali",{"$f":"SUMIF('00 Alimenta'!$B:$B,'00 PDC SP'!$F391,'00 Alimenta'!D:D)","v":0},{"$f":"SUMIF('00 Alimenta'!$B:$B,'00 PDC SP'!$F391,'00 Alimenta'!E:E)","v":0},{"$f":"SUMIF('00 Alimenta'!$B:$B,'00 PDC SP'!$F391,'00 Alimenta'!F:F)","v":0},{"$f":"SUMIF('00 Alimenta'!$B:$B,'00 PDC SP'!$F391,'00 Alimenta'!G:G)","v":0},{"$f":"SUMIF('00 Alimenta'!$B:$B,'00 PDC SP'!$F391,'00 Alimenta'!H:H)","v":0},{"$f":"SUMIF('00 Alimenta'!$B:$B,'00 PDC SP'!$F391,'00 Alimenta'!I:I)","v":0},0]
[{"$f":"IF(E392=\"\",C392,C392&E392)","v":"ABA640FS"},{"$f":"LEFT(C392,2)","v":"AB"},"ABA640",10,"FS","0202030522","F.do svalutazione crediti v/altre partecipate",{"$f":"SUMIF('00 Alimenta'!$B:$B,'00 PDC SP'!$F392,'00 Alimenta'!D:D)","v":0},{"$f":"SUMIF('00 Alimenta'!$B:$B,'00 PDC SP'!$F392,'00 Alimenta'!E:E)","v":0},{"$f":"SUMIF('00 Alimenta'!$B:$B,'00 PDC SP'!$F392,'00 Alimenta'!F:F)","v":0},{"$f":"SUMIF('00 Alimenta'!$B:$B,'00 PDC SP'!$F392,'00 Alimenta'!G:G)","v":0},{"$f":"SUMIF('00 Alimenta'!$B:$B,'00 PDC SP'!$F392,'00 Alimenta'!H:H)","v":0},{"$f":"SUMIF('00 Alimenta'!$B:$B,'00 PDC SP'!$F392,'00 Alimenta'!I:I)","v":0},{"$f":"K392+L392-M392","v":0}]
["ABA650FS","AB","ABA650",10,"FS","0202030523","F.do svalutazione crediti verso Erario",{"$f":"SUMIF('00 Alimenta'!$B:$B,'00 PDC SP'!$F393,'00 Alimenta'!D:D)","v":0},{"$f":"SUMIF('00 Alimenta'!$B:$B,'00 PDC SP'!$F393,'00 Alimenta'!E:E)","v":0},{"$f":"SUMIF('00 Alimenta'!$B:$B,'00 PDC SP'!$F393,'00 Alimenta'!F:F)","v":0},{"$f":"SUMIF('00 Alimenta'!$B:$B,'00 PDC SP'!$F393,'00 Alimenta'!G:G)","v":0},{"$f":"SUMIF('00 Alimenta'!$B:$B,'00 PDC SP'!$F393,'00 Alimenta'!H:H)","v":0},{"$f":"SUMIF('00 Alimenta'!$B:$B,'00 PDC SP'!$F393,'00 Alimenta'!I:I)","v":0},0]
["ABA670FS","AB","ABA670",10,"FS","0202030524","F.do svalutazione crediti  verso clienti privati ",{"$f":"SUMIF('00 Alimenta'!$B:$B,'00 PDC SP'!$F394,'00 Alimenta'!D:D)","v":-2874726.99},{"$f":"SUMIF('00 Alimenta'!$B:$B,'00 PDC SP'!$F394,'00 Alimenta'!E:E)","v":0},{"$f":"SUMIF('00 Alimenta'!$B:$B,'00 PDC SP'!$F394,'00 Alimenta'!F:F)","v":0},{"$f":"SUMIF('00 Alimenta'!$B:$B,'00 PDC SP'!$F394,'00 Alimenta'!G:G)","v":-2874726.99},{"$f":"SUMIF('00 Alimenta'!$B:$B,'00 PDC SP'!$F394,'00 Alimenta'!H:H)","v":0},{"$f":"SUMIF('00 Alimenta'!$B:$B,'00 PDC SP'!$F394,'00 Alimenta'!I:I)","v":0},-2874726.99]
["ABA680FS","AB","ABA680",10,"FS","0202030525","F.do svalutazione crediti v/gestioni liquidatorie",{"$f":"SUMIF('00 Alimenta'!$B:$B,'00 PDC SP'!$F395,'00 Alimenta'!D:D)","v":0},{"$f":"SUMIF('00 Alimenta'!$B:$B,'00 PDC SP'!$F395,'00 Alimenta'!E:E)","v":0},{"$f":"SUMIF('00 Alimenta'!$B:$B,'00 PDC SP'!$F395,'00 Alimenta'!F:F)","v":0},{"$f":"SUMIF('00 Alimenta'!$B:$B,'00 PDC SP'!$F395,'00 Alimenta'!G:G)","v":0},{"$f":"SUMIF('00 Alimenta'!$B:$B,'00 PDC SP'!$F395,'00 Alimenta'!H:H)","v":0},{"$f":"SUMIF('00 Alimenta'!$B:$B,'00 PDC SP'!$F395,'00 Alimenta'!I:I)","v":0},0]
["ABA690FS","AB","ABA690",10,"FS","0202030526","F.do svalutazione crediti v/altri enti pubblici",{"$f":"SUMIF('00 Alimenta'!$B:$B,'00 PDC SP'!$F396,'00 Alimenta'!D:D)","v":0},{"$f":"SUMIF('00 Alimenta'!$B:$B,'00 PDC SP'!$F396,'00 Alimenta'!E:E)","v":0},{"$f":"SUMIF('00 Alimenta'!$B:$B,'00 PDC SP'!$F396,'00 Alimenta'!F:F)","v":0},{"$f":"SUMIF('00 Alimenta'!$B:$B,'00 PDC SP'!$F396,'00 Alimenta'!G:G)","v":0},{"$f":"SUMIF('00 Alimenta'!$B:$B,'00 PDC SP'!$F396,'00 Alimenta'!H:H)","v":0},{"$f":"SUMIF('00 Alimenta'!$B:$B,'00 PDC SP'!$F396,'00 Alimenta'!I:I)","v":0},0]
["ABA700FS","AB","ABA700",10,"FS","0202030527","F.do svalutazione crediti v/altri enti pubblici per ricerca",{"$f":"SUMIF('00 Alimenta'!$B:$B,'00 PDC SP'!$F397,'00 Alimenta'!D:D)","v":0},{"$f":"SUMIF('00 Alimenta'!$B:$B,'00 PDC SP'!$F397,'00 Alimenta'!E:E)","v":0},{"$f":"SUMIF('00 Alimenta'!$B:$B,'00 PDC SP'!$F397,'00 Alimenta'!F:F)","v":0},{"$f":"SUMIF('00 Alimenta'!$B:$B,'00 PDC SP'!$F397,'00 Alimenta'!G:G)","v":0},{"$f":"SUMIF('00 Alimenta'!$B:$B,'00 PDC SP'!$F397,'00 Alimenta'!H:H)","v":0},{"$f":"SUMIF('00 Alimenta'!$B:$B,'00 PDC SP'!$F397,'00 Alimenta'!I:I)","v":0},0]
["ABA710FS","AB","ABA710",10,"FS","0202030528","F.do svalutazione altri crediti diversi",{"$f":"SUMIF('00 Alimenta'!$B:$B,'00 PDC SP'!$F398,'00 Alimenta'!D:D)","v":0},{"$f":"SUMIF('00 Alimenta'!$B:$B,'00 PDC SP'!$F398,'00 Alimenta'!E:E)","v":-300000},{"$f":"SUMIF('00 Alimenta'!$B:$B,'00 PDC SP'!$F398,'00 Alimenta'!F:F)","v":0},{"$f":"SUMIF('00 Alimenta'!$B:$B,'00 PDC SP'!$F398,'00 Alimenta'!G:G)","v":-300000},{"$f":"SUMIF('00 Alimenta'!$B:$B,'00 PDC SP'!$F398,'00 Alimenta'!H:H)","v":0},{"$f":"SUMIF('00 Alimenta'!$B:$B,'00 PDC SP'!$F398,'00 Alimenta'!I:I)","v":0},-300000]
["ABA390FS","AB","ABA390",10,"FS","0202030529","F.do svalutazione crediti v/Regione o Provincia Autonoma per quota FSR",{"$f":"SUMIF('00 Alimenta'!$B:$B,'00 PDC SP'!$F399,'00 Alimenta'!D:D)","v":-3047520.97},{"$f":"SUMIF('00 Alimenta'!$B:$B,'00 PDC SP'!$F399,'00 Alimenta'!E:E)","v":0},{"$f":"SUMIF('00 Alimenta'!$B:$B,'00 PDC SP'!$F399,'00 Alimenta'!F:F)","v":0},{"$f":"SUMIF('00 Alimenta'!$B:$B,'00 PDC SP'!$F399,'00 Alimenta'!G:G)","v":-3047520.97},{"$f":"SUMIF('00 Alimenta'!$B:$B,'00 PDC SP'!$F399,'00 Alimenta'!H:H)","v":0},{"$f":"SUMIF('00 Alimenta'!$B:$B,'00 PDC SP'!$F399,'00 Alimenta'!I:I)","v":0},-3047520.97]
["ABA400FS","AB","ABA400",10,"FS","0202030530","F.do svalutazione crediti v/Regione o Provincia Autonoma per mobilità attiva intraregionale",{"$f":"SUMIF('00 Alimenta'!$B:$B,'00 PDC SP'!$F400,'00 Alimenta'!D:D)","v":0},{"$f":"SUMIF('00 Alimenta'!$B:$B,'00 PDC SP'!$F400,'00 Alimenta'!E:E)","v":0},{"$f":"SUMIF('00 Alimenta'!$B:$B,'00 PDC SP'!$F400,'00 Alimenta'!F:F)","v":0},{"$f":"SUMIF('00 Alimenta'!$B:$B,'00 PDC SP'!$F400,'00 Alimenta'!G:G)","v":0},{"$f":"SUMIF('00 Alimenta'!$B:$B,'00 PDC SP'!$F400,'00 Alimenta'!H:H)","v":0},{"$f":"SUMIF('00 Alimenta'!$B:$B,'00 PDC SP'!$F400,'00 Alimenta'!I:I)","v":0},0]
["ABA410FS","AB","ABA410",10,"FS","0202030531","F.do svalutazione crediti v/Regione o Provincia Autonoma per mobilità attiva extraregionale",{"$f":"SUMIF('00 Alimenta'!$B:$B,'00 PDC SP'!$F401,'00 Alimenta'!D:D)","v":0},{"$f":"SUMIF('00 Alimenta'!$B:$B,'00 PDC SP'!$F401,'00 Alimenta'!E:E)","v":0},{"$f":"SUMIF('00 Alimenta'!$B:$B,'00 PDC SP'!$F401,'00 Alimenta'!F:F)","v":0},{"$f":"SUMIF('00 Alimenta'!$B:$B,'00 PDC SP'!$F401,'00 Alimenta'!G:G)","v":0},{"$f":"SUMIF('00 Alimenta'!$B:$B,'00 PDC SP'!$F401,'00 Alimenta'!H:H)","v":0},{"$f":"SUMIF('00 Alimenta'!$B:$B,'00 PDC SP'!$F401,'00 Alimenta'!I:I)","v":0},0]
["ABA420FS","AB","ABA420",10,"FS","0202030532","F.do svalutazione crediti v/Regione o Provincia Autonoma per acconto quota FSR",{"$f":"SUMIF('00 Alimenta'!$B:$B,'00 PDC SP'!$F402,'00 Alimenta'!D:D)","v":0},{"$f":"SUMIF('00 Alimenta'!$B:$B,'00 PDC SP'!$F402,'00 Alimenta'!E:E)","v":0},{"$f":"SUMIF('00 Alimenta'!$B:$B,'00 PDC SP'!$F402,'00 Alimenta'!F:F)","v":0},{"$f":"SUMIF('00 Alimenta'!$B:$B,'00 PDC SP'!$F402,'00 Alimenta'!G:G)","v":0},{"$f":"SUMIF('00 Alimenta'!$B:$B,'00 PDC SP'!$F402,'00 Alimenta'!H:H)","v":0},{"$f":"SUMIF('00 Alimenta'!$B:$B,'00 PDC SP'!$F402,'00 Alimenta'!I:I)","v":0},0]
["ABA430FS","AB","ABA430",10,"FS","0202030533","F.do svalutazione crediti v/Regione o Provincia Autonoma per finanziamento sanitario aggiuntivo corrente LEA",{"$f":"SUMIF('00 Alimenta'!$B:$B,'00 PDC SP'!$F403,'00 Alimenta'!D:D)","v":0},{"$f":"SUMIF('00 Alimenta'!$B:$B,'00 PDC SP'!$F403,'00 Alimenta'!E:E)","v":0},{"$f":"SUMIF('00 Alimenta'!$B:$B,'00 PDC SP'!$F403,'00 Alimenta'!F:F)","v":0},{"$f":"SUMIF('00 Alimenta'!$B:$B,'00 PDC SP'!$F403,'00 Alimenta'!G:G)","v":0},{"$f":"SUMIF('00 Alimenta'!$B:$B,'00 PDC SP'!$F403,'00 Alimenta'!H:H)","v":0},{"$f":"SUMIF('00 Alimenta'!$B:$B,'00 PDC SP'!$F403,'00 Alimenta'!I:I)","v":0},0]
["ABA440FS","AB","ABA440",10,"FS","0202030534","F.do svalutazione crediti v/Regione o Provincia Autonoma per finanziamento sanitario aggiuntivo corrente extra LEA",{"$f":"SUMIF('00 Alimenta'!$B:$B,'00 PDC SP'!$F404,'00 Alimenta'!D:D)","v":0},{"$f":"SUMIF('00 Alimenta'!$B:$B,'00 PDC SP'!$F404,'00 Alimenta'!E:E)","v":0},{"$f":"SUMIF('00 Alimenta'!$B:$B,'00 PDC SP'!$F404,'00 Alimenta'!F:F)","v":0},{"$f":"SUMIF('00 Alimenta'!$B:$B,'00 PDC SP'!$F404,'00 Alimenta'!G:G)","v":0},{"$f":"SUMIF('00 Alimenta'!$B:$B,'00 PDC SP'!$F404,'00 Alimenta'!H:H)","v":0},{"$f":"SUMIF('00 Alimenta'!$B:$B,'00 PDC SP'!$F404,'00 Alimenta'!I:I)","v":0},0]
["ABA450FS","AB","ABA450",10,"FS","0202030535","F.do svalutazione crediti v/Regione o Provincia Autonoma per spesa corrente - altro",{"$f":"SUMIF('00 Alimenta'!$B:$B,'00 PDC SP'!$F405,'00 Alimenta'!D:D)","v":0},{"$f":"SUMIF('00 Alimenta'!$B:$B,'00 PDC SP'!$F405,'00 Alimenta'!E:E)","v":0},{"$f":"SUMIF('00 Alimenta'!$B:$B,'00 PDC SP'!$F405,'00 Alimenta'!F:F)","v":0},{"$f":"SUMIF('00 Alimenta'!$B:$B,'00 PDC SP'!$F405,'00 Alimenta'!G:G)","v":0},{"$f":"SUMIF('00 Alimenta'!$B:$B,'00 PDC SP'!$F405,'00 Alimenta'!H:H)","v":0},{"$f":"SUMIF('00 Alimenta'!$B:$B,'00 PDC SP'!$F405,'00 Alimenta'!I:I)","v":0},0]
["ABA520FS","AB","ABA520",10,"FS","0202030536","F.do svalutazione crediti v/Regione o Provincia Autonoma per ricostituzione risorse da investimenti esercizi precedenti",{"$f":"SUMIF('00 Alimenta'!$B:$B,'00 PDC SP'!$F406,'00 Alimenta'!D:D)","v":0},{"$f":"SUMIF('00 Alimenta'!$B:$B,'00 PDC SP'!$F406,'00 Alimenta'!E:E)","v":0},{"$f":"SUMIF('00 Alimenta'!$B:$B,'00 PDC SP'!$F406,'00 Alimenta'!F:F)","v":0},{"$f":"SUMIF('00 Alimenta'!$B:$B,'00 PDC SP'!$F406,'00 Alimenta'!G:G)","v":0},{"$f":"SUMIF('00 Alimenta'!$B:$B,'00 PDC SP'!$F406,'00 Alimenta'!H:H)","v":0},{"$f":"SUMIF('00 Alimenta'!$B:$B,'00 PDC SP'!$F406,'00 Alimenta'!I:I)","v":0},0]
["PBA000","PB","PBA000",11,null,"0203010101","Fondi per imposte, anche differite",{"$f":"SUMIF('00 Alimenta'!$B:$B,'00 PDC SP'!$F407,'00 Alimenta'!D:D)","v":0},{"$f":"SUMIF('00 Alimenta'!$B:$B,'00 PDC SP'!$F407,'00 Alimenta'!E:E)","v":0},{"$f":"SUMIF('00 Alimenta'!$B:$B,'00 PDC SP'!$F407,'00 Alimenta'!F:F)","v":0},{"$f":"SUMIF('00 Alimenta'!$B:$B,'00 PDC SP'!$F407,'00 Alimenta'!G:G)","v":0},{"$f":"SUMIF('00 Alimenta'!$B:$B,'00 PDC SP'!$F407,'00 Alimenta'!H:H)","v":0},{"$f":"SUMIF('00 Alimenta'!$B:$B,'00 PDC SP'!$F407,'00 Alimenta'!I:I)","v":0},0]
["PBA020","PB","PBA020",11,null,"0203020101","Fondo rischi per cause civili ed oneri processuali",{"$f":"SUMIF('00 Alimenta'!$B:$B,'00 PDC SP'!$F408,'00 Alimenta'!D:D)","v":-7150000},{"$f":"SUMIF('00 Alimenta'!$B:$B,'00 PDC SP'!$F408,'00 Alimenta'!E:E)","v":-9280260.1600000001},{"$f":"SUMIF('00 Alimenta'!$B:$B,'00 PDC SP'!$F408,'00 Alimenta'!F:F)","v":-165038.16},{"$f":"SUMIF('00 Alimenta'!$B:$B,'00 PDC SP'!$F408,'00 Alimenta'!G:G)","v":-16265222},{"$f":"SUMIF('00 Alimenta'!$B:$B,'00 PDC SP'!$F408,'00 Alimenta'!H:H)","v":-1357811.38},{"$f":"SUMIF('00 Alimenta'!$B:$B,'00 PDC SP'!$F408,'00 Alimenta'!I:I)","v":-6579085.1600000001},-11043948.219999999]
["PBA030","PB","PBA030",11,null,"0203020201","Fondo rischi per contenzioso personale dipendente",{"$f":"SUMIF('00 Alimenta'!$B:$B,'00 PDC SP'!$F409,'00 Alimenta'!D:D)","v":-1250000},{"$f":"SUMIF('00 Alimenta'!$B:$B,'00 PDC SP'!$F409,'00 Alimenta'!E:E)","v":-563110.28},{"$f":"SUMIF('00 Alimenta'!$B:$B,'00 PDC SP'!$F409,'00 Alimenta'!F:F)","v":-563110.28},{"$f":"SUMIF('00 Alimenta'!$B:$B,'00 PDC SP'!$F409,'00 Alimenta'!G:G)","v":-1250000},{"$f":"SUMIF('00 Alimenta'!$B:$B,'00 PDC SP'!$F409,'00 Alimenta'!H:H)","v":0},{"$f":"SUMIF('00 Alimenta'!$B:$B,'00 PDC SP'!$F409,'00 Alimenta'!I:I)","v":-254237.67},-995762.33]
["PBA040","PB","PBA040",11,null,"0203020301","Fondo rischi connessi all'acquisto di prestazioni sanitarie da privato",{"$f":"SUMIF('00 Alimenta'!$B:$B,'00 PDC SP'!$F410,'00 Alimenta'!D:D)","v":-22630382.34},{"$f":"SUMIF('00 Alimenta'!$B:$B,'00 PDC SP'!$F410,'00 Alimenta'!E:E)","v":-4358962},{"$f":"SUMIF('00 Alimenta'!$B:$B,'00 PDC SP'!$F410,'00 Alimenta'!F:F)","v":-3664507.83},{"$f":"SUMIF('00 Alimenta'!$B:$B,'00 PDC SP'!$F410,'00 Alimenta'!G:G)","v":-23324836.510000002},{"$f":"SUMIF('00 Alimenta'!$B:$B,'00 PDC SP'!$F410,'00 Alimenta'!H:H)","v":-272176.8},{"$f":"SUMIF('00 Alimenta'!$B:$B,'00 PDC SP'!$F410,'00 Alimenta'!I:I)","v":-1311382.44},-22285630.870000001]
["PBA050","PB","PBA050",11,null,"0203020401","Fondo rischi per copertura diretta dei rischi (autoassicurazione)",{"$f":"SUMIF('00 Alimenta'!$B:$B,'00 PDC SP'!$F411,'00 Alimenta'!D:D)","v":-5500000},{"$f":"SUMIF('00 Alimenta'!$B:$B,'00 PDC SP'!$F411,'00 Alimenta'!E:E)","v":-3111381.31},{"$f":"SUMIF('00 Alimenta'!$B:$B,'00 PDC SP'!$F411,'00 Alimenta'!F:F)","v":-3111381.31},{"$f":"SUMIF('00 Alimenta'!$B:$B,'00 PDC SP'!$F411,'00 Alimenta'!G:G)","v":-5500000},{"$f":"SUMIF('00 Alimenta'!$B:$B,'00 PDC SP'!$F411,'00 Alimenta'!H:H)","v":-2297725.7799999998},{"$f":"SUMIF('00 Alimenta'!$B:$B,'00 PDC SP'!$F411,'00 Alimenta'!I:I)","v":-2297725.6800000002},-5500000.0999999996]
["PBA060","PB","PBA060",11,null,"0203020501","Altri fondi rischi",{"$f":"SUMIF('00 Alimenta'!$B:$B,'00 PDC SP'!$F412,'00 Alimenta'!D:D)","v":0},{"$f":"SUMIF('00 Alimenta'!$B:$B,'00 PDC SP'!$F412,'00 Alimenta'!E:E)","v":0},{"$f":"SUMIF('00 Alimenta'!$B:$B,'00 PDC SP'!$F412,'00 Alimenta'!F:F)","v":0},{"$f":"SUMIF('00 Alimenta'!$B:$B,'00 PDC SP'!$F412,'00 Alimenta'!G:G)","v":0},{"$f":"SUMIF('00 Alimenta'!$B:$B,'00 PDC SP'!$F412,'00 Alimenta'!H:H)","v":0},{"$f":"SUMIF('00 Alimenta'!$B:$B,'00 PDC SP'!$F412,'00 Alimenta'!I:I)","v":0},0]
["PBA080","PB","PBA080",11,null,"0203030101","FSR indistinto da distribuire",{"$f":"SUMIF('00 Alimenta'!$B:$B,'00 PDC SP'!$F413,'00 Alimenta'!D:D)","v":0},{"$f":"SUMIF('00 Alimenta'!$B:$B,'00 PDC SP'!$F413,'00 Alimenta'!E:E)","v":0},{"$f":"SUMIF('00 Alimenta'!$B:$B,'00 PDC SP'!$F413,'00 Alimenta'!F:F)","v":0},{"$f":"SUMIF('00 Alimenta'!$B:$B,'00 PDC SP'!$F413,'00 Alimenta'!G:G)","v":0},{"$f":"SUMIF('00 Alimenta'!$B:$B,'00 PDC SP'!$F413,'00 Alimenta'!H:H)","v":0},{"$f":"SUMIF('00 Alimenta'!$B:$B,'00 PDC SP'!$F413,'00 Alimenta'!I:I)","v":0},0]
["PBA080","PB","PBA080",11,null,"0203030102","FSR indistinto disimpegni",{"$f":"SUMIF('00 Alimenta'!$B:$B,'00 PDC SP'!$F414,'00 Alimenta'!D:D)","v":0},{"$f":"SUMIF('00 Alimenta'!$B:$B,'00 PDC SP'!$F414,'00 Alimenta'!E:E)","v":0},{"$f":"SUMIF('00 Alimenta'!$B:$B,'00 PDC SP'!$F414,'00 Alimenta'!F:F)","v":0},{"$f":"SUMIF('00 Alimenta'!$B:$B,'00 PDC SP'!$F414,'00 Alimenta'!G:G)","v":0},{"$f":"SUMIF('00 Alimenta'!$B:$B,'00 PDC SP'!$F414,'00 Alimenta'!H:H)","v":0},{"$f":"SUMIF('00 Alimenta'!$B:$B,'00 PDC SP'!$F414,'00 Alimenta'!I:I)","v":0},0]
["PBA090","PB","PBA090",11,null,"0203030201","Quota per rinnovo convenzioni L 133/08",{"$f":"SUMIF('00 Alimenta'!$B:$B,'00 PDC SP'!$F415,'00 Alimenta'!D:D)","v":0},{"$f":"SUMIF('00 Alimenta'!$B:$B,'00 PDC SP'!$F415,'00 Alimenta'!E:E)","v":0},{"$f":"SUMIF('00 Alimenta'!$B:$B,'00 PDC SP'!$F415,'00 Alimenta'!F:F)","v":0},{"$f":"SUMIF('00 Alimenta'!$B:$B,'00 PDC SP'!$F415,'00 Alimenta'!G:G)","v":0},{"$f":"SUMIF('00 Alimenta'!$B:$B,'00 PDC SP'!$F415,'00 Alimenta'!H:H)","v":0},{"$f":"SUMIF('00 Alimenta'!$B:$B,'00 PDC SP'!$F415,'00 Alimenta'!I:I)","v":0},0]
["PBA090","PB","PBA090",11,null,"0203030202","Quota per emersione extracomunitari L. 102/09 art. 1 ter, comma 17 e D.Lgs. 109/2012 art. 5, comma 16",{"$f":"SUMIF('00 Alimenta'!$B:$B,'00 PDC SP'!$F416,'00 Alimenta'!D:D)","v":0},{"$f":"SUMIF('00 Alimenta'!$B:$B,'00 PDC SP'!$F416,'00 Alimenta'!E:E)","v":0},{"$f":"SUMIF('00 Alimenta'!$B:$B,'00 PDC SP'!$F416,'00 Alimenta'!F:F)","v":0},{"$f":"SUMIF('00 Alimenta'!$B:$B,'00 PDC SP'!$F416,'00 Alimenta'!G:G)","v":0},{"$f":"SUMIF('00 Alimenta'!$B:$B,'00 PDC SP'!$F416,'00 Alimenta'!H:H)","v":0},{"$f":"SUMIF('00 Alimenta'!$B:$B,'00 PDC SP'!$F416,'00 Alimenta'!I:I)","v":0},0]
["PBA090","PB","PBA090",11,null,"0203030203","Quota per medicina Penitenziaria art. 2 co. 283 L. 244/07",{"$f":"SUMIF('00 Alimenta'!$B:$B,'00 PDC SP'!$F417,'00 Alimenta'!D:D)","v":0},{"$f":"SUMIF('00 Alimenta'!$B:$B,'00 PDC SP'!$F417,'00 Alimenta'!E:E)","v":0},{"$f":"SUMIF('00 Alimenta'!$B:$B,'00 PDC SP'!$F417,'00 Alimenta'!F:F)","v":0},{"$f":"SUMIF('00 Alimenta'!$B:$B,'00 PDC SP'!$F417,'00 Alimenta'!G:G)","v":0},{"$f":"SUMIF('00 Alimenta'!$B:$B,'00 PDC SP'!$F417,'00 Alimenta'!H:H)","v":0},{"$f":"SUMIF('00 Alimenta'!$B:$B,'00 PDC SP'!$F417,'00 Alimenta'!I:I)","v":0},0]
["PBA090","PB","PBA090",11,null,"0203030204","Quota per medicina Penitenziaria D.Lgs 230/99",{"$f":"SUMIF('00 Alimenta'!$B:$B,'00 PDC SP'!$F418,'00 Alimenta'!D:D)","v":0},{"$f":"SUMIF('00 Alimenta'!$B:$B,'00 PDC SP'!$F418,'00 Alimenta'!E:E)","v":0},{"$f":"SUMIF('00 Alimenta'!$B:$B,'00 PDC SP'!$F418,'00 Alimenta'!F:F)","v":0},{"$f":"SUMIF('00 Alimenta'!$B:$B,'00 PDC SP'!$F418,'00 Alimenta'!G:G)","v":0},{"$f":"SUMIF('00 Alimenta'!$B:$B,'00 PDC SP'!$F418,'00 Alimenta'!H:H)","v":0},{"$f":"SUMIF('00 Alimenta'!$B:$B,'00 PDC SP'!$F418,'00 Alimenta'!I:I)","v":0},0]
["PBA090","PB","PBA090",11,null,"0203030205","Quota per hanseniani L. 31/86",{"$f":"SUMIF('00 Alimenta'!$B:$B,'00 PDC SP'!$F419,'00 Alimenta'!D:D)","v":0},{"$f":"SUMIF('00 Alimenta'!$B:$B,'00 PDC SP'!$F419,'00 Alimenta'!E:E)","v":0},{"$f":"SUMIF('00 Alimenta'!$B:$B,'00 PDC SP'!$F419,'00 Alimenta'!F:F)","v":0},{"$f":"SUMIF('00 Alimenta'!$B:$B,'00 PDC SP'!$F419,'00 Alimenta'!G:G)","v":0},{"$f":"SUMIF('00 Alimenta'!$B:$B,'00 PDC SP'!$F419,'00 Alimenta'!H:H)","v":0},{"$f":"SUMIF('00 Alimenta'!$B:$B,'00 PDC SP'!$F419,'00 Alimenta'!I:I)","v":0},0]
["PBA090","PB","PBA090",11,null,"0203030206","Quota per fibrosi Cistica L. 362/98",{"$f":"SUMIF('00 Alimenta'!$B:$B,'00 PDC SP'!$F420,'00 Alimenta'!D:D)","v":0},{"$f":"SUMIF('00 Alimenta'!$B:$B,'00 PDC SP'!$F420,'00 Alimenta'!E:E)","v":0},{"$f":"SUMIF('00 Alimenta'!$B:$B,'00 PDC SP'!$F420,'00 Alimenta'!F:F)","v":0},{"$f":"SUMIF('00 Alimenta'!$B:$B,'00 PDC SP'!$F420,'00 Alimenta'!G:G)","v":0},{"$f":"SUMIF('00 Alimenta'!$B:$B,'00 PDC SP'!$F420,'00 Alimenta'!H:H)","v":0},{"$f":"SUMIF('00 Alimenta'!$B:$B,'00 PDC SP'!$F420,'00 Alimenta'!I:I)","v":0},0]
["PBA090","PB","PBA090",11,null,"0203030207","Quota per extracomunitari irregolari L. 40/98",{"$f":"SUMIF('00 Alimenta'!$B:$B,'00 PDC SP'!$F421,'00 Alimenta'!D:D)","v":0},{"$f":"SUMIF('00 Alimenta'!$B:$B,'00 PDC SP'!$F421,'00 Alimenta'!E:E)","v":0},{"$f":"SUMIF('00 Alimenta'!$B:$B,'00 PDC SP'!$F421,'00 Alimenta'!F:F)","v":0},{"$f":"SUMIF('00 Alimenta'!$B:$B,'00 PDC SP'!$F421,'00 Alimenta'!G:G)","v":0},{"$f":"SUMIF('00 Alimenta'!$B:$B,'00 PDC SP'!$F421,'00 Alimenta'!H:H)","v":0},{"$f":"SUMIF('00 Alimenta'!$B:$B,'00 PDC SP'!$F421,'00 Alimenta'!I:I)","v":0},0]
["PBA090","PB","PBA090",11,null,"0203030208","Quota per fondo esclusività L. 488/99",{"$f":"SUMIF('00 Alimenta'!$B:$B,'00 PDC SP'!$F422,'00 Alimenta'!D:D)","v":0},{"$f":"SUMIF('00 Alimenta'!$B:$B,'00 PDC SP'!$F422,'00 Alimenta'!E:E)","v":0},{"$f":"SUMIF('00 Alimenta'!$B:$B,'00 PDC SP'!$F422,'00 Alimenta'!F:F)","v":0},{"$f":"SUMIF('00 Alimenta'!$B:$B,'00 PDC SP'!$F422,'00 Alimenta'!G:G)","v":0},{"$f":"SUMIF('00 Alimenta'!$B:$B,'00 PDC SP'!$F422,'00 Alimenta'!H:H)","v":0},{"$f":"SUMIF('00 Alimenta'!$B:$B,'00 PDC SP'!$F422,'00 Alimenta'!I:I)","v":0},0]
["PBA090","PB","PBA090",11,null,"0203030209","Quota per borse studio MG L. 109/88",{"$f":"SUMIF('00 Alimenta'!$B:$B,'00 PDC SP'!$F423,'00 Alimenta'!D:D)","v":0},{"$f":"SUMIF('00 Alimenta'!$B:$B,'00 PDC SP'!$F423,'00 Alimenta'!E:E)","v":0},{"$f":"SUMIF('00 Alimenta'!$B:$B,'00 PDC SP'!$F423,'00 Alimenta'!F:F)","v":0},{"$f":"SUMIF('00 Alimenta'!$B:$B,'00 PDC SP'!$F423,'00 Alimenta'!G:G)","v":0},{"$f":"SUMIF('00 Alimenta'!$B:$B,'00 PDC SP'!$F423,'00 Alimenta'!H:H)","v":0},{"$f":"SUMIF('00 Alimenta'!$B:$B,'00 PDC SP'!$F423,'00 Alimenta'!I:I)","v":0},0]
["PBA090","PB","PBA090",11,null,"0203030210","Quota per veterinaria L. 218/88",{"$f":"SUMIF('00 Alimenta'!$B:$B,'00 PDC SP'!$F424,'00 Alimenta'!D:D)","v":0},{"$f":"SUMIF('00 Alimenta'!$B:$B,'00 PDC SP'!$F424,'00 Alimenta'!E:E)","v":0},{"$f":"SUMIF('00 Alimenta'!$B:$B,'00 PDC SP'!$F424,'00 Alimenta'!F:F)","v":0},{"$f":"SUMIF('00 Alimenta'!$B:$B,'00 PDC SP'!$F424,'00 Alimenta'!G:G)","v":0},{"$f":"SUMIF('00 Alimenta'!$B:$B,'00 PDC SP'!$F424,'00 Alimenta'!H:H)","v":0},{"$f":"SUMIF('00 Alimenta'!$B:$B,'00 PDC SP'!$F424,'00 Alimenta'!I:I)","v":0},0]
["PBA090","PB","PBA090",11,null,"0203030211","Quota per Aids L.135/90",{"$f":"SUMIF('00 Alimenta'!$B:$B,'00 PDC SP'!$F425,'00 Alimenta'!D:D)","v":0},{"$f":"SUMIF('00 Alimenta'!$B:$B,'00 PDC SP'!$F425,'00 Alimenta'!E:E)","v":0},{"$f":"SUMIF('00 Alimenta'!$B:$B,'00 PDC SP'!$F425,'00 Alimenta'!F:F)","v":0},{"$f":"SUMIF('00 Alimenta'!$B:$B,'00 PDC SP'!$F425,'00 Alimenta'!G:G)","v":0},{"$f":"SUMIF('00 Alimenta'!$B:$B,'00 PDC SP'!$F425,'00 Alimenta'!H:H)","v":0},{"$f":"SUMIF('00 Alimenta'!$B:$B,'00 PDC SP'!$F425,'00 Alimenta'!I:I)","v":0},0]
["PBA090","PB","PBA090",11,null,"0203030212","Quota per progetti di PSN L. 662/96",{"$f":"SUMIF('00 Alimenta'!$B:$B,'00 PDC SP'!$F426,'00 Alimenta'!D:D)","v":0},{"$f":"SUMIF('00 Alimenta'!$B:$B,'00 PDC SP'!$F426,'00 Alimenta'!E:E)","v":0},{"$f":"SUMIF('00 Alimenta'!$B:$B,'00 PDC SP'!$F426,'00 Alimenta'!F:F)","v":0},{"$f":"SUMIF('00 Alimenta'!$B:$B,'00 PDC SP'!$F426,'00 Alimenta'!G:G)","v":0},{"$f":"SUMIF('00 Alimenta'!$B:$B,'00 PDC SP'!$F426,'00 Alimenta'!H:H)","v":0},{"$f":"SUMIF('00 Alimenta'!$B:$B,'00 PDC SP'!$F426,'00 Alimenta'!I:I)","v":0},0]
["PBA090","PB","PBA090",11,null,"0203030213","Quota per mutui pre-riforma",{"$f":"SUMIF('00 Alimenta'!$B:$B,'00 PDC SP'!$F427,'00 Alimenta'!D:D)","v":0},{"$f":"SUMIF('00 Alimenta'!$B:$B,'00 PDC SP'!$F427,'00 Alimenta'!E:E)","v":0},{"$f":"SUMIF('00 Alimenta'!$B:$B,'00 PDC SP'!$F427,'00 Alimenta'!F:F)","v":0},{"$f":"SUMIF('00 Alimenta'!$B:$B,'00 PDC SP'!$F427,'00 Alimenta'!G:G)","v":0},{"$f":"SUMIF('00 Alimenta'!$B:$B,'00 PDC SP'!$F427,'00 Alimenta'!H:H)","v":0},{"$f":"SUMIF('00 Alimenta'!$B:$B,'00 PDC SP'!$F427,'00 Alimenta'!I:I)","v":0},0]
["PBA090","PB","PBA090",11,null,"0203030214","Quota per borse studio specializzandi",{"$f":"SUMIF('00 Alimenta'!$B:$B,'00 PDC SP'!$F428,'00 Alimenta'!D:D)","v":0},{"$f":"SUMIF('00 Alimenta'!$B:$B,'00 PDC SP'!$F428,'00 Alimenta'!E:E)","v":0},{"$f":"SUMIF('00 Alimenta'!$B:$B,'00 PDC SP'!$F428,'00 Alimenta'!F:F)","v":0},{"$f":"SUMIF('00 Alimenta'!$B:$B,'00 PDC SP'!$F428,'00 Alimenta'!G:G)","v":0},{"$f":"SUMIF('00 Alimenta'!$B:$B,'00 PDC SP'!$F428,'00 Alimenta'!H:H)","v":0},{"$f":"SUMIF('00 Alimenta'!$B:$B,'00 PDC SP'!$F428,'00 Alimenta'!I:I)","v":0},0]
["PBA090","PB","PBA090",11,null,"0203030215","Quota per per superamento degli ospedali psichiatrici giudiziari (O.P.G.) L. 9/2012, art. 3 ter, comma 7",{"$f":"SUMIF('00 Alimenta'!$B:$B,'00 PDC SP'!$F429,'00 Alimenta'!D:D)","v":0},{"$f":"SUMIF('00 Alimenta'!$B:$B,'00 PDC SP'!$F429,'00 Alimenta'!E:E)","v":0},{"$f":"SUMIF('00 Alimenta'!$B:$B,'00 PDC SP'!$F429,'00 Alimenta'!F:F)","v":0},{"$f":"SUMIF('00 Alimenta'!$B:$B,'00 PDC SP'!$F429,'00 Alimenta'!G:G)","v":0},{"$f":"SUMIF('00 Alimenta'!$B:$B,'00 PDC SP'!$F429,'00 Alimenta'!H:H)","v":0},{"$f":"SUMIF('00 Alimenta'!$B:$B,'00 PDC SP'!$F429,'00 Alimenta'!I:I)","v":0},0]
["PBA090","PB","PBA090",11,null,"0203030216","FSR vincolato da distribuire",{"$f":"SUMIF('00 Alimenta'!$B:$B,'00 PDC SP'!$F430,'00 Alimenta'!D:D)","v":0},{"$f":"SUMIF('00 Alimenta'!$B:$B,'00 PDC SP'!$F430,'00 Alimenta'!E:E)","v":0},{"$f":"SUMIF('00 Alimenta'!$B:$B,'00 PDC SP'!$F430,'00 Alimenta'!F:F)","v":0},{"$f":"SUMIF('00 Alimenta'!$B:$B,'00 PDC SP'!$F430,'00 Alimenta'!G:G)","v":0},{"$f":"SUMIF('00 Alimenta'!$B:$B,'00 PDC SP'!$F430,'00 Alimenta'!H:H)","v":0},{"$f":"SUMIF('00 Alimenta'!$B:$B,'00 PDC SP'!$F430,'00 Alimenta'!I:I)","v":0},0]
["PBA100","PB","PBA100",11,null,"0203030301","Fondo per ripiano disavanzi pregressi",{"$f":"SUMIF('00 Alimenta'!$B:$B,'00 PDC SP'!$F431,'00 Alimenta'!D:D)","v":0},{"$f":"SUMIF('00 Alimenta'!$B:$B,'00 PDC SP'!$F431,'00 Alimenta'!E:E)","v":0},{"$f":"SUMIF('00 Alimenta'!$B:$B,'00 PDC SP'!$F431,'00 Alimenta'!F:F)","v":0},{"$f":"SUMIF('00 Alimenta'!$B:$B,'00 PDC SP'!$F431,'00 Alimenta'!G:G)","v":0},{"$f":"SUMIF('00 Alimenta'!$B:$B,'00 PDC SP'!$F431,'00 Alimenta'!H:H)","v":0},{"$f":"SUMIF('00 Alimenta'!$B:$B,'00 PDC SP'!$F431,'00 Alimenta'!I:I)","v":0},0]
["PBA110","PB","PBA110",11,null,"0203030401","Fondo finanziamento sanitario aggiuntivo corrente LEA da distribuire DG1",{"$f":"SUMIF('00 Alimenta'!$B:$B,'00 PDC SP'!$F432,'00 Alimenta'!D:D)","v":0},{"$f":"SUMIF('00 Alimenta'!$B:$B,'00 PDC SP'!$F432,'00 Alimenta'!E:E)","v":0},{"$f":"SUMIF('00 Alimenta'!$B:$B,'00 PDC SP'!$F432,'00 Alimenta'!F:F)","v":0},{"$f":"SUMIF('00 Alimenta'!$B:$B,'00 PDC SP'!$F432,'00 Alimenta'!G:G)","v":0},{"$f":"SUMIF('00 Alimenta'!$B:$B,'00 PDC SP'!$F432,'00 Alimenta'!H:H)","v":0},{"$f":"SUMIF('00 Alimenta'!$B:$B,'00 PDC SP'!$F432,'00 Alimenta'!I:I)","v":0},0]
["PBA110","PB","PBA110",11,null,"0203030402","Fondo finanziamento sanitario aggiuntivo corrente LEA da distribuire DG8",{"$f":"SUMIF('00 Alimenta'!$B:$B,'00 PDC SP'!$F433,'00 Alimenta'!D:D)","v":0},{"$f":"SUMIF('00 Alimenta'!$B:$B,'00 PDC SP'!$F433,'00 Alimenta'!E:E)","v":0},{"$f":"SUMIF('00 Alimenta'!$B:$B,'00 PDC SP'!$F433,'00 Alimenta'!F:F)","v":0},{"$f":"SUMIF('00 Alimenta'!$B:$B,'00 PDC SP'!$F433,'00 Alimenta'!G:G)","v":0},{"$f":"SUMIF('00 Alimenta'!$B:$B,'00 PDC SP'!$F433,'00 Alimenta'!H:H)","v":0},{"$f":"SUMIF('00 Alimenta'!$B:$B,'00 PDC SP'!$F433,'00 Alimenta'!I:I)","v":0},0]
["PBA110","PB","PBA110",11,null,"0203030403","Fondo finanziamento sanitario aggiuntivo corrente LEA da distribuire DG12",{"$f":"SUMIF('00 Alimenta'!$B:$B,'00 PDC SP'!$F434,'00 Alimenta'!D:D)","v":0},{"$f":"SUMIF('00 Alimenta'!$B:$B,'00 PDC SP'!$F434,'00 Alimenta'!E:E)","v":0},{"$f":"SUMIF('00 Alimenta'!$B:$B,'00 PDC SP'!$F434,'00 Alimenta'!F:F)","v":0},{"$f":"SUMIF('00 Alimenta'!$B:$B,'00 PDC SP'!$F434,'00 Alimenta'!G:G)","v":0},{"$f":"SUMIF('00 Alimenta'!$B:$B,'00 PDC SP'!$F434,'00 Alimenta'!H:H)","v":0},{"$f":"SUMIF('00 Alimenta'!$B:$B,'00 PDC SP'!$F434,'00 Alimenta'!I:I)","v":0},0]
["PBA110","PB","PBA110",11,null,"0203030404","Fondo finanziamento sanitario aggiuntivo corrente LEA da distribuire DG13",{"$f":"SUMIF('00 Alimenta'!$B:$B,'00 PDC SP'!$F435,'00 Alimenta'!D:D)","v":0},{"$f":"SUMIF('00 Alimenta'!$B:$B,'00 PDC SP'!$F435,'00 Alimenta'!E:E)","v":0},{"$f":"SUMIF('00 Alimenta'!$B:$B,'00 PDC SP'!$F435,'00 Alimenta'!F:F)","v":0},{"$f":"SUMIF('00 Alimenta'!$B:$B,'00 PDC SP'!$F435,'00 Alimenta'!G:G)","v":0},{"$f":"SUMIF('00 Alimenta'!$B:$B,'00 PDC SP'!$F435,'00 Alimenta'!H:H)","v":0},{"$f":"SUMIF('00 Alimenta'!$B:$B,'00 PDC SP'!$F435,'00 Alimenta'!I:I)","v":0},0]
["PBA110","PB","PBA110",11,null,"0203030405","Fondo finanziamento sanitario aggiuntivo corrente LEA da distribuire DG16",{"$f":"SUMIF('00 Alimenta'!$B:$B,'00 PDC SP'!$F436,'00 Alimenta'!D:D)","v":0},{"$f":"SUMIF('00 Alimenta'!$B:$B,'00 PDC SP'!$F436,'00 Alimenta'!E:E)","v":0},{"$f":"SUMIF('00 Alimenta'!$B:$B,'00 PDC SP'!$F436,'00 Alimenta'!F:F)","v":0},{"$f":"SUMIF('00 Alimenta'!$B:$B,'00 PDC SP'!$F436,'00 Alimenta'!G:G)","v":0},{"$f":"SUMIF('00 Alimenta'!$B:$B,'00 PDC SP'!$F436,'00 Alimenta'!H:H)","v":0},{"$f":"SUMIF('00 Alimenta'!$B:$B,'00 PDC SP'!$F436,'00 Alimenta'!I:I)","v":0},0]
["PBA110","PB","PBA110",11,null,"0203030406","Fondo finanziamento sanitario aggiuntivo corrente LEA da distribuire DG18",{"$f":"SUMIF('00 Alimenta'!$B:$B,'00 PDC SP'!$F437,'00 Alimenta'!D:D)","v":0},{"$f":"SUMIF('00 Alimenta'!$B:$B,'00 PDC SP'!$F437,'00 Alimenta'!E:E)","v":0},{"$f":"SUMIF('00 Alimenta'!$B:$B,'00 PDC SP'!$F437,'00 Alimenta'!F:F)","v":0},{"$f":"SUMIF('00 Alimenta'!$B:$B,'00 PDC SP'!$F437,'00 Alimenta'!G:G)","v":0},{"$f":"SUMIF('00 Alimenta'!$B:$B,'00 PDC SP'!$F437,'00 Alimenta'!H:H)","v":0},{"$f":"SUMIF('00 Alimenta'!$B:$B,'00 PDC SP'!$F437,'00 Alimenta'!I:I)","v":0},0]
["PBA110","PB","PBA110",11,null,"0203030407","Fondo finanziamento sanitario aggiuntivo corrente LEA da distribuire DG19",{"$f":"SUMIF('00 Alimenta'!$B:$B,'00 PDC SP'!$F438,'00 Alimenta'!D:D)","v":0},{"$f":"SUMIF('00 Alimenta'!$B:$B,'00 PDC SP'!$F438,'00 Alimenta'!E:E)","v":0},{"$f":"SUMIF('00 Alimenta'!$B:$B,'00 PDC SP'!$F438,'00 Alimenta'!F:F)","v":0},{"$f":"SUMIF('00 Alimenta'!$B:$B,'00 PDC SP'!$F438,'00 Alimenta'!G:G)","v":0},{"$f":"SUMIF('00 Alimenta'!$B:$B,'00 PDC SP'!$F438,'00 Alimenta'!H:H)","v":0},{"$f":"SUMIF('00 Alimenta'!$B:$B,'00 PDC SP'!$F438,'00 Alimenta'!I:I)","v":0},0]
["PBA110","PB","PBA110",11,null,"0203030408","Fondo finanziamento sanitario aggiuntivo corrente LEA da distribuire DG20",{"$f":"SUMIF('00 Alimenta'!$B:$B,'00 PDC SP'!$F439,'00 Alimenta'!D:D)","v":0},{"$f":"SUMIF('00 Alimenta'!$B:$B,'00 PDC SP'!$F439,'00 Alimenta'!E:E)","v":0},{"$f":"SUMIF('00 Alimenta'!$B:$B,'00 PDC SP'!$F439,'00 Alimenta'!F:F)","v":0},{"$f":"SUMIF('00 Alimenta'!$B:$B,'00 PDC SP'!$F439,'00 Alimenta'!G:G)","v":0},{"$f":"SUMIF('00 Alimenta'!$B:$B,'00 PDC SP'!$F439,'00 Alimenta'!H:H)","v":0},{"$f":"SUMIF('00 Alimenta'!$B:$B,'00 PDC SP'!$F439,'00 Alimenta'!I:I)","v":0},0]
["PBA110","PB","PBA110",11,null,"0203030409","Fondo finanziamento sanitario aggiuntivo corrente LEA da distribuire DG21",{"$f":"SUMIF('00 Alimenta'!$B:$B,'00 PDC SP'!$F440,'00 Alimenta'!D:D)","v":0},{"$f":"SUMIF('00 Alimenta'!$B:$B,'00 PDC SP'!$F440,'00 Alimenta'!E:E)","v":0},{"$f":"SUMIF('00 Alimenta'!$B:$B,'00 PDC SP'!$F440,'00 Alimenta'!F:F)","v":0},{"$f":"SUMIF('00 Alimenta'!$B:$B,'00 PDC SP'!$F440,'00 Alimenta'!G:G)","v":0},{"$f":"SUMIF('00 Alimenta'!$B:$B,'00 PDC SP'!$F440,'00 Alimenta'!H:H)","v":0},{"$f":"SUMIF('00 Alimenta'!$B:$B,'00 PDC SP'!$F440,'00 Alimenta'!I:I)","v":0},0]
["PBA110","PB","PBA110",11,null,"0203030410","Fondo finanziamento sanitario aggiuntivo corrente LEA da distribuire DG22",{"$f":"SUMIF('00 Alimenta'!$B:$B,'00 PDC SP'!$F441,'00 Alimenta'!D:D)","v":0},{"$f":"SUMIF('00 Alimenta'!$B:$B,'00 PDC SP'!$F441,'00 Alimenta'!E:E)","v":0},{"$f":"SUMIF('00 Alimenta'!$B:$B,'00 PDC SP'!$F441,'00 Alimenta'!F:F)","v":0},{"$f":"SUMIF('00 Alimenta'!$B:$B,'00 PDC SP'!$F441,'00 Alimenta'!G:G)","v":0},{"$f":"SUMIF('00 Alimenta'!$B:$B,'00 PDC SP'!$F441,'00 Alimenta'!H:H)","v":0},{"$f":"SUMIF('00 Alimenta'!$B:$B,'00 PDC SP'!$F441,'00 Alimenta'!I:I)","v":0},0]
["PBA110","PB","PBA110",11,null,"0203030411","Fondo trasferimenti da AIFA",{"$f":"SUMIF('00 Alimenta'!$B:$B,'00 PDC SP'!$F442,'00 Alimenta'!D:D)","v":0},{"$f":"SUMIF('00 Alimenta'!$B:$B,'00 PDC SP'!$F442,'00 Alimenta'!E:E)","v":0},{"$f":"SUMIF('00 Alimenta'!$B:$B,'00 PDC SP'!$F442,'00 Alimenta'!F:F)","v":0},{"$f":"SUMIF('00 Alimenta'!$B:$B,'00 PDC SP'!$F442,'00 Alimenta'!G:G)","v":0},{"$f":"SUMIF('00 Alimenta'!$B:$B,'00 PDC SP'!$F442,'00 Alimenta'!H:H)","v":0},{"$f":"SUMIF('00 Alimenta'!$B:$B,'00 PDC SP'!$F442,'00 Alimenta'!I:I)","v":0},0]
["PBA120","PB","PBA120",11,null,"0203030501","Fondo finanziamento sanitario aggiuntivo corrente extra LEA da distribuire DG1",{"$f":"SUMIF('00 Alimenta'!$B:$B,'00 PDC SP'!$F443,'00 Alimenta'!D:D)","v":0},{"$f":"SUMIF('00 Alimenta'!$B:$B,'00 PDC SP'!$F443,'00 Alimenta'!E:E)","v":0},{"$f":"SUMIF('00 Alimenta'!$B:$B,'00 PDC SP'!$F443,'00 Alimenta'!F:F)","v":0},{"$f":"SUMIF('00 Alimenta'!$B:$B,'00 PDC SP'!$F443,'00 Alimenta'!G:G)","v":0},{"$f":"SUMIF('00 Alimenta'!$B:$B,'00 PDC SP'!$F443,'00 Alimenta'!H:H)","v":0},{"$f":"SUMIF('00 Alimenta'!$B:$B,'00 PDC SP'!$F443,'00 Alimenta'!I:I)","v":0},0]
["PBA120","PB","PBA120",11,null,"0203030502","Fondo finanziamento sanitario aggiuntivo corrente extra LEA da distribuire DG8",{"$f":"SUMIF('00 Alimenta'!$B:$B,'00 PDC SP'!$F444,'00 Alimenta'!D:D)","v":0},{"$f":"SUMIF('00 Alimenta'!$B:$B,'00 PDC SP'!$F444,'00 Alimenta'!E:E)","v":0},{"$f":"SUMIF('00 Alimenta'!$B:$B,'00 PDC SP'!$F444,'00 Alimenta'!F:F)","v":0},{"$f":"SUMIF('00 Alimenta'!$B:$B,'00 PDC SP'!$F444,'00 Alimenta'!G:G)","v":0},{"$f":"SUMIF('00 Alimenta'!$B:$B,'00 PDC SP'!$F444,'00 Alimenta'!H:H)","v":0},{"$f":"SUMIF('00 Alimenta'!$B:$B,'00 PDC SP'!$F444,'00 Alimenta'!I:I)","v":0},0]
["PBA120","PB","PBA120",11,null,"0203030503","Fondo finanziamento sanitario aggiuntivo corrente extra LEA da distribuire DG12",{"$f":"SUMIF('00 Alimenta'!$B:$B,'00 PDC SP'!$F445,'00 Alimenta'!D:D)","v":0},{"$f":"SUMIF('00 Alimenta'!$B:$B,'00 PDC SP'!$F445,'00 Alimenta'!E:E)","v":0},{"$f":"SUMIF('00 Alimenta'!$B:$B,'00 PDC SP'!$F445,'00 Alimenta'!F:F)","v":0},{"$f":"SUMIF('00 Alimenta'!$B:$B,'00 PDC SP'!$F445,'00 Alimenta'!G:G)","v":0},{"$f":"SUMIF('00 Alimenta'!$B:$B,'00 PDC SP'!$F445,'00 Alimenta'!H:H)","v":0},{"$f":"SUMIF('00 Alimenta'!$B:$B,'00 PDC SP'!$F445,'00 Alimenta'!I:I)","v":0},0]
["PBA120","PB","PBA120",11,null,"0203030504","Fondo finanziamento sanitario aggiuntivo corrente extra LEA da distribuire DG13",{"$f":"SUMIF('00 Alimenta'!$B:$B,'00 PDC SP'!$F446,'00 Alimenta'!D:D)","v":0},{"$f":"SUMIF('00 Alimenta'!$B:$B,'00 PDC SP'!$F446,'00 Alimenta'!E:E)","v":0},{"$f":"SUMIF('00 Alimenta'!$B:$B,'00 PDC SP'!$F446,'00 Alimenta'!F:F)","v":0},{"$f":"SUMIF('00 Alimenta'!$B:$B,'00 PDC SP'!$F446,'00 Alimenta'!G:G)","v":0},{"$f":"SUMIF('00 Alimenta'!$B:$B,'00 PDC SP'!$F446,'00 Alimenta'!H:H)","v":0},{"$f":"SUMIF('00 Alimenta'!$B:$B,'00 PDC SP'!$F446,'00 Alimenta'!I:I)","v":0},0]
["PBA120","PB","PBA120",11,null,"0203030505","Fondo finanziamento sanitario aggiuntivo corrente extra LEA da distribuire DG16",{"$f":"SUMIF('00 Alimenta'!$B:$B,'00 PDC SP'!$F447,'00 Alimenta'!D:D)","v":0},{"$f":"SUMIF('00 Alimenta'!$B:$B,'00 PDC SP'!$F447,'00 Alimenta'!E:E)","v":0},{"$f":"SUMIF('00 Alimenta'!$B:$B,'00 PDC SP'!$F447,'00 Alimenta'!F:F)","v":0},{"$f":"SUMIF('00 Alimenta'!$B:$B,'00 PDC SP'!$F447,'00 Alimenta'!G:G)","v":0},{"$f":"SUMIF('00 Alimenta'!$B:$B,'00 PDC SP'!$F447,'00 Alimenta'!H:H)","v":0},{"$f":"SUMIF('00 Alimenta'!$B:$B,'00 PDC SP'!$F447,'00 Alimenta'!I:I)","v":0},0]
["PBA120","PB","PBA120",11,null,"0203030506","Fondo finanziamento sanitario aggiuntivo corrente extra LEA da distribuire DG18",{"$f":"SUMIF('00 Alimenta'!$B:$B,'00 PDC SP'!$F448,'00 Alimenta'!D:D)","v":0},{"$f":"SUMIF('00 Alimenta'!$B:$B,'00 PDC SP'!$F448,'00 Alimenta'!E:E)","v":0},{"$f":"SUMIF('00 Alimenta'!$B:$B,'00 PDC SP'!$F448,'00 Alimenta'!F:F)","v":0},{"$f":"SUMIF('00 Alimenta'!$B:$B,'00 PDC SP'!$F448,'00 Alimenta'!G:G)","v":0},{"$f":"SUMIF('00 Alimenta'!$B:$B,'00 PDC SP'!$F448,'00 Alimenta'!H:H)","v":0},{"$f":"SUMIF('00 Alimenta'!$B:$B,'00 PDC SP'!$F448,'00 Alimenta'!I:I)","v":0},0]
["PBA120","PB","PBA120",11,null,"0203030507","Fondo finanziamento sanitario aggiuntivo corrente extra LEA da distribuire DG19",{"$f":"SUMIF('00 Alimenta'!$B:$B,'00 PDC SP'!$F449,'00 Alimenta'!D:D)","v":0},{"$f":"SUMIF('00 Alimenta'!$B:$B,'00 PDC SP'!$F449,'00 Alimenta'!E:E)","v":0},{"$f":"SUMIF('00 Alimenta'!$B:$B,'00 PDC SP'!$F449,'00 Alimenta'!F:F)","v":0},{"$f":"SUMIF('00 Alimenta'!$B:$B,'00 PDC SP'!$F449,'00 Alimenta'!G:G)","v":0},{"$f":"SUMIF('00 Alimenta'!$B:$B,'00 PDC SP'!$F449,'00 Alimenta'!H:H)","v":0},{"$f":"SUMIF('00 Alimenta'!$B:$B,'00 PDC SP'!$F449,'00 Alimenta'!I:I)","v":0},0]
["PBA120","PB","PBA120",11,null,"0203030508","Fondo finanziamento sanitario aggiuntivo corrente extra LEA da distribuire DG20",{"$f":"SUMIF('00 Alimenta'!$B:$B,'00 PDC SP'!$F450,'00 Alimenta'!D:D)","v":0},{"$f":"SUMIF('00 Alimenta'!$B:$B,'00 PDC SP'!$F450,'00 Alimenta'!E:E)","v":0},{"$f":"SUMIF('00 Alimenta'!$B:$B,'00 PDC SP'!$F450,'00 Alimenta'!F:F)","v":0},{"$f":"SUMIF('00 Alimenta'!$B:$B,'00 PDC SP'!$F450,'00 Alimenta'!G:G)","v":0},{"$f":"SUMIF('00 Alimenta'!$B:$B,'00 PDC SP'!$F450,'00 Alimenta'!H:H)","v":0},{"$f":"SUMIF('00 Alimenta'!$B:$B,'00 PDC SP'!$F450,'00 Alimenta'!I:I)","v":0},0]
["PBA120","PB","PBA120",11,null,"0203030509","Fondo finanziamento sanitario aggiuntivo corrente extra LEA da distribuire DG21",{"$f":"SUMIF('00 Alimenta'!$B:$B,'00 PDC SP'!$F451,'00 Alimenta'!D:D)","v":0},{"$f":"SUMIF('00 Alimenta'!$B:$B,'00 PDC SP'!$F451,'00 Alimenta'!E:E)","v":0},{"$f":"SUMIF('00 Alimenta'!$B:$B,'00 PDC SP'!$F451,'00 Alimenta'!F:F)","v":0},{"$f":"SUMIF('00 Alimenta'!$B:$B,'00 PDC SP'!$F451,'00 Alimenta'!G:G)","v":0},{"$f":"SUMIF('00 Alimenta'!$B:$B,'00 PDC SP'!$F451,'00 Alimenta'!H:H)","v":0},{"$f":"SUMIF('00 Alimenta'!$B:$B,'00 PDC SP'!$F451,'00 Alimenta'!I:I)","v":0},0]
["PBA120","PB","PBA120",11,null,"0203030510","Fondo finanziamento sanitario aggiuntivo corrente extra LEA da distribuire DG22",{"$f":"SUMIF('00 Alimenta'!$B:$B,'00 PDC SP'!$F452,'00 Alimenta'!D:D)","v":0},{"$f":"SUMIF('00 Alimenta'!$B:$B,'00 PDC SP'!$F452,'00 Alimenta'!E:E)","v":0},{"$f":"SUMIF('00 Alimenta'!$B:$B,'00 PDC SP'!$F452,'00 Alimenta'!F:F)","v":0},{"$f":"SUMIF('00 Alimenta'!$B:$B,'00 PDC SP'!$F452,'00 Alimenta'!G:G)","v":0},{"$f":"SUMIF('00 Alimenta'!$B:$B,'00 PDC SP'!$F452,'00 Alimenta'!H:H)","v":0},{"$f":"SUMIF('00 Alimenta'!$B:$B,'00 PDC SP'!$F452,'00 Alimenta'!I:I)","v":0},0]
["PBA130","PB","PBA130",11,null,"0203030601","Fondo finanziamento per ricerca ",{"$f":"SUMIF('00 Alimenta'!$B:$B,'00 PDC SP'!$F453,'00 Alimenta'!D:D)","v":0},{"$f":"SUMIF('00 Alimenta'!$B:$B,'00 PDC SP'!$F453,'00 Alimenta'!E:E)","v":0},{"$f":"SUMIF('00 Alimenta'!$B:$B,'00 PDC SP'!$F453,'00 Alimenta'!F:F)","v":0},{"$f":"SUMIF('00 Alimenta'!$B:$B,'00 PDC SP'!$F453,'00 Alimenta'!G:G)","v":0},{"$f":"SUMIF('00 Alimenta'!$B:$B,'00 PDC SP'!$F453,'00 Alimenta'!H:H)","v":0},{"$f":"SUMIF('00 Alimenta'!$B:$B,'00 PDC SP'!$F453,'00 Alimenta'!I:I)","v":0},0]
["PBA140","PB","PBA140",11,null,"0203030701","Fondo finanziamento per investimenti  ",{"$f":"SUMIF('00 Alimenta'!$B:$B,'00 PDC SP'!$F454,'00 Alimenta'!D:D)","v":0},{"$f":"SUMIF('00 Alimenta'!$B:$B,'00 PDC SP'!$F454,'00 Alimenta'!E:E)","v":0},{"$f":"SUMIF('00 Alimenta'!$B:$B,'00 PDC SP'!$F454,'00 Alimenta'!F:F)","v":0},{"$f":"SUMIF('00 Alimenta'!$B:$B,'00 PDC SP'!$F454,'00 Alimenta'!G:G)","v":0},{"$f":"SUMIF('00 Alimenta'!$B:$B,'00 PDC SP'!$F454,'00 Alimenta'!H:H)","v":0},{"$f":"SUMIF('00 Alimenta'!$B:$B,'00 PDC SP'!$F454,'00 Alimenta'!I:I)","v":0},0]
["PBA160","PB","PBA160",11,null,"0203040101","Quote inutilizzate contributi da Regione o Prov. Aut. per quota F.S. vincolato",{"$f":"SUMIF('00 Alimenta'!$B:$B,'00 PDC SP'!$F455,'00 Alimenta'!D:D)","v":0},{"$f":"SUMIF('00 Alimenta'!$B:$B,'00 PDC SP'!$F455,'00 Alimenta'!E:E)","v":0},{"$f":"SUMIF('00 Alimenta'!$B:$B,'00 PDC SP'!$F455,'00 Alimenta'!F:F)","v":0},{"$f":"SUMIF('00 Alimenta'!$B:$B,'00 PDC SP'!$F455,'00 Alimenta'!G:G)","v":0},{"$f":"SUMIF('00 Alimenta'!$B:$B,'00 PDC SP'!$F455,'00 Alimenta'!H:H)","v":0},{"$f":"SUMIF('00 Alimenta'!$B:$B,'00 PDC SP'!$F455,'00 Alimenta'!I:I)","v":0},0]
[{"$f":"IF(E456=\"\",C456,C456&E456)","v":"PBA160"},{"$f":"LEFT(C456,2)","v":"PB"},"PBA160",11,null,"0203040102","Quote inutilizzate contributi da Regione per rinnovo convenzioni L 133/08",{"$f":"SUMIF('00 Alimenta'!$B:$B,'00 PDC SP'!$F456,'00 Alimenta'!D:D)","v":0},{"$f":"SUMIF('00 Alimenta'!$B:$B,'00 PDC SP'!$F456,'00 Alimenta'!E:E)","v":0},{"$f":"SUMIF('00 Alimenta'!$B:$B,'00 PDC SP'!$F456,'00 Alimenta'!F:F)","v":0},{"$f":"SUMIF('00 Alimenta'!$B:$B,'00 PDC SP'!$F456,'00 Alimenta'!G:G)","v":0},{"$f":"SUMIF('00 Alimenta'!$B:$B,'00 PDC SP'!$F456,'00 Alimenta'!H:H)","v":0},{"$f":"SUMIF('00 Alimenta'!$B:$B,'00 PDC SP'!$F456,'00 Alimenta'!I:I)","v":0},{"$f":"K456+L456-M456","v":0}]
["PBA160","PB","PBA160",11,null,"0203040103","Quote inutilizzate contributi da Regione per emersione extracomunitari L. 102/09 art. 1 ter, comma 17 e D.Lgs. 109/2012 art. 5, comma 16",{"$f":"SUMIF('00 Alimenta'!$B:$B,'00 PDC SP'!$F457,'00 Alimenta'!D:D)","v":0},{"$f":"SUMIF('00 Alimenta'!$B:$B,'00 PDC SP'!$F457,'00 Alimenta'!E:E)","v":0},{"$f":"SUMIF('00 Alimenta'!$B:$B,'00 PDC SP'!$F457,'00 Alimenta'!F:F)","v":0},{"$f":"SUMIF('00 Alimenta'!$B:$B,'00 PDC SP'!$F457,'00 Alimenta'!G:G)","v":0},{"$f":"SUMIF('00 Alimenta'!$B:$B,'00 PDC SP'!$F457,'00 Alimenta'!H:H)","v":0},{"$f":"SUMIF('00 Alimenta'!$B:$B,'00 PDC SP'!$F457,'00 Alimenta'!I:I)","v":0},0]
["PBA160","PB","PBA160",11,null,"0203040104","Quote inutilizzate contributi da Regione per medicina Penitenziaria art. 2 co. 283 L. 244/07",{"$f":"SUMIF('00 Alimenta'!$B:$B,'00 PDC SP'!$F458,'00 Alimenta'!D:D)","v":0},{"$f":"SUMIF('00 Alimenta'!$B:$B,'00 PDC SP'!$F458,'00 Alimenta'!E:E)","v":0},{"$f":"SUMIF('00 Alimenta'!$B:$B,'00 PDC SP'!$F458,'00 Alimenta'!F:F)","v":0},{"$f":"SUMIF('00 Alimenta'!$B:$B,'00 PDC SP'!$F458,'00 Alimenta'!G:G)","v":0},{"$f":"SUMIF('00 Alimenta'!$B:$B,'00 PDC SP'!$F458,'00 Alimenta'!H:H)","v":0},{"$f":"SUMIF('00 Alimenta'!$B:$B,'00 PDC SP'!$F458,'00 Alimenta'!I:I)","v":0},0]
["PBA160","PB","PBA160",11,null,"0203040105","Quote inutilizzate contributi da Regione per medicina Penitenziaria Dlvo 230/99",{"$f":"SUMIF('00 Alimenta'!$B:$B,'00 PDC SP'!$F459,'00 Alimenta'!D:D)","v":0},{"$f":"SUMIF('00 Alimenta'!$B:$B,'00 PDC SP'!$F459,'00 Alimenta'!E:E)","v":0},{"$f":"SUMIF('00 Alimenta'!$B:$B,'00 PDC SP'!$F459,'00 Alimenta'!F:F)","v":0},{"$f":"SUMIF('00 Alimenta'!$B:$B,'00 PDC SP'!$F459,'00 Alimenta'!G:G)","v":0},{"$f":"SUMIF('00 Alimenta'!$B:$B,'00 PDC SP'!$F459,'00 Alimenta'!H:H)","v":0},{"$f":"SUMIF('00 Alimenta'!$B:$B,'00 PDC SP'!$F459,'00 Alimenta'!I:I)","v":0},0]
["PBA160","PB","PBA160",11,null,"0203040106","Quote inutilizzate contributi da Regione per hanseniani L 31/86",{"$f":"SUMIF('00 Alimenta'!$B:$B,'00 PDC SP'!$F460,'00 Alimenta'!D:D)","v":0},{"$f":"SUMIF('00 Alimenta'!$B:$B,'00 PDC SP'!$F460,'00 Alimenta'!E:E)","v":0},{"$f":"SUMIF('00 Alimenta'!$B:$B,'00 PDC SP'!$F460,'00 Alimenta'!F:F)","v":0},{"$f":"SUMIF('00 Alimenta'!$B:$B,'00 PDC SP'!$F460,'00 Alimenta'!G:G)","v":0},{"$f":"SUMIF('00 Alimenta'!$B:$B,'00 PDC SP'!$F460,'00 Alimenta'!H:H)","v":0},{"$f":"SUMIF('00 Alimenta'!$B:$B,'00 PDC SP'!$F460,'00 Alimenta'!I:I)","v":0},0]
["PBA160","PB","PBA160",11,null,"0203040107","Quote inutilizzate contributi da Regione per Fibrosi Cistica L 362/98",{"$f":"SUMIF('00 Alimenta'!$B:$B,'00 PDC SP'!$F461,'00 Alimenta'!D:D)","v":0},{"$f":"SUMIF('00 Alimenta'!$B:$B,'00 PDC SP'!$F461,'00 Alimenta'!E:E)","v":0},{"$f":"SUMIF('00 Alimenta'!$B:$B,'00 PDC SP'!$F461,'00 Alimenta'!F:F)","v":0},{"$f":"SUMIF('00 Alimenta'!$B:$B,'00 PDC SP'!$F461,'00 Alimenta'!G:G)","v":0},{"$f":"SUMIF('00 Alimenta'!$B:$B,'00 PDC SP'!$F461,'00 Alimenta'!H:H)","v":0},{"$f":"SUMIF('00 Alimenta'!$B:$B,'00 PDC SP'!$F461,'00 Alimenta'!I:I)","v":0},0]
["PBA160","PB","PBA160",11,null,"0203040108","Quote inutilizzate contributi da Regione per Extracomunitari irregolari L 40/98",{"$f":"SUMIF('00 Alimenta'!$B:$B,'00 PDC SP'!$F462,'00 Alimenta'!D:D)","v":0},{"$f":"SUMIF('00 Alimenta'!$B:$B,'00 PDC SP'!$F462,'00 Alimenta'!E:E)","v":0},{"$f":"SUMIF('00 Alimenta'!$B:$B,'00 PDC SP'!$F462,'00 Alimenta'!F:F)","v":0},{"$f":"SUMIF('00 Alimenta'!$B:$B,'00 PDC SP'!$F462,'00 Alimenta'!G:G)","v":0},{"$f":"SUMIF('00 Alimenta'!$B:$B,'00 PDC SP'!$F462,'00 Alimenta'!H:H)","v":0},{"$f":"SUMIF('00 Alimenta'!$B:$B,'00 PDC SP'!$F462,'00 Alimenta'!I:I)","v":0},0]
["PBA160","PB","PBA160",11,null,"0203040109","Quote inutilizzate contributi da Regione per Fondo esclusività L 488/99",{"$f":"SUMIF('00 Alimenta'!$B:$B,'00 PDC SP'!$F463,'00 Alimenta'!D:D)","v":0},{"$f":"SUMIF('00 Alimenta'!$B:$B,'00 PDC SP'!$F463,'00 Alimenta'!E:E)","v":0},{"$f":"SUMIF('00 Alimenta'!$B:$B,'00 PDC SP'!$F463,'00 Alimenta'!F:F)","v":0},{"$f":"SUMIF('00 Alimenta'!$B:$B,'00 PDC SP'!$F463,'00 Alimenta'!G:G)","v":0},{"$f":"SUMIF('00 Alimenta'!$B:$B,'00 PDC SP'!$F463,'00 Alimenta'!H:H)","v":0},{"$f":"SUMIF('00 Alimenta'!$B:$B,'00 PDC SP'!$F463,'00 Alimenta'!I:I)","v":0},0]
["PBA160","PB","PBA160",11,null,"0203040110","Quote inutilizzate contributi da Regione per Borse studio MG L 109/88",{"$f":"SUMIF('00 Alimenta'!$B:$B,'00 PDC SP'!$F464,'00 Alimenta'!D:D)","v":0},{"$f":"SUMIF('00 Alimenta'!$B:$B,'00 PDC SP'!$F464,'00 Alimenta'!E:E)","v":0},{"$f":"SUMIF('00 Alimenta'!$B:$B,'00 PDC SP'!$F464,'00 Alimenta'!F:F)","v":0},{"$f":"SUMIF('00 Alimenta'!$B:$B,'00 PDC SP'!$F464,'00 Alimenta'!G:G)","v":0},{"$f":"SUMIF('00 Alimenta'!$B:$B,'00 PDC SP'!$F464,'00 Alimenta'!H:H)","v":0},{"$f":"SUMIF('00 Alimenta'!$B:$B,'00 PDC SP'!$F464,'00 Alimenta'!I:I)","v":0},0]
["PBA160","PB","PBA160",11,null,"0203040111","Quote inutilizzate contributi da Regione per Veterinaria L 218/88",{"$f":"SUMIF('00 Alimenta'!$B:$B,'00 PDC SP'!$F465,'00 Alimenta'!D:D)","v":0},{"$f":"SUMIF('00 Alimenta'!$B:$B,'00 PDC SP'!$F465,'00 Alimenta'!E:E)","v":0},{"$f":"SUMIF('00 Alimenta'!$B:$B,'00 PDC SP'!$F465,'00 Alimenta'!F:F)","v":0},{"$f":"SUMIF('00 Alimenta'!$B:$B,'00 PDC SP'!$F465,'00 Alimenta'!G:G)","v":0},{"$f":"SUMIF('00 Alimenta'!$B:$B,'00 PDC SP'!$F465,'00 Alimenta'!H:H)","v":0},{"$f":"SUMIF('00 Alimenta'!$B:$B,'00 PDC SP'!$F465,'00 Alimenta'!I:I)","v":0},0]
["PBA160","PB","PBA160",11,null,"0203040112","Quote inutilizzate contributi da Regione per Aids L 135/90",{"$f":"SUMIF('00 Alimenta'!$B:$B,'00 PDC SP'!$F466,'00 Alimenta'!D:D)","v":0},{"$f":"SUMIF('00 Alimenta'!$B:$B,'00 PDC SP'!$F466,'00 Alimenta'!E:E)","v":0},{"$f":"SUMIF('00 Alimenta'!$B:$B,'00 PDC SP'!$F466,'00 Alimenta'!F:F)","v":0},{"$f":"SUMIF('00 Alimenta'!$B:$B,'00 PDC SP'!$F466,'00 Alimenta'!G:G)","v":0},{"$f":"SUMIF('00 Alimenta'!$B:$B,'00 PDC SP'!$F466,'00 Alimenta'!H:H)","v":0},{"$f":"SUMIF('00 Alimenta'!$B:$B,'00 PDC SP'!$F466,'00 Alimenta'!I:I)","v":0},0]
["PBA160","PB","PBA160",11,null,"0203040113","Quote inutilizzate contributi da Regione per Progetti di PSN L 662/96",{"$f":"SUMIF('00 Alimenta'!$B:$B,'00 PDC SP'!$F467,'00 Alimenta'!D:D)","v":-30310050.780000001},{"$f":"SUMIF('00 Alimenta'!$B:$B,'00 PDC SP'!$F467,'00 Alimenta'!E:E)","v":-7206482.5499999998},{"$f":"SUMIF('00 Alimenta'!$B:$B,'00 PDC SP'!$F467,'00 Alimenta'!F:F)","v":-5006728.5599999996},{"$f":"SUMIF('00 Alimenta'!$B:$B,'00 PDC SP'!$F467,'00 Alimenta'!G:G)","v":-32509804.77},{"$f":"SUMIF('00 Alimenta'!$B:$B,'00 PDC SP'!$F467,'00 Alimenta'!H:H)","v":-7216729.6299999999},{"$f":"SUMIF('00 Alimenta'!$B:$B,'00 PDC SP'!$F467,'00 Alimenta'!I:I)","v":-6978711.7300000004},-32747822.669999998]
["PBA160","PB","PBA160",11,null,"0203040114","Quote inutilizzate contributi da Regione per Mutui pre-riforma",{"$f":"SUMIF('00 Alimenta'!$B:$B,'00 PDC SP'!$F468,'00 Alimenta'!D:D)","v":0},{"$f":"SUMIF('00 Alimenta'!$B:$B,'00 PDC SP'!$F468,'00 Alimenta'!E:E)","v":0},{"$f":"SUMIF('00 Alimenta'!$B:$B,'00 PDC SP'!$F468,'00 Alimenta'!F:F)","v":0},{"$f":"SUMIF('00 Alimenta'!$B:$B,'00 PDC SP'!$F468,'00 Alimenta'!G:G)","v":0},{"$f":"SUMIF('00 Alimenta'!$B:$B,'00 PDC SP'!$F468,'00 Alimenta'!H:H)","v":0},{"$f":"SUMIF('00 Alimenta'!$B:$B,'00 PDC SP'!$F468,'00 Alimenta'!I:I)","v":0},0]
["PBA160","PB","PBA160",11,null,"0203040115","Quote inutilizzate contributi da Regione per Borse studio specializzandi",{"$f":"SUMIF('00 Alimenta'!$B:$B,'00 PDC SP'!$F469,'00 Alimenta'!D:D)","v":0},{"$f":"SUMIF('00 Alimenta'!$B:$B,'00 PDC SP'!$F469,'00 Alimenta'!E:E)","v":0},{"$f":"SUMIF('00 Alimenta'!$B:$B,'00 PDC SP'!$F469,'00 Alimenta'!F:F)","v":0},{"$f":"SUMIF('00 Alimenta'!$B:$B,'00 PDC SP'!$F469,'00 Alimenta'!G:G)","v":0},{"$f":"SUMIF('00 Alimenta'!$B:$B,'00 PDC SP'!$F469,'00 Alimenta'!H:H)","v":0},{"$f":"SUMIF('00 Alimenta'!$B:$B,'00 PDC SP'!$F469,'00 Alimenta'!I:I)","v":0},0]
["PBA160","PB","PBA160",11,null,"0203040116","Quote inutilizzate contributi da Regione per superamento degli ospedali psichiatrici giudiziari (O.P.G.) L. 9/2012, art. 3 ter, comma 7",{"$f":"SUMIF('00 Alimenta'!$B:$B,'00 PDC SP'!$F470,'00 Alimenta'!D:D)","v":0},{"$f":"SUMIF('00 Alimenta'!$B:$B,'00 PDC SP'!$F470,'00 Alimenta'!E:E)","v":0},{"$f":"SUMIF('00 Alimenta'!$B:$B,'00 PDC SP'!$F470,'00 Alimenta'!F:F)","v":0},{"$f":"SUMIF('00 Alimenta'!$B:$B,'00 PDC SP'!$F470,'00 Alimenta'!G:G)","v":0},{"$f":"SUMIF('00 Alimenta'!$B:$B,'00 PDC SP'!$F470,'00 Alimenta'!H:H)","v":0},{"$f":"SUMIF('00 Alimenta'!$B:$B,'00 PDC SP'!$F470,'00 Alimenta'!I:I)","v":0},0]
[{"$f":"IF(E471=\"\",C471,C471&E471)","v":"PBA160"},{"$f":"LEFT(C471,2)","v":"PB"},"PBA160",11,null,"0203040118","Quote inutilizzate contributi da Regione per quota gioco d'azzardo Patologico (GAP) Legge 190/2014 e ss.mm.ii.",{"$f":"SUMIF('00 Alimenta'!$B:$B,'00 PDC SP'!$F471,'00 Alimenta'!D:D)","v":0},{"$f":"SUMIF('00 Alimenta'!$B:$B,'00 PDC SP'!$F471,'00 Alimenta'!E:E)","v":-220805},{"$f":"SUMIF('00 Alimenta'!$B:$B,'00 PDC SP'!$F471,'00 Alimenta'!F:F)","v":0},{"$f":"SUMIF('00 Alimenta'!$B:$B,'00 PDC SP'!$F471,'00 Alimenta'!G:G)","v":-220805},{"$f":"SUMIF('00 Alimenta'!$B:$B,'00 PDC SP'!$F471,'00 Alimenta'!H:H)","v":0},{"$f":"SUMIF('00 Alimenta'!$B:$B,'00 PDC SP'!$F471,'00 Alimenta'!I:I)","v":-220805},{"$f":"K471+L471-M471","v":0}]
["PBA170","PB","PBA170",11,null,"0203040201","Quote inutilizzate contributi vincolati da soggetti pubblici (extra fondo)",{"$f":"SUMIF('00 Alimenta'!$B:$B,'00 PDC SP'!$F472,'00 Alimenta'!D:D)","v":-180605.96},{"$f":"SUMIF('00 Alimenta'!$B:$B,'00 PDC SP'!$F472,'00 Alimenta'!E:E)","v":-50302.400000000001},{"$f":"SUMIF('00 Alimenta'!$B:$B,'00 PDC SP'!$F472,'00 Alimenta'!F:F)","v":-92452.46},{"$f":"SUMIF('00 Alimenta'!$B:$B,'00 PDC SP'!$F472,'00 Alimenta'!G:G)","v":-138455.9},{"$f":"SUMIF('00 Alimenta'!$B:$B,'00 PDC SP'!$F472,'00 Alimenta'!H:H)","v":-53105.86},{"$f":"SUMIF('00 Alimenta'!$B:$B,'00 PDC SP'!$F472,'00 Alimenta'!I:I)","v":0},-191561.76]
["PBA180","PB","PBA180",11,null,"0203040301","Quote inutilizzate contributi per ricerca",{"$f":"SUMIF('00 Alimenta'!$B:$B,'00 PDC SP'!$F473,'00 Alimenta'!D:D)","v":0},{"$f":"SUMIF('00 Alimenta'!$B:$B,'00 PDC SP'!$F473,'00 Alimenta'!E:E)","v":0},{"$f":"SUMIF('00 Alimenta'!$B:$B,'00 PDC SP'!$F473,'00 Alimenta'!F:F)","v":0},{"$f":"SUMIF('00 Alimenta'!$B:$B,'00 PDC SP'!$F473,'00 Alimenta'!G:G)","v":0},{"$f":"SUMIF('00 Alimenta'!$B:$B,'00 PDC SP'!$F473,'00 Alimenta'!H:H)","v":0},{"$f":"SUMIF('00 Alimenta'!$B:$B,'00 PDC SP'!$F473,'00 Alimenta'!I:I)","v":0},0]
["PBA190","PB","PBA190",11,null,"0203040401","Quote inutilizzate contributi vincolati da privati",{"$f":"SUMIF('00 Alimenta'!$B:$B,'00 PDC SP'!$F474,'00 Alimenta'!D:D)","v":0},{"$f":"SUMIF('00 Alimenta'!$B:$B,'00 PDC SP'!$F474,'00 Alimenta'!E:E)","v":0},{"$f":"SUMIF('00 Alimenta'!$B:$B,'00 PDC SP'!$F474,'00 Alimenta'!F:F)","v":0},{"$f":"SUMIF('00 Alimenta'!$B:$B,'00 PDC SP'!$F474,'00 Alimenta'!G:G)","v":0},{"$f":"SUMIF('00 Alimenta'!$B:$B,'00 PDC SP'!$F474,'00 Alimenta'!H:H)","v":0},{"$f":"SUMIF('00 Alimenta'!$B:$B,'00 PDC SP'!$F474,'00 Alimenta'!I:I)","v":0},0]
["PBA210","PB","PBA210",11,null,"0203050101","Fondi integrativi pensione",{"$f":"SUMIF('00 Alimenta'!$B:$B,'00 PDC SP'!$F475,'00 Alimenta'!D:D)","v":0},{"$f":"SUMIF('00 Alimenta'!$B:$B,'00 PDC SP'!$F475,'00 Alimenta'!E:E)","v":0},{"$f":"SUMIF('00 Alimenta'!$B:$B,'00 PDC SP'!$F475,'00 Alimenta'!F:F)","v":0},{"$f":"SUMIF('00 Alimenta'!$B:$B,'00 PDC SP'!$F475,'00 Alimenta'!G:G)","v":0},{"$f":"SUMIF('00 Alimenta'!$B:$B,'00 PDC SP'!$F475,'00 Alimenta'!H:H)","v":0},{"$f":"SUMIF('00 Alimenta'!$B:$B,'00 PDC SP'!$F475,'00 Alimenta'!I:I)","v":0},0]
["PBA230","PB","PBA230",11,null,"0203050201","Fondo rinnovi contrattuali personale dipendente",{"$f":"SUMIF('00 Alimenta'!$B:$B,'00 PDC SP'!$F476,'00 Alimenta'!D:D)","v":-675624},{"$f":"SUMIF('00 Alimenta'!$B:$B,'00 PDC SP'!$F476,'00 Alimenta'!E:E)","v":-1841073},{"$f":"SUMIF('00 Alimenta'!$B:$B,'00 PDC SP'!$F476,'00 Alimenta'!F:F)","v":0},{"$f":"SUMIF('00 Alimenta'!$B:$B,'00 PDC SP'!$F476,'00 Alimenta'!G:G)","v":-2516697},{"$f":"SUMIF('00 Alimenta'!$B:$B,'00 PDC SP'!$F476,'00 Alimenta'!H:H)","v":-2658672},{"$f":"SUMIF('00 Alimenta'!$B:$B,'00 PDC SP'!$F476,'00 Alimenta'!I:I)","v":-1421530.85},-3753838.15]
["PBA240","PB","PBA240",11,null,"0203050301","Fondo rinnovi convenzioni MMG/PLS/MCA",{"$f":"SUMIF('00 Alimenta'!$B:$B,'00 PDC SP'!$F477,'00 Alimenta'!D:D)","v":-3153969.15},{"$f":"SUMIF('00 Alimenta'!$B:$B,'00 PDC SP'!$F477,'00 Alimenta'!E:E)","v":-653733},{"$f":"SUMIF('00 Alimenta'!$B:$B,'00 PDC SP'!$F477,'00 Alimenta'!F:F)","v":0},{"$f":"SUMIF('00 Alimenta'!$B:$B,'00 PDC SP'!$F477,'00 Alimenta'!G:G)","v":-3807702.15},{"$f":"SUMIF('00 Alimenta'!$B:$B,'00 PDC SP'!$F477,'00 Alimenta'!H:H)","v":-1507157},{"$f":"SUMIF('00 Alimenta'!$B:$B,'00 PDC SP'!$F477,'00 Alimenta'!I:I)","v":-1600163.8400000001},-3714695.3100000005]
["PBA250","PB","PBA250",11,null,"0203050401","Fondo rinnovi convenzioni medici Sumai",{"$f":"SUMIF('00 Alimenta'!$B:$B,'00 PDC SP'!$F478,'00 Alimenta'!D:D)","v":-136116},{"$f":"SUMIF('00 Alimenta'!$B:$B,'00 PDC SP'!$F478,'00 Alimenta'!E:E)","v":-82934},{"$f":"SUMIF('00 Alimenta'!$B:$B,'00 PDC SP'!$F478,'00 Alimenta'!F:F)","v":0},{"$f":"SUMIF('00 Alimenta'!$B:$B,'00 PDC SP'!$F478,'00 Alimenta'!G:G)","v":-219050},{"$f":"SUMIF('00 Alimenta'!$B:$B,'00 PDC SP'!$F478,'00 Alimenta'!H:H)","v":-309790.5},{"$f":"SUMIF('00 Alimenta'!$B:$B,'00 PDC SP'!$F478,'00 Alimenta'!I:I)","v":-327842.5},-200998]
["PBA260","PB","PBA260",11,null,"0203050501","Altri fondi per oneri e spese",{"$f":"SUMIF('00 Alimenta'!$B:$B,'00 PDC SP'!$F479,'00 Alimenta'!D:D)","v":0},{"$f":"SUMIF('00 Alimenta'!$B:$B,'00 PDC SP'!$F479,'00 Alimenta'!E:E)","v":0},{"$f":"SUMIF('00 Alimenta'!$B:$B,'00 PDC SP'!$F479,'00 Alimenta'!F:F)","v":0},{"$f":"SUMIF('00 Alimenta'!$B:$B,'00 PDC SP'!$F479,'00 Alimenta'!G:G)","v":0},{"$f":"SUMIF('00 Alimenta'!$B:$B,'00 PDC SP'!$F479,'00 Alimenta'!H:H)","v":-2400000},{"$f":"SUMIF('00 Alimenta'!$B:$B,'00 PDC SP'!$F479,'00 Alimenta'!I:I)","v":0},-2400000]
["PBA260","PB","PBA260",11,null,"0203050502","Fondo incentivazioni",{"$f":"SUMIF('00 Alimenta'!$B:$B,'00 PDC SP'!$F480,'00 Alimenta'!D:D)","v":0},{"$f":"SUMIF('00 Alimenta'!$B:$B,'00 PDC SP'!$F480,'00 Alimenta'!E:E)","v":0},{"$f":"SUMIF('00 Alimenta'!$B:$B,'00 PDC SP'!$F480,'00 Alimenta'!F:F)","v":0},{"$f":"SUMIF('00 Alimenta'!$B:$B,'00 PDC SP'!$F480,'00 Alimenta'!G:G)","v":0},{"$f":"SUMIF('00 Alimenta'!$B:$B,'00 PDC SP'!$F480,'00 Alimenta'!H:H)","v":0},{"$f":"SUMIF('00 Alimenta'!$B:$B,'00 PDC SP'!$F480,'00 Alimenta'!I:I)","v":0},0]
["PBA260","PB","PBA260",11,null,"0203050503","Fondi per straordinari ",{"$f":"SUMIF('00 Alimenta'!$B:$B,'00 PDC SP'!$F481,'00 Alimenta'!D:D)","v":0},{"$f":"SUMIF('00 Alimenta'!$B:$B,'00 PDC SP'!$F481,'00 Alimenta'!E:E)","v":0},{"$f":"SUMIF('00 Alimenta'!$B:$B,'00 PDC SP'!$F481,'00 Alimenta'!F:F)","v":0},{"$f":"SUMIF('00 Alimenta'!$B:$B,'00 PDC SP'!$F481,'00 Alimenta'!G:G)","v":0},{"$f":"SUMIF('00 Alimenta'!$B:$B,'00 PDC SP'!$F481,'00 Alimenta'!H:H)","v":0},{"$f":"SUMIF('00 Alimenta'!$B:$B,'00 PDC SP'!$F481,'00 Alimenta'!I:I)","v":0},0]
["PBA260","PB","PBA260",11,null,"0203050504","Fondi per altre competenze accessorie",{"$f":"SUMIF('00 Alimenta'!$B:$B,'00 PDC SP'!$F482,'00 Alimenta'!D:D)","v":0},{"$f":"SUMIF('00 Alimenta'!$B:$B,'00 PDC SP'!$F482,'00 Alimenta'!E:E)","v":0},{"$f":"SUMIF('00 Alimenta'!$B:$B,'00 PDC SP'!$F482,'00 Alimenta'!F:F)","v":0},{"$f":"SUMIF('00 Alimenta'!$B:$B,'00 PDC SP'!$F482,'00 Alimenta'!G:G)","v":0},{"$f":"SUMIF('00 Alimenta'!$B:$B,'00 PDC SP'!$F482,'00 Alimenta'!H:H)","v":0},{"$f":"SUMIF('00 Alimenta'!$B:$B,'00 PDC SP'!$F482,'00 Alimenta'!I:I)","v":0},0]
["PBA260","PB","PBA260",11,null,"0203050505","Fondi per indennità a fine esercizio ",{"$f":"SUMIF('00 Alimenta'!$B:$B,'00 PDC SP'!$F483,'00 Alimenta'!D:D)","v":0},{"$f":"SUMIF('00 Alimenta'!$B:$B,'00 PDC SP'!$F483,'00 Alimenta'!E:E)","v":0},{"$f":"SUMIF('00 Alimenta'!$B:$B,'00 PDC SP'!$F483,'00 Alimenta'!F:F)","v":0},{"$f":"SUMIF('00 Alimenta'!$B:$B,'00 PDC SP'!$F483,'00 Alimenta'!G:G)","v":0},{"$f":"SUMIF('00 Alimenta'!$B:$B,'00 PDC SP'!$F483,'00 Alimenta'!H:H)","v":0},{"$f":"SUMIF('00 Alimenta'!$B:$B,'00 PDC SP'!$F483,'00 Alimenta'!I:I)","v":0},0]
["PBA260","PB","PBA260",11,null,"0203050506","Fondi equo indennizzo ",{"$f":"SUMIF('00 Alimenta'!$B:$B,'00 PDC SP'!$F484,'00 Alimenta'!D:D)","v":0},{"$f":"SUMIF('00 Alimenta'!$B:$B,'00 PDC SP'!$F484,'00 Alimenta'!E:E)","v":0},{"$f":"SUMIF('00 Alimenta'!$B:$B,'00 PDC SP'!$F484,'00 Alimenta'!F:F)","v":0},{"$f":"SUMIF('00 Alimenta'!$B:$B,'00 PDC SP'!$F484,'00 Alimenta'!G:G)","v":0},{"$f":"SUMIF('00 Alimenta'!$B:$B,'00 PDC SP'!$F484,'00 Alimenta'!H:H)","v":0},{"$f":"SUMIF('00 Alimenta'!$B:$B,'00 PDC SP'!$F484,'00 Alimenta'!I:I)","v":0},0]
["PBA260","PB","PBA260",11,null,"0203050507","Fondi oneri differiti per attività libero professionale ",{"$f":"SUMIF('00 Alimenta'!$B:$B,'00 PDC SP'!$F485,'00 Alimenta'!D:D)","v":0},{"$f":"SUMIF('00 Alimenta'!$B:$B,'00 PDC SP'!$F485,'00 Alimenta'!E:E)","v":0},{"$f":"SUMIF('00 Alimenta'!$B:$B,'00 PDC SP'!$F485,'00 Alimenta'!F:F)","v":0},{"$f":"SUMIF('00 Alimenta'!$B:$B,'00 PDC SP'!$F485,'00 Alimenta'!G:G)","v":0},{"$f":"SUMIF('00 Alimenta'!$B:$B,'00 PDC SP'!$F485,'00 Alimenta'!H:H)","v":0},{"$f":"SUMIF('00 Alimenta'!$B:$B,'00 PDC SP'!$F485,'00 Alimenta'!I:I)","v":0},0]
["PBA260","PB","PBA260",11,null,"0203050508","Fondi per altri oneri da liquidare al personale ",{"$f":"SUMIF('00 Alimenta'!$B:$B,'00 PDC SP'!$F486,'00 Alimenta'!D:D)","v":0},{"$f":"SUMIF('00 Alimenta'!$B:$B,'00 PDC SP'!$F486,'00 Alimenta'!E:E)","v":0},{"$f":"SUMIF('00 Alimenta'!$B:$B,'00 PDC SP'!$F486,'00 Alimenta'!F:F)","v":0},{"$f":"SUMIF('00 Alimenta'!$B:$B,'00 PDC SP'!$F486,'00 Alimenta'!G:G)","v":0},{"$f":"SUMIF('00 Alimenta'!$B:$B,'00 PDC SP'!$F486,'00 Alimenta'!H:H)","v":0},{"$f":"SUMIF('00 Alimenta'!$B:$B,'00 PDC SP'!$F486,'00 Alimenta'!I:I)","v":0},0]
["PCA000","PC","PCA000",7,null,"0204010101","Fondo per premi operosità medici SUMAI",{"$f":"SUMIF('00 Alimenta'!$B:$B,'00 PDC SP'!$F487,'00 Alimenta'!D:D)","v":-2195943.02},{"$f":"SUMIF('00 Alimenta'!$B:$B,'00 PDC SP'!$F487,'00 Alimenta'!E:E)","v":-223015.56},{"$f":"SUMIF('00 Alimenta'!$B:$B,'00 PDC SP'!$F487,'00 Alimenta'!F:F)","v":-217866.17},{"$f":"SUMIF('00 Alimenta'!$B:$B,'00 PDC SP'!$F487,'00 Alimenta'!G:G)","v":-2201092.41},{"$f":"SUMIF('00 Alimenta'!$B:$B,'00 PDC SP'!$F487,'00 Alimenta'!H:H)","v":-264664.11},{"$f":"SUMIF('00 Alimenta'!$B:$B,'00 PDC SP'!$F487,'00 Alimenta'!I:I)","v":-197944.41},-2267812.11]
["PCA010","PC","PCA010",8,null,"0204020101","Fondo per trattamento di fine rapporto dipendenti",{"$f":"SUMIF('00 Alimenta'!$B:$B,'00 PDC SP'!$F488,'00 Alimenta'!D:D)","v":0},{"$f":"SUMIF('00 Alimenta'!$B:$B,'00 PDC SP'!$F488,'00 Alimenta'!E:E)","v":0},{"$f":"SUMIF('00 Alimenta'!$B:$B,'00 PDC SP'!$F488,'00 Alimenta'!F:F)","v":0},{"$f":"SUMIF('00 Alimenta'!$B:$B,'00 PDC SP'!$F488,'00 Alimenta'!G:G)","v":0},{"$f":"SUMIF('00 Alimenta'!$B:$B,'00 PDC SP'!$F488,'00 Alimenta'!H:H)","v":0},{"$f":"SUMIF('00 Alimenta'!$B:$B,'00 PDC SP'!$F488,'00 Alimenta'!I:I)","v":0},0]
["PDA000DB","PD","PDA000",55,"DB","0205010101","Debiti per mutui passivi",{"$f":"SUMIF('00 Alimenta'!$B:$B,'00 PDC SP'!$F489,'00 Alimenta'!D:D)","v":0},{"$f":"SUMIF('00 Alimenta'!$B:$B,'00 PDC SP'!$F489,'00 Alimenta'!E:E)","v":0},{"$f":"SUMIF('00 Alimenta'!$B:$B,'00 PDC SP'!$F489,'00 Alimenta'!F:F)","v":0},{"$f":"SUMIF('00 Alimenta'!$B:$B,'00 PDC SP'!$F489,'00 Alimenta'!G:G)","v":0},{"$f":"SUMIF('00 Alimenta'!$B:$B,'00 PDC SP'!$F489,'00 Alimenta'!H:H)","v":0},{"$f":"SUMIF('00 Alimenta'!$B:$B,'00 PDC SP'!$F489,'00 Alimenta'!I:I)","v":0},0]
["PDA020DB","PD","PDA020",12,"DB","0205020101","Debiti v/Stato per mobilità passiva extraregionale",{"$f":"SUMIF('00 Alimenta'!$B:$B,'00 PDC SP'!$F490,'00 Alimenta'!D:D)","v":0},{"$f":"SUMIF('00 Alimenta'!$B:$B,'00 PDC SP'!$F490,'00 Alimenta'!E:E)","v":0},{"$f":"SUMIF('00 Alimenta'!$B:$B,'00 PDC SP'!$F490,'00 Alimenta'!F:F)","v":0},{"$f":"SUMIF('00 Alimenta'!$B:$B,'00 PDC SP'!$F490,'00 Alimenta'!G:G)","v":0},{"$f":"SUMIF('00 Alimenta'!$B:$B,'00 PDC SP'!$F490,'00 Alimenta'!H:H)","v":0},{"$f":"SUMIF('00 Alimenta'!$B:$B,'00 PDC SP'!$F490,'00 Alimenta'!I:I)","v":0},0]
["PDA030DB","PD","PDA030",12,"DB","0205020201","Debiti v/Stato per mobilità passiva internazionale",{"$f":"SUMIF('00 Alimenta'!$B:$B,'00 PDC SP'!$F491,'00 Alimenta'!D:D)","v":0},{"$f":"SUMIF('00 Alimenta'!$B:$B,'00 PDC SP'!$F491,'00 Alimenta'!E:E)","v":0},{"$f":"SUMIF('00 Alimenta'!$B:$B,'00 PDC SP'!$F491,'00 Alimenta'!F:F)","v":0},{"$f":"SUMIF('00 Alimenta'!$B:$B,'00 PDC SP'!$F491,'00 Alimenta'!G:G)","v":0},{"$f":"SUMIF('00 Alimenta'!$B:$B,'00 PDC SP'!$F491,'00 Alimenta'!H:H)","v":0},{"$f":"SUMIF('00 Alimenta'!$B:$B,'00 PDC SP'!$F491,'00 Alimenta'!I:I)","v":0},0]
["PDA040DB","PD","PDA040",12,"DB","0205020301","Acconto quota FSR v/Stato",{"$f":"SUMIF('00 Alimenta'!$B:$B,'00 PDC SP'!$F492,'00 Alimenta'!D:D)","v":0},{"$f":"SUMIF('00 Alimenta'!$B:$B,'00 PDC SP'!$F492,'00 Alimenta'!E:E)","v":0},{"$f":"SUMIF('00 Alimenta'!$B:$B,'00 PDC SP'!$F492,'00 Alimenta'!F:F)","v":0},{"$f":"SUMIF('00 Alimenta'!$B:$B,'00 PDC SP'!$F492,'00 Alimenta'!G:G)","v":0},{"$f":"SUMIF('00 Alimenta'!$B:$B,'00 PDC SP'!$F492,'00 Alimenta'!H:H)","v":0},{"$f":"SUMIF('00 Alimenta'!$B:$B,'00 PDC SP'!$F492,'00 Alimenta'!I:I)","v":0},0]
["PDA040DB","PD","PDA040",12,"DB","0205020302","Acconto quota FSR v/Stato IRAP",{"$f":"SUMIF('00 Alimenta'!$B:$B,'00 PDC SP'!$F493,'00 Alimenta'!D:D)","v":0},{"$f":"SUMIF('00 Alimenta'!$B:$B,'00 PDC SP'!$F493,'00 Alimenta'!E:E)","v":0},{"$f":"SUMIF('00 Alimenta'!$B:$B,'00 PDC SP'!$F493,'00 Alimenta'!F:F)","v":0},{"$f":"SUMIF('00 Alimenta'!$B:$B,'00 PDC SP'!$F493,'00 Alimenta'!G:G)","v":0},{"$f":"SUMIF('00 Alimenta'!$B:$B,'00 PDC SP'!$F493,'00 Alimenta'!H:H)","v":0},{"$f":"SUMIF('00 Alimenta'!$B:$B,'00 PDC SP'!$F493,'00 Alimenta'!I:I)","v":0},0]
["PDA040DB","PD","PDA040",12,"DB","0205020303","Acconto quota FSR v/Stato IRPEF",{"$f":"SUMIF('00 Alimenta'!$B:$B,'00 PDC SP'!$F494,'00 Alimenta'!D:D)","v":0},{"$f":"SUMIF('00 Alimenta'!$B:$B,'00 PDC SP'!$F494,'00 Alimenta'!E:E)","v":0},{"$f":"SUMIF('00 Alimenta'!$B:$B,'00 PDC SP'!$F494,'00 Alimenta'!F:F)","v":0},{"$f":"SUMIF('00 Alimenta'!$B:$B,'00 PDC SP'!$F494,'00 Alimenta'!G:G)","v":0},{"$f":"SUMIF('00 Alimenta'!$B:$B,'00 PDC SP'!$F494,'00 Alimenta'!H:H)","v":0},{"$f":"SUMIF('00 Alimenta'!$B:$B,'00 PDC SP'!$F494,'00 Alimenta'!I:I)","v":0},0]
["PDA040DB","PD","PDA040",12,"DB","0205020304","Acconto quota FSR v/Stato compartecipazione IVA",{"$f":"SUMIF('00 Alimenta'!$B:$B,'00 PDC SP'!$F495,'00 Alimenta'!D:D)","v":0},{"$f":"SUMIF('00 Alimenta'!$B:$B,'00 PDC SP'!$F495,'00 Alimenta'!E:E)","v":0},{"$f":"SUMIF('00 Alimenta'!$B:$B,'00 PDC SP'!$F495,'00 Alimenta'!F:F)","v":0},{"$f":"SUMIF('00 Alimenta'!$B:$B,'00 PDC SP'!$F495,'00 Alimenta'!G:G)","v":0},{"$f":"SUMIF('00 Alimenta'!$B:$B,'00 PDC SP'!$F495,'00 Alimenta'!H:H)","v":0},{"$f":"SUMIF('00 Alimenta'!$B:$B,'00 PDC SP'!$F495,'00 Alimenta'!I:I)","v":0},0]
["PDA040DB","PD","PDA040",12,"DB","0205020305","Debiti per acconto v/Stato",{"$f":"SUMIF('00 Alimenta'!$B:$B,'00 PDC SP'!$F496,'00 Alimenta'!D:D)","v":0},{"$f":"SUMIF('00 Alimenta'!$B:$B,'00 PDC SP'!$F496,'00 Alimenta'!E:E)","v":0},{"$f":"SUMIF('00 Alimenta'!$B:$B,'00 PDC SP'!$F496,'00 Alimenta'!F:F)","v":0},{"$f":"SUMIF('00 Alimenta'!$B:$B,'00 PDC SP'!$F496,'00 Alimenta'!G:G)","v":0},{"$f":"SUMIF('00 Alimenta'!$B:$B,'00 PDC SP'!$F496,'00 Alimenta'!H:H)","v":0},{"$f":"SUMIF('00 Alimenta'!$B:$B,'00 PDC SP'!$F496,'00 Alimenta'!I:I)","v":0},0]
["PDA050DB","PD","PDA050",12,"DB","0205020401","Debiti v/Stato per restituzione finanziamenti - per ricerca",{"$f":"SUMIF('00 Alimenta'!$B:$B,'00 PDC SP'!$F497,'00 Alimenta'!D:D)","v":0},{"$f":"SUMIF('00 Alimenta'!$B:$B,'00 PDC SP'!$F497,'00 Alimenta'!E:E)","v":0},{"$f":"SUMIF('00 Alimenta'!$B:$B,'00 PDC SP'!$F497,'00 Alimenta'!F:F)","v":0},{"$f":"SUMIF('00 Alimenta'!$B:$B,'00 PDC SP'!$F497,'00 Alimenta'!G:G)","v":0},{"$f":"SUMIF('00 Alimenta'!$B:$B,'00 PDC SP'!$F497,'00 Alimenta'!H:H)","v":0},{"$f":"SUMIF('00 Alimenta'!$B:$B,'00 PDC SP'!$F497,'00 Alimenta'!I:I)","v":0},0]
["PDA060DB","PD","PDA060",12,"DB","0205020501","Altri debiti v/Stato",{"$f":"SUMIF('00 Alimenta'!$B:$B,'00 PDC SP'!$F498,'00 Alimenta'!D:D)","v":0},{"$f":"SUMIF('00 Alimenta'!$B:$B,'00 PDC SP'!$F498,'00 Alimenta'!E:E)","v":0},{"$f":"SUMIF('00 Alimenta'!$B:$B,'00 PDC SP'!$F498,'00 Alimenta'!F:F)","v":0},{"$f":"SUMIF('00 Alimenta'!$B:$B,'00 PDC SP'!$F498,'00 Alimenta'!G:G)","v":0},{"$f":"SUMIF('00 Alimenta'!$B:$B,'00 PDC SP'!$F498,'00 Alimenta'!H:H)","v":0},{"$f":"SUMIF('00 Alimenta'!$B:$B,'00 PDC SP'!$F498,'00 Alimenta'!I:I)","v":0},0]
["PDA060DB","PD","PDA060",12,"DB","0205020502","Debiti per acconto v/altri soggetti pubblici",{"$f":"SUMIF('00 Alimenta'!$B:$B,'00 PDC SP'!$F499,'00 Alimenta'!D:D)","v":0},{"$f":"SUMIF('00 Alimenta'!$B:$B,'00 PDC SP'!$F499,'00 Alimenta'!E:E)","v":0},{"$f":"SUMIF('00 Alimenta'!$B:$B,'00 PDC SP'!$F499,'00 Alimenta'!F:F)","v":0},{"$f":"SUMIF('00 Alimenta'!$B:$B,'00 PDC SP'!$F499,'00 Alimenta'!G:G)","v":0},{"$f":"SUMIF('00 Alimenta'!$B:$B,'00 PDC SP'!$F499,'00 Alimenta'!H:H)","v":0},{"$f":"SUMIF('00 Alimenta'!$B:$B,'00 PDC SP'!$F499,'00 Alimenta'!I:I)","v":0},0]
["PDA080DB","PD","PDA080",12,"DB","0205030101","Debiti v/Regione o Provincia Autonoma per finanziamenti",{"$f":"SUMIF('00 Alimenta'!$B:$B,'00 PDC SP'!$F500,'00 Alimenta'!D:D)","v":0},{"$f":"SUMIF('00 Alimenta'!$B:$B,'00 PDC SP'!$F500,'00 Alimenta'!E:E)","v":0},{"$f":"SUMIF('00 Alimenta'!$B:$B,'00 PDC SP'!$F500,'00 Alimenta'!F:F)","v":0},{"$f":"SUMIF('00 Alimenta'!$B:$B,'00 PDC SP'!$F500,'00 Alimenta'!G:G)","v":0},{"$f":"SUMIF('00 Alimenta'!$B:$B,'00 PDC SP'!$F500,'00 Alimenta'!H:H)","v":0},{"$f":"SUMIF('00 Alimenta'!$B:$B,'00 PDC SP'!$F500,'00 Alimenta'!I:I)","v":0},0]
["PDA090DB","PD","PDA090",12,"DB","0205030201","Debiti v/Regione o Provincia Autonoma per mobilità passiva intraregionale",{"$f":"SUMIF('00 Alimenta'!$B:$B,'00 PDC SP'!$F501,'00 Alimenta'!D:D)","v":-20766344.579999998},{"$f":"SUMIF('00 Alimenta'!$B:$B,'00 PDC SP'!$F501,'00 Alimenta'!E:E)","v":-51271679.93},{"$f":"SUMIF('00 Alimenta'!$B:$B,'00 PDC SP'!$F501,'00 Alimenta'!F:F)","v":-51272368.93},{"$f":"SUMIF('00 Alimenta'!$B:$B,'00 PDC SP'!$F501,'00 Alimenta'!G:G)","v":-20765655.579999998},{"$f":"SUMIF('00 Alimenta'!$B:$B,'00 PDC SP'!$F501,'00 Alimenta'!H:H)","v":-49387581.229999997},{"$f":"SUMIF('00 Alimenta'!$B:$B,'00 PDC SP'!$F501,'00 Alimenta'!I:I)","v":-49387581.229999997},-20765655.580000006]
["PDA090FR","PD","PDA090",12,"FR","0205030202","Fatture da ricevere verso Regione per mobilità passiva intraregionale",{"$f":"SUMIF('00 Alimenta'!$B:$B,'00 PDC SP'!$F502,'00 Alimenta'!D:D)","v":0},{"$f":"SUMIF('00 Alimenta'!$B:$B,'00 PDC SP'!$F502,'00 Alimenta'!E:E)","v":0},{"$f":"SUMIF('00 Alimenta'!$B:$B,'00 PDC SP'!$F502,'00 Alimenta'!F:F)","v":0},{"$f":"SUMIF('00 Alimenta'!$B:$B,'00 PDC SP'!$F502,'00 Alimenta'!G:G)","v":0},{"$f":"SUMIF('00 Alimenta'!$B:$B,'00 PDC SP'!$F502,'00 Alimenta'!H:H)","v":0},{"$f":"SUMIF('00 Alimenta'!$B:$B,'00 PDC SP'!$F502,'00 Alimenta'!I:I)","v":0},0]
["PDA100DB","PD","PDA100",12,"DB","0205030301","Debiti v/Regione o Provincia Autonoma per mobilità passiva extraregionale",{"$f":"SUMIF('00 Alimenta'!$B:$B,'00 PDC SP'!$F503,'00 Alimenta'!D:D)","v":-9530548.0899999999},{"$f":"SUMIF('00 Alimenta'!$B:$B,'00 PDC SP'!$F503,'00 Alimenta'!E:E)","v":-57173157.460000001},{"$f":"SUMIF('00 Alimenta'!$B:$B,'00 PDC SP'!$F503,'00 Alimenta'!F:F)","v":-57173157.460000001},{"$f":"SUMIF('00 Alimenta'!$B:$B,'00 PDC SP'!$F503,'00 Alimenta'!G:G)","v":-9530548.0899999999},{"$f":"SUMIF('00 Alimenta'!$B:$B,'00 PDC SP'!$F503,'00 Alimenta'!H:H)","v":-33463665.77},{"$f":"SUMIF('00 Alimenta'!$B:$B,'00 PDC SP'!$F503,'00 Alimenta'!I:I)","v":-33463665.77},-9530548.0899999999]
["PDA100FR","PD","PDA100",12,"FR","0205030302","Fatture da ricevere verso Regione per mobilità passiva extraregionale",{"$f":"SUMIF('00 Alimenta'!$B:$B,'00 PDC SP'!$F504,'00 Alimenta'!D:D)","v":0},{"$f":"SUMIF('00 Alimenta'!$B:$B,'00 PDC SP'!$F504,'00 Alimenta'!E:E)","v":0},{"$f":"SUMIF('00 Alimenta'!$B:$B,'00 PDC SP'!$F504,'00 Alimenta'!F:F)","v":0},{"$f":"SUMIF('00 Alimenta'!$B:$B,'00 PDC SP'!$F504,'00 Alimenta'!G:G)","v":0},{"$f":"SUMIF('00 Alimenta'!$B:$B,'00 PDC SP'!$F504,'00 Alimenta'!H:H)","v":0},{"$f":"SUMIF('00 Alimenta'!$B:$B,'00 PDC SP'!$F504,'00 Alimenta'!I:I)","v":0},0]
["PDA110DB","PD","PDA110",12,"DB","0205030401","Acconto quota FSR da Regione o Provincia Autonoma",{"$f":"SUMIF('00 Alimenta'!$B:$B,'00 PDC SP'!$F505,'00 Alimenta'!D:D)","v":0},{"$f":"SUMIF('00 Alimenta'!$B:$B,'00 PDC SP'!$F505,'00 Alimenta'!E:E)","v":-546891755},{"$f":"SUMIF('00 Alimenta'!$B:$B,'00 PDC SP'!$F505,'00 Alimenta'!F:F)","v":-546891755},{"$f":"SUMIF('00 Alimenta'!$B:$B,'00 PDC SP'!$F505,'00 Alimenta'!G:G)","v":0},{"$f":"SUMIF('00 Alimenta'!$B:$B,'00 PDC SP'!$F505,'00 Alimenta'!H:H)","v":-565644818.47000003},{"$f":"SUMIF('00 Alimenta'!$B:$B,'00 PDC SP'!$F505,'00 Alimenta'!I:I)","v":-565644818.47000003},0]
[{"$f":"IF(E506=\"\",C506,C506&E506)","v":"PDA110DB"},{"$f":"LEFT(C506,2)","v":"PD"},"PDA110",12,"DB","0205030402","Acconto quota FSR per DPC da Regione o Provincia Autonoma",null,null,null,{"$f":"SUMIF('00 Alimenta'!$B:$B,'00 PDC SP'!$F506,'00 Alimenta'!G:G)","v":0},{"$f":"SUMIF('00 Alimenta'!$B:$B,'00 PDC SP'!$F506,'00 Alimenta'!H:H)","v":-15884750},{"$f":"SUMIF('00 Alimenta'!$B:$B,'00 PDC SP'!$F506,'00 Alimenta'!I:I)","v":-15884750},{"$f":"K506+L506-M506","v":0}]
["PDA120DB","PD","PDA120",12,"DB","0205030501","Altri debiti v/Regione o Provincia Autonoma",{"$f":"SUMIF('00 Alimenta'!$B:$B,'00 PDC SP'!$F507,'00 Alimenta'!D:D)","v":0},{"$f":"SUMIF('00 Alimenta'!$B:$B,'00 PDC SP'!$F507,'00 Alimenta'!E:E)","v":-983421148.72000003},{"$f":"SUMIF('00 Alimenta'!$B:$B,'00 PDC SP'!$F507,'00 Alimenta'!F:F)","v":-983421148.72000003},{"$f":"SUMIF('00 Alimenta'!$B:$B,'00 PDC SP'!$F507,'00 Alimenta'!G:G)","v":0},{"$f":"SUMIF('00 Alimenta'!$B:$B,'00 PDC SP'!$F507,'00 Alimenta'!H:H)","v":0},{"$f":"SUMIF('00 Alimenta'!$B:$B,'00 PDC SP'!$F507,'00 Alimenta'!I:I)","v":0},0]
["PDA120FR","PD","PDA120",12,"FR","0205030502","Fatture da ricevere Altri debiti v/Regione o Provincia Autonoma",{"$f":"SUMIF('00 Alimenta'!$B:$B,'00 PDC SP'!$F508,'00 Alimenta'!D:D)","v":0},{"$f":"SUMIF('00 Alimenta'!$B:$B,'00 PDC SP'!$F508,'00 Alimenta'!E:E)","v":0},{"$f":"SUMIF('00 Alimenta'!$B:$B,'00 PDC SP'!$F508,'00 Alimenta'!F:F)","v":0},{"$f":"SUMIF('00 Alimenta'!$B:$B,'00 PDC SP'!$F508,'00 Alimenta'!G:G)","v":0},{"$f":"SUMIF('00 Alimenta'!$B:$B,'00 PDC SP'!$F508,'00 Alimenta'!H:H)","v":0},{"$f":"SUMIF('00 Alimenta'!$B:$B,'00 PDC SP'!$F508,'00 Alimenta'!I:I)","v":0},0]
["PDA130DB","PD","PDA130",13,"DB","0205040101","Debiti v/Comuni",{"$f":"SUMIF('00 Alimenta'!$B:$B,'00 PDC SP'!$F509,'00 Alimenta'!D:D)","v":-150000},{"$f":"SUMIF('00 Alimenta'!$B:$B,'00 PDC SP'!$F509,'00 Alimenta'!E:E)","v":0},{"$f":"SUMIF('00 Alimenta'!$B:$B,'00 PDC SP'!$F509,'00 Alimenta'!F:F)","v":0},{"$f":"SUMIF('00 Alimenta'!$B:$B,'00 PDC SP'!$F509,'00 Alimenta'!G:G)","v":-150000},{"$f":"SUMIF('00 Alimenta'!$B:$B,'00 PDC SP'!$F509,'00 Alimenta'!H:H)","v":0},{"$f":"SUMIF('00 Alimenta'!$B:$B,'00 PDC SP'!$F509,'00 Alimenta'!I:I)","v":0},-150000]
["PDA130FR","PD","PDA130",13,"FR","0205040102","Fatture da ricevere verso Comuni",{"$f":"SUMIF('00 Alimenta'!$B:$B,'00 PDC SP'!$F510,'00 Alimenta'!D:D)","v":0},{"$f":"SUMIF('00 Alimenta'!$B:$B,'00 PDC SP'!$F510,'00 Alimenta'!E:E)","v":0},{"$f":"SUMIF('00 Alimenta'!$B:$B,'00 PDC SP'!$F510,'00 Alimenta'!F:F)","v":0},{"$f":"SUMIF('00 Alimenta'!$B:$B,'00 PDC SP'!$F510,'00 Alimenta'!G:G)","v":0},{"$f":"SUMIF('00 Alimenta'!$B:$B,'00 PDC SP'!$F510,'00 Alimenta'!H:H)","v":0},{"$f":"SUMIF('00 Alimenta'!$B:$B,'00 PDC SP'!$F510,'00 Alimenta'!I:I)","v":0},0]
["PDA160DB","PD","PDA160",14,"DB","0205050101","Debiti per acconto v/ASL della Regione per quota FSR",{"$f":"SUMIF('00 Alimenta'!$B:$B,'00 PDC SP'!$F511,'00 Alimenta'!D:D)","v":0},{"$f":"SUMIF('00 Alimenta'!$B:$B,'00 PDC SP'!$F511,'00 Alimenta'!E:E)","v":0},{"$f":"SUMIF('00 Alimenta'!$B:$B,'00 PDC SP'!$F511,'00 Alimenta'!F:F)","v":0},{"$f":"SUMIF('00 Alimenta'!$B:$B,'00 PDC SP'!$F511,'00 Alimenta'!G:G)","v":0},{"$f":"SUMIF('00 Alimenta'!$B:$B,'00 PDC SP'!$F511,'00 Alimenta'!H:H)","v":0},{"$f":"SUMIF('00 Alimenta'!$B:$B,'00 PDC SP'!$F511,'00 Alimenta'!I:I)","v":0},0]
["PDA160DB","PD","PDA160",14,"DB","0205050102","Debiti v/ASL Avezzano Sulmona L'Aquila  per quota FSR",{"$f":"SUMIF('00 Alimenta'!$B:$B,'00 PDC SP'!$F512,'00 Alimenta'!D:D)","v":0},{"$f":"SUMIF('00 Alimenta'!$B:$B,'00 PDC SP'!$F512,'00 Alimenta'!E:E)","v":0},{"$f":"SUMIF('00 Alimenta'!$B:$B,'00 PDC SP'!$F512,'00 Alimenta'!F:F)","v":0},{"$f":"SUMIF('00 Alimenta'!$B:$B,'00 PDC SP'!$F512,'00 Alimenta'!G:G)","v":0},{"$f":"SUMIF('00 Alimenta'!$B:$B,'00 PDC SP'!$F512,'00 Alimenta'!H:H)","v":0},{"$f":"SUMIF('00 Alimenta'!$B:$B,'00 PDC SP'!$F512,'00 Alimenta'!I:I)","v":0},0]
["PDA160FR","PD","PDA160",14,"FR","0205050103","Fatture da ricevere verso ASL Avezzano Sulmona L'Aquila",{"$f":"SUMIF('00 Alimenta'!$B:$B,'00 PDC SP'!$F513,'00 Alimenta'!D:D)","v":0},{"$f":"SUMIF('00 Alimenta'!$B:$B,'00 PDC SP'!$F513,'00 Alimenta'!E:E)","v":0},{"$f":"SUMIF('00 Alimenta'!$B:$B,'00 PDC SP'!$F513,'00 Alimenta'!F:F)","v":0},{"$f":"SUMIF('00 Alimenta'!$B:$B,'00 PDC SP'!$F513,'00 Alimenta'!G:G)","v":0},{"$f":"SUMIF('00 Alimenta'!$B:$B,'00 PDC SP'!$F513,'00 Alimenta'!H:H)","v":0},{"$f":"SUMIF('00 Alimenta'!$B:$B,'00 PDC SP'!$F513,'00 Alimenta'!I:I)","v":0},0]
["PDA160DB","PD","PDA160",14,"DB","0205050104","Debiti v/ASL Lanciano Vasto Chieti per quota FSR",{"$f":"SUMIF('00 Alimenta'!$B:$B,'00 PDC SP'!$F514,'00 Alimenta'!D:D)","v":0},{"$f":"SUMIF('00 Alimenta'!$B:$B,'00 PDC SP'!$F514,'00 Alimenta'!E:E)","v":0},{"$f":"SUMIF('00 Alimenta'!$B:$B,'00 PDC SP'!$F514,'00 Alimenta'!F:F)","v":0},{"$f":"SUMIF('00 Alimenta'!$B:$B,'00 PDC SP'!$F514,'00 Alimenta'!G:G)","v":0},{"$f":"SUMIF('00 Alimenta'!$B:$B,'00 PDC SP'!$F514,'00 Alimenta'!H:H)","v":0},{"$f":"SUMIF('00 Alimenta'!$B:$B,'00 PDC SP'!$F514,'00 Alimenta'!I:I)","v":0},0]
["PDA160FR","PD","PDA160",14,"FR","0205050105","Fatture da ricevere verso ASL Lanciano Vasto Chieti",{"$f":"SUMIF('00 Alimenta'!$B:$B,'00 PDC SP'!$F515,'00 Alimenta'!D:D)","v":0},{"$f":"SUMIF('00 Alimenta'!$B:$B,'00 PDC SP'!$F515,'00 Alimenta'!E:E)","v":0},{"$f":"SUMIF('00 Alimenta'!$B:$B,'00 PDC SP'!$F515,'00 Alimenta'!F:F)","v":0},{"$f":"SUMIF('00 Alimenta'!$B:$B,'00 PDC SP'!$F515,'00 Alimenta'!G:G)","v":0},{"$f":"SUMIF('00 Alimenta'!$B:$B,'00 PDC SP'!$F515,'00 Alimenta'!H:H)","v":0},{"$f":"SUMIF('00 Alimenta'!$B:$B,'00 PDC SP'!$F515,'00 Alimenta'!I:I)","v":0},0]
["PDA160DB","PD","PDA160",14,"DB","0205050106","Debiti v/ASL Pescara per quota FSR",{"$f":"SUMIF('00 Alimenta'!$B:$B,'00 PDC SP'!$F516,'00 Alimenta'!D:D)","v":0},{"$f":"SUMIF('00 Alimenta'!$B:$B,'00 PDC SP'!$F516,'00 Alimenta'!E:E)","v":0},{"$f":"SUMIF('00 Alimenta'!$B:$B,'00 PDC SP'!$F516,'00 Alimenta'!F:F)","v":0},{"$f":"SUMIF('00 Alimenta'!$B:$B,'00 PDC SP'!$F516,'00 Alimenta'!G:G)","v":0},{"$f":"SUMIF('00 Alimenta'!$B:$B,'00 PDC SP'!$F516,'00 Alimenta'!H:H)","v":0},{"$f":"SUMIF('00 Alimenta'!$B:$B,'00 PDC SP'!$F516,'00 Alimenta'!I:I)","v":0},0]
["PDA160FR","PD","PDA160",14,"FR","0205050107","Fatture da ricevere verso ASL Pescara",{"$f":"SUMIF('00 Alimenta'!$B:$B,'00 PDC SP'!$F517,'00 Alimenta'!D:D)","v":0},{"$f":"SUMIF('00 Alimenta'!$B:$B,'00 PDC SP'!$F517,'00 Alimenta'!E:E)","v":0},{"$f":"SUMIF('00 Alimenta'!$B:$B,'00 PDC SP'!$F517,'00 Alimenta'!F:F)","v":0},{"$f":"SUMIF('00 Alimenta'!$B:$B,'00 PDC SP'!$F517,'00 Alimenta'!G:G)","v":0},{"$f":"SUMIF('00 Alimenta'!$B:$B,'00 PDC SP'!$F517,'00 Alimenta'!H:H)","v":0},{"$f":"SUMIF('00 Alimenta'!$B:$B,'00 PDC SP'!$F517,'00 Alimenta'!I:I)","v":0},0]
["PDA160DB","PD","PDA160",14,"DB","0205050108","Debiti v/ASL Teramo per quota FSR",{"$f":"SUMIF('00 Alimenta'!$B:$B,'00 PDC SP'!$F518,'00 Alimenta'!D:D)","v":0},{"$f":"SUMIF('00 Alimenta'!$B:$B,'00 PDC SP'!$F518,'00 Alimenta'!E:E)","v":0},{"$f":"SUMIF('00 Alimenta'!$B:$B,'00 PDC SP'!$F518,'00 Alimenta'!F:F)","v":0},{"$f":"SUMIF('00 Alimenta'!$B:$B,'00 PDC SP'!$F518,'00 Alimenta'!G:G)","v":0},{"$f":"SUMIF('00 Alimenta'!$B:$B,'00 PDC SP'!$F518,'00 Alimenta'!H:H)","v":0},{"$f":"SUMIF('00 Alimenta'!$B:$B,'00 PDC SP'!$F518,'00 Alimenta'!I:I)","v":0},0]
["PDA160FR","PD","PDA160",14,"FR","0205050109","Fatture da ricevere verso ASL Teramo",{"$f":"SUMIF('00 Alimenta'!$B:$B,'00 PDC SP'!$F519,'00 Alimenta'!D:D)","v":0},{"$f":"SUMIF('00 Alimenta'!$B:$B,'00 PDC SP'!$F519,'00 Alimenta'!E:E)","v":0},{"$f":"SUMIF('00 Alimenta'!$B:$B,'00 PDC SP'!$F519,'00 Alimenta'!F:F)","v":0},{"$f":"SUMIF('00 Alimenta'!$B:$B,'00 PDC SP'!$F519,'00 Alimenta'!G:G)","v":0},{"$f":"SUMIF('00 Alimenta'!$B:$B,'00 PDC SP'!$F519,'00 Alimenta'!H:H)","v":0},{"$f":"SUMIF('00 Alimenta'!$B:$B,'00 PDC SP'!$F519,'00 Alimenta'!I:I)","v":0},0]
["PDA170DB","PD","PDA170",14,"DB","0205050201","Debiti v/ASL Avezzano Sulmona L'Aquila per finanziamento sanitario aggiuntivo corrente LEA",{"$f":"SUMIF('00 Alimenta'!$B:$B,'00 PDC SP'!$F520,'00 Alimenta'!D:D)","v":0},{"$f":"SUMIF('00 Alimenta'!$B:$B,'00 PDC SP'!$F520,'00 Alimenta'!E:E)","v":0},{"$f":"SUMIF('00 Alimenta'!$B:$B,'00 PDC SP'!$F520,'00 Alimenta'!F:F)","v":0},{"$f":"SUMIF('00 Alimenta'!$B:$B,'00 PDC SP'!$F520,'00 Alimenta'!G:G)","v":0},{"$f":"SUMIF('00 Alimenta'!$B:$B,'00 PDC SP'!$F520,'00 Alimenta'!H:H)","v":0},{"$f":"SUMIF('00 Alimenta'!$B:$B,'00 PDC SP'!$F520,'00 Alimenta'!I:I)","v":0},0]
["PDA170FR","PD","PDA170",14,"FR","0205050202","Fatture da ricevere v/ASL Avezzano Sulmona L'Aquila per finanziamento sanitario aggiuntivo corrente LEA",{"$f":"SUMIF('00 Alimenta'!$B:$B,'00 PDC SP'!$F521,'00 Alimenta'!D:D)","v":0},{"$f":"SUMIF('00 Alimenta'!$B:$B,'00 PDC SP'!$F521,'00 Alimenta'!E:E)","v":0},{"$f":"SUMIF('00 Alimenta'!$B:$B,'00 PDC SP'!$F521,'00 Alimenta'!F:F)","v":0},{"$f":"SUMIF('00 Alimenta'!$B:$B,'00 PDC SP'!$F521,'00 Alimenta'!G:G)","v":0},{"$f":"SUMIF('00 Alimenta'!$B:$B,'00 PDC SP'!$F521,'00 Alimenta'!H:H)","v":0},{"$f":"SUMIF('00 Alimenta'!$B:$B,'00 PDC SP'!$F521,'00 Alimenta'!I:I)","v":0},0]
[{"$f":"IF(E522=\"\",C522,C522&E522)","v":"PDA170DB"},{"$f":"LEFT(C522,2)","v":"PD"},"PDA170",14,"DB","0205050203","Debiti v/ASL Lanciano Vasto Chieti per finanziamento sanitario aggiuntivo corrente LEA",{"$f":"SUMIF('00 Alimenta'!$B:$B,'00 PDC SP'!$F522,'00 Alimenta'!D:D)","v":0},{"$f":"SUMIF('00 Alimenta'!$B:$B,'00 PDC SP'!$F522,'00 Alimenta'!E:E)","v":0},{"$f":"SUMIF('00 Alimenta'!$B:$B,'00 PDC SP'!$F522,'00 Alimenta'!F:F)","v":0},{"$f":"SUMIF('00 Alimenta'!$B:$B,'00 PDC SP'!$F522,'00 Alimenta'!G:G)","v":0},{"$f":"SUMIF('00 Alimenta'!$B:$B,'00 PDC SP'!$F522,'00 Alimenta'!H:H)","v":0},{"$f":"SUMIF('00 Alimenta'!$B:$B,'00 PDC SP'!$F522,'00 Alimenta'!I:I)","v":0},{"$f":"K522+L522-M522","v":0}]
["PDA170FR","PD","PDA170",14,"FR","0205050204","Fatture da ricevere v/ASL Lanciano Vasto Chieti per finanziamento sanitario aggiuntivo corrente LEA",{"$f":"SUMIF('00 Alimenta'!$B:$B,'00 PDC SP'!$F523,'00 Alimenta'!D:D)","v":0},{"$f":"SUMIF('00 Alimenta'!$B:$B,'00 PDC SP'!$F523,'00 Alimenta'!E:E)","v":0},{"$f":"SUMIF('00 Alimenta'!$B:$B,'00 PDC SP'!$F523,'00 Alimenta'!F:F)","v":0},{"$f":"SUMIF('00 Alimenta'!$B:$B,'00 PDC SP'!$F523,'00 Alimenta'!G:G)","v":0},{"$f":"SUMIF('00 Alimenta'!$B:$B,'00 PDC SP'!$F523,'00 Alimenta'!H:H)","v":0},{"$f":"SUMIF('00 Alimenta'!$B:$B,'00 PDC SP'!$F523,'00 Alimenta'!I:I)","v":0},0]
["PDA170DB","PD","PDA170",14,"DB","0205050205","Debiti v/ASL Pescara per finanziamento sanitario aggiuntivo corrente LEA",{"$f":"SUMIF('00 Alimenta'!$B:$B,'00 PDC SP'!$F524,'00 Alimenta'!D:D)","v":0},{"$f":"SUMIF('00 Alimenta'!$B:$B,'00 PDC SP'!$F524,'00 Alimenta'!E:E)","v":0},{"$f":"SUMIF('00 Alimenta'!$B:$B,'00 PDC SP'!$F524,'00 Alimenta'!F:F)","v":0},{"$f":"SUMIF('00 Alimenta'!$B:$B,'00 PDC SP'!$F524,'00 Alimenta'!G:G)","v":0},{"$f":"SUMIF('00 Alimenta'!$B:$B,'00 PDC SP'!$F524,'00 Alimenta'!H:H)","v":0},{"$f":"SUMIF('00 Alimenta'!$B:$B,'00 PDC SP'!$F524,'00 Alimenta'!I:I)","v":0},0]
["PDA170FR","PD","PDA170",14,"FR","0205050206","Fatture da ricevere v/ASL Pescara per finanziamento sanitario aggiuntivo corrente LEA",{"$f":"SUMIF('00 Alimenta'!$B:$B,'00 PDC SP'!$F525,'00 Alimenta'!D:D)","v":0},{"$f":"SUMIF('00 Alimenta'!$B:$B,'00 PDC SP'!$F525,'00 Alimenta'!E:E)","v":0},{"$f":"SUMIF('00 Alimenta'!$B:$B,'00 PDC SP'!$F525,'00 Alimenta'!F:F)","v":0},{"$f":"SUMIF('00 Alimenta'!$B:$B,'00 PDC SP'!$F525,'00 Alimenta'!G:G)","v":0},{"$f":"SUMIF('00 Alimenta'!$B:$B,'00 PDC SP'!$F525,'00 Alimenta'!H:H)","v":0},{"$f":"SUMIF('00 Alimenta'!$B:$B,'00 PDC SP'!$F525,'00 Alimenta'!I:I)","v":0},0]
["PDA170DB","PD","PDA170",14,"DB","0205050207","Debiti v/ASL Teramo per finanziamento sanitario aggiuntivo corrente LEA",{"$f":"SUMIF('00 Alimenta'!$B:$B,'00 PDC SP'!$F526,'00 Alimenta'!D:D)","v":0},{"$f":"SUMIF('00 Alimenta'!$B:$B,'00 PDC SP'!$F526,'00 Alimenta'!E:E)","v":0},{"$f":"SUMIF('00 Alimenta'!$B:$B,'00 PDC SP'!$F526,'00 Alimenta'!F:F)","v":0},{"$f":"SUMIF('00 Alimenta'!$B:$B,'00 PDC SP'!$F526,'00 Alimenta'!G:G)","v":0},{"$f":"SUMIF('00 Alimenta'!$B:$B,'00 PDC SP'!$F526,'00 Alimenta'!H:H)","v":0},{"$f":"SUMIF('00 Alimenta'!$B:$B,'00 PDC SP'!$F526,'00 Alimenta'!I:I)","v":0},0]
["PDA170FR","PD","PDA170",14,"FR","0205050208","Fatture da ricevere v/ASL Teramo per finanziamento sanitario aggiuntivo corrente LEA",{"$f":"SUMIF('00 Alimenta'!$B:$B,'00 PDC SP'!$F527,'00 Alimenta'!D:D)","v":0},{"$f":"SUMIF('00 Alimenta'!$B:$B,'00 PDC SP'!$F527,'00 Alimenta'!E:E)","v":0},{"$f":"SUMIF('00 Alimenta'!$B:$B,'00 PDC SP'!$F527,'00 Alimenta'!F:F)","v":0},{"$f":"SUMIF('00 Alimenta'!$B:$B,'00 PDC SP'!$F527,'00 Alimenta'!G:G)","v":0},{"$f":"SUMIF('00 Alimenta'!$B:$B,'00 PDC SP'!$F527,'00 Alimenta'!H:H)","v":0},{"$f":"SUMIF('00 Alimenta'!$B:$B,'00 PDC SP'!$F527,'00 Alimenta'!I:I)","v":0},0]
["PDA180DB","PD","PDA180",14,"DB","0205050301","Debiti v/ASL Avezzano Sulmona L'Aquila per finanziamento sanitario aggiuntivo corrente extra LEA",{"$f":"SUMIF('00 Alimenta'!$B:$B,'00 PDC SP'!$F528,'00 Alimenta'!D:D)","v":0},{"$f":"SUMIF('00 Alimenta'!$B:$B,'00 PDC SP'!$F528,'00 Alimenta'!E:E)","v":0},{"$f":"SUMIF('00 Alimenta'!$B:$B,'00 PDC SP'!$F528,'00 Alimenta'!F:F)","v":0},{"$f":"SUMIF('00 Alimenta'!$B:$B,'00 PDC SP'!$F528,'00 Alimenta'!G:G)","v":0},{"$f":"SUMIF('00 Alimenta'!$B:$B,'00 PDC SP'!$F528,'00 Alimenta'!H:H)","v":0},{"$f":"SUMIF('00 Alimenta'!$B:$B,'00 PDC SP'!$F528,'00 Alimenta'!I:I)","v":0},0]
["PDA180FR","PD","PDA180",14,"FR","0205050302","Fatture da ricevere v/ASL Avezzano Sulmona L'Aquila per finanziamento sanitario aggiuntivo corrente extra LEA",{"$f":"SUMIF('00 Alimenta'!$B:$B,'00 PDC SP'!$F529,'00 Alimenta'!D:D)","v":0},{"$f":"SUMIF('00 Alimenta'!$B:$B,'00 PDC SP'!$F529,'00 Alimenta'!E:E)","v":0},{"$f":"SUMIF('00 Alimenta'!$B:$B,'00 PDC SP'!$F529,'00 Alimenta'!F:F)","v":0},{"$f":"SUMIF('00 Alimenta'!$B:$B,'00 PDC SP'!$F529,'00 Alimenta'!G:G)","v":0},{"$f":"SUMIF('00 Alimenta'!$B:$B,'00 PDC SP'!$F529,'00 Alimenta'!H:H)","v":0},{"$f":"SUMIF('00 Alimenta'!$B:$B,'00 PDC SP'!$F529,'00 Alimenta'!I:I)","v":0},0]
["PDA180DB","PD","PDA180",14,"DB","0205050303","Debiti v/ASL Lanciano Vasto Chieti per finanziamento sanitario aggiuntivo corrente extra LEA",{"$f":"SUMIF('00 Alimenta'!$B:$B,'00 PDC SP'!$F530,'00 Alimenta'!D:D)","v":0},{"$f":"SUMIF('00 Alimenta'!$B:$B,'00 PDC SP'!$F530,'00 Alimenta'!E:E)","v":0},{"$f":"SUMIF('00 Alimenta'!$B:$B,'00 PDC SP'!$F530,'00 Alimenta'!F:F)","v":0},{"$f":"SUMIF('00 Alimenta'!$B:$B,'00 PDC SP'!$F530,'00 Alimenta'!G:G)","v":0},{"$f":"SUMIF('00 Alimenta'!$B:$B,'00 PDC SP'!$F530,'00 Alimenta'!H:H)","v":0},{"$f":"SUMIF('00 Alimenta'!$B:$B,'00 PDC SP'!$F530,'00 Alimenta'!I:I)","v":0},0]
["PDA180FR","PD","PDA180",14,"FR","0205050304","Fatture da ricevere v/ASL Lanciano Vasto Chieti per finanziamento sanitario aggiuntivo corrente extra LEA",{"$f":"SUMIF('00 Alimenta'!$B:$B,'00 PDC SP'!$F531,'00 Alimenta'!D:D)","v":0},{"$f":"SUMIF('00 Alimenta'!$B:$B,'00 PDC SP'!$F531,'00 Alimenta'!E:E)","v":0},{"$f":"SUMIF('00 Alimenta'!$B:$B,'00 PDC SP'!$F531,'00 Alimenta'!F:F)","v":0},{"$f":"SUMIF('00 Alimenta'!$B:$B,'00 PDC SP'!$F531,'00 Alimenta'!G:G)","v":0},{"$f":"SUMIF('00 Alimenta'!$B:$B,'00 PDC SP'!$F531,'00 Alimenta'!H:H)","v":0},{"$f":"SUMIF('00 Alimenta'!$B:$B,'00 PDC SP'!$F531,'00 Alimenta'!I:I)","v":0},0]
["PDA180DB","PD","PDA180",14,"DB","0205050305","Debiti v/ASL Pescara per finanziamento sanitario aggiuntivo corrente extra LEA",{"$f":"SUMIF('00 Alimenta'!$B:$B,'00 PDC SP'!$F532,'00 Alimenta'!D:D)","v":0},{"$f":"SUMIF('00 Alimenta'!$B:$B,'00 PDC SP'!$F532,'00 Alimenta'!E:E)","v":0},{"$f":"SUMIF('00 Alimenta'!$B:$B,'00 PDC SP'!$F532,'00 Alimenta'!F:F)","v":0},{"$f":"SUMIF('00 Alimenta'!$B:$B,'00 PDC SP'!$F532,'00 Alimenta'!G:G)","v":0},{"$f":"SUMIF('00 Alimenta'!$B:$B,'00 PDC SP'!$F532,'00 Alimenta'!H:H)","v":0},{"$f":"SUMIF('00 Alimenta'!$B:$B,'00 PDC SP'!$F532,'00 Alimenta'!I:I)","v":0},0]
["PDA180FR","PD","PDA180",14,"FR","0205050306","Fatture da ricevere v/ASL Pescara per finanziamento sanitario aggiuntivo corrente extra LEA",{"$f":"SUMIF('00 Alimenta'!$B:$B,'00 PDC SP'!$F533,'00 Alimenta'!D:D)","v":0},{"$f":"SUMIF('00 Alimenta'!$B:$B,'00 PDC SP'!$F533,'00 Alimenta'!E:E)","v":0},{"$f":"SUMIF('00 Alimenta'!$B:$B,'00 PDC SP'!$F533,'00 Alimenta'!F:F)","v":0},{"$f":"SUMIF('00 Alimenta'!$B:$B,'00 PDC SP'!$F533,'00 Alimenta'!G:G)","v":0},{"$f":"SUMIF('00 Alimenta'!$B:$B,'00 PDC SP'!$F533,'00 Alimenta'!H:H)","v":0},{"$f":"SUMIF('00 Alimenta'!$B:$B,'00 PDC SP'!$F533,'00 Alimenta'!I:I)","v":0},0]
["PDA180DB","PD","PDA180",14,"DB","0205050307","Debiti v/ASL Teramo per finanziamento sanitario aggiuntivo corrente extra LEA",{"$f":"SUMIF('00 Alimenta'!$B:$B,'00 PDC SP'!$F534,'00 Alimenta'!D:D)","v":0},{"$f":"SUMIF('00 Alimenta'!$B:$B,'00 PDC SP'!$F534,'00 Alimenta'!E:E)","v":0},{"$f":"SUMIF('00 Alimenta'!$B:$B,'00 PDC SP'!$F534,'00 Alimenta'!F:F)","v":0},{"$f":"SUMIF('00 Alimenta'!$B:$B,'00 PDC SP'!$F534,'00 Alimenta'!G:G)","v":0},{"$f":"SUMIF('00 Alimenta'!$B:$B,'00 PDC SP'!$F534,'00 Alimenta'!H:H)","v":0},{"$f":"SUMIF('00 Alimenta'!$B:$B,'00 PDC SP'!$F534,'00 Alimenta'!I:I)","v":0},0]
["PDA180FR","PD","PDA180",14,"FR","0205050308","Fatture da ricevere v/ASL Teramo per finanziamento sanitario aggiuntivo corrente extra LEA",{"$f":"SUMIF('00 Alimenta'!$B:$B,'00 PDC SP'!$F535,'00 Alimenta'!D:D)","v":0},{"$f":"SUMIF('00 Alimenta'!$B:$B,'00 PDC SP'!$F535,'00 Alimenta'!E:E)","v":0},{"$f":"SUMIF('00 Alimenta'!$B:$B,'00 PDC SP'!$F535,'00 Alimenta'!F:F)","v":0},{"$f":"SUMIF('00 Alimenta'!$B:$B,'00 PDC SP'!$F535,'00 Alimenta'!G:G)","v":0},{"$f":"SUMIF('00 Alimenta'!$B:$B,'00 PDC SP'!$F535,'00 Alimenta'!H:H)","v":0},{"$f":"SUMIF('00 Alimenta'!$B:$B,'00 PDC SP'!$F535,'00 Alimenta'!I:I)","v":0},0]
["PDA190DB","PD","PDA190",14,"DB","0205050401","Debiti v/ASL Avezzano Sulmona L'Aquila per mobilità in compensazione",{"$f":"SUMIF('00 Alimenta'!$B:$B,'00 PDC SP'!$F536,'00 Alimenta'!D:D)","v":0},{"$f":"SUMIF('00 Alimenta'!$B:$B,'00 PDC SP'!$F536,'00 Alimenta'!E:E)","v":0},{"$f":"SUMIF('00 Alimenta'!$B:$B,'00 PDC SP'!$F536,'00 Alimenta'!F:F)","v":0},{"$f":"SUMIF('00 Alimenta'!$B:$B,'00 PDC SP'!$F536,'00 Alimenta'!G:G)","v":0},{"$f":"SUMIF('00 Alimenta'!$B:$B,'00 PDC SP'!$F536,'00 Alimenta'!H:H)","v":0},{"$f":"SUMIF('00 Alimenta'!$B:$B,'00 PDC SP'!$F536,'00 Alimenta'!I:I)","v":0},0]
["PDA190DB","PD","PDA190",14,"DB","0205050402","Debiti v/ASL Lanciano Vasto Chieti per mobilità in compensazione",{"$f":"SUMIF('00 Alimenta'!$B:$B,'00 PDC SP'!$F537,'00 Alimenta'!D:D)","v":0},{"$f":"SUMIF('00 Alimenta'!$B:$B,'00 PDC SP'!$F537,'00 Alimenta'!E:E)","v":0},{"$f":"SUMIF('00 Alimenta'!$B:$B,'00 PDC SP'!$F537,'00 Alimenta'!F:F)","v":0},{"$f":"SUMIF('00 Alimenta'!$B:$B,'00 PDC SP'!$F537,'00 Alimenta'!G:G)","v":0},{"$f":"SUMIF('00 Alimenta'!$B:$B,'00 PDC SP'!$F537,'00 Alimenta'!H:H)","v":0},{"$f":"SUMIF('00 Alimenta'!$B:$B,'00 PDC SP'!$F537,'00 Alimenta'!I:I)","v":0},0]
["PDA190DB","PD","PDA190",14,"DB","0205050403","Debiti v/ASL Pescara per mobilità in compensazione",{"$f":"SUMIF('00 Alimenta'!$B:$B,'00 PDC SP'!$F538,'00 Alimenta'!D:D)","v":0},{"$f":"SUMIF('00 Alimenta'!$B:$B,'00 PDC SP'!$F538,'00 Alimenta'!E:E)","v":0},{"$f":"SUMIF('00 Alimenta'!$B:$B,'00 PDC SP'!$F538,'00 Alimenta'!F:F)","v":0},{"$f":"SUMIF('00 Alimenta'!$B:$B,'00 PDC SP'!$F538,'00 Alimenta'!G:G)","v":0},{"$f":"SUMIF('00 Alimenta'!$B:$B,'00 PDC SP'!$F538,'00 Alimenta'!H:H)","v":0},{"$f":"SUMIF('00 Alimenta'!$B:$B,'00 PDC SP'!$F538,'00 Alimenta'!I:I)","v":0},0]
["PDA190DB","PD","PDA190",14,"DB","0205050404","Debiti v/ASL Teramo per mobilità in compensazione",{"$f":"SUMIF('00 Alimenta'!$B:$B,'00 PDC SP'!$F539,'00 Alimenta'!D:D)","v":0},{"$f":"SUMIF('00 Alimenta'!$B:$B,'00 PDC SP'!$F539,'00 Alimenta'!E:E)","v":0},{"$f":"SUMIF('00 Alimenta'!$B:$B,'00 PDC SP'!$F539,'00 Alimenta'!F:F)","v":0},{"$f":"SUMIF('00 Alimenta'!$B:$B,'00 PDC SP'!$F539,'00 Alimenta'!G:G)","v":0},{"$f":"SUMIF('00 Alimenta'!$B:$B,'00 PDC SP'!$F539,'00 Alimenta'!H:H)","v":0},{"$f":"SUMIF('00 Alimenta'!$B:$B,'00 PDC SP'!$F539,'00 Alimenta'!I:I)","v":0},0]
["PDA200DB","PD","PDA200",14,"DB","0205050501","Debiti v/ASL Avezzano Sulmona L'Aquila per mobilità non in compensazione",{"$f":"SUMIF('00 Alimenta'!$B:$B,'00 PDC SP'!$F540,'00 Alimenta'!D:D)","v":0},{"$f":"SUMIF('00 Alimenta'!$B:$B,'00 PDC SP'!$F540,'00 Alimenta'!E:E)","v":0},{"$f":"SUMIF('00 Alimenta'!$B:$B,'00 PDC SP'!$F540,'00 Alimenta'!F:F)","v":0},{"$f":"SUMIF('00 Alimenta'!$B:$B,'00 PDC SP'!$F540,'00 Alimenta'!G:G)","v":0},{"$f":"SUMIF('00 Alimenta'!$B:$B,'00 PDC SP'!$F540,'00 Alimenta'!H:H)","v":0},{"$f":"SUMIF('00 Alimenta'!$B:$B,'00 PDC SP'!$F540,'00 Alimenta'!I:I)","v":0},0]
["PDA200FR","PD","PDA200",14,"FR","0205050502","Fatture da ricevere v/ASL Avezzano Sulmona L'Aquila per mobilità non in compensazione",{"$f":"SUMIF('00 Alimenta'!$B:$B,'00 PDC SP'!$F541,'00 Alimenta'!D:D)","v":0},{"$f":"SUMIF('00 Alimenta'!$B:$B,'00 PDC SP'!$F541,'00 Alimenta'!E:E)","v":0},{"$f":"SUMIF('00 Alimenta'!$B:$B,'00 PDC SP'!$F541,'00 Alimenta'!F:F)","v":0},{"$f":"SUMIF('00 Alimenta'!$B:$B,'00 PDC SP'!$F541,'00 Alimenta'!G:G)","v":0},{"$f":"SUMIF('00 Alimenta'!$B:$B,'00 PDC SP'!$F541,'00 Alimenta'!H:H)","v":0},{"$f":"SUMIF('00 Alimenta'!$B:$B,'00 PDC SP'!$F541,'00 Alimenta'!I:I)","v":0},0]
["PDA200DB","PD","PDA200",14,"DB","0205050503","Debiti v/ASL Lanciano Vasto Chieti per mobilità non in compensazione",{"$f":"SUMIF('00 Alimenta'!$B:$B,'00 PDC SP'!$F542,'00 Alimenta'!D:D)","v":0},{"$f":"SUMIF('00 Alimenta'!$B:$B,'00 PDC SP'!$F542,'00 Alimenta'!E:E)","v":0},{"$f":"SUMIF('00 Alimenta'!$B:$B,'00 PDC SP'!$F542,'00 Alimenta'!F:F)","v":0},{"$f":"SUMIF('00 Alimenta'!$B:$B,'00 PDC SP'!$F542,'00 Alimenta'!G:G)","v":0},{"$f":"SUMIF('00 Alimenta'!$B:$B,'00 PDC SP'!$F542,'00 Alimenta'!H:H)","v":0},{"$f":"SUMIF('00 Alimenta'!$B:$B,'00 PDC SP'!$F542,'00 Alimenta'!I:I)","v":0},0]
["PDA200FR","PD","PDA200",14,"FR","0205050504","Fatture da ricevere v/ASL Lanciano Vasto Chieti per mobilità non in compensazione",{"$f":"SUMIF('00 Alimenta'!$B:$B,'00 PDC SP'!$F543,'00 Alimenta'!D:D)","v":0},{"$f":"SUMIF('00 Alimenta'!$B:$B,'00 PDC SP'!$F543,'00 Alimenta'!E:E)","v":0},{"$f":"SUMIF('00 Alimenta'!$B:$B,'00 PDC SP'!$F543,'00 Alimenta'!F:F)","v":0},{"$f":"SUMIF('00 Alimenta'!$B:$B,'00 PDC SP'!$F543,'00 Alimenta'!G:G)","v":0},{"$f":"SUMIF('00 Alimenta'!$B:$B,'00 PDC SP'!$F543,'00 Alimenta'!H:H)","v":0},{"$f":"SUMIF('00 Alimenta'!$B:$B,'00 PDC SP'!$F543,'00 Alimenta'!I:I)","v":0},0]
["PDA200DB","PD","PDA200",14,"DB","0205050505","Debiti v/ASL Pescara per mobilità non in compensazione",{"$f":"SUMIF('00 Alimenta'!$B:$B,'00 PDC SP'!$F544,'00 Alimenta'!D:D)","v":0},{"$f":"SUMIF('00 Alimenta'!$B:$B,'00 PDC SP'!$F544,'00 Alimenta'!E:E)","v":0},{"$f":"SUMIF('00 Alimenta'!$B:$B,'00 PDC SP'!$F544,'00 Alimenta'!F:F)","v":0},{"$f":"SUMIF('00 Alimenta'!$B:$B,'00 PDC SP'!$F544,'00 Alimenta'!G:G)","v":0},{"$f":"SUMIF('00 Alimenta'!$B:$B,'00 PDC SP'!$F544,'00 Alimenta'!H:H)","v":0},{"$f":"SUMIF('00 Alimenta'!$B:$B,'00 PDC SP'!$F544,'00 Alimenta'!I:I)","v":0},0]
["PDA200FR","PD","PDA200",14,"FR","0205050506","Fatture da ricevere v/ASL Pescara per mobilità non in compensazione",{"$f":"SUMIF('00 Alimenta'!$B:$B,'00 PDC SP'!$F545,'00 Alimenta'!D:D)","v":0},{"$f":"SUMIF('00 Alimenta'!$B:$B,'00 PDC SP'!$F545,'00 Alimenta'!E:E)","v":0},{"$f":"SUMIF('00 Alimenta'!$B:$B,'00 PDC SP'!$F545,'00 Alimenta'!F:F)","v":0},{"$f":"SUMIF('00 Alimenta'!$B:$B,'00 PDC SP'!$F545,'00 Alimenta'!G:G)","v":0},{"$f":"SUMIF('00 Alimenta'!$B:$B,'00 PDC SP'!$F545,'00 Alimenta'!H:H)","v":0},{"$f":"SUMIF('00 Alimenta'!$B:$B,'00 PDC SP'!$F545,'00 Alimenta'!I:I)","v":0},0]
["PDA200DB","PD","PDA200",14,"DB","0205050507","Debiti v/ASL Teramo per mobilità non in compensazione",{"$f":"SUMIF('00 Alimenta'!$B:$B,'00 PDC SP'!$F546,'00 Alimenta'!D:D)","v":0},{"$f":"SUMIF('00 Alimenta'!$B:$B,'00 PDC SP'!$F546,'00 Alimenta'!E:E)","v":0},{"$f":"SUMIF('00 Alimenta'!$B:$B,'00 PDC SP'!$F546,'00 Alimenta'!F:F)","v":0},{"$f":"SUMIF('00 Alimenta'!$B:$B,'00 PDC SP'!$F546,'00 Alimenta'!G:G)","v":0},{"$f":"SUMIF('00 Alimenta'!$B:$B,'00 PDC SP'!$F546,'00 Alimenta'!H:H)","v":0},{"$f":"SUMIF('00 Alimenta'!$B:$B,'00 PDC SP'!$F546,'00 Alimenta'!I:I)","v":0},0]
["PDA200FR","PD","PDA200",14,"FR","0205050508","Fatture da ricevere v/ASL Teramo per mobilità non in compensazione",{"$f":"SUMIF('00 Alimenta'!$B:$B,'00 PDC SP'!$F547,'00 Alimenta'!D:D)","v":0},{"$f":"SUMIF('00 Alimenta'!$B:$B,'00 PDC SP'!$F547,'00 Alimenta'!E:E)","v":0},{"$f":"SUMIF('00 Alimenta'!$B:$B,'00 PDC SP'!$F547,'00 Alimenta'!F:F)","v":0},{"$f":"SUMIF('00 Alimenta'!$B:$B,'00 PDC SP'!$F547,'00 Alimenta'!G:G)","v":0},{"$f":"SUMIF('00 Alimenta'!$B:$B,'00 PDC SP'!$F547,'00 Alimenta'!H:H)","v":0},{"$f":"SUMIF('00 Alimenta'!$B:$B,'00 PDC SP'!$F547,'00 Alimenta'!I:I)","v":0},0]
["PDA210DB","PD","PDA210",14,"DB","0205050601","Debiti v/ASL Avezzano Sulmona L'Aquila per altre prestazioni",{"$f":"SUMIF('00 Alimenta'!$B:$B,'00 PDC SP'!$F548,'00 Alimenta'!D:D)","v":-67126.28},{"$f":"SUMIF('00 Alimenta'!$B:$B,'00 PDC SP'!$F548,'00 Alimenta'!E:E)","v":-272401.8},{"$f":"SUMIF('00 Alimenta'!$B:$B,'00 PDC SP'!$F548,'00 Alimenta'!F:F)","v":-74123.62},{"$f":"SUMIF('00 Alimenta'!$B:$B,'00 PDC SP'!$F548,'00 Alimenta'!G:G)","v":-265404.46000000002},{"$f":"SUMIF('00 Alimenta'!$B:$B,'00 PDC SP'!$F548,'00 Alimenta'!H:H)","v":-197162.76},{"$f":"SUMIF('00 Alimenta'!$B:$B,'00 PDC SP'!$F548,'00 Alimenta'!I:I)","v":-203272.68},-259294.54000000004]
["PDA210FR","PD","PDA210",14,"FR","0205050602","Fatture da ricevere v/ASL Avezzano Sulmona L'Aquila per altre prestazioni",{"$f":"SUMIF('00 Alimenta'!$B:$B,'00 PDC SP'!$F549,'00 Alimenta'!D:D)","v":-198130.85},{"$f":"SUMIF('00 Alimenta'!$B:$B,'00 PDC SP'!$F549,'00 Alimenta'!E:E)","v":-84346.32},{"$f":"SUMIF('00 Alimenta'!$B:$B,'00 PDC SP'!$F549,'00 Alimenta'!F:F)","v":-198130.85},{"$f":"SUMIF('00 Alimenta'!$B:$B,'00 PDC SP'!$F549,'00 Alimenta'!G:G)","v":-84346.32},{"$f":"SUMIF('00 Alimenta'!$B:$B,'00 PDC SP'!$F549,'00 Alimenta'!H:H)","v":-236845.56},{"$f":"SUMIF('00 Alimenta'!$B:$B,'00 PDC SP'!$F549,'00 Alimenta'!I:I)","v":-84346.32},-236845.56]
["PDA210DB","PD","PDA210",14,"DB","0205050603","Debiti v/ASL Lanciano Vasto Chieti per altre prestazioni",{"$f":"SUMIF('00 Alimenta'!$B:$B,'00 PDC SP'!$F550,'00 Alimenta'!D:D)","v":-70222.399999999994},{"$f":"SUMIF('00 Alimenta'!$B:$B,'00 PDC SP'!$F550,'00 Alimenta'!E:E)","v":-58278.06},{"$f":"SUMIF('00 Alimenta'!$B:$B,'00 PDC SP'!$F550,'00 Alimenta'!F:F)","v":-69229.149999999994},{"$f":"SUMIF('00 Alimenta'!$B:$B,'00 PDC SP'!$F550,'00 Alimenta'!G:G)","v":-59271.31},{"$f":"SUMIF('00 Alimenta'!$B:$B,'00 PDC SP'!$F550,'00 Alimenta'!H:H)","v":-56200.12},{"$f":"SUMIF('00 Alimenta'!$B:$B,'00 PDC SP'!$F550,'00 Alimenta'!I:I)","v":-50633.11},-64838.319999999992]
["PDA210FR","PD","PDA210",14,"FR","0205050604","Fatture da ricevere v/ASL Lanciano Vasto Chieti per altre prestazioni",{"$f":"SUMIF('00 Alimenta'!$B:$B,'00 PDC SP'!$F551,'00 Alimenta'!D:D)","v":-27859.87},{"$f":"SUMIF('00 Alimenta'!$B:$B,'00 PDC SP'!$F551,'00 Alimenta'!E:E)","v":-23505.119999999999},{"$f":"SUMIF('00 Alimenta'!$B:$B,'00 PDC SP'!$F551,'00 Alimenta'!F:F)","v":-27859.87},{"$f":"SUMIF('00 Alimenta'!$B:$B,'00 PDC SP'!$F551,'00 Alimenta'!G:G)","v":-23505.119999999999},{"$f":"SUMIF('00 Alimenta'!$B:$B,'00 PDC SP'!$F551,'00 Alimenta'!H:H)","v":-9926},{"$f":"SUMIF('00 Alimenta'!$B:$B,'00 PDC SP'!$F551,'00 Alimenta'!I:I)","v":-23505.119999999999},-9925.9999999999964]
["PDA210DB","PD","PDA210",14,"DB","0205050605","Debiti v/ASL Pescara per altre prestazioni",{"$f":"SUMIF('00 Alimenta'!$B:$B,'00 PDC SP'!$F552,'00 Alimenta'!D:D)","v":0},{"$f":"SUMIF('00 Alimenta'!$B:$B,'00 PDC SP'!$F552,'00 Alimenta'!E:E)","v":0},{"$f":"SUMIF('00 Alimenta'!$B:$B,'00 PDC SP'!$F552,'00 Alimenta'!F:F)","v":0},{"$f":"SUMIF('00 Alimenta'!$B:$B,'00 PDC SP'!$F552,'00 Alimenta'!G:G)","v":0},{"$f":"SUMIF('00 Alimenta'!$B:$B,'00 PDC SP'!$F552,'00 Alimenta'!H:H)","v":0},{"$f":"SUMIF('00 Alimenta'!$B:$B,'00 PDC SP'!$F552,'00 Alimenta'!I:I)","v":0},0]
["PDA210FR","PD","PDA210",14,"FR","0205050606","Fatture da ricevere v/ASL Pescara per altre prestazioni",{"$f":"SUMIF('00 Alimenta'!$B:$B,'00 PDC SP'!$F553,'00 Alimenta'!D:D)","v":0},{"$f":"SUMIF('00 Alimenta'!$B:$B,'00 PDC SP'!$F553,'00 Alimenta'!E:E)","v":0},{"$f":"SUMIF('00 Alimenta'!$B:$B,'00 PDC SP'!$F553,'00 Alimenta'!F:F)","v":0},{"$f":"SUMIF('00 Alimenta'!$B:$B,'00 PDC SP'!$F553,'00 Alimenta'!G:G)","v":0},{"$f":"SUMIF('00 Alimenta'!$B:$B,'00 PDC SP'!$F553,'00 Alimenta'!H:H)","v":0},{"$f":"SUMIF('00 Alimenta'!$B:$B,'00 PDC SP'!$F553,'00 Alimenta'!I:I)","v":0},0]
["PDA210DB","PD","PDA210",14,"DB","0205050607","Debiti v/ASL Teramo per altre prestazioni",{"$f":"SUMIF('00 Alimenta'!$B:$B,'00 PDC SP'!$F554,'00 Alimenta'!D:D)","v":-1740888.78},{"$f":"SUMIF('00 Alimenta'!$B:$B,'00 PDC SP'!$F554,'00 Alimenta'!E:E)","v":-280639.09000000003},{"$f":"SUMIF('00 Alimenta'!$B:$B,'00 PDC SP'!$F554,'00 Alimenta'!F:F)","v":-94079},{"$f":"SUMIF('00 Alimenta'!$B:$B,'00 PDC SP'!$F554,'00 Alimenta'!G:G)","v":-1927448.87},{"$f":"SUMIF('00 Alimenta'!$B:$B,'00 PDC SP'!$F554,'00 Alimenta'!H:H)","v":-152571.81},{"$f":"SUMIF('00 Alimenta'!$B:$B,'00 PDC SP'!$F554,'00 Alimenta'!I:I)","v":-11954.4},-2068066.2800000003]
["PDA210FR","PD","PDA210",14,"FR","0205050608","Fatture da ricevere v/ASL Teramo per altre prestazioni",{"$f":"SUMIF('00 Alimenta'!$B:$B,'00 PDC SP'!$F555,'00 Alimenta'!D:D)","v":-32310.93},{"$f":"SUMIF('00 Alimenta'!$B:$B,'00 PDC SP'!$F555,'00 Alimenta'!E:E)","v":-29786},{"$f":"SUMIF('00 Alimenta'!$B:$B,'00 PDC SP'!$F555,'00 Alimenta'!F:F)","v":-32310.93},{"$f":"SUMIF('00 Alimenta'!$B:$B,'00 PDC SP'!$F555,'00 Alimenta'!G:G)","v":-29786},{"$f":"SUMIF('00 Alimenta'!$B:$B,'00 PDC SP'!$F555,'00 Alimenta'!H:H)","v":-26706},{"$f":"SUMIF('00 Alimenta'!$B:$B,'00 PDC SP'!$F555,'00 Alimenta'!I:I)","v":-29786},-26706]
["PDA220DB","PD","PDA220",14,"DB","0205050701","Debiti v/Aziende sanitarie pubbliche Extraregione",{"$f":"SUMIF('00 Alimenta'!$B:$B,'00 PDC SP'!$F556,'00 Alimenta'!D:D)","v":-152664.66},{"$f":"SUMIF('00 Alimenta'!$B:$B,'00 PDC SP'!$F556,'00 Alimenta'!E:E)","v":-207261.11},{"$f":"SUMIF('00 Alimenta'!$B:$B,'00 PDC SP'!$F556,'00 Alimenta'!F:F)","v":-265226.40999999997},{"$f":"SUMIF('00 Alimenta'!$B:$B,'00 PDC SP'!$F556,'00 Alimenta'!G:G)","v":-94699.36},{"$f":"SUMIF('00 Alimenta'!$B:$B,'00 PDC SP'!$F556,'00 Alimenta'!H:H)","v":-170921.16},{"$f":"SUMIF('00 Alimenta'!$B:$B,'00 PDC SP'!$F556,'00 Alimenta'!I:I)","v":-190667.38},-74953.140000000014]
["PDA220FR","PD","PDA220",14,"FR","0205050702","Fatture da ricevere v/Aziende sanitarie pubbliche Extraregione",{"$f":"SUMIF('00 Alimenta'!$B:$B,'00 PDC SP'!$F557,'00 Alimenta'!D:D)","v":-36898.550000000003},{"$f":"SUMIF('00 Alimenta'!$B:$B,'00 PDC SP'!$F557,'00 Alimenta'!E:E)","v":-15263.65},{"$f":"SUMIF('00 Alimenta'!$B:$B,'00 PDC SP'!$F557,'00 Alimenta'!F:F)","v":-36898.550000000003},{"$f":"SUMIF('00 Alimenta'!$B:$B,'00 PDC SP'!$F557,'00 Alimenta'!G:G)","v":-15263.65},{"$f":"SUMIF('00 Alimenta'!$B:$B,'00 PDC SP'!$F557,'00 Alimenta'!H:H)","v":-45840.65},{"$f":"SUMIF('00 Alimenta'!$B:$B,'00 PDC SP'!$F557,'00 Alimenta'!I:I)","v":-15263.65},-45840.65]
["PDA220DB","PD","PDA220",14,"DB","0205050703","Debiti v/Aziende Ospedaliere, IRCCS, Policlinici, Fondazioni Extraregione",{"$f":"SUMIF('00 Alimenta'!$B:$B,'00 PDC SP'!$F558,'00 Alimenta'!D:D)","v":-30315.64},{"$f":"SUMIF('00 Alimenta'!$B:$B,'00 PDC SP'!$F558,'00 Alimenta'!E:E)","v":-81219.11},{"$f":"SUMIF('00 Alimenta'!$B:$B,'00 PDC SP'!$F558,'00 Alimenta'!F:F)","v":-54298.28},{"$f":"SUMIF('00 Alimenta'!$B:$B,'00 PDC SP'!$F558,'00 Alimenta'!G:G)","v":-57236.47},{"$f":"SUMIF('00 Alimenta'!$B:$B,'00 PDC SP'!$F558,'00 Alimenta'!H:H)","v":-56381.91},{"$f":"SUMIF('00 Alimenta'!$B:$B,'00 PDC SP'!$F558,'00 Alimenta'!I:I)","v":-57423.86},-56194.520000000004]
["PDA220FR","PD","PDA220",14,"FR","0205050704","Fatture da ricevere v/Aziende Ospedaliere, IRCCS, Policlinici, Fondazioni Extraregione",{"$f":"SUMIF('00 Alimenta'!$B:$B,'00 PDC SP'!$F559,'00 Alimenta'!D:D)","v":-35195.339999999997},{"$f":"SUMIF('00 Alimenta'!$B:$B,'00 PDC SP'!$F559,'00 Alimenta'!E:E)","v":-33826.42},{"$f":"SUMIF('00 Alimenta'!$B:$B,'00 PDC SP'!$F559,'00 Alimenta'!F:F)","v":-35195.339999999997},{"$f":"SUMIF('00 Alimenta'!$B:$B,'00 PDC SP'!$F559,'00 Alimenta'!G:G)","v":-33826.42},{"$f":"SUMIF('00 Alimenta'!$B:$B,'00 PDC SP'!$F559,'00 Alimenta'!H:H)","v":-22127.279999999999},{"$f":"SUMIF('00 Alimenta'!$B:$B,'00 PDC SP'!$F559,'00 Alimenta'!I:I)","v":-33826.42},-22127.279999999999]
["PDA230DB","PD","PDA230",14,"DB","0205050801","Debiti v/ASL Avezzano Sulmona L'Aquila per versamenti c/patrimonio netto",{"$f":"SUMIF('00 Alimenta'!$B:$B,'00 PDC SP'!$F560,'00 Alimenta'!D:D)","v":0},{"$f":"SUMIF('00 Alimenta'!$B:$B,'00 PDC SP'!$F560,'00 Alimenta'!E:E)","v":0},{"$f":"SUMIF('00 Alimenta'!$B:$B,'00 PDC SP'!$F560,'00 Alimenta'!F:F)","v":0},{"$f":"SUMIF('00 Alimenta'!$B:$B,'00 PDC SP'!$F560,'00 Alimenta'!G:G)","v":0},{"$f":"SUMIF('00 Alimenta'!$B:$B,'00 PDC SP'!$F560,'00 Alimenta'!H:H)","v":0},{"$f":"SUMIF('00 Alimenta'!$B:$B,'00 PDC SP'!$F560,'00 Alimenta'!I:I)","v":0},0]
["PDA230DB","PD","PDA230",14,"DB","0205050802","Debiti v/ASL Lanciano Vasto Chieti per versamenti c/patrimonio netto",{"$f":"SUMIF('00 Alimenta'!$B:$B,'00 PDC SP'!$F561,'00 Alimenta'!D:D)","v":0},{"$f":"SUMIF('00 Alimenta'!$B:$B,'00 PDC SP'!$F561,'00 Alimenta'!E:E)","v":0},{"$f":"SUMIF('00 Alimenta'!$B:$B,'00 PDC SP'!$F561,'00 Alimenta'!F:F)","v":0},{"$f":"SUMIF('00 Alimenta'!$B:$B,'00 PDC SP'!$F561,'00 Alimenta'!G:G)","v":0},{"$f":"SUMIF('00 Alimenta'!$B:$B,'00 PDC SP'!$F561,'00 Alimenta'!H:H)","v":0},{"$f":"SUMIF('00 Alimenta'!$B:$B,'00 PDC SP'!$F561,'00 Alimenta'!I:I)","v":0},0]
["PDA230DB","PD","PDA230",14,"DB","0205050803","Debiti v/ASL Pescara per versamenti c/patrimonio netto",{"$f":"SUMIF('00 Alimenta'!$B:$B,'00 PDC SP'!$F562,'00 Alimenta'!D:D)","v":0},{"$f":"SUMIF('00 Alimenta'!$B:$B,'00 PDC SP'!$F562,'00 Alimenta'!E:E)","v":0},{"$f":"SUMIF('00 Alimenta'!$B:$B,'00 PDC SP'!$F562,'00 Alimenta'!F:F)","v":0},{"$f":"SUMIF('00 Alimenta'!$B:$B,'00 PDC SP'!$F562,'00 Alimenta'!G:G)","v":0},{"$f":"SUMIF('00 Alimenta'!$B:$B,'00 PDC SP'!$F562,'00 Alimenta'!H:H)","v":0},{"$f":"SUMIF('00 Alimenta'!$B:$B,'00 PDC SP'!$F562,'00 Alimenta'!I:I)","v":0},0]
["PDA230DB","PD","PDA230",14,"DB","0205050804","Debiti v/ASL Teramo per versamenti c/patrimonio netto",{"$f":"SUMIF('00 Alimenta'!$B:$B,'00 PDC SP'!$F563,'00 Alimenta'!D:D)","v":0},{"$f":"SUMIF('00 Alimenta'!$B:$B,'00 PDC SP'!$F563,'00 Alimenta'!E:E)","v":0},{"$f":"SUMIF('00 Alimenta'!$B:$B,'00 PDC SP'!$F563,'00 Alimenta'!F:F)","v":0},{"$f":"SUMIF('00 Alimenta'!$B:$B,'00 PDC SP'!$F563,'00 Alimenta'!G:G)","v":0},{"$f":"SUMIF('00 Alimenta'!$B:$B,'00 PDC SP'!$F563,'00 Alimenta'!H:H)","v":0},{"$f":"SUMIF('00 Alimenta'!$B:$B,'00 PDC SP'!$F563,'00 Alimenta'!I:I)","v":0},0]
["PDA230DB","PD","PDA230",14,"DB","0205050805","Debiti v/ASL ASL Regionali per versamenti c/patrimonio netto",{"$f":"SUMIF('00 Alimenta'!$B:$B,'00 PDC SP'!$F564,'00 Alimenta'!D:D)","v":0},{"$f":"SUMIF('00 Alimenta'!$B:$B,'00 PDC SP'!$F564,'00 Alimenta'!E:E)","v":0},{"$f":"SUMIF('00 Alimenta'!$B:$B,'00 PDC SP'!$F564,'00 Alimenta'!F:F)","v":0},{"$f":"SUMIF('00 Alimenta'!$B:$B,'00 PDC SP'!$F564,'00 Alimenta'!G:G)","v":0},{"$f":"SUMIF('00 Alimenta'!$B:$B,'00 PDC SP'!$F564,'00 Alimenta'!H:H)","v":0},{"$f":"SUMIF('00 Alimenta'!$B:$B,'00 PDC SP'!$F564,'00 Alimenta'!I:I)","v":0},0]
["PDA250DB","PD","PDA250",15,"DB","0205060101","Debiti v/ARTA",{"$f":"SUMIF('00 Alimenta'!$B:$B,'00 PDC SP'!$F565,'00 Alimenta'!D:D)","v":0},{"$f":"SUMIF('00 Alimenta'!$B:$B,'00 PDC SP'!$F565,'00 Alimenta'!E:E)","v":0},{"$f":"SUMIF('00 Alimenta'!$B:$B,'00 PDC SP'!$F565,'00 Alimenta'!F:F)","v":0},{"$f":"SUMIF('00 Alimenta'!$B:$B,'00 PDC SP'!$F565,'00 Alimenta'!G:G)","v":0},{"$f":"SUMIF('00 Alimenta'!$B:$B,'00 PDC SP'!$F565,'00 Alimenta'!H:H)","v":0},{"$f":"SUMIF('00 Alimenta'!$B:$B,'00 PDC SP'!$F565,'00 Alimenta'!I:I)","v":0},0]
["PDA250FR","PD","PDA250",15,"FR","0205060102","Fatture da ricevere v/ARTA",{"$f":"SUMIF('00 Alimenta'!$B:$B,'00 PDC SP'!$F566,'00 Alimenta'!D:D)","v":0},{"$f":"SUMIF('00 Alimenta'!$B:$B,'00 PDC SP'!$F566,'00 Alimenta'!E:E)","v":0},{"$f":"SUMIF('00 Alimenta'!$B:$B,'00 PDC SP'!$F566,'00 Alimenta'!F:F)","v":0},{"$f":"SUMIF('00 Alimenta'!$B:$B,'00 PDC SP'!$F566,'00 Alimenta'!G:G)","v":0},{"$f":"SUMIF('00 Alimenta'!$B:$B,'00 PDC SP'!$F566,'00 Alimenta'!H:H)","v":0},{"$f":"SUMIF('00 Alimenta'!$B:$B,'00 PDC SP'!$F566,'00 Alimenta'!I:I)","v":0},0]
["PDA250DB","PD","PDA250",15,"DB","0205060103","Debiti v/Agenzia Sanitaria Regionale",{"$f":"SUMIF('00 Alimenta'!$B:$B,'00 PDC SP'!$F567,'00 Alimenta'!D:D)","v":0},{"$f":"SUMIF('00 Alimenta'!$B:$B,'00 PDC SP'!$F567,'00 Alimenta'!E:E)","v":0},{"$f":"SUMIF('00 Alimenta'!$B:$B,'00 PDC SP'!$F567,'00 Alimenta'!F:F)","v":0},{"$f":"SUMIF('00 Alimenta'!$B:$B,'00 PDC SP'!$F567,'00 Alimenta'!G:G)","v":0},{"$f":"SUMIF('00 Alimenta'!$B:$B,'00 PDC SP'!$F567,'00 Alimenta'!H:H)","v":0},{"$f":"SUMIF('00 Alimenta'!$B:$B,'00 PDC SP'!$F567,'00 Alimenta'!I:I)","v":0},0]
["PDA250FR","PD","PDA250",15,"FR","0205060104","Fatture da ricevere v/Agenzia Sanitaria Regionale",{"$f":"SUMIF('00 Alimenta'!$B:$B,'00 PDC SP'!$F568,'00 Alimenta'!D:D)","v":0},{"$f":"SUMIF('00 Alimenta'!$B:$B,'00 PDC SP'!$F568,'00 Alimenta'!E:E)","v":0},{"$f":"SUMIF('00 Alimenta'!$B:$B,'00 PDC SP'!$F568,'00 Alimenta'!F:F)","v":0},{"$f":"SUMIF('00 Alimenta'!$B:$B,'00 PDC SP'!$F568,'00 Alimenta'!G:G)","v":0},{"$f":"SUMIF('00 Alimenta'!$B:$B,'00 PDC SP'!$F568,'00 Alimenta'!H:H)","v":0},{"$f":"SUMIF('00 Alimenta'!$B:$B,'00 PDC SP'!$F568,'00 Alimenta'!I:I)","v":0},0]
["PDA250DB","PD","PDA250",15,"DB","0205060105","Debiti v/altri enti regionali",{"$f":"SUMIF('00 Alimenta'!$B:$B,'00 PDC SP'!$F569,'00 Alimenta'!D:D)","v":0},{"$f":"SUMIF('00 Alimenta'!$B:$B,'00 PDC SP'!$F569,'00 Alimenta'!E:E)","v":0},{"$f":"SUMIF('00 Alimenta'!$B:$B,'00 PDC SP'!$F569,'00 Alimenta'!F:F)","v":0},{"$f":"SUMIF('00 Alimenta'!$B:$B,'00 PDC SP'!$F569,'00 Alimenta'!G:G)","v":0},{"$f":"SUMIF('00 Alimenta'!$B:$B,'00 PDC SP'!$F569,'00 Alimenta'!H:H)","v":0},{"$f":"SUMIF('00 Alimenta'!$B:$B,'00 PDC SP'!$F569,'00 Alimenta'!I:I)","v":0},0]
["PDA250FR","PD","PDA250",15,"FR","0205060106","Fatture da ricevere v/altri enti regionali",{"$f":"SUMIF('00 Alimenta'!$B:$B,'00 PDC SP'!$F570,'00 Alimenta'!D:D)","v":0},{"$f":"SUMIF('00 Alimenta'!$B:$B,'00 PDC SP'!$F570,'00 Alimenta'!E:E)","v":0},{"$f":"SUMIF('00 Alimenta'!$B:$B,'00 PDC SP'!$F570,'00 Alimenta'!F:F)","v":0},{"$f":"SUMIF('00 Alimenta'!$B:$B,'00 PDC SP'!$F570,'00 Alimenta'!G:G)","v":0},{"$f":"SUMIF('00 Alimenta'!$B:$B,'00 PDC SP'!$F570,'00 Alimenta'!H:H)","v":0},{"$f":"SUMIF('00 Alimenta'!$B:$B,'00 PDC SP'!$F570,'00 Alimenta'!I:I)","v":0},0]
["PDA260DB","PD","PDA260",15,"DB","0205060201","Debiti v/sperimentazioni gestionali",{"$f":"SUMIF('00 Alimenta'!$B:$B,'00 PDC SP'!$F571,'00 Alimenta'!D:D)","v":0},{"$f":"SUMIF('00 Alimenta'!$B:$B,'00 PDC SP'!$F571,'00 Alimenta'!E:E)","v":0},{"$f":"SUMIF('00 Alimenta'!$B:$B,'00 PDC SP'!$F571,'00 Alimenta'!F:F)","v":0},{"$f":"SUMIF('00 Alimenta'!$B:$B,'00 PDC SP'!$F571,'00 Alimenta'!G:G)","v":0},{"$f":"SUMIF('00 Alimenta'!$B:$B,'00 PDC SP'!$F571,'00 Alimenta'!H:H)","v":0},{"$f":"SUMIF('00 Alimenta'!$B:$B,'00 PDC SP'!$F571,'00 Alimenta'!I:I)","v":0},0]
["PDA260FR","PD","PDA260",15,"FR","0205060202","Fatture da ricevere v/sperimentazioni gestionali",{"$f":"SUMIF('00 Alimenta'!$B:$B,'00 PDC SP'!$F572,'00 Alimenta'!D:D)","v":0},{"$f":"SUMIF('00 Alimenta'!$B:$B,'00 PDC SP'!$F572,'00 Alimenta'!E:E)","v":0},{"$f":"SUMIF('00 Alimenta'!$B:$B,'00 PDC SP'!$F572,'00 Alimenta'!F:F)","v":0},{"$f":"SUMIF('00 Alimenta'!$B:$B,'00 PDC SP'!$F572,'00 Alimenta'!G:G)","v":0},{"$f":"SUMIF('00 Alimenta'!$B:$B,'00 PDC SP'!$F572,'00 Alimenta'!H:H)","v":0},{"$f":"SUMIF('00 Alimenta'!$B:$B,'00 PDC SP'!$F572,'00 Alimenta'!I:I)","v":0},0]
["PDA270DB","PD","PDA270",15,"DB","0205060301","Debiti v/altre partecipate",{"$f":"SUMIF('00 Alimenta'!$B:$B,'00 PDC SP'!$F573,'00 Alimenta'!D:D)","v":0},{"$f":"SUMIF('00 Alimenta'!$B:$B,'00 PDC SP'!$F573,'00 Alimenta'!E:E)","v":0},{"$f":"SUMIF('00 Alimenta'!$B:$B,'00 PDC SP'!$F573,'00 Alimenta'!F:F)","v":0},{"$f":"SUMIF('00 Alimenta'!$B:$B,'00 PDC SP'!$F573,'00 Alimenta'!G:G)","v":0},{"$f":"SUMIF('00 Alimenta'!$B:$B,'00 PDC SP'!$F573,'00 Alimenta'!H:H)","v":0},{"$f":"SUMIF('00 Alimenta'!$B:$B,'00 PDC SP'!$F573,'00 Alimenta'!I:I)","v":0},0]
["PDA270FR","PD","PDA270",15,"FR","0205060302","Fatture da ricevere v/altre partecipate",{"$f":"SUMIF('00 Alimenta'!$B:$B,'00 PDC SP'!$F574,'00 Alimenta'!D:D)","v":0},{"$f":"SUMIF('00 Alimenta'!$B:$B,'00 PDC SP'!$F574,'00 Alimenta'!E:E)","v":0},{"$f":"SUMIF('00 Alimenta'!$B:$B,'00 PDC SP'!$F574,'00 Alimenta'!F:F)","v":0},{"$f":"SUMIF('00 Alimenta'!$B:$B,'00 PDC SP'!$F574,'00 Alimenta'!G:G)","v":0},{"$f":"SUMIF('00 Alimenta'!$B:$B,'00 PDC SP'!$F574,'00 Alimenta'!H:H)","v":0},{"$f":"SUMIF('00 Alimenta'!$B:$B,'00 PDC SP'!$F574,'00 Alimenta'!I:I)","v":0},0]
["PDA290DB","PD","PDA290",16,"DB","0205070101","Debiti v/medici di base",{"$f":"SUMIF('00 Alimenta'!$B:$B,'00 PDC SP'!$F575,'00 Alimenta'!D:D)","v":-1886031.55},{"$f":"SUMIF('00 Alimenta'!$B:$B,'00 PDC SP'!$F575,'00 Alimenta'!E:E)","v":-22027402.870000001},{"$f":"SUMIF('00 Alimenta'!$B:$B,'00 PDC SP'!$F575,'00 Alimenta'!F:F)","v":-22164628.670000002},{"$f":"SUMIF('00 Alimenta'!$B:$B,'00 PDC SP'!$F575,'00 Alimenta'!G:G)","v":-1748805.75},{"$f":"SUMIF('00 Alimenta'!$B:$B,'00 PDC SP'!$F575,'00 Alimenta'!H:H)","v":-26794195.949999999},{"$f":"SUMIF('00 Alimenta'!$B:$B,'00 PDC SP'!$F575,'00 Alimenta'!I:I)","v":-26629894.27},-1913107.4299999997]
["PDA290DB","PD","PDA290",16,"DB","0205070102","Debiti v/farmacie",{"$f":"SUMIF('00 Alimenta'!$B:$B,'00 PDC SP'!$F576,'00 Alimenta'!D:D)","v":-7700028.7599999998},{"$f":"SUMIF('00 Alimenta'!$B:$B,'00 PDC SP'!$F576,'00 Alimenta'!E:E)","v":-52286610.909999996},{"$f":"SUMIF('00 Alimenta'!$B:$B,'00 PDC SP'!$F576,'00 Alimenta'!F:F)","v":-56980917.469999999},{"$f":"SUMIF('00 Alimenta'!$B:$B,'00 PDC SP'!$F576,'00 Alimenta'!G:G)","v":-3005722.2},{"$f":"SUMIF('00 Alimenta'!$B:$B,'00 PDC SP'!$F576,'00 Alimenta'!H:H)","v":-50001509.329999998},{"$f":"SUMIF('00 Alimenta'!$B:$B,'00 PDC SP'!$F576,'00 Alimenta'!I:I)","v":-46696588.420000002},-6310643.1099999994]
["PDA290DB","PD","PDA290",16,"DB","0205070103","Debiti v/medici SUMAI",{"$f":"SUMIF('00 Alimenta'!$B:$B,'00 PDC SP'!$F577,'00 Alimenta'!D:D)","v":0},{"$f":"SUMIF('00 Alimenta'!$B:$B,'00 PDC SP'!$F577,'00 Alimenta'!E:E)","v":-2870787.24},{"$f":"SUMIF('00 Alimenta'!$B:$B,'00 PDC SP'!$F577,'00 Alimenta'!F:F)","v":-2870787.23},{"$f":"SUMIF('00 Alimenta'!$B:$B,'00 PDC SP'!$F577,'00 Alimenta'!G:G)","v":-0.01},{"$f":"SUMIF('00 Alimenta'!$B:$B,'00 PDC SP'!$F577,'00 Alimenta'!H:H)","v":-2821622.54},{"$f":"SUMIF('00 Alimenta'!$B:$B,'00 PDC SP'!$F577,'00 Alimenta'!I:I)","v":-2819880.2},-1742.3499999996275]
["PDA290DB","PD","PDA290",16,"DB","0205070104","Debiti v/IRCCS privati e Policlinici",{"$f":"SUMIF('00 Alimenta'!$B:$B,'00 PDC SP'!$F578,'00 Alimenta'!D:D)","v":0},{"$f":"SUMIF('00 Alimenta'!$B:$B,'00 PDC SP'!$F578,'00 Alimenta'!E:E)","v":0},{"$f":"SUMIF('00 Alimenta'!$B:$B,'00 PDC SP'!$F578,'00 Alimenta'!F:F)","v":0},{"$f":"SUMIF('00 Alimenta'!$B:$B,'00 PDC SP'!$F578,'00 Alimenta'!G:G)","v":0},{"$f":"SUMIF('00 Alimenta'!$B:$B,'00 PDC SP'!$F578,'00 Alimenta'!H:H)","v":0},{"$f":"SUMIF('00 Alimenta'!$B:$B,'00 PDC SP'!$F578,'00 Alimenta'!I:I)","v":0},0]
["PDA290FR","PD","PDA290",16,"FR","0205070105","Fatture da ricevere v/IRCCS privati e Policlinici",{"$f":"SUMIF('00 Alimenta'!$B:$B,'00 PDC SP'!$F579,'00 Alimenta'!D:D)","v":0},{"$f":"SUMIF('00 Alimenta'!$B:$B,'00 PDC SP'!$F579,'00 Alimenta'!E:E)","v":0},{"$f":"SUMIF('00 Alimenta'!$B:$B,'00 PDC SP'!$F579,'00 Alimenta'!F:F)","v":0},{"$f":"SUMIF('00 Alimenta'!$B:$B,'00 PDC SP'!$F579,'00 Alimenta'!G:G)","v":0},{"$f":"SUMIF('00 Alimenta'!$B:$B,'00 PDC SP'!$F579,'00 Alimenta'!H:H)","v":0},{"$f":"SUMIF('00 Alimenta'!$B:$B,'00 PDC SP'!$F579,'00 Alimenta'!I:I)","v":0},0]
["PDA290DB","PD","PDA290",16,"DB","0205070106","Debiti v/Ospedali Classificati",{"$f":"SUMIF('00 Alimenta'!$B:$B,'00 PDC SP'!$F580,'00 Alimenta'!D:D)","v":0},{"$f":"SUMIF('00 Alimenta'!$B:$B,'00 PDC SP'!$F580,'00 Alimenta'!E:E)","v":0},{"$f":"SUMIF('00 Alimenta'!$B:$B,'00 PDC SP'!$F580,'00 Alimenta'!F:F)","v":0},{"$f":"SUMIF('00 Alimenta'!$B:$B,'00 PDC SP'!$F580,'00 Alimenta'!G:G)","v":0},{"$f":"SUMIF('00 Alimenta'!$B:$B,'00 PDC SP'!$F580,'00 Alimenta'!H:H)","v":0},{"$f":"SUMIF('00 Alimenta'!$B:$B,'00 PDC SP'!$F580,'00 Alimenta'!I:I)","v":0},0]
["PDA290FR","PD","PDA290",16,"FR","0205070107","Fatture da ricevere v/Ospedali Classificati",{"$f":"SUMIF('00 Alimenta'!$B:$B,'00 PDC SP'!$F581,'00 Alimenta'!D:D)","v":0},{"$f":"SUMIF('00 Alimenta'!$B:$B,'00 PDC SP'!$F581,'00 Alimenta'!E:E)","v":-9382.08},{"$f":"SUMIF('00 Alimenta'!$B:$B,'00 PDC SP'!$F581,'00 Alimenta'!F:F)","v":0},{"$f":"SUMIF('00 Alimenta'!$B:$B,'00 PDC SP'!$F581,'00 Alimenta'!G:G)","v":-9382.08},{"$f":"SUMIF('00 Alimenta'!$B:$B,'00 PDC SP'!$F581,'00 Alimenta'!H:H)","v":0},{"$f":"SUMIF('00 Alimenta'!$B:$B,'00 PDC SP'!$F581,'00 Alimenta'!I:I)","v":-9382.08},0]
["PDA290DB","PD","PDA290",16,"DB","0205070108","Debiti v/Case di Cura",{"$f":"SUMIF('00 Alimenta'!$B:$B,'00 PDC SP'!$F582,'00 Alimenta'!D:D)","v":-26713072.460000001},{"$f":"SUMIF('00 Alimenta'!$B:$B,'00 PDC SP'!$F582,'00 Alimenta'!E:E)","v":-90789013.549999997},{"$f":"SUMIF('00 Alimenta'!$B:$B,'00 PDC SP'!$F582,'00 Alimenta'!F:F)","v":-88317822.109999999},{"$f":"SUMIF('00 Alimenta'!$B:$B,'00 PDC SP'!$F582,'00 Alimenta'!G:G)","v":-29184263.899999999},{"$f":"SUMIF('00 Alimenta'!$B:$B,'00 PDC SP'!$F582,'00 Alimenta'!H:H)","v":-90451579.670000002},{"$f":"SUMIF('00 Alimenta'!$B:$B,'00 PDC SP'!$F582,'00 Alimenta'!I:I)","v":-90508054.299999997},-29127789.269999996]
["PDA290FR","PD","PDA290",16,"FR","0205070109","Fatture da ricevere v/Case di Cura",{"$f":"SUMIF('00 Alimenta'!$B:$B,'00 PDC SP'!$F583,'00 Alimenta'!D:D)","v":-7968416.6200000001},{"$f":"SUMIF('00 Alimenta'!$B:$B,'00 PDC SP'!$F583,'00 Alimenta'!E:E)","v":-7390453.0199999996},{"$f":"SUMIF('00 Alimenta'!$B:$B,'00 PDC SP'!$F583,'00 Alimenta'!F:F)","v":-7968416.6200000001},{"$f":"SUMIF('00 Alimenta'!$B:$B,'00 PDC SP'!$F583,'00 Alimenta'!G:G)","v":-7390453.0199999996},{"$f":"SUMIF('00 Alimenta'!$B:$B,'00 PDC SP'!$F583,'00 Alimenta'!H:H)","v":-6431798.5300000003},{"$f":"SUMIF('00 Alimenta'!$B:$B,'00 PDC SP'!$F583,'00 Alimenta'!I:I)","v":-7390453.0199999996},-6431798.5300000012]
["PDA290DB","PD","PDA290",16,"DB","0205070110","Debiti v/altri erogatori di prestazioni sanitarie - intraregione",{"$f":"SUMIF('00 Alimenta'!$B:$B,'00 PDC SP'!$F584,'00 Alimenta'!D:D)","v":-76299590.489999995},{"$f":"SUMIF('00 Alimenta'!$B:$B,'00 PDC SP'!$F584,'00 Alimenta'!E:E)","v":-29383017.210000001},{"$f":"SUMIF('00 Alimenta'!$B:$B,'00 PDC SP'!$F584,'00 Alimenta'!F:F)","v":-46042284.130000003},{"$f":"SUMIF('00 Alimenta'!$B:$B,'00 PDC SP'!$F584,'00 Alimenta'!G:G)","v":-59640323.57},{"$f":"SUMIF('00 Alimenta'!$B:$B,'00 PDC SP'!$F584,'00 Alimenta'!H:H)","v":-30157319.18},{"$f":"SUMIF('00 Alimenta'!$B:$B,'00 PDC SP'!$F584,'00 Alimenta'!I:I)","v":-30753773.260000002},-59043869.489999995]
["PDA290FR","PD","PDA290",16,"FR","0205070111","Fatture da ricevere v/altri erogatori di prestazioni sanitarie - intraregione",{"$f":"SUMIF('00 Alimenta'!$B:$B,'00 PDC SP'!$F585,'00 Alimenta'!D:D)","v":-2785600.51},{"$f":"SUMIF('00 Alimenta'!$B:$B,'00 PDC SP'!$F585,'00 Alimenta'!E:E)","v":-2195879.3199999998},{"$f":"SUMIF('00 Alimenta'!$B:$B,'00 PDC SP'!$F585,'00 Alimenta'!F:F)","v":-2785600.51},{"$f":"SUMIF('00 Alimenta'!$B:$B,'00 PDC SP'!$F585,'00 Alimenta'!G:G)","v":-2195879.3199999998},{"$f":"SUMIF('00 Alimenta'!$B:$B,'00 PDC SP'!$F585,'00 Alimenta'!H:H)","v":-2404175.02},{"$f":"SUMIF('00 Alimenta'!$B:$B,'00 PDC SP'!$F585,'00 Alimenta'!I:I)","v":-2195879.3199999998},-2404175.02]
[{"$f":"IF(E586=\"\",C586,C586&E586)","v":"PDA290DB"},{"$f":"LEFT(C586,2)","v":"PD"},"PDA290",16,"DB","0205070112","Debiti v/erogatori sanitari privati per mobilità attiva privata extraregione",{"$f":"SUMIF('00 Alimenta'!$B:$B,'00 PDC SP'!$F586,'00 Alimenta'!D:D)","v":0},{"$f":"SUMIF('00 Alimenta'!$B:$B,'00 PDC SP'!$F586,'00 Alimenta'!E:E)","v":0},{"$f":"SUMIF('00 Alimenta'!$B:$B,'00 PDC SP'!$F586,'00 Alimenta'!F:F)","v":0},{"$f":"SUMIF('00 Alimenta'!$B:$B,'00 PDC SP'!$F586,'00 Alimenta'!G:G)","v":0},{"$f":"SUMIF('00 Alimenta'!$B:$B,'00 PDC SP'!$F586,'00 Alimenta'!H:H)","v":0},{"$f":"SUMIF('00 Alimenta'!$B:$B,'00 PDC SP'!$F586,'00 Alimenta'!I:I)","v":0},{"$f":"K586+L586-M586","v":0}]
["PDA290FR","PD","PDA290",16,"FR","0205070113","Fatture da ricevere v/erogatori sanitari privati per mobilità attiva privata extraregione",{"$f":"SUMIF('00 Alimenta'!$B:$B,'00 PDC SP'!$F587,'00 Alimenta'!D:D)","v":0},{"$f":"SUMIF('00 Alimenta'!$B:$B,'00 PDC SP'!$F587,'00 Alimenta'!E:E)","v":0},{"$f":"SUMIF('00 Alimenta'!$B:$B,'00 PDC SP'!$F587,'00 Alimenta'!F:F)","v":0},{"$f":"SUMIF('00 Alimenta'!$B:$B,'00 PDC SP'!$F587,'00 Alimenta'!G:G)","v":0},{"$f":"SUMIF('00 Alimenta'!$B:$B,'00 PDC SP'!$F587,'00 Alimenta'!H:H)","v":0},{"$f":"SUMIF('00 Alimenta'!$B:$B,'00 PDC SP'!$F587,'00 Alimenta'!I:I)","v":0},0]
["PDA300DB","PD","PDA300",16,"DB","0205070201","Debiti verso altri fornitori nazionali",{"$f":"SUMIF('00 Alimenta'!$B:$B,'00 PDC SP'!$F588,'00 Alimenta'!D:D)","v":-34289418.840000004},{"$f":"SUMIF('00 Alimenta'!$B:$B,'00 PDC SP'!$F588,'00 Alimenta'!E:E)","v":-287511239.07999998},{"$f":"SUMIF('00 Alimenta'!$B:$B,'00 PDC SP'!$F588,'00 Alimenta'!F:F)","v":-283661530.74000001},{"$f":"SUMIF('00 Alimenta'!$B:$B,'00 PDC SP'!$F588,'00 Alimenta'!G:G)","v":-38139127.18},{"$f":"SUMIF('00 Alimenta'!$B:$B,'00 PDC SP'!$F588,'00 Alimenta'!H:H)","v":-315905697.26999998},{"$f":"SUMIF('00 Alimenta'!$B:$B,'00 PDC SP'!$F588,'00 Alimenta'!I:I)","v":-319150938.91000003},-34893885.539999962]
["PDA300FR","PD","PDA300",16,"FR","0205070202","Fatture da ricevere verso altri fornitori nazionali",{"$f":"SUMIF('00 Alimenta'!$B:$B,'00 PDC SP'!$F589,'00 Alimenta'!D:D)","v":-9359359.1099999994},{"$f":"SUMIF('00 Alimenta'!$B:$B,'00 PDC SP'!$F589,'00 Alimenta'!E:E)","v":-14638757.890000001},{"$f":"SUMIF('00 Alimenta'!$B:$B,'00 PDC SP'!$F589,'00 Alimenta'!F:F)","v":-9359359.1099999994},{"$f":"SUMIF('00 Alimenta'!$B:$B,'00 PDC SP'!$F589,'00 Alimenta'!G:G)","v":-14638757.890000001},{"$f":"SUMIF('00 Alimenta'!$B:$B,'00 PDC SP'!$F589,'00 Alimenta'!H:H)","v":-14320195.09},{"$f":"SUMIF('00 Alimenta'!$B:$B,'00 PDC SP'!$F589,'00 Alimenta'!I:I)","v":-14638757.890000001},-14320195.09]
["PDA300DB","PD","PDA300",16,"DB","0205070203","Debiti verso altri fornitori esteri",{"$f":"SUMIF('00 Alimenta'!$B:$B,'00 PDC SP'!$F590,'00 Alimenta'!D:D)","v":-33664.839999999997},{"$f":"SUMIF('00 Alimenta'!$B:$B,'00 PDC SP'!$F590,'00 Alimenta'!E:E)","v":-1046725.94},{"$f":"SUMIF('00 Alimenta'!$B:$B,'00 PDC SP'!$F590,'00 Alimenta'!F:F)","v":-1025764.24},{"$f":"SUMIF('00 Alimenta'!$B:$B,'00 PDC SP'!$F590,'00 Alimenta'!G:G)","v":-54626.54},{"$f":"SUMIF('00 Alimenta'!$B:$B,'00 PDC SP'!$F590,'00 Alimenta'!H:H)","v":-1069392.08},{"$f":"SUMIF('00 Alimenta'!$B:$B,'00 PDC SP'!$F590,'00 Alimenta'!I:I)","v":-1039446.08},-84572.540000000154]
["PDA300FR","PD","PDA300",16,"FR","0205070204","Fatture da ricevere verso altri fornitori esteri",{"$f":"SUMIF('00 Alimenta'!$B:$B,'00 PDC SP'!$F591,'00 Alimenta'!D:D)","v":-127330.11},{"$f":"SUMIF('00 Alimenta'!$B:$B,'00 PDC SP'!$F591,'00 Alimenta'!E:E)","v":-51772.21},{"$f":"SUMIF('00 Alimenta'!$B:$B,'00 PDC SP'!$F591,'00 Alimenta'!F:F)","v":-127330.11},{"$f":"SUMIF('00 Alimenta'!$B:$B,'00 PDC SP'!$F591,'00 Alimenta'!G:G)","v":-51772.21},{"$f":"SUMIF('00 Alimenta'!$B:$B,'00 PDC SP'!$F591,'00 Alimenta'!H:H)","v":-49807.02},{"$f":"SUMIF('00 Alimenta'!$B:$B,'00 PDC SP'!$F591,'00 Alimenta'!I:I)","v":-51772.21},-49807.02]
["PDA300DB","PD","PDA300",16,"DB","0205070205","Debiti verso professionisti e collaboratori (ad esclusione degli organi diretti)",{"$f":"SUMIF('00 Alimenta'!$B:$B,'00 PDC SP'!$F592,'00 Alimenta'!D:D)","v":-14394.15},{"$f":"SUMIF('00 Alimenta'!$B:$B,'00 PDC SP'!$F592,'00 Alimenta'!E:E)","v":-416392.57},{"$f":"SUMIF('00 Alimenta'!$B:$B,'00 PDC SP'!$F592,'00 Alimenta'!F:F)","v":-350886.89},{"$f":"SUMIF('00 Alimenta'!$B:$B,'00 PDC SP'!$F592,'00 Alimenta'!G:G)","v":-79899.83},{"$f":"SUMIF('00 Alimenta'!$B:$B,'00 PDC SP'!$F592,'00 Alimenta'!H:H)","v":-345039.97},{"$f":"SUMIF('00 Alimenta'!$B:$B,'00 PDC SP'!$F592,'00 Alimenta'!I:I)","v":-340717.73},-84222.07]
["PDA300DB","PD","PDA300",16,"DB","0205070206","Debiti cartolarizzati",{"$f":"SUMIF('00 Alimenta'!$B:$B,'00 PDC SP'!$F593,'00 Alimenta'!D:D)","v":0},{"$f":"SUMIF('00 Alimenta'!$B:$B,'00 PDC SP'!$F593,'00 Alimenta'!E:E)","v":0},{"$f":"SUMIF('00 Alimenta'!$B:$B,'00 PDC SP'!$F593,'00 Alimenta'!F:F)","v":0},{"$f":"SUMIF('00 Alimenta'!$B:$B,'00 PDC SP'!$F593,'00 Alimenta'!G:G)","v":0},{"$f":"SUMIF('00 Alimenta'!$B:$B,'00 PDC SP'!$F593,'00 Alimenta'!H:H)","v":0},{"$f":"SUMIF('00 Alimenta'!$B:$B,'00 PDC SP'!$F593,'00 Alimenta'!I:I)","v":0},0]
["PDA310DB","PD","PDA310",54,"DB","0205080101","Debiti v/istituto tesoriere",{"$f":"SUMIF('00 Alimenta'!$B:$B,'00 PDC SP'!$F594,'00 Alimenta'!D:D)","v":0},{"$f":"SUMIF('00 Alimenta'!$B:$B,'00 PDC SP'!$F594,'00 Alimenta'!E:E)","v":0},{"$f":"SUMIF('00 Alimenta'!$B:$B,'00 PDC SP'!$F594,'00 Alimenta'!F:F)","v":0},{"$f":"SUMIF('00 Alimenta'!$B:$B,'00 PDC SP'!$F594,'00 Alimenta'!G:G)","v":0},{"$f":"SUMIF('00 Alimenta'!$B:$B,'00 PDC SP'!$F594,'00 Alimenta'!H:H)","v":0},{"$f":"SUMIF('00 Alimenta'!$B:$B,'00 PDC SP'!$F594,'00 Alimenta'!I:I)","v":0},0]
["PDA310DB","PD","PDA310",54,"DB","0205080102","Debiti verso istituto tesoriere per anticipazione ordinaria",{"$f":"SUMIF('00 Alimenta'!$B:$B,'00 PDC SP'!$F595,'00 Alimenta'!D:D)","v":0},{"$f":"SUMIF('00 Alimenta'!$B:$B,'00 PDC SP'!$F595,'00 Alimenta'!E:E)","v":0},{"$f":"SUMIF('00 Alimenta'!$B:$B,'00 PDC SP'!$F595,'00 Alimenta'!F:F)","v":0},{"$f":"SUMIF('00 Alimenta'!$B:$B,'00 PDC SP'!$F595,'00 Alimenta'!G:G)","v":0},{"$f":"SUMIF('00 Alimenta'!$B:$B,'00 PDC SP'!$F595,'00 Alimenta'!H:H)","v":0},{"$f":"SUMIF('00 Alimenta'!$B:$B,'00 PDC SP'!$F595,'00 Alimenta'!I:I)","v":0},0]
["PDA310DB","PD","PDA310",54,"DB","0205080103","Debiti verso istituto tesoriere per anticipazione straordinaria",{"$f":"SUMIF('00 Alimenta'!$B:$B,'00 PDC SP'!$F596,'00 Alimenta'!D:D)","v":0},{"$f":"SUMIF('00 Alimenta'!$B:$B,'00 PDC SP'!$F596,'00 Alimenta'!E:E)","v":0},{"$f":"SUMIF('00 Alimenta'!$B:$B,'00 PDC SP'!$F596,'00 Alimenta'!F:F)","v":0},{"$f":"SUMIF('00 Alimenta'!$B:$B,'00 PDC SP'!$F596,'00 Alimenta'!G:G)","v":0},{"$f":"SUMIF('00 Alimenta'!$B:$B,'00 PDC SP'!$F596,'00 Alimenta'!H:H)","v":0},{"$f":"SUMIF('00 Alimenta'!$B:$B,'00 PDC SP'!$F596,'00 Alimenta'!I:I)","v":0},0]
["PDA310DB","PD","PDA310",54,"DB","0205080104","Debiti per interessi passivi per anticipazioni",{"$f":"SUMIF('00 Alimenta'!$B:$B,'00 PDC SP'!$F597,'00 Alimenta'!D:D)","v":0},{"$f":"SUMIF('00 Alimenta'!$B:$B,'00 PDC SP'!$F597,'00 Alimenta'!E:E)","v":0},{"$f":"SUMIF('00 Alimenta'!$B:$B,'00 PDC SP'!$F597,'00 Alimenta'!F:F)","v":0},{"$f":"SUMIF('00 Alimenta'!$B:$B,'00 PDC SP'!$F597,'00 Alimenta'!G:G)","v":0},{"$f":"SUMIF('00 Alimenta'!$B:$B,'00 PDC SP'!$F597,'00 Alimenta'!H:H)","v":0},{"$f":"SUMIF('00 Alimenta'!$B:$B,'00 PDC SP'!$F597,'00 Alimenta'!I:I)","v":0},0]
["PDA320DB","PD","PDA320",17,"DB","0205090101","Erario c/Ires",{"$f":"SUMIF('00 Alimenta'!$B:$B,'00 PDC SP'!$F598,'00 Alimenta'!D:D)","v":0},{"$f":"SUMIF('00 Alimenta'!$B:$B,'00 PDC SP'!$F598,'00 Alimenta'!E:E)","v":-557806.42000000004},{"$f":"SUMIF('00 Alimenta'!$B:$B,'00 PDC SP'!$F598,'00 Alimenta'!F:F)","v":-557806.42000000004},{"$f":"SUMIF('00 Alimenta'!$B:$B,'00 PDC SP'!$F598,'00 Alimenta'!G:G)","v":0},{"$f":"SUMIF('00 Alimenta'!$B:$B,'00 PDC SP'!$F598,'00 Alimenta'!H:H)","v":-408341.33},{"$f":"SUMIF('00 Alimenta'!$B:$B,'00 PDC SP'!$F598,'00 Alimenta'!I:I)","v":-408341.33},0]
["PDA320DB","PD","PDA320",17,"DB","0205090102","Erario c/ritenute su lavoro autonomo",{"$f":"SUMIF('00 Alimenta'!$B:$B,'00 PDC SP'!$F599,'00 Alimenta'!D:D)","v":-493265.24},{"$f":"SUMIF('00 Alimenta'!$B:$B,'00 PDC SP'!$F599,'00 Alimenta'!E:E)","v":-6154670.9299999997},{"$f":"SUMIF('00 Alimenta'!$B:$B,'00 PDC SP'!$F599,'00 Alimenta'!F:F)","v":-6175742},{"$f":"SUMIF('00 Alimenta'!$B:$B,'00 PDC SP'!$F599,'00 Alimenta'!G:G)","v":-472194.17},{"$f":"SUMIF('00 Alimenta'!$B:$B,'00 PDC SP'!$F599,'00 Alimenta'!H:H)","v":-7403740.4199999999},{"$f":"SUMIF('00 Alimenta'!$B:$B,'00 PDC SP'!$F599,'00 Alimenta'!I:I)","v":-7409718.5499999998},-466216.04000000004]
["PDA320DB","PD","PDA320",17,"DB","0205090103","Erario c/ritenute su lavoro dipendente",{"$f":"SUMIF('00 Alimenta'!$B:$B,'00 PDC SP'!$F600,'00 Alimenta'!D:D)","v":-844000.74},{"$f":"SUMIF('00 Alimenta'!$B:$B,'00 PDC SP'!$F600,'00 Alimenta'!E:E)","v":-33463877.68},{"$f":"SUMIF('00 Alimenta'!$B:$B,'00 PDC SP'!$F600,'00 Alimenta'!F:F)","v":-33517252.370000001},{"$f":"SUMIF('00 Alimenta'!$B:$B,'00 PDC SP'!$F600,'00 Alimenta'!G:G)","v":-790626.05},{"$f":"SUMIF('00 Alimenta'!$B:$B,'00 PDC SP'!$F600,'00 Alimenta'!H:H)","v":-33744103.079999998},{"$f":"SUMIF('00 Alimenta'!$B:$B,'00 PDC SP'!$F600,'00 Alimenta'!I:I)","v":-33740612.57},-794116.55999999493]
["PDA320DB","PD","PDA320",17,"DB","0205090104","Erario c/I.V.A.",{"$f":"SUMIF('00 Alimenta'!$B:$B,'00 PDC SP'!$F601,'00 Alimenta'!D:D)","v":-2790049.46},{"$f":"SUMIF('00 Alimenta'!$B:$B,'00 PDC SP'!$F601,'00 Alimenta'!E:E)","v":-24692527.18},{"$f":"SUMIF('00 Alimenta'!$B:$B,'00 PDC SP'!$F601,'00 Alimenta'!F:F)","v":-25900361.960000001},{"$f":"SUMIF('00 Alimenta'!$B:$B,'00 PDC SP'!$F601,'00 Alimenta'!G:G)","v":-1582214.68},{"$f":"SUMIF('00 Alimenta'!$B:$B,'00 PDC SP'!$F601,'00 Alimenta'!H:H)","v":-7936966.3700000001},{"$f":"SUMIF('00 Alimenta'!$B:$B,'00 PDC SP'!$F601,'00 Alimenta'!I:I)","v":-9504287.1300000008},-14893.919999999925]
["PDA320DB","PD","PDA320",17,"DB","0205090105","Erario c/Irap",{"$f":"SUMIF('00 Alimenta'!$B:$B,'00 PDC SP'!$F602,'00 Alimenta'!D:D)","v":-217711.49},{"$f":"SUMIF('00 Alimenta'!$B:$B,'00 PDC SP'!$F602,'00 Alimenta'!E:E)","v":-12241857.25},{"$f":"SUMIF('00 Alimenta'!$B:$B,'00 PDC SP'!$F602,'00 Alimenta'!F:F)","v":-12229581.369999999},{"$f":"SUMIF('00 Alimenta'!$B:$B,'00 PDC SP'!$F602,'00 Alimenta'!G:G)","v":-229987.37},{"$f":"SUMIF('00 Alimenta'!$B:$B,'00 PDC SP'!$F602,'00 Alimenta'!H:H)","v":-12420854.32},{"$f":"SUMIF('00 Alimenta'!$B:$B,'00 PDC SP'!$F602,'00 Alimenta'!I:I)","v":-12429626.130000001},-221215.55999999866]
["PDA320DB","PD","PDA320",17,"DB","0205090106","Altre imposte e tasse",{"$f":"SUMIF('00 Alimenta'!$B:$B,'00 PDC SP'!$F603,'00 Alimenta'!D:D)","v":-28779.93},{"$f":"SUMIF('00 Alimenta'!$B:$B,'00 PDC SP'!$F603,'00 Alimenta'!E:E)","v":0},{"$f":"SUMIF('00 Alimenta'!$B:$B,'00 PDC SP'!$F603,'00 Alimenta'!F:F)","v":-28779.93},{"$f":"SUMIF('00 Alimenta'!$B:$B,'00 PDC SP'!$F603,'00 Alimenta'!G:G)","v":0},{"$f":"SUMIF('00 Alimenta'!$B:$B,'00 PDC SP'!$F603,'00 Alimenta'!H:H)","v":-785.13},{"$f":"SUMIF('00 Alimenta'!$B:$B,'00 PDC SP'!$F603,'00 Alimenta'!I:I)","v":-785.13},0]
[{"$f":"IF(E604=\"\",C604,C604&E604)","v":"PDA320DB"},{"$f":"LEFT(C604,2)","v":"PD"},"PDA320",17,"DB","0205090107","Erario c/IVA - split payment",null,null,null,{"$f":"SUMIF('00 Alimenta'!$B:$B,'00 PDC SP'!$F604,'00 Alimenta'!G:G)","v":0},{"$f":"SUMIF('00 Alimenta'!$B:$B,'00 PDC SP'!$F604,'00 Alimenta'!H:H)","v":-19856036.09},{"$f":"SUMIF('00 Alimenta'!$B:$B,'00 PDC SP'!$F604,'00 Alimenta'!I:I)","v":-17216476.27},{"$f":"K604+L604-M604","v":-2639559.8200000003}]
["PDA330DB","PD","PDA330",18,"DB","0205100101","Debiti verso INPDAP",{"$f":"SUMIF('00 Alimenta'!$B:$B,'00 PDC SP'!$F605,'00 Alimenta'!D:D)","v":-711407.61},{"$f":"SUMIF('00 Alimenta'!$B:$B,'00 PDC SP'!$F605,'00 Alimenta'!E:E)","v":-48238495.859999999},{"$f":"SUMIF('00 Alimenta'!$B:$B,'00 PDC SP'!$F605,'00 Alimenta'!F:F)","v":-48109591.210000001},{"$f":"SUMIF('00 Alimenta'!$B:$B,'00 PDC SP'!$F605,'00 Alimenta'!G:G)","v":-840312.26},{"$f":"SUMIF('00 Alimenta'!$B:$B,'00 PDC SP'!$F605,'00 Alimenta'!H:H)","v":-49146093.640000001},{"$f":"SUMIF('00 Alimenta'!$B:$B,'00 PDC SP'!$F605,'00 Alimenta'!I:I)","v":-49241289.700000003},-745116.19999999553]
["PDA330DB","PD","PDA330",18,"DB","0205100102","Debiti verso INPS lavoratori dipendenti",{"$f":"SUMIF('00 Alimenta'!$B:$B,'00 PDC SP'!$F606,'00 Alimenta'!D:D)","v":-785.59},{"$f":"SUMIF('00 Alimenta'!$B:$B,'00 PDC SP'!$F606,'00 Alimenta'!E:E)","v":-253039.95},{"$f":"SUMIF('00 Alimenta'!$B:$B,'00 PDC SP'!$F606,'00 Alimenta'!F:F)","v":-253200.01},{"$f":"SUMIF('00 Alimenta'!$B:$B,'00 PDC SP'!$F606,'00 Alimenta'!G:G)","v":-625.53},{"$f":"SUMIF('00 Alimenta'!$B:$B,'00 PDC SP'!$F606,'00 Alimenta'!H:H)","v":-258155.4},{"$f":"SUMIF('00 Alimenta'!$B:$B,'00 PDC SP'!$F606,'00 Alimenta'!I:I)","v":-257642.79},-1138.1399999999849]
["PDA330DB","PD","PDA330",18,"DB","0205100103","Debiti verso INPS lavoratori autonomi",{"$f":"SUMIF('00 Alimenta'!$B:$B,'00 PDC SP'!$F607,'00 Alimenta'!D:D)","v":0},{"$f":"SUMIF('00 Alimenta'!$B:$B,'00 PDC SP'!$F607,'00 Alimenta'!E:E)","v":0},{"$f":"SUMIF('00 Alimenta'!$B:$B,'00 PDC SP'!$F607,'00 Alimenta'!F:F)","v":0},{"$f":"SUMIF('00 Alimenta'!$B:$B,'00 PDC SP'!$F607,'00 Alimenta'!G:G)","v":0},{"$f":"SUMIF('00 Alimenta'!$B:$B,'00 PDC SP'!$F607,'00 Alimenta'!H:H)","v":0},{"$f":"SUMIF('00 Alimenta'!$B:$B,'00 PDC SP'!$F607,'00 Alimenta'!I:I)","v":0},0]
["PDA330DB","PD","PDA330",18,"DB","0205100104","Debiti verso INAIL",{"$f":"SUMIF('00 Alimenta'!$B:$B,'00 PDC SP'!$F608,'00 Alimenta'!D:D)","v":-4177.45},{"$f":"SUMIF('00 Alimenta'!$B:$B,'00 PDC SP'!$F608,'00 Alimenta'!E:E)","v":-1695871.72},{"$f":"SUMIF('00 Alimenta'!$B:$B,'00 PDC SP'!$F608,'00 Alimenta'!F:F)","v":-1700049.17},{"$f":"SUMIF('00 Alimenta'!$B:$B,'00 PDC SP'!$F608,'00 Alimenta'!G:G)","v":0},{"$f":"SUMIF('00 Alimenta'!$B:$B,'00 PDC SP'!$F608,'00 Alimenta'!H:H)","v":-1681196.55},{"$f":"SUMIF('00 Alimenta'!$B:$B,'00 PDC SP'!$F608,'00 Alimenta'!I:I)","v":-1675236.8},-5959.75]
["PDA330DB","PD","PDA330",18,"DB","0205100105","Debiti verso ENPAM",{"$f":"SUMIF('00 Alimenta'!$B:$B,'00 PDC SP'!$F609,'00 Alimenta'!D:D)","v":-510508.54},{"$f":"SUMIF('00 Alimenta'!$B:$B,'00 PDC SP'!$F609,'00 Alimenta'!E:E)","v":-8593062.6999999993},{"$f":"SUMIF('00 Alimenta'!$B:$B,'00 PDC SP'!$F609,'00 Alimenta'!F:F)","v":-8554648.1199999992},{"$f":"SUMIF('00 Alimenta'!$B:$B,'00 PDC SP'!$F609,'00 Alimenta'!G:G)","v":-548923.12},{"$f":"SUMIF('00 Alimenta'!$B:$B,'00 PDC SP'!$F609,'00 Alimenta'!H:H)","v":-10041013.43},{"$f":"SUMIF('00 Alimenta'!$B:$B,'00 PDC SP'!$F609,'00 Alimenta'!I:I)","v":-9994193.9600000009},-595742.58999999799]
["PDA330DB","PD","PDA330",18,"DB","0205100106","Debiti verso ONAOSI",{"$f":"SUMIF('00 Alimenta'!$B:$B,'00 PDC SP'!$F610,'00 Alimenta'!D:D)","v":-54862.47},{"$f":"SUMIF('00 Alimenta'!$B:$B,'00 PDC SP'!$F610,'00 Alimenta'!E:E)","v":-111905.78},{"$f":"SUMIF('00 Alimenta'!$B:$B,'00 PDC SP'!$F610,'00 Alimenta'!F:F)","v":-112752.96000000001},{"$f":"SUMIF('00 Alimenta'!$B:$B,'00 PDC SP'!$F610,'00 Alimenta'!G:G)","v":-54015.29},{"$f":"SUMIF('00 Alimenta'!$B:$B,'00 PDC SP'!$F610,'00 Alimenta'!H:H)","v":-110977.37},{"$f":"SUMIF('00 Alimenta'!$B:$B,'00 PDC SP'!$F610,'00 Alimenta'!I:I)","v":-110312.56},-54680.100000000006]
["PDA330DB","PD","PDA330",18,"DB","0205100107","Debiti verso altri Istituti Previdenziali",{"$f":"SUMIF('00 Alimenta'!$B:$B,'00 PDC SP'!$F611,'00 Alimenta'!D:D)","v":-110806.05},{"$f":"SUMIF('00 Alimenta'!$B:$B,'00 PDC SP'!$F611,'00 Alimenta'!E:E)","v":-646338.15},{"$f":"SUMIF('00 Alimenta'!$B:$B,'00 PDC SP'!$F611,'00 Alimenta'!F:F)","v":-682489.79},{"$f":"SUMIF('00 Alimenta'!$B:$B,'00 PDC SP'!$F611,'00 Alimenta'!G:G)","v":-74654.41},{"$f":"SUMIF('00 Alimenta'!$B:$B,'00 PDC SP'!$F611,'00 Alimenta'!H:H)","v":-643937.53},{"$f":"SUMIF('00 Alimenta'!$B:$B,'00 PDC SP'!$F611,'00 Alimenta'!I:I)","v":-600773.68000000005},-117818.26000000001]
["PDA350DB","PD","PDA350",19,"DB","0205110101","Debiti v/altri finanziatori",{"$f":"SUMIF('00 Alimenta'!$B:$B,'00 PDC SP'!$F612,'00 Alimenta'!D:D)","v":0},{"$f":"SUMIF('00 Alimenta'!$B:$B,'00 PDC SP'!$F612,'00 Alimenta'!E:E)","v":0},{"$f":"SUMIF('00 Alimenta'!$B:$B,'00 PDC SP'!$F612,'00 Alimenta'!F:F)","v":0},{"$f":"SUMIF('00 Alimenta'!$B:$B,'00 PDC SP'!$F612,'00 Alimenta'!G:G)","v":0},{"$f":"SUMIF('00 Alimenta'!$B:$B,'00 PDC SP'!$F612,'00 Alimenta'!H:H)","v":0},{"$f":"SUMIF('00 Alimenta'!$B:$B,'00 PDC SP'!$F612,'00 Alimenta'!I:I)","v":0},0]
["PDA360DB","PD","PDA360",19,"DB","0205110201","Debiti verso personale retribuzioni esercizio in corso",{"$f":"SUMIF('00 Alimenta'!$B:$B,'00 PDC SP'!$F613,'00 Alimenta'!D:D)","v":0},{"$f":"SUMIF('00 Alimenta'!$B:$B,'00 PDC SP'!$F613,'00 Alimenta'!E:E)","v":0},{"$f":"SUMIF('00 Alimenta'!$B:$B,'00 PDC SP'!$F613,'00 Alimenta'!F:F)","v":0},{"$f":"SUMIF('00 Alimenta'!$B:$B,'00 PDC SP'!$F613,'00 Alimenta'!G:G)","v":0},{"$f":"SUMIF('00 Alimenta'!$B:$B,'00 PDC SP'!$F613,'00 Alimenta'!H:H)","v":0},{"$f":"SUMIF('00 Alimenta'!$B:$B,'00 PDC SP'!$F613,'00 Alimenta'!I:I)","v":0},0]
["PDA360DB","PD","PDA360",19,"DB","0205110202","Debiti verso il personale dipendente per fondi aziendali esercizio in corso",{"$f":"SUMIF('00 Alimenta'!$B:$B,'00 PDC SP'!$F614,'00 Alimenta'!D:D)","v":0},{"$f":"SUMIF('00 Alimenta'!$B:$B,'00 PDC SP'!$F614,'00 Alimenta'!E:E)","v":0},{"$f":"SUMIF('00 Alimenta'!$B:$B,'00 PDC SP'!$F614,'00 Alimenta'!F:F)","v":0},{"$f":"SUMIF('00 Alimenta'!$B:$B,'00 PDC SP'!$F614,'00 Alimenta'!G:G)","v":0},{"$f":"SUMIF('00 Alimenta'!$B:$B,'00 PDC SP'!$F614,'00 Alimenta'!H:H)","v":0},{"$f":"SUMIF('00 Alimenta'!$B:$B,'00 PDC SP'!$F614,'00 Alimenta'!I:I)","v":0},0]
["PDA360DB","PD","PDA360",19,"DB","0205110203","Debiti verso personale retribuzioni esercizi precedenti",{"$f":"SUMIF('00 Alimenta'!$B:$B,'00 PDC SP'!$F615,'00 Alimenta'!D:D)","v":-283633.53999999998},{"$f":"SUMIF('00 Alimenta'!$B:$B,'00 PDC SP'!$F615,'00 Alimenta'!E:E)","v":-447192.1},{"$f":"SUMIF('00 Alimenta'!$B:$B,'00 PDC SP'!$F615,'00 Alimenta'!F:F)","v":-143843.88},{"$f":"SUMIF('00 Alimenta'!$B:$B,'00 PDC SP'!$F615,'00 Alimenta'!G:G)","v":-586981.76},{"$f":"SUMIF('00 Alimenta'!$B:$B,'00 PDC SP'!$F615,'00 Alimenta'!H:H)","v":-407111.65},{"$f":"SUMIF('00 Alimenta'!$B:$B,'00 PDC SP'!$F615,'00 Alimenta'!I:I)","v":-274168.63},-719924.78]
["PDA360DB","PD","PDA360",19,"DB","0205110204","Debiti verso il personale dipendente per fondi aziendali esercizi precedenti",{"$f":"SUMIF('00 Alimenta'!$B:$B,'00 PDC SP'!$F616,'00 Alimenta'!D:D)","v":-12654666.48},{"$f":"SUMIF('00 Alimenta'!$B:$B,'00 PDC SP'!$F616,'00 Alimenta'!E:E)","v":-8508847.9900000002},{"$f":"SUMIF('00 Alimenta'!$B:$B,'00 PDC SP'!$F616,'00 Alimenta'!F:F)","v":-10201928.810000001},{"$f":"SUMIF('00 Alimenta'!$B:$B,'00 PDC SP'!$F616,'00 Alimenta'!G:G)","v":-10961585.66},{"$f":"SUMIF('00 Alimenta'!$B:$B,'00 PDC SP'!$F616,'00 Alimenta'!H:H)","v":-9300106.0399999991},{"$f":"SUMIF('00 Alimenta'!$B:$B,'00 PDC SP'!$F616,'00 Alimenta'!I:I)","v":-7619278.9000000004},-12642412.799999999]
["PDA360DB","PD","PDA360",19,"DB","0205110205","Debiti verso personale per rimborsi spese",{"$f":"SUMIF('00 Alimenta'!$B:$B,'00 PDC SP'!$F617,'00 Alimenta'!D:D)","v":0},{"$f":"SUMIF('00 Alimenta'!$B:$B,'00 PDC SP'!$F617,'00 Alimenta'!E:E)","v":0},{"$f":"SUMIF('00 Alimenta'!$B:$B,'00 PDC SP'!$F617,'00 Alimenta'!F:F)","v":0},{"$f":"SUMIF('00 Alimenta'!$B:$B,'00 PDC SP'!$F617,'00 Alimenta'!G:G)","v":0},{"$f":"SUMIF('00 Alimenta'!$B:$B,'00 PDC SP'!$F617,'00 Alimenta'!H:H)","v":0},{"$f":"SUMIF('00 Alimenta'!$B:$B,'00 PDC SP'!$F617,'00 Alimenta'!I:I)","v":0},0]
["PDA360DB","PD","PDA360",19,"DB","0205110206","Altri debiti verso il personale per ferie maturate e non godute",{"$f":"SUMIF('00 Alimenta'!$B:$B,'00 PDC SP'!$F618,'00 Alimenta'!D:D)","v":-22000},{"$f":"SUMIF('00 Alimenta'!$B:$B,'00 PDC SP'!$F618,'00 Alimenta'!E:E)","v":-75182.12},{"$f":"SUMIF('00 Alimenta'!$B:$B,'00 PDC SP'!$F618,'00 Alimenta'!F:F)","v":-22000},{"$f":"SUMIF('00 Alimenta'!$B:$B,'00 PDC SP'!$F618,'00 Alimenta'!G:G)","v":-75182.12},{"$f":"SUMIF('00 Alimenta'!$B:$B,'00 PDC SP'!$F618,'00 Alimenta'!H:H)","v":-97736.77},{"$f":"SUMIF('00 Alimenta'!$B:$B,'00 PDC SP'!$F618,'00 Alimenta'!I:I)","v":-22303.13},-150615.76]
["PDA360DB","PD","PDA360",19,"DB","0205110207","Altri debiti verso il personale dipendente",{"$f":"SUMIF('00 Alimenta'!$B:$B,'00 PDC SP'!$F619,'00 Alimenta'!D:D)","v":-2058131.25},{"$f":"SUMIF('00 Alimenta'!$B:$B,'00 PDC SP'!$F619,'00 Alimenta'!E:E)","v":-87054195.269999996},{"$f":"SUMIF('00 Alimenta'!$B:$B,'00 PDC SP'!$F619,'00 Alimenta'!F:F)","v":-86880830.620000005},{"$f":"SUMIF('00 Alimenta'!$B:$B,'00 PDC SP'!$F619,'00 Alimenta'!G:G)","v":-2231495.9},{"$f":"SUMIF('00 Alimenta'!$B:$B,'00 PDC SP'!$F619,'00 Alimenta'!H:H)","v":-88756803.799999997},{"$f":"SUMIF('00 Alimenta'!$B:$B,'00 PDC SP'!$F619,'00 Alimenta'!I:I)","v":-88990120.450000003},-1998179.25]
["PDA370DB","PD","PDA370",19,"DB","0205110301","Debiti v/gestioni liquidatorie",{"$f":"SUMIF('00 Alimenta'!$B:$B,'00 PDC SP'!$F620,'00 Alimenta'!D:D)","v":0},{"$f":"SUMIF('00 Alimenta'!$B:$B,'00 PDC SP'!$F620,'00 Alimenta'!E:E)","v":0},{"$f":"SUMIF('00 Alimenta'!$B:$B,'00 PDC SP'!$F620,'00 Alimenta'!F:F)","v":0},{"$f":"SUMIF('00 Alimenta'!$B:$B,'00 PDC SP'!$F620,'00 Alimenta'!G:G)","v":0},{"$f":"SUMIF('00 Alimenta'!$B:$B,'00 PDC SP'!$F620,'00 Alimenta'!H:H)","v":0},{"$f":"SUMIF('00 Alimenta'!$B:$B,'00 PDC SP'!$F620,'00 Alimenta'!I:I)","v":0},0]
["PDA370FR","PD","PDA370",19,"FR","0205110302","Fatture da ricevere v/gestioni liquidatorie",{"$f":"SUMIF('00 Alimenta'!$B:$B,'00 PDC SP'!$F621,'00 Alimenta'!D:D)","v":0},{"$f":"SUMIF('00 Alimenta'!$B:$B,'00 PDC SP'!$F621,'00 Alimenta'!E:E)","v":0},{"$f":"SUMIF('00 Alimenta'!$B:$B,'00 PDC SP'!$F621,'00 Alimenta'!F:F)","v":0},{"$f":"SUMIF('00 Alimenta'!$B:$B,'00 PDC SP'!$F621,'00 Alimenta'!G:G)","v":0},{"$f":"SUMIF('00 Alimenta'!$B:$B,'00 PDC SP'!$F621,'00 Alimenta'!H:H)","v":0},{"$f":"SUMIF('00 Alimenta'!$B:$B,'00 PDC SP'!$F621,'00 Alimenta'!I:I)","v":0},0]
["PDA380DB","PD","PDA380",19,"DB","0205110401","Debiti verso organizzazioni sindacali",{"$f":"SUMIF('00 Alimenta'!$B:$B,'00 PDC SP'!$F622,'00 Alimenta'!D:D)","v":0},{"$f":"SUMIF('00 Alimenta'!$B:$B,'00 PDC SP'!$F622,'00 Alimenta'!E:E)","v":0},{"$f":"SUMIF('00 Alimenta'!$B:$B,'00 PDC SP'!$F622,'00 Alimenta'!F:F)","v":0},{"$f":"SUMIF('00 Alimenta'!$B:$B,'00 PDC SP'!$F622,'00 Alimenta'!G:G)","v":0},{"$f":"SUMIF('00 Alimenta'!$B:$B,'00 PDC SP'!$F622,'00 Alimenta'!H:H)","v":0},{"$f":"SUMIF('00 Alimenta'!$B:$B,'00 PDC SP'!$F622,'00 Alimenta'!I:I)","v":0},0]
["PDA380DB","PD","PDA380",19,"DB","0205110402","Debiti verso organi direttivi e istituzionali",{"$f":"SUMIF('00 Alimenta'!$B:$B,'00 PDC SP'!$F623,'00 Alimenta'!D:D)","v":-6864.08},{"$f":"SUMIF('00 Alimenta'!$B:$B,'00 PDC SP'!$F623,'00 Alimenta'!E:E)","v":-191036.95},{"$f":"SUMIF('00 Alimenta'!$B:$B,'00 PDC SP'!$F623,'00 Alimenta'!F:F)","v":-195883.3},{"$f":"SUMIF('00 Alimenta'!$B:$B,'00 PDC SP'!$F623,'00 Alimenta'!G:G)","v":-2017.73},{"$f":"SUMIF('00 Alimenta'!$B:$B,'00 PDC SP'!$F623,'00 Alimenta'!H:H)","v":-218364.24},{"$f":"SUMIF('00 Alimenta'!$B:$B,'00 PDC SP'!$F623,'00 Alimenta'!I:I)","v":-219978.17},-403.79999999998836]
["PDA380DB","PD","PDA380",19,"DB","0205110403","Debiti verso assistiti",{"$f":"SUMIF('00 Alimenta'!$B:$B,'00 PDC SP'!$F624,'00 Alimenta'!D:D)","v":-193094.81},{"$f":"SUMIF('00 Alimenta'!$B:$B,'00 PDC SP'!$F624,'00 Alimenta'!E:E)","v":-1704684.22},{"$f":"SUMIF('00 Alimenta'!$B:$B,'00 PDC SP'!$F624,'00 Alimenta'!F:F)","v":-1649097.7},{"$f":"SUMIF('00 Alimenta'!$B:$B,'00 PDC SP'!$F624,'00 Alimenta'!G:G)","v":-248681.33},{"$f":"SUMIF('00 Alimenta'!$B:$B,'00 PDC SP'!$F624,'00 Alimenta'!H:H)","v":-1931513.49},{"$f":"SUMIF('00 Alimenta'!$B:$B,'00 PDC SP'!$F624,'00 Alimenta'!I:I)","v":-1937335.26},-242859.55999999982]
["PDA380DB","PD","PDA380",19,"DB","0205110404","Altri debiti diversi",{"$f":"SUMIF('00 Alimenta'!$B:$B,'00 PDC SP'!$F625,'00 Alimenta'!D:D)","v":-683030.8},{"$f":"SUMIF('00 Alimenta'!$B:$B,'00 PDC SP'!$F625,'00 Alimenta'!E:E)","v":-5415617.7599999998},{"$f":"SUMIF('00 Alimenta'!$B:$B,'00 PDC SP'!$F625,'00 Alimenta'!F:F)","v":-5774336.5},{"$f":"SUMIF('00 Alimenta'!$B:$B,'00 PDC SP'!$F625,'00 Alimenta'!G:G)","v":-324312.06},{"$f":"SUMIF('00 Alimenta'!$B:$B,'00 PDC SP'!$F625,'00 Alimenta'!H:H)","v":-5301861.76},{"$f":"SUMIF('00 Alimenta'!$B:$B,'00 PDC SP'!$F625,'00 Alimenta'!I:I)","v":-5157950.34},-468223.47999999952]
["PDA380DB","PD","PDA380",19,"DB","0205110405","Debiti verso personale esterno non convenzionato",{"$f":"SUMIF('00 Alimenta'!$B:$B,'00 PDC SP'!$F626,'00 Alimenta'!D:D)","v":0},{"$f":"SUMIF('00 Alimenta'!$B:$B,'00 PDC SP'!$F626,'00 Alimenta'!E:E)","v":0},{"$f":"SUMIF('00 Alimenta'!$B:$B,'00 PDC SP'!$F626,'00 Alimenta'!F:F)","v":0},{"$f":"SUMIF('00 Alimenta'!$B:$B,'00 PDC SP'!$F626,'00 Alimenta'!G:G)","v":0},{"$f":"SUMIF('00 Alimenta'!$B:$B,'00 PDC SP'!$F626,'00 Alimenta'!H:H)","v":0},{"$f":"SUMIF('00 Alimenta'!$B:$B,'00 PDC SP'!$F626,'00 Alimenta'!I:I)","v":0},0]
["PDA380DB","PD","PDA380",19,"DB","0205110406","Debiti verso personale tirocinante e borsisti",{"$f":"SUMIF('00 Alimenta'!$B:$B,'00 PDC SP'!$F627,'00 Alimenta'!D:D)","v":0},{"$f":"SUMIF('00 Alimenta'!$B:$B,'00 PDC SP'!$F627,'00 Alimenta'!E:E)","v":-746835},{"$f":"SUMIF('00 Alimenta'!$B:$B,'00 PDC SP'!$F627,'00 Alimenta'!F:F)","v":-746108},{"$f":"SUMIF('00 Alimenta'!$B:$B,'00 PDC SP'!$F627,'00 Alimenta'!G:G)","v":-727},{"$f":"SUMIF('00 Alimenta'!$B:$B,'00 PDC SP'!$F627,'00 Alimenta'!H:H)","v":-500132},{"$f":"SUMIF('00 Alimenta'!$B:$B,'00 PDC SP'!$F627,'00 Alimenta'!I:I)","v":-500859},0]
["PDA380DB","PD","PDA380",19,"DB","0205110407","Debiti verso altro personale esterno",{"$f":"SUMIF('00 Alimenta'!$B:$B,'00 PDC SP'!$F628,'00 Alimenta'!D:D)","v":-8023.1},{"$f":"SUMIF('00 Alimenta'!$B:$B,'00 PDC SP'!$F628,'00 Alimenta'!E:E)","v":-134770.54},{"$f":"SUMIF('00 Alimenta'!$B:$B,'00 PDC SP'!$F628,'00 Alimenta'!F:F)","v":-132414.44},{"$f":"SUMIF('00 Alimenta'!$B:$B,'00 PDC SP'!$F628,'00 Alimenta'!G:G)","v":-10379.200000000001},{"$f":"SUMIF('00 Alimenta'!$B:$B,'00 PDC SP'!$F628,'00 Alimenta'!H:H)","v":-155157.35999999999},{"$f":"SUMIF('00 Alimenta'!$B:$B,'00 PDC SP'!$F628,'00 Alimenta'!I:I)","v":-128106.84},-37429.72]
["PDA380DB","PD","PDA380",19,"DB","0205110408","Debiti verso personale universitario",{"$f":"SUMIF('00 Alimenta'!$B:$B,'00 PDC SP'!$F629,'00 Alimenta'!D:D)","v":0},{"$f":"SUMIF('00 Alimenta'!$B:$B,'00 PDC SP'!$F629,'00 Alimenta'!E:E)","v":0},{"$f":"SUMIF('00 Alimenta'!$B:$B,'00 PDC SP'!$F629,'00 Alimenta'!F:F)","v":0},{"$f":"SUMIF('00 Alimenta'!$B:$B,'00 PDC SP'!$F629,'00 Alimenta'!G:G)","v":0},{"$f":"SUMIF('00 Alimenta'!$B:$B,'00 PDC SP'!$F629,'00 Alimenta'!H:H)","v":0},{"$f":"SUMIF('00 Alimenta'!$B:$B,'00 PDC SP'!$F629,'00 Alimenta'!I:I)","v":0},0]
["PDA380FR","PD","PDA380",19,"FR","0205110409","Fatture da ricevere Altri debiti diversi",{"$f":"SUMIF('00 Alimenta'!$B:$B,'00 PDC SP'!$F630,'00 Alimenta'!D:D)","v":-342650.42},{"$f":"SUMIF('00 Alimenta'!$B:$B,'00 PDC SP'!$F630,'00 Alimenta'!E:E)","v":-321864.53999999998},{"$f":"SUMIF('00 Alimenta'!$B:$B,'00 PDC SP'!$F630,'00 Alimenta'!F:F)","v":-342650.42},{"$f":"SUMIF('00 Alimenta'!$B:$B,'00 PDC SP'!$F630,'00 Alimenta'!G:G)","v":-321864.53999999998},{"$f":"SUMIF('00 Alimenta'!$B:$B,'00 PDC SP'!$F630,'00 Alimenta'!H:H)","v":-416963.94},{"$f":"SUMIF('00 Alimenta'!$B:$B,'00 PDC SP'!$F630,'00 Alimenta'!I:I)","v":-321864.53999999998},-416963.94]
["PDA380DB","PD","PDA380",19,"DB","0205110410","Debiti al 31/12/2005",{"$f":"SUMIF('00 Alimenta'!$B:$B,'00 PDC SP'!$F631,'00 Alimenta'!D:D)","v":0},{"$f":"SUMIF('00 Alimenta'!$B:$B,'00 PDC SP'!$F631,'00 Alimenta'!E:E)","v":0},{"$f":"SUMIF('00 Alimenta'!$B:$B,'00 PDC SP'!$F631,'00 Alimenta'!F:F)","v":0},{"$f":"SUMIF('00 Alimenta'!$B:$B,'00 PDC SP'!$F631,'00 Alimenta'!G:G)","v":0},{"$f":"SUMIF('00 Alimenta'!$B:$B,'00 PDC SP'!$F631,'00 Alimenta'!H:H)","v":0},{"$f":"SUMIF('00 Alimenta'!$B:$B,'00 PDC SP'!$F631,'00 Alimenta'!I:I)","v":0},0]
["PDA380DB","PD","PDA380",19,"DB","0205110411","Debiti anno 2006",{"$f":"SUMIF('00 Alimenta'!$B:$B,'00 PDC SP'!$F632,'00 Alimenta'!D:D)","v":0},{"$f":"SUMIF('00 Alimenta'!$B:$B,'00 PDC SP'!$F632,'00 Alimenta'!E:E)","v":0},{"$f":"SUMIF('00 Alimenta'!$B:$B,'00 PDC SP'!$F632,'00 Alimenta'!F:F)","v":0},{"$f":"SUMIF('00 Alimenta'!$B:$B,'00 PDC SP'!$F632,'00 Alimenta'!G:G)","v":0},{"$f":"SUMIF('00 Alimenta'!$B:$B,'00 PDC SP'!$F632,'00 Alimenta'!H:H)","v":0},{"$f":"SUMIF('00 Alimenta'!$B:$B,'00 PDC SP'!$F632,'00 Alimenta'!I:I)","v":0},0]
["ABA370FE","AB","ABA370",25,"FE","0205110501","Note credito da emettere v/Regione per spesa corrente - IRAP",{"$f":"SUMIF('00 Alimenta'!$B:$B,'00 PDC SP'!$F633,'00 Alimenta'!D:D)","v":0},{"$f":"SUMIF('00 Alimenta'!$B:$B,'00 PDC SP'!$F633,'00 Alimenta'!E:E)","v":0},{"$f":"SUMIF('00 Alimenta'!$B:$B,'00 PDC SP'!$F633,'00 Alimenta'!F:F)","v":0},{"$f":"SUMIF('00 Alimenta'!$B:$B,'00 PDC SP'!$F633,'00 Alimenta'!G:G)","v":0},{"$f":"SUMIF('00 Alimenta'!$B:$B,'00 PDC SP'!$F633,'00 Alimenta'!H:H)","v":0},{"$f":"SUMIF('00 Alimenta'!$B:$B,'00 PDC SP'!$F633,'00 Alimenta'!I:I)","v":0},0]
["ABA380FE","AB","ABA380",25,"FE","0205110502","Note credito da emettere v/Regione per spesa corrente - addizionale IRPEF",{"$f":"SUMIF('00 Alimenta'!$B:$B,'00 PDC SP'!$F634,'00 Alimenta'!D:D)","v":0},{"$f":"SUMIF('00 Alimenta'!$B:$B,'00 PDC SP'!$F634,'00 Alimenta'!E:E)","v":0},{"$f":"SUMIF('00 Alimenta'!$B:$B,'00 PDC SP'!$F634,'00 Alimenta'!F:F)","v":0},{"$f":"SUMIF('00 Alimenta'!$B:$B,'00 PDC SP'!$F634,'00 Alimenta'!G:G)","v":0},{"$f":"SUMIF('00 Alimenta'!$B:$B,'00 PDC SP'!$F634,'00 Alimenta'!H:H)","v":0},{"$f":"SUMIF('00 Alimenta'!$B:$B,'00 PDC SP'!$F634,'00 Alimenta'!I:I)","v":0},0]
["ABA390FE","AB","ABA390",25,"FE","0205110503","Note credito da emettere v/Regione per quota FSR",{"$f":"SUMIF('00 Alimenta'!$B:$B,'00 PDC SP'!$F635,'00 Alimenta'!D:D)","v":0},{"$f":"SUMIF('00 Alimenta'!$B:$B,'00 PDC SP'!$F635,'00 Alimenta'!E:E)","v":0},{"$f":"SUMIF('00 Alimenta'!$B:$B,'00 PDC SP'!$F635,'00 Alimenta'!F:F)","v":0},{"$f":"SUMIF('00 Alimenta'!$B:$B,'00 PDC SP'!$F635,'00 Alimenta'!G:G)","v":0},{"$f":"SUMIF('00 Alimenta'!$B:$B,'00 PDC SP'!$F635,'00 Alimenta'!H:H)","v":0},{"$f":"SUMIF('00 Alimenta'!$B:$B,'00 PDC SP'!$F635,'00 Alimenta'!I:I)","v":0},0]
["ABA400FE","AB","ABA400",25,"FE","0205110504","Note credito da emettere v/Regione per mobilità attiva intraregionale",{"$f":"SUMIF('00 Alimenta'!$B:$B,'00 PDC SP'!$F636,'00 Alimenta'!D:D)","v":0},{"$f":"SUMIF('00 Alimenta'!$B:$B,'00 PDC SP'!$F636,'00 Alimenta'!E:E)","v":0},{"$f":"SUMIF('00 Alimenta'!$B:$B,'00 PDC SP'!$F636,'00 Alimenta'!F:F)","v":0},{"$f":"SUMIF('00 Alimenta'!$B:$B,'00 PDC SP'!$F636,'00 Alimenta'!G:G)","v":0},{"$f":"SUMIF('00 Alimenta'!$B:$B,'00 PDC SP'!$F636,'00 Alimenta'!H:H)","v":0},{"$f":"SUMIF('00 Alimenta'!$B:$B,'00 PDC SP'!$F636,'00 Alimenta'!I:I)","v":0},0]
["ABA400FE","AB","ABA400",25,"FE","0205110505","Note credito da emettere v/Regione per mobilità attiva da privato",{"$f":"SUMIF('00 Alimenta'!$B:$B,'00 PDC SP'!$F637,'00 Alimenta'!D:D)","v":0},{"$f":"SUMIF('00 Alimenta'!$B:$B,'00 PDC SP'!$F637,'00 Alimenta'!E:E)","v":0},{"$f":"SUMIF('00 Alimenta'!$B:$B,'00 PDC SP'!$F637,'00 Alimenta'!F:F)","v":0},{"$f":"SUMIF('00 Alimenta'!$B:$B,'00 PDC SP'!$F637,'00 Alimenta'!G:G)","v":0},{"$f":"SUMIF('00 Alimenta'!$B:$B,'00 PDC SP'!$F637,'00 Alimenta'!H:H)","v":0},{"$f":"SUMIF('00 Alimenta'!$B:$B,'00 PDC SP'!$F637,'00 Alimenta'!I:I)","v":0},0]
["ABA410FE","AB","ABA410",25,"FE","0205110506","Note credito  da emettere v/Regione per mobilità attiva extraregionale",{"$f":"SUMIF('00 Alimenta'!$B:$B,'00 PDC SP'!$F638,'00 Alimenta'!D:D)","v":0},{"$f":"SUMIF('00 Alimenta'!$B:$B,'00 PDC SP'!$F638,'00 Alimenta'!E:E)","v":0},{"$f":"SUMIF('00 Alimenta'!$B:$B,'00 PDC SP'!$F638,'00 Alimenta'!F:F)","v":0},{"$f":"SUMIF('00 Alimenta'!$B:$B,'00 PDC SP'!$F638,'00 Alimenta'!G:G)","v":0},{"$f":"SUMIF('00 Alimenta'!$B:$B,'00 PDC SP'!$F638,'00 Alimenta'!H:H)","v":0},{"$f":"SUMIF('00 Alimenta'!$B:$B,'00 PDC SP'!$F638,'00 Alimenta'!I:I)","v":0},0]
["ABA420FE","AB","ABA420",25,"FE","0205110507","Note credito da emettere v/Regione per creditiv/Regione o Provincia Autonoma per acconto FSR",{"$f":"SUMIF('00 Alimenta'!$B:$B,'00 PDC SP'!$F639,'00 Alimenta'!D:D)","v":0},{"$f":"SUMIF('00 Alimenta'!$B:$B,'00 PDC SP'!$F639,'00 Alimenta'!E:E)","v":0},{"$f":"SUMIF('00 Alimenta'!$B:$B,'00 PDC SP'!$F639,'00 Alimenta'!F:F)","v":0},{"$f":"SUMIF('00 Alimenta'!$B:$B,'00 PDC SP'!$F639,'00 Alimenta'!G:G)","v":0},{"$f":"SUMIF('00 Alimenta'!$B:$B,'00 PDC SP'!$F639,'00 Alimenta'!H:H)","v":0},{"$f":"SUMIF('00 Alimenta'!$B:$B,'00 PDC SP'!$F639,'00 Alimenta'!I:I)","v":0},0]
["ABA430FE","AB","ABA430",25,"FE","0205110508","Note credito da emettere v/Regione per crediti v/Regione o Provincia Autonoma per finanziamento sanitario aggiuntivo corrente LEA",{"$f":"SUMIF('00 Alimenta'!$B:$B,'00 PDC SP'!$F640,'00 Alimenta'!D:D)","v":0},{"$f":"SUMIF('00 Alimenta'!$B:$B,'00 PDC SP'!$F640,'00 Alimenta'!E:E)","v":0},{"$f":"SUMIF('00 Alimenta'!$B:$B,'00 PDC SP'!$F640,'00 Alimenta'!F:F)","v":0},{"$f":"SUMIF('00 Alimenta'!$B:$B,'00 PDC SP'!$F640,'00 Alimenta'!G:G)","v":0},{"$f":"SUMIF('00 Alimenta'!$B:$B,'00 PDC SP'!$F640,'00 Alimenta'!H:H)","v":0},{"$f":"SUMIF('00 Alimenta'!$B:$B,'00 PDC SP'!$F640,'00 Alimenta'!I:I)","v":0},0]
["ABA440FE","AB","ABA440",25,"FE","0205110509","Note credito da emettere v/Regione per crediti v/Regione o Provincia Autonoma per finanziamento sanitario aggiuntivo corrente extra LEA",{"$f":"SUMIF('00 Alimenta'!$B:$B,'00 PDC SP'!$F641,'00 Alimenta'!D:D)","v":0},{"$f":"SUMIF('00 Alimenta'!$B:$B,'00 PDC SP'!$F641,'00 Alimenta'!E:E)","v":0},{"$f":"SUMIF('00 Alimenta'!$B:$B,'00 PDC SP'!$F641,'00 Alimenta'!F:F)","v":0},{"$f":"SUMIF('00 Alimenta'!$B:$B,'00 PDC SP'!$F641,'00 Alimenta'!G:G)","v":0},{"$f":"SUMIF('00 Alimenta'!$B:$B,'00 PDC SP'!$F641,'00 Alimenta'!H:H)","v":0},{"$f":"SUMIF('00 Alimenta'!$B:$B,'00 PDC SP'!$F641,'00 Alimenta'!I:I)","v":0},0]
["ABA450FE","AB","ABA450",25,"FE","0205110510","Note credito da emettere v/Regione per creditiv/Regione o Provincia Autonoma per spesa corrente - altro",{"$f":"SUMIF('00 Alimenta'!$B:$B,'00 PDC SP'!$F642,'00 Alimenta'!D:D)","v":0},{"$f":"SUMIF('00 Alimenta'!$B:$B,'00 PDC SP'!$F642,'00 Alimenta'!E:E)","v":0},{"$f":"SUMIF('00 Alimenta'!$B:$B,'00 PDC SP'!$F642,'00 Alimenta'!F:F)","v":0},{"$f":"SUMIF('00 Alimenta'!$B:$B,'00 PDC SP'!$F642,'00 Alimenta'!G:G)","v":0},{"$f":"SUMIF('00 Alimenta'!$B:$B,'00 PDC SP'!$F642,'00 Alimenta'!H:H)","v":0},{"$f":"SUMIF('00 Alimenta'!$B:$B,'00 PDC SP'!$F642,'00 Alimenta'!I:I)","v":0},0]
["ABA530FE","AB","ABA530",26,"FE","0205110511","Note credito da emettere v/Comuni",{"$f":"SUMIF('00 Alimenta'!$B:$B,'00 PDC SP'!$F643,'00 Alimenta'!D:D)","v":0},{"$f":"SUMIF('00 Alimenta'!$B:$B,'00 PDC SP'!$F643,'00 Alimenta'!E:E)","v":-1801.13},{"$f":"SUMIF('00 Alimenta'!$B:$B,'00 PDC SP'!$F643,'00 Alimenta'!F:F)","v":0},{"$f":"SUMIF('00 Alimenta'!$B:$B,'00 PDC SP'!$F643,'00 Alimenta'!G:G)","v":-1801.13},{"$f":"SUMIF('00 Alimenta'!$B:$B,'00 PDC SP'!$F643,'00 Alimenta'!H:H)","v":0},{"$f":"SUMIF('00 Alimenta'!$B:$B,'00 PDC SP'!$F643,'00 Alimenta'!I:I)","v":-1801.13},0]
["ABA560FE","AB","ABA560",27,"FE","0205110512","Note credito da emettere v/ASL Avezzano Sulmona L'Aquila per mobilità in compensazione",{"$f":"SUMIF('00 Alimenta'!$B:$B,'00 PDC SP'!$F644,'00 Alimenta'!D:D)","v":0},{"$f":"SUMIF('00 Alimenta'!$B:$B,'00 PDC SP'!$F644,'00 Alimenta'!E:E)","v":0},{"$f":"SUMIF('00 Alimenta'!$B:$B,'00 PDC SP'!$F644,'00 Alimenta'!F:F)","v":0},{"$f":"SUMIF('00 Alimenta'!$B:$B,'00 PDC SP'!$F644,'00 Alimenta'!G:G)","v":0},{"$f":"SUMIF('00 Alimenta'!$B:$B,'00 PDC SP'!$F644,'00 Alimenta'!H:H)","v":0},{"$f":"SUMIF('00 Alimenta'!$B:$B,'00 PDC SP'!$F644,'00 Alimenta'!I:I)","v":0},0]
["ABA560FE","AB","ABA560",27,"FE","0205110513","Note credito da emettere v/ASLLanciano Vasto Chieti per mobilità in compensazione",{"$f":"SUMIF('00 Alimenta'!$B:$B,'00 PDC SP'!$F645,'00 Alimenta'!D:D)","v":0},{"$f":"SUMIF('00 Alimenta'!$B:$B,'00 PDC SP'!$F645,'00 Alimenta'!E:E)","v":0},{"$f":"SUMIF('00 Alimenta'!$B:$B,'00 PDC SP'!$F645,'00 Alimenta'!F:F)","v":0},{"$f":"SUMIF('00 Alimenta'!$B:$B,'00 PDC SP'!$F645,'00 Alimenta'!G:G)","v":0},{"$f":"SUMIF('00 Alimenta'!$B:$B,'00 PDC SP'!$F645,'00 Alimenta'!H:H)","v":0},{"$f":"SUMIF('00 Alimenta'!$B:$B,'00 PDC SP'!$F645,'00 Alimenta'!I:I)","v":0},0]
["ABA560FE","AB","ABA560",27,"FE","0205110514","Note credito da emettere v/ASL Pescara per mobilità in compensazione",{"$f":"SUMIF('00 Alimenta'!$B:$B,'00 PDC SP'!$F646,'00 Alimenta'!D:D)","v":0},{"$f":"SUMIF('00 Alimenta'!$B:$B,'00 PDC SP'!$F646,'00 Alimenta'!E:E)","v":0},{"$f":"SUMIF('00 Alimenta'!$B:$B,'00 PDC SP'!$F646,'00 Alimenta'!F:F)","v":0},{"$f":"SUMIF('00 Alimenta'!$B:$B,'00 PDC SP'!$F646,'00 Alimenta'!G:G)","v":0},{"$f":"SUMIF('00 Alimenta'!$B:$B,'00 PDC SP'!$F646,'00 Alimenta'!H:H)","v":0},{"$f":"SUMIF('00 Alimenta'!$B:$B,'00 PDC SP'!$F646,'00 Alimenta'!I:I)","v":0},0]
["ABA560FE","AB","ABA560",27,"FE","0205110515","Note credito da emettere v/ASL Teramo per mobilità in compensazione",{"$f":"SUMIF('00 Alimenta'!$B:$B,'00 PDC SP'!$F647,'00 Alimenta'!D:D)","v":0},{"$f":"SUMIF('00 Alimenta'!$B:$B,'00 PDC SP'!$F647,'00 Alimenta'!E:E)","v":0},{"$f":"SUMIF('00 Alimenta'!$B:$B,'00 PDC SP'!$F647,'00 Alimenta'!F:F)","v":0},{"$f":"SUMIF('00 Alimenta'!$B:$B,'00 PDC SP'!$F647,'00 Alimenta'!G:G)","v":0},{"$f":"SUMIF('00 Alimenta'!$B:$B,'00 PDC SP'!$F647,'00 Alimenta'!H:H)","v":0},{"$f":"SUMIF('00 Alimenta'!$B:$B,'00 PDC SP'!$F647,'00 Alimenta'!I:I)","v":0},0]
["ABA570FE","AB","ABA570",27,"FE","0205110516","Note credito da emettere v/ASL AvezzanoSulmona L'Aquila per mobilità non in compensazione",{"$f":"SUMIF('00 Alimenta'!$B:$B,'00 PDC SP'!$F648,'00 Alimenta'!D:D)","v":0},{"$f":"SUMIF('00 Alimenta'!$B:$B,'00 PDC SP'!$F648,'00 Alimenta'!E:E)","v":0},{"$f":"SUMIF('00 Alimenta'!$B:$B,'00 PDC SP'!$F648,'00 Alimenta'!F:F)","v":0},{"$f":"SUMIF('00 Alimenta'!$B:$B,'00 PDC SP'!$F648,'00 Alimenta'!G:G)","v":0},{"$f":"SUMIF('00 Alimenta'!$B:$B,'00 PDC SP'!$F648,'00 Alimenta'!H:H)","v":0},{"$f":"SUMIF('00 Alimenta'!$B:$B,'00 PDC SP'!$F648,'00 Alimenta'!I:I)","v":0},0]
["ABA570FE","AB","ABA570",27,"FE","0205110517","Note credito da emettere v/ASL Lanciano Vasto Chieti per mobilità non in compensazione",{"$f":"SUMIF('00 Alimenta'!$B:$B,'00 PDC SP'!$F649,'00 Alimenta'!D:D)","v":0},{"$f":"SUMIF('00 Alimenta'!$B:$B,'00 PDC SP'!$F649,'00 Alimenta'!E:E)","v":0},{"$f":"SUMIF('00 Alimenta'!$B:$B,'00 PDC SP'!$F649,'00 Alimenta'!F:F)","v":0},{"$f":"SUMIF('00 Alimenta'!$B:$B,'00 PDC SP'!$F649,'00 Alimenta'!G:G)","v":0},{"$f":"SUMIF('00 Alimenta'!$B:$B,'00 PDC SP'!$F649,'00 Alimenta'!H:H)","v":0},{"$f":"SUMIF('00 Alimenta'!$B:$B,'00 PDC SP'!$F649,'00 Alimenta'!I:I)","v":0},0]
["ABA570FE","AB","ABA570",27,"FE","0205110518","Note credito da emettere v/ASL Pescara per mobilità non in compensazione",{"$f":"SUMIF('00 Alimenta'!$B:$B,'00 PDC SP'!$F650,'00 Alimenta'!D:D)","v":0},{"$f":"SUMIF('00 Alimenta'!$B:$B,'00 PDC SP'!$F650,'00 Alimenta'!E:E)","v":0},{"$f":"SUMIF('00 Alimenta'!$B:$B,'00 PDC SP'!$F650,'00 Alimenta'!F:F)","v":0},{"$f":"SUMIF('00 Alimenta'!$B:$B,'00 PDC SP'!$F650,'00 Alimenta'!G:G)","v":0},{"$f":"SUMIF('00 Alimenta'!$B:$B,'00 PDC SP'!$F650,'00 Alimenta'!H:H)","v":0},{"$f":"SUMIF('00 Alimenta'!$B:$B,'00 PDC SP'!$F650,'00 Alimenta'!I:I)","v":0},0]
[{"$f":"IF(E651=\"\",C651,C651&E651)","v":"ABA570FE"},{"$f":"LEFT(C651,2)","v":"AB"},"ABA570",27,"FE","0205110519","Note credito da emettere v/ASL Teramo per mobilità non in compensazione",{"$f":"SUMIF('00 Alimenta'!$B:$B,'00 PDC SP'!$F651,'00 Alimenta'!D:D)","v":0},{"$f":"SUMIF('00 Alimenta'!$B:$B,'00 PDC SP'!$F651,'00 Alimenta'!E:E)","v":0},{"$f":"SUMIF('00 Alimenta'!$B:$B,'00 PDC SP'!$F651,'00 Alimenta'!F:F)","v":0},{"$f":"SUMIF('00 Alimenta'!$B:$B,'00 PDC SP'!$F651,'00 Alimenta'!G:G)","v":0},{"$f":"SUMIF('00 Alimenta'!$B:$B,'00 PDC SP'!$F651,'00 Alimenta'!H:H)","v":0},{"$f":"SUMIF('00 Alimenta'!$B:$B,'00 PDC SP'!$F651,'00 Alimenta'!I:I)","v":0},{"$f":"K651+L651-M651","v":0}]
["ABA580FE","AB","ABA580",27,"FE","0205110520","Note credito da emettere v/ASL Avezzano Sulmona L'Aquila della Regione per altre prestazioni",{"$f":"SUMIF('00 Alimenta'!$B:$B,'00 PDC SP'!$F652,'00 Alimenta'!D:D)","v":0},{"$f":"SUMIF('00 Alimenta'!$B:$B,'00 PDC SP'!$F652,'00 Alimenta'!E:E)","v":0},{"$f":"SUMIF('00 Alimenta'!$B:$B,'00 PDC SP'!$F652,'00 Alimenta'!F:F)","v":0},{"$f":"SUMIF('00 Alimenta'!$B:$B,'00 PDC SP'!$F652,'00 Alimenta'!G:G)","v":0},{"$f":"SUMIF('00 Alimenta'!$B:$B,'00 PDC SP'!$F652,'00 Alimenta'!H:H)","v":0},{"$f":"SUMIF('00 Alimenta'!$B:$B,'00 PDC SP'!$F652,'00 Alimenta'!I:I)","v":0},0]
["ABA580FE","AB","ABA580",27,"FE","0205110521","Note credito da emettere v/ASL Lanciano Vasto Chieti della Regione per altre prestazioni",{"$f":"SUMIF('00 Alimenta'!$B:$B,'00 PDC SP'!$F653,'00 Alimenta'!D:D)","v":0},{"$f":"SUMIF('00 Alimenta'!$B:$B,'00 PDC SP'!$F653,'00 Alimenta'!E:E)","v":0},{"$f":"SUMIF('00 Alimenta'!$B:$B,'00 PDC SP'!$F653,'00 Alimenta'!F:F)","v":0},{"$f":"SUMIF('00 Alimenta'!$B:$B,'00 PDC SP'!$F653,'00 Alimenta'!G:G)","v":0},{"$f":"SUMIF('00 Alimenta'!$B:$B,'00 PDC SP'!$F653,'00 Alimenta'!H:H)","v":0},{"$f":"SUMIF('00 Alimenta'!$B:$B,'00 PDC SP'!$F653,'00 Alimenta'!I:I)","v":0},0]
["ABA580FE","AB","ABA580",27,"FE","0205110522","Note credito da emettere v/ASL Pescara della Regione per altre prestazioni",{"$f":"SUMIF('00 Alimenta'!$B:$B,'00 PDC SP'!$F654,'00 Alimenta'!D:D)","v":0},{"$f":"SUMIF('00 Alimenta'!$B:$B,'00 PDC SP'!$F654,'00 Alimenta'!E:E)","v":0},{"$f":"SUMIF('00 Alimenta'!$B:$B,'00 PDC SP'!$F654,'00 Alimenta'!F:F)","v":0},{"$f":"SUMIF('00 Alimenta'!$B:$B,'00 PDC SP'!$F654,'00 Alimenta'!G:G)","v":0},{"$f":"SUMIF('00 Alimenta'!$B:$B,'00 PDC SP'!$F654,'00 Alimenta'!H:H)","v":0},{"$f":"SUMIF('00 Alimenta'!$B:$B,'00 PDC SP'!$F654,'00 Alimenta'!I:I)","v":0},0]
["ABA580FE","AB","ABA580",27,"FE","0205110523","Note credito da emettere v/ASL Teramo della Regione per altre prestazioni",{"$f":"SUMIF('00 Alimenta'!$B:$B,'00 PDC SP'!$F655,'00 Alimenta'!D:D)","v":0},{"$f":"SUMIF('00 Alimenta'!$B:$B,'00 PDC SP'!$F655,'00 Alimenta'!E:E)","v":0},{"$f":"SUMIF('00 Alimenta'!$B:$B,'00 PDC SP'!$F655,'00 Alimenta'!F:F)","v":0},{"$f":"SUMIF('00 Alimenta'!$B:$B,'00 PDC SP'!$F655,'00 Alimenta'!G:G)","v":0},{"$f":"SUMIF('00 Alimenta'!$B:$B,'00 PDC SP'!$F655,'00 Alimenta'!H:H)","v":0},{"$f":"SUMIF('00 Alimenta'!$B:$B,'00 PDC SP'!$F655,'00 Alimenta'!I:I)","v":0},0]
["ABA590FE","AB","ABA590",27,"FE","0205110524","Note credito da emettere v/ASL Avezzano Sulmona L'Aquila per acconto quota FSR da distribuire",{"$f":"SUMIF('00 Alimenta'!$B:$B,'00 PDC SP'!$F656,'00 Alimenta'!D:D)","v":0},{"$f":"SUMIF('00 Alimenta'!$B:$B,'00 PDC SP'!$F656,'00 Alimenta'!E:E)","v":0},{"$f":"SUMIF('00 Alimenta'!$B:$B,'00 PDC SP'!$F656,'00 Alimenta'!F:F)","v":0},{"$f":"SUMIF('00 Alimenta'!$B:$B,'00 PDC SP'!$F656,'00 Alimenta'!G:G)","v":0},{"$f":"SUMIF('00 Alimenta'!$B:$B,'00 PDC SP'!$F656,'00 Alimenta'!H:H)","v":0},{"$f":"SUMIF('00 Alimenta'!$B:$B,'00 PDC SP'!$F656,'00 Alimenta'!I:I)","v":0},0]
["ABA590FE","AB","ABA590",27,"FE","0205110525","Note credito da emettere v/ASL Lanciano Vasto Chieti per acconto quota FSR da distribuire",{"$f":"SUMIF('00 Alimenta'!$B:$B,'00 PDC SP'!$F657,'00 Alimenta'!D:D)","v":0},{"$f":"SUMIF('00 Alimenta'!$B:$B,'00 PDC SP'!$F657,'00 Alimenta'!E:E)","v":0},{"$f":"SUMIF('00 Alimenta'!$B:$B,'00 PDC SP'!$F657,'00 Alimenta'!F:F)","v":0},{"$f":"SUMIF('00 Alimenta'!$B:$B,'00 PDC SP'!$F657,'00 Alimenta'!G:G)","v":0},{"$f":"SUMIF('00 Alimenta'!$B:$B,'00 PDC SP'!$F657,'00 Alimenta'!H:H)","v":0},{"$f":"SUMIF('00 Alimenta'!$B:$B,'00 PDC SP'!$F657,'00 Alimenta'!I:I)","v":0},0]
["ABA590FE","AB","ABA590",27,"FE","0205110526","Note credito da emettere v/ASL Pescara per acconto quota FSR da distribuire",{"$f":"SUMIF('00 Alimenta'!$B:$B,'00 PDC SP'!$F658,'00 Alimenta'!D:D)","v":0},{"$f":"SUMIF('00 Alimenta'!$B:$B,'00 PDC SP'!$F658,'00 Alimenta'!E:E)","v":0},{"$f":"SUMIF('00 Alimenta'!$B:$B,'00 PDC SP'!$F658,'00 Alimenta'!F:F)","v":0},{"$f":"SUMIF('00 Alimenta'!$B:$B,'00 PDC SP'!$F658,'00 Alimenta'!G:G)","v":0},{"$f":"SUMIF('00 Alimenta'!$B:$B,'00 PDC SP'!$F658,'00 Alimenta'!H:H)","v":0},{"$f":"SUMIF('00 Alimenta'!$B:$B,'00 PDC SP'!$F658,'00 Alimenta'!I:I)","v":0},0]
["ABA590FE","AB","ABA590",27,"FE","0205110527","Note credito da emettere v/ASL Teramo per acconto quota FSR da distribuire",{"$f":"SUMIF('00 Alimenta'!$B:$B,'00 PDC SP'!$F659,'00 Alimenta'!D:D)","v":0},{"$f":"SUMIF('00 Alimenta'!$B:$B,'00 PDC SP'!$F659,'00 Alimenta'!E:E)","v":0},{"$f":"SUMIF('00 Alimenta'!$B:$B,'00 PDC SP'!$F659,'00 Alimenta'!F:F)","v":0},{"$f":"SUMIF('00 Alimenta'!$B:$B,'00 PDC SP'!$F659,'00 Alimenta'!G:G)","v":0},{"$f":"SUMIF('00 Alimenta'!$B:$B,'00 PDC SP'!$F659,'00 Alimenta'!H:H)","v":0},{"$f":"SUMIF('00 Alimenta'!$B:$B,'00 PDC SP'!$F659,'00 Alimenta'!I:I)","v":0},0]
["ABA600FE","AB","ABA600",27,"FE","0205110528","Note credito da emettere verso ASL fuori regione per mobilità attiva non soggetta a compensazione",{"$f":"SUMIF('00 Alimenta'!$B:$B,'00 PDC SP'!$F660,'00 Alimenta'!D:D)","v":0},{"$f":"SUMIF('00 Alimenta'!$B:$B,'00 PDC SP'!$F660,'00 Alimenta'!E:E)","v":0},{"$f":"SUMIF('00 Alimenta'!$B:$B,'00 PDC SP'!$F660,'00 Alimenta'!F:F)","v":0},{"$f":"SUMIF('00 Alimenta'!$B:$B,'00 PDC SP'!$F660,'00 Alimenta'!G:G)","v":0},{"$f":"SUMIF('00 Alimenta'!$B:$B,'00 PDC SP'!$F660,'00 Alimenta'!H:H)","v":-5252.78},{"$f":"SUMIF('00 Alimenta'!$B:$B,'00 PDC SP'!$F660,'00 Alimenta'!I:I)","v":0},-5252.78]
["ABA620FE","AB","ABA620",28,"FE","0205110529","Note credito da emettere v/ARTA",{"$f":"SUMIF('00 Alimenta'!$B:$B,'00 PDC SP'!$F661,'00 Alimenta'!D:D)","v":0},{"$f":"SUMIF('00 Alimenta'!$B:$B,'00 PDC SP'!$F661,'00 Alimenta'!E:E)","v":0},{"$f":"SUMIF('00 Alimenta'!$B:$B,'00 PDC SP'!$F661,'00 Alimenta'!F:F)","v":0},{"$f":"SUMIF('00 Alimenta'!$B:$B,'00 PDC SP'!$F661,'00 Alimenta'!G:G)","v":0},{"$f":"SUMIF('00 Alimenta'!$B:$B,'00 PDC SP'!$F661,'00 Alimenta'!H:H)","v":0},{"$f":"SUMIF('00 Alimenta'!$B:$B,'00 PDC SP'!$F661,'00 Alimenta'!I:I)","v":0},0]
["ABA620FE","AB","ABA620",28,"FE","0205110530","Note credito da emetterev/Società controllate e collegate",{"$f":"SUMIF('00 Alimenta'!$B:$B,'00 PDC SP'!$F662,'00 Alimenta'!D:D)","v":0},{"$f":"SUMIF('00 Alimenta'!$B:$B,'00 PDC SP'!$F662,'00 Alimenta'!E:E)","v":0},{"$f":"SUMIF('00 Alimenta'!$B:$B,'00 PDC SP'!$F662,'00 Alimenta'!F:F)","v":0},{"$f":"SUMIF('00 Alimenta'!$B:$B,'00 PDC SP'!$F662,'00 Alimenta'!G:G)","v":0},{"$f":"SUMIF('00 Alimenta'!$B:$B,'00 PDC SP'!$F662,'00 Alimenta'!H:H)","v":0},{"$f":"SUMIF('00 Alimenta'!$B:$B,'00 PDC SP'!$F662,'00 Alimenta'!I:I)","v":0},0]
["ABA620FE","AB","ABA620",28,"FE","0205110531","Note credito da emettere v/enti regionali",{"$f":"SUMIF('00 Alimenta'!$B:$B,'00 PDC SP'!$F663,'00 Alimenta'!D:D)","v":0},{"$f":"SUMIF('00 Alimenta'!$B:$B,'00 PDC SP'!$F663,'00 Alimenta'!E:E)","v":0},{"$f":"SUMIF('00 Alimenta'!$B:$B,'00 PDC SP'!$F663,'00 Alimenta'!F:F)","v":0},{"$f":"SUMIF('00 Alimenta'!$B:$B,'00 PDC SP'!$F663,'00 Alimenta'!G:G)","v":0},{"$f":"SUMIF('00 Alimenta'!$B:$B,'00 PDC SP'!$F663,'00 Alimenta'!H:H)","v":0},{"$f":"SUMIF('00 Alimenta'!$B:$B,'00 PDC SP'!$F663,'00 Alimenta'!I:I)","v":0},0]
["ABA630FE","AB","ABA630",28,"FE","0205110532","Note credito da emettere v/sperimentazioni gestionali",{"$f":"SUMIF('00 Alimenta'!$B:$B,'00 PDC SP'!$F664,'00 Alimenta'!D:D)","v":0},{"$f":"SUMIF('00 Alimenta'!$B:$B,'00 PDC SP'!$F664,'00 Alimenta'!E:E)","v":0},{"$f":"SUMIF('00 Alimenta'!$B:$B,'00 PDC SP'!$F664,'00 Alimenta'!F:F)","v":0},{"$f":"SUMIF('00 Alimenta'!$B:$B,'00 PDC SP'!$F664,'00 Alimenta'!G:G)","v":0},{"$f":"SUMIF('00 Alimenta'!$B:$B,'00 PDC SP'!$F664,'00 Alimenta'!H:H)","v":0},{"$f":"SUMIF('00 Alimenta'!$B:$B,'00 PDC SP'!$F664,'00 Alimenta'!I:I)","v":0},0]
["ABA640FE","AB","ABA640",28,"FE","0205110533","Note credito da emettere v/altre partecipate",{"$f":"SUMIF('00 Alimenta'!$B:$B,'00 PDC SP'!$F665,'00 Alimenta'!D:D)","v":0},{"$f":"SUMIF('00 Alimenta'!$B:$B,'00 PDC SP'!$F665,'00 Alimenta'!E:E)","v":0},{"$f":"SUMIF('00 Alimenta'!$B:$B,'00 PDC SP'!$F665,'00 Alimenta'!F:F)","v":0},{"$f":"SUMIF('00 Alimenta'!$B:$B,'00 PDC SP'!$F665,'00 Alimenta'!G:G)","v":0},{"$f":"SUMIF('00 Alimenta'!$B:$B,'00 PDC SP'!$F665,'00 Alimenta'!H:H)","v":0},{"$f":"SUMIF('00 Alimenta'!$B:$B,'00 PDC SP'!$F665,'00 Alimenta'!I:I)","v":0},0]
["ABA670FE","AB","ABA670",30,"FE","0205110534","Note credito da emettere v/clienti privati",{"$f":"SUMIF('00 Alimenta'!$B:$B,'00 PDC SP'!$F666,'00 Alimenta'!D:D)","v":-1513.05},{"$f":"SUMIF('00 Alimenta'!$B:$B,'00 PDC SP'!$F666,'00 Alimenta'!E:E)","v":-1319.52},{"$f":"SUMIF('00 Alimenta'!$B:$B,'00 PDC SP'!$F666,'00 Alimenta'!F:F)","v":-1513.05},{"$f":"SUMIF('00 Alimenta'!$B:$B,'00 PDC SP'!$F666,'00 Alimenta'!G:G)","v":-1319.52},{"$f":"SUMIF('00 Alimenta'!$B:$B,'00 PDC SP'!$F666,'00 Alimenta'!H:H)","v":-32249.18},{"$f":"SUMIF('00 Alimenta'!$B:$B,'00 PDC SP'!$F666,'00 Alimenta'!I:I)","v":-1319.52},-32249.179999999997]
["ABA670FE","AB","ABA670",30,"FE","0205110535","Note credito da emettere v/utenza per proventi da ticket",{"$f":"SUMIF('00 Alimenta'!$B:$B,'00 PDC SP'!$F667,'00 Alimenta'!D:D)","v":0},{"$f":"SUMIF('00 Alimenta'!$B:$B,'00 PDC SP'!$F667,'00 Alimenta'!E:E)","v":0},{"$f":"SUMIF('00 Alimenta'!$B:$B,'00 PDC SP'!$F667,'00 Alimenta'!F:F)","v":0},{"$f":"SUMIF('00 Alimenta'!$B:$B,'00 PDC SP'!$F667,'00 Alimenta'!G:G)","v":0},{"$f":"SUMIF('00 Alimenta'!$B:$B,'00 PDC SP'!$F667,'00 Alimenta'!H:H)","v":0},{"$f":"SUMIF('00 Alimenta'!$B:$B,'00 PDC SP'!$F667,'00 Alimenta'!I:I)","v":0},0]
["ABA670FE","AB","ABA670",30,"FE","0205110536","Note credito da emettere v/clienti privati per anticipi mobilità attiva",{"$f":"SUMIF('00 Alimenta'!$B:$B,'00 PDC SP'!$F668,'00 Alimenta'!D:D)","v":0},{"$f":"SUMIF('00 Alimenta'!$B:$B,'00 PDC SP'!$F668,'00 Alimenta'!E:E)","v":0},{"$f":"SUMIF('00 Alimenta'!$B:$B,'00 PDC SP'!$F668,'00 Alimenta'!F:F)","v":0},{"$f":"SUMIF('00 Alimenta'!$B:$B,'00 PDC SP'!$F668,'00 Alimenta'!G:G)","v":0},{"$f":"SUMIF('00 Alimenta'!$B:$B,'00 PDC SP'!$F668,'00 Alimenta'!H:H)","v":0},{"$f":"SUMIF('00 Alimenta'!$B:$B,'00 PDC SP'!$F668,'00 Alimenta'!I:I)","v":0},0]
["ABA670FE","AB","ABA670",30,"FE","0205110537","Note credito da emettere v/clienti privati per anticipi mobilità attiva",{"$f":"SUMIF('00 Alimenta'!$B:$B,'00 PDC SP'!$F669,'00 Alimenta'!D:D)","v":0},{"$f":"SUMIF('00 Alimenta'!$B:$B,'00 PDC SP'!$F669,'00 Alimenta'!E:E)","v":0},{"$f":"SUMIF('00 Alimenta'!$B:$B,'00 PDC SP'!$F669,'00 Alimenta'!F:F)","v":0},{"$f":"SUMIF('00 Alimenta'!$B:$B,'00 PDC SP'!$F669,'00 Alimenta'!G:G)","v":0},{"$f":"SUMIF('00 Alimenta'!$B:$B,'00 PDC SP'!$F669,'00 Alimenta'!H:H)","v":0},{"$f":"SUMIF('00 Alimenta'!$B:$B,'00 PDC SP'!$F669,'00 Alimenta'!I:I)","v":0},0]
["ABA680FE","AB","ABA680",30,"FE","0205110538","Note credito da emettere v/gestioni liquidatorie",{"$f":"SUMIF('00 Alimenta'!$B:$B,'00 PDC SP'!$F670,'00 Alimenta'!D:D)","v":0},{"$f":"SUMIF('00 Alimenta'!$B:$B,'00 PDC SP'!$F670,'00 Alimenta'!E:E)","v":0},{"$f":"SUMIF('00 Alimenta'!$B:$B,'00 PDC SP'!$F670,'00 Alimenta'!F:F)","v":0},{"$f":"SUMIF('00 Alimenta'!$B:$B,'00 PDC SP'!$F670,'00 Alimenta'!G:G)","v":0},{"$f":"SUMIF('00 Alimenta'!$B:$B,'00 PDC SP'!$F670,'00 Alimenta'!H:H)","v":0},{"$f":"SUMIF('00 Alimenta'!$B:$B,'00 PDC SP'!$F670,'00 Alimenta'!I:I)","v":0},0]
["ABA690FE","AB","ABA690",30,"FE","0205110539","Note credito da emettere v/altri soggetti pubblici",{"$f":"SUMIF('00 Alimenta'!$B:$B,'00 PDC SP'!$F671,'00 Alimenta'!D:D)","v":0},{"$f":"SUMIF('00 Alimenta'!$B:$B,'00 PDC SP'!$F671,'00 Alimenta'!E:E)","v":0},{"$f":"SUMIF('00 Alimenta'!$B:$B,'00 PDC SP'!$F671,'00 Alimenta'!F:F)","v":0},{"$f":"SUMIF('00 Alimenta'!$B:$B,'00 PDC SP'!$F671,'00 Alimenta'!G:G)","v":0},{"$f":"SUMIF('00 Alimenta'!$B:$B,'00 PDC SP'!$F671,'00 Alimenta'!H:H)","v":0},{"$f":"SUMIF('00 Alimenta'!$B:$B,'00 PDC SP'!$F671,'00 Alimenta'!I:I)","v":0},0]
["ABA710FE","AB","ABA710",30,"FE","0205110540","Note credito da emettere v/Altri Crediti diversi",{"$f":"SUMIF('00 Alimenta'!$B:$B,'00 PDC SP'!$F672,'00 Alimenta'!D:D)","v":0},{"$f":"SUMIF('00 Alimenta'!$B:$B,'00 PDC SP'!$F672,'00 Alimenta'!E:E)","v":0},{"$f":"SUMIF('00 Alimenta'!$B:$B,'00 PDC SP'!$F672,'00 Alimenta'!F:F)","v":0},{"$f":"SUMIF('00 Alimenta'!$B:$B,'00 PDC SP'!$F672,'00 Alimenta'!G:G)","v":0},{"$f":"SUMIF('00 Alimenta'!$B:$B,'00 PDC SP'!$F672,'00 Alimenta'!H:H)","v":0},{"$f":"SUMIF('00 Alimenta'!$B:$B,'00 PDC SP'!$F672,'00 Alimenta'!I:I)","v":0},0]
["ABA700FE","AB","ABA700",30,"FE","0205110541","Note credito da emettere v/altri soggetti pubblici per ricerca",{"$f":"SUMIF('00 Alimenta'!$B:$B,'00 PDC SP'!$F673,'00 Alimenta'!D:D)","v":0},{"$f":"SUMIF('00 Alimenta'!$B:$B,'00 PDC SP'!$F673,'00 Alimenta'!E:E)","v":0},{"$f":"SUMIF('00 Alimenta'!$B:$B,'00 PDC SP'!$F673,'00 Alimenta'!F:F)","v":0},{"$f":"SUMIF('00 Alimenta'!$B:$B,'00 PDC SP'!$F673,'00 Alimenta'!G:G)","v":0},{"$f":"SUMIF('00 Alimenta'!$B:$B,'00 PDC SP'!$F673,'00 Alimenta'!H:H)","v":0},{"$f":"SUMIF('00 Alimenta'!$B:$B,'00 PDC SP'!$F673,'00 Alimenta'!I:I)","v":0},0]
["PEA010","PE","PEA010",20,null,"0206010101","Ratei passivi",{"$f":"SUMIF('00 Alimenta'!$B:$B,'00 PDC SP'!$F674,'00 Alimenta'!D:D)","v":0},{"$f":"SUMIF('00 Alimenta'!$B:$B,'00 PDC SP'!$F674,'00 Alimenta'!E:E)","v":0},{"$f":"SUMIF('00 Alimenta'!$B:$B,'00 PDC SP'!$F674,'00 Alimenta'!F:F)","v":0},{"$f":"SUMIF('00 Alimenta'!$B:$B,'00 PDC SP'!$F674,'00 Alimenta'!G:G)","v":0},{"$f":"SUMIF('00 Alimenta'!$B:$B,'00 PDC SP'!$F674,'00 Alimenta'!H:H)","v":0},{"$f":"SUMIF('00 Alimenta'!$B:$B,'00 PDC SP'!$F674,'00 Alimenta'!I:I)","v":0},0]
["PEA020","PE","PEA020",20,null,"0206010201","Ratei passivi v/Aziende sanitarie pubbliche della Regione",{"$f":"SUMIF('00 Alimenta'!$B:$B,'00 PDC SP'!$F675,'00 Alimenta'!D:D)","v":0},{"$f":"SUMIF('00 Alimenta'!$B:$B,'00 PDC SP'!$F675,'00 Alimenta'!E:E)","v":0},{"$f":"SUMIF('00 Alimenta'!$B:$B,'00 PDC SP'!$F675,'00 Alimenta'!F:F)","v":0},{"$f":"SUMIF('00 Alimenta'!$B:$B,'00 PDC SP'!$F675,'00 Alimenta'!G:G)","v":0},{"$f":"SUMIF('00 Alimenta'!$B:$B,'00 PDC SP'!$F675,'00 Alimenta'!H:H)","v":0},{"$f":"SUMIF('00 Alimenta'!$B:$B,'00 PDC SP'!$F675,'00 Alimenta'!I:I)","v":0},0]
["PEA040","PE","PEA040",20,null,"0206020101","Risconti passivi",{"$f":"SUMIF('00 Alimenta'!$B:$B,'00 PDC SP'!$F676,'00 Alimenta'!D:D)","v":0},{"$f":"SUMIF('00 Alimenta'!$B:$B,'00 PDC SP'!$F676,'00 Alimenta'!E:E)","v":0},{"$f":"SUMIF('00 Alimenta'!$B:$B,'00 PDC SP'!$F676,'00 Alimenta'!F:F)","v":0},{"$f":"SUMIF('00 Alimenta'!$B:$B,'00 PDC SP'!$F676,'00 Alimenta'!G:G)","v":0},{"$f":"SUMIF('00 Alimenta'!$B:$B,'00 PDC SP'!$F676,'00 Alimenta'!H:H)","v":0},{"$f":"SUMIF('00 Alimenta'!$B:$B,'00 PDC SP'!$F676,'00 Alimenta'!I:I)","v":0},0]
["PEA040","PE","PEA040",20,null,"0206020102","Risconti passivi per contributi fondo sanitario vincolati e progetti obiettivi di piano",{"$f":"SUMIF('00 Alimenta'!$B:$B,'00 PDC SP'!$F677,'00 Alimenta'!D:D)","v":0},{"$f":"SUMIF('00 Alimenta'!$B:$B,'00 PDC SP'!$F677,'00 Alimenta'!E:E)","v":0},{"$f":"SUMIF('00 Alimenta'!$B:$B,'00 PDC SP'!$F677,'00 Alimenta'!F:F)","v":0},{"$f":"SUMIF('00 Alimenta'!$B:$B,'00 PDC SP'!$F677,'00 Alimenta'!G:G)","v":0},{"$f":"SUMIF('00 Alimenta'!$B:$B,'00 PDC SP'!$F677,'00 Alimenta'!H:H)","v":0},{"$f":"SUMIF('00 Alimenta'!$B:$B,'00 PDC SP'!$F677,'00 Alimenta'!I:I)","v":0},0]
["PEA050","PE","PEA050",20,null,"0206020201","Risconti passivi v/Aziende sanitarie pubbliche della Regione",{"$f":"SUMIF('00 Alimenta'!$B:$B,'00 PDC SP'!$F678,'00 Alimenta'!D:D)","v":0},{"$f":"SUMIF('00 Alimenta'!$B:$B,'00 PDC SP'!$F678,'00 Alimenta'!E:E)","v":0},{"$f":"SUMIF('00 Alimenta'!$B:$B,'00 PDC SP'!$F678,'00 Alimenta'!F:F)","v":0},{"$f":"SUMIF('00 Alimenta'!$B:$B,'00 PDC SP'!$F678,'00 Alimenta'!G:G)","v":0},{"$f":"SUMIF('00 Alimenta'!$B:$B,'00 PDC SP'!$F678,'00 Alimenta'!H:H)","v":0},{"$f":"SUMIF('00 Alimenta'!$B:$B,'00 PDC SP'!$F678,'00 Alimenta'!I:I)","v":0},0]
["PFA000","PF","PFA000",0,null,"0207010101","Canoni di leasing ancora da pagare",{"$f":"SUMIF('00 Alimenta'!$B:$B,'00 PDC SP'!$F679,'00 Alimenta'!D:D)","v":0},{"$f":"SUMIF('00 Alimenta'!$B:$B,'00 PDC SP'!$F679,'00 Alimenta'!E:E)","v":0},{"$f":"SUMIF('00 Alimenta'!$B:$B,'00 PDC SP'!$F679,'00 Alimenta'!F:F)","v":0},{"$f":"SUMIF('00 Alimenta'!$B:$B,'00 PDC SP'!$F679,'00 Alimenta'!G:G)","v":0},{"$f":"SUMIF('00 Alimenta'!$B:$B,'00 PDC SP'!$F679,'00 Alimenta'!H:H)","v":0},{"$f":"SUMIF('00 Alimenta'!$B:$B,'00 PDC SP'!$F679,'00 Alimenta'!I:I)","v":0},0]
["PFA010","PF","PFA010",0,null,"0207020101","Depositi cauzionali",{"$f":"SUMIF('00 Alimenta'!$B:$B,'00 PDC SP'!$F680,'00 Alimenta'!D:D)","v":0},{"$f":"SUMIF('00 Alimenta'!$B:$B,'00 PDC SP'!$F680,'00 Alimenta'!E:E)","v":0},{"$f":"SUMIF('00 Alimenta'!$B:$B,'00 PDC SP'!$F680,'00 Alimenta'!F:F)","v":0},{"$f":"SUMIF('00 Alimenta'!$B:$B,'00 PDC SP'!$F680,'00 Alimenta'!G:G)","v":0},{"$f":"SUMIF('00 Alimenta'!$B:$B,'00 PDC SP'!$F680,'00 Alimenta'!H:H)","v":0},{"$f":"SUMIF('00 Alimenta'!$B:$B,'00 PDC SP'!$F680,'00 Alimenta'!I:I)","v":0},0]
["PFA020","PF","PFA020",0,null,"0207030101","Beni in comodato",{"$f":"SUMIF('00 Alimenta'!$B:$B,'00 PDC SP'!$F681,'00 Alimenta'!D:D)","v":0},{"$f":"SUMIF('00 Alimenta'!$B:$B,'00 PDC SP'!$F681,'00 Alimenta'!E:E)","v":0},{"$f":"SUMIF('00 Alimenta'!$B:$B,'00 PDC SP'!$F681,'00 Alimenta'!F:F)","v":0},{"$f":"SUMIF('00 Alimenta'!$B:$B,'00 PDC SP'!$F681,'00 Alimenta'!G:G)","v":0},{"$f":"SUMIF('00 Alimenta'!$B:$B,'00 PDC SP'!$F681,'00 Alimenta'!H:H)","v":0},{"$f":"SUMIF('00 Alimenta'!$B:$B,'00 PDC SP'!$F681,'00 Alimenta'!I:I)","v":0},0]
["PFA030","PF","PFA030",0,null,"0207040101","Garanzie prestate",{"$f":"SUMIF('00 Alimenta'!$B:$B,'00 PDC SP'!$F682,'00 Alimenta'!D:D)","v":0},{"$f":"SUMIF('00 Alimenta'!$B:$B,'00 PDC SP'!$F682,'00 Alimenta'!E:E)","v":0},{"$f":"SUMIF('00 Alimenta'!$B:$B,'00 PDC SP'!$F682,'00 Alimenta'!F:F)","v":0},{"$f":"SUMIF('00 Alimenta'!$B:$B,'00 PDC SP'!$F682,'00 Alimenta'!G:G)","v":0},{"$f":"SUMIF('00 Alimenta'!$B:$B,'00 PDC SP'!$F682,'00 Alimenta'!H:H)","v":0},{"$f":"SUMIF('00 Alimenta'!$B:$B,'00 PDC SP'!$F682,'00 Alimenta'!I:I)","v":0},0]
["PFA030","PF","PFA030",0,null,"0207040102","Garanzie ricevute",{"$f":"SUMIF('00 Alimenta'!$B:$B,'00 PDC SP'!$F683,'00 Alimenta'!D:D)","v":0},{"$f":"SUMIF('00 Alimenta'!$B:$B,'00 PDC SP'!$F683,'00 Alimenta'!E:E)","v":0},{"$f":"SUMIF('00 Alimenta'!$B:$B,'00 PDC SP'!$F683,'00 Alimenta'!F:F)","v":0},{"$f":"SUMIF('00 Alimenta'!$B:$B,'00 PDC SP'!$F683,'00 Alimenta'!G:G)","v":0},{"$f":"SUMIF('00 Alimenta'!$B:$B,'00 PDC SP'!$F683,'00 Alimenta'!H:H)","v":0},{"$f":"SUMIF('00 Alimenta'!$B:$B,'00 PDC SP'!$F683,'00 Alimenta'!I:I)","v":0},0]
["PFA030","PF","PFA030",0,null,"0207040103","Beni presso terzi",{"$f":"SUMIF('00 Alimenta'!$B:$B,'00 PDC SP'!$F684,'00 Alimenta'!D:D)","v":0},{"$f":"SUMIF('00 Alimenta'!$B:$B,'00 PDC SP'!$F684,'00 Alimenta'!E:E)","v":0},{"$f":"SUMIF('00 Alimenta'!$B:$B,'00 PDC SP'!$F684,'00 Alimenta'!F:F)","v":0},{"$f":"SUMIF('00 Alimenta'!$B:$B,'00 PDC SP'!$F684,'00 Alimenta'!G:G)","v":0},{"$f":"SUMIF('00 Alimenta'!$B:$B,'00 PDC SP'!$F684,'00 Alimenta'!H:H)","v":0},{"$f":"SUMIF('00 Alimenta'!$B:$B,'00 PDC SP'!$F684,'00 Alimenta'!I:I)","v":0},0]
["PFA030","PF","PFA030",0,null,"0207040104","Beni in contenzioso",{"$f":"SUMIF('00 Alimenta'!$B:$B,'00 PDC SP'!$F685,'00 Alimenta'!D:D)","v":0},{"$f":"SUMIF('00 Alimenta'!$B:$B,'00 PDC SP'!$F685,'00 Alimenta'!E:E)","v":0},{"$f":"SUMIF('00 Alimenta'!$B:$B,'00 PDC SP'!$F685,'00 Alimenta'!F:F)","v":0},{"$f":"SUMIF('00 Alimenta'!$B:$B,'00 PDC SP'!$F685,'00 Alimenta'!G:G)","v":0},{"$f":"SUMIF('00 Alimenta'!$B:$B,'00 PDC SP'!$F685,'00 Alimenta'!H:H)","v":0},{"$f":"SUMIF('00 Alimenta'!$B:$B,'00 PDC SP'!$F685,'00 Alimenta'!I:I)","v":0},0]
["PFA030","PF","PFA030",0,null,"0207040105","Altri impegni assunti",{"$f":"SUMIF('00 Alimenta'!$B:$B,'00 PDC SP'!$F686,'00 Alimenta'!D:D)","v":0},{"$f":"SUMIF('00 Alimenta'!$B:$B,'00 PDC SP'!$F686,'00 Alimenta'!E:E)","v":0},{"$f":"SUMIF('00 Alimenta'!$B:$B,'00 PDC SP'!$F686,'00 Alimenta'!F:F)","v":0},{"$f":"SUMIF('00 Alimenta'!$B:$B,'00 PDC SP'!$F686,'00 Alimenta'!G:G)","v":0},{"$f":"SUMIF('00 Alimenta'!$B:$B,'00 PDC SP'!$F686,'00 Alimenta'!H:H)","v":0},{"$f":"SUMIF('00 Alimenta'!$B:$B,'00 PDC SP'!$F686,'00 Alimenta'!I:I)","v":0},0]
["PFA030","PF","PFA030",0,null,"0207040106","Altri contri d'ordine",{"$f":"SUMIF('00 Alimenta'!$B:$B,'00 PDC SP'!$F687,'00 Alimenta'!D:D)","v":0},{"$f":"SUMIF('00 Alimenta'!$B:$B,'00 PDC SP'!$F687,'00 Alimenta'!E:E)","v":0},{"$f":"SUMIF('00 Alimenta'!$B:$B,'00 PDC SP'!$F687,'00 Alimenta'!F:F)","v":0},{"$f":"SUMIF('00 Alimenta'!$B:$B,'00 PDC SP'!$F687,'00 Alimenta'!G:G)","v":0},{"$f":"SUMIF('00 Alimenta'!$B:$B,'00 PDC SP'!$F687,'00 Alimenta'!H:H)","v":0},{"$f":"SUMIF('00 Alimenta'!$B:$B,'00 PDC SP'!$F687,'00 Alimenta'!I:I)","v":0},0]
[]
[null,null,null,null,null,"AA","IMMOBILIZZAZIONI",{"$f":"SUMIF($B:$B,$F689,H:H)","v":109631979.31999995},null,null,{"$f":"SUMIF($B:$B,$F689,K:K)","v":108309459.74999993},null,null,{"$f":"SUMIF($B:$B,$F689,N:N)","v":102840579.50999998}]
[null,null,null,null,null,"AB","ATTIVO CIRCOLANTE",260562718.86999992,null,null,266253631.08000004,null,null,283585028.36000001]
[null,null,null,null,null,"AC","RATEI E RISCONTI ATTIVI",1502862.22,null,null,8698.51,null,null,10533.97]
[null,null,null,null,null,"AD","ATTIVO - CONTI D'ORDINE",0,null,null,0,null,null,0]
[null,null,null,null,null,"PA","PATRIMONIO NETTO",125211900.59,null,null,122093965.74000001,null,null,118203016.88999999]
[null,null,null,null,null,"UT","UTILE/PEDITA DI ESERCIZIO",-14264709.560000001,null,null,-13609624.26,null,null,1677.34]
[null,null,null,null,null,"PB","FONDI PER RISCI ED ONERI",-70986748.230000019,null,null,-85752573.330000013,null,null,-82834257.410000011]
[null,null,null,null,null,"PC","TRATTAMENTO FINE RAPPORTO",-2195943.02,null,null,-2201092.41,null,null,-2267812.11]
[null,null,null,null,null,"PD","DEBITI",-187567678.13000008,null,null,-178133782.12,null,null,-183129378.08999991]
[null,null,null,null,null,"PE","RATEI E RISCONTI PASSIVI",0,null,null,0,null,null,0]
[null,null,null,null,null,"PF","PASSIVO - CONTI D'ORDINE",0,null,null,0,null,null,0]
[]
[null,null,null,1,null,null,"SOMMA ALGEBRICA ATTIVO + (PATRIMONIO NETTO + PASSIVO)",{"$f":"(H689+H690+H691+H692-H693)+(H695+H696+H697+H698+H699)","v":-14264709.560000211},null,null,{"$f":"(K689+K690+K691+K692-K693)+(K695+K696+K697+K698+K699)","v":-13609624.26000005},null,null,{"$f":"(N689+N690+N691+N692-N693)+(N695+N696+N697+N698+N699)","v":1677.3400001227856}]
[null,null,null,null,null,"0201070101","UTILE D'ESERCIZIO",null,null,null,null,{"$f":"IF($N$701>=0,$N$701,0)","v":1677.3400001227856},null,{"$f":"IF($N$701>=0,$N$701,0)","v":1677.3400001227856}]
[null,null,null,null,null,"0201070102","PERDITA D'ESERCIZIO",null,null,null,null,{"$f":"IF($N$701<0,$N$701,0)","v":0},null,{"$f":"IF($N$701<0,$N$701,0)","v":0}]
[]
[]
[]
[]
[]
[]
[]
[]
[]
[]
[]
[]
[]
[]
[]
[]
[]
[]
[]
[]
[]
[]
[]
[]
[]
[]
[]
[]
[]
[]
[]
[]
[]
[]
[]
[]
[]
[]
[]
[]
[]
[]
[]
[]
[]
[]
[]
[]
[]
[]
[]
[]
[]
[]
[]
[]
[]
[]
[]
[]
[]
[]
[]
[]
[]
[]
[]
[]
[]
[]
[]
[]
[]
[]
[null,null,null,null,null,null,null,null,null,null,null,{"$f":"L44+L48-M44-M48","v":-2407751.8100000005}]
[]
[]
[]
[null,null,null,null,null,null,null,null,null,null,null,{"$f":"L44-M44","v":-946864.78000000026},{"$f":"L48-M48","v":-1460887.03}]
[null,null,null,null,null,null,null,null,null,null,null,null,1271120]
[null,null,null,null,null,null,null,null,null,null,null,null,{"$f":"M782-M783","v":-2732007.0300000003}]

{"sheet":"00 SP","index":2,"n_rows":286,"n_cols":12,"rows_kept":286,"cut":false,"hidden":false,"merged":[]}
[]
["CODICE","DESCRIZIONE",null,"CODICE","RF",{"$f":"'00 PDC SP'!H4","v":"Esercizio 2016"},{"$f":"'00 PDC SP'!I4","v":"Incrementi 2017"},{"$f":"'00 PDC SP'!J4","v":"Decrementi 2017"},{"$f":"'00 PDC SP'!K4","v":"Esercizio 2017"},{"$f":"'00 PDC SP'!L4","v":"Incrementi 2018"},{"$f":"'00 PDC SP'!M4","v":"Decrementi 2018"},{"$f":"'00 PDC SP'!N4","v":"Esercizio 2018"}]
["AAZ999","A) IMMOBILIZZAZIONI","S","AAZ999",null,{"$f":"F4+F31+F68","v":109631979.31999998},-911643.54999999958,410876.02,108309459.75,-1490066.4700000004,3978813.77,102840579.50999999]
["AAA000","A.I) IMMOBILIZZAZIONI IMMATERIALI","S","AAA000",null,{"$f":"F5+F8+F11+F16+F17+F26","v":426807.2200000002},73289.199999999983,7129.38,492967.04000000004,-29741.25,0,463225.79000000004]
["AAA010","A.I.1) Costi di impianto e di ampliamento","S","AAA010",null,{"$f":"SUM(F6:F7)","v":0},0,0,0,0,0,0]
["AAA020","A.I.1.a) Costi di impianto e di ampliamento",null,"AAA020",34,{"$f":"SUMIF('00 PDC SP'!$C:$C,'00 SP'!$D6,'00 PDC SP'!H:H)","v":0},{"$f":"SUMIF('00 PDC SP'!$C:$C,'00 SP'!$D6,'00 PDC SP'!I:I)","v":0},{"$f":"SUMIF('00 PDC SP'!$C:$C,'00 SP'!$D6,'00 PDC SP'!J:J)","v":0},{"$f":"SUMIF('00 PDC SP'!$C:$C,'00 SP'!$D6,'00 PDC SP'!K:K)","v":0},{"$f":"SUMIF('00 PDC SP'!$C:$C,'00 SP'!$D6,'00 PDC SP'!L:L)","v":0},{"$f":"SUMIF('00 PDC SP'!$C:$C,'00 SP'!$D6,'00 PDC SP'!M:M)","v":0},{"$f":"SUMIF('00 PDC SP'!$C:$C,'00 SP'!$D6,'00 PDC SP'!N:N)","v":0}]
["AAA030","A.I.1.b) F.do Amm.to costi di impianto e di ampliamento",null,"AAA030",4,{"$f":"SUMIF('00 PDC SP'!$C:$C,'00 SP'!$D7,'00 PDC SP'!H:H)","v":0},{"$f":"SUMIF('00 PDC SP'!$C:$C,'00 SP'!$D7,'00 PDC SP'!I:I)","v":0},{"$f":"SUMIF('00 PDC SP'!$C:$C,'00 SP'!$D7,'00 PDC SP'!J:J)","v":0},{"$f":"SUMIF('00 PDC SP'!$C:$C,'00 SP'!$D7,'00 PDC SP'!K:K)","v":0},{"$f":"SUMIF('00 PDC SP'!$C:$C,'00 SP'!$D7,'00 PDC SP'!L:L)","v":0},{"$f":"SUMIF('00 PDC SP'!$C:$C,'00 SP'!$D7,'00 PDC SP'!M:M)","v":0},{"$f":"SUMIF('00 PDC SP'!$C:$C,'00 SP'!$D7,'00 PDC SP'!N:N)","v":0}]
["AAA040","A.I.2) Costi di ricerca e sviluppo","S","AAA040",null,{"$f":"SUM(F9:F10)","v":0},0,0,0,0,0,0]
["AAA050","A.I.2.a) Costi di ricerca e sviluppo",null,"AAA050",35,{"$f":"SUMIF('00 PDC SP'!$C:$C,'00 SP'!$D9,'00 PDC SP'!H:H)","v":0},{"$f":"SUMIF('00 PDC SP'!$C:$C,'00 SP'!$D9,'00 PDC SP'!I:I)","v":0},{"$f":"SUMIF('00 PDC SP'!$C:$C,'00 SP'!$D9,'00 PDC SP'!J:J)","v":0},{"$f":"SUMIF('00 PDC SP'!$C:$C,'00 SP'!$D9,'00 PDC SP'!K:K)","v":0},{"$f":"SUMIF('00 PDC SP'!$C:$C,'00 SP'!$D9,'00 PDC SP'!L:L)","v":0},{"$f":"SUMIF('00 PDC SP'!$C:$C,'00 SP'!$D9,'00 PDC SP'!M:M)","v":0},{"$f":"SUMIF('00 PDC SP'!$C:$C,'00 SP'!$D9,'00 PDC SP'!N:N)","v":0}]
["AAA060","A.I.2.b) F.do Amm.to costi di ricerca e sviluppo",null,"AAA060",4,{"$f":"SUMIF('00 PDC SP'!$C:$C,'00 SP'!$D10,'00 PDC SP'!H:H)","v":0},{"$f":"SUMIF('00 PDC SP'!$C:$C,'00 SP'!$D10,'00 PDC SP'!I:I)","v":0},{"$f":"SUMIF('00 PDC SP'!$C:$C,'00 SP'!$D10,'00 PDC SP'!J:J)","v":0},{"$f":"SUMIF('00 PDC SP'!$C:$C,'00 SP'!$D10,'00 PDC SP'!K:K)","v":0},{"$f":"SUMIF('00 PDC SP'!$C:$C,'00 SP'!$D10,'00 PDC SP'!L:L)","v":0},{"$f":"SUMIF('00 PDC SP'!$C:$C,'00 SP'!$D10,'00 PDC SP'!M:M)","v":0},{"$f":"SUMIF('00 PDC SP'!$C:$C,'00 SP'!$D10,'00 PDC SP'!N:N)","v":0}]
["AAA070","A.I.3) Diritti di brevetto e diritti di utilizzazione delle opere d'ingegno","S","AAA070",null,{"$f":"SUM(F12:F15)","v":0},0,0,0,0,0,0]
["AAA080","A.I.3.a) Diritti di brevetto e diritti di utilizzazione delle opere d'ingegno - derivanti dall'attività di ricerca",null,"AAA080",36,{"$f":"SUMIF('00 PDC SP'!$C:$C,'00 SP'!$D12,'00 PDC SP'!H:H)","v":0},{"$f":"SUMIF('00 PDC SP'!$C:$C,'00 SP'!$D12,'00 PDC SP'!I:I)","v":0},{"$f":"SUMIF('00 PDC SP'!$C:$C,'00 SP'!$D12,'00 PDC SP'!J:J)","v":0},{"$f":"SUMIF('00 PDC SP'!$C:$C,'00 SP'!$D12,'00 PDC SP'!K:K)","v":0},{"$f":"SUMIF('00 PDC SP'!$C:$C,'00 SP'!$D12,'00 PDC SP'!L:L)","v":0},{"$f":"SUMIF('00 PDC SP'!$C:$C,'00 SP'!$D12,'00 PDC SP'!M:M)","v":0},{"$f":"SUMIF('00 PDC SP'!$C:$C,'00 SP'!$D12,'00 PDC SP'!N:N)","v":0}]
["AAA090","A.I.3.b) F.do Amm.to diritti di brevetto e diritti di utilizzazione delle opere d'ingegno - derivanti dall'attività di ricerca",null,"AAA090",4,{"$f":"SUMIF('00 PDC SP'!$C:$C,'00 SP'!$D13,'00 PDC SP'!H:H)","v":0},{"$f":"SUMIF('00 PDC SP'!$C:$C,'00 SP'!$D13,'00 PDC SP'!I:I)","v":0},{"$f":"SUMIF('00 PDC SP'!$C:$C,'00 SP'!$D13,'00 PDC SP'!J:J)","v":0},{"$f":"SUMIF('00 PDC SP'!$C:$C,'00 SP'!$D13,'00 PDC SP'!K:K)","v":0},{"$f":"SUMIF('00 PDC SP'!$C:$C,'00 SP'!$D13,'00 PDC SP'!L:L)","v":0},{"$f":"SUMIF('00 PDC SP'!$C:$C,'00 SP'!$D13,'00 PDC SP'!M:M)","v":0},{"$f":"SUMIF('00 PDC SP'!$C:$C,'00 SP'!$D13,'00 PDC SP'!N:N)","v":0}]
["AAA100","A.I.3.c) Diritti di brevetto e diritti di utilizzazione delle opere d'ingegno - altri",null,"AAA100",36,{"$f":"SUMIF('00 PDC SP'!$C:$C,'00 SP'!$D14,'00 PDC SP'!H:H)","v":0},{"$f":"SUMIF('00 PDC SP'!$C:$C,'00 SP'!$D14,'00 PDC SP'!I:I)","v":0},{"$f":"SUMIF('00 PDC SP'!$C:$C,'00 SP'!$D14,'00 PDC SP'!J:J)","v":0},{"$f":"SUMIF('00 PDC SP'!$C:$C,'00 SP'!$D14,'00 PDC SP'!K:K)","v":0},{"$f":"SUMIF('00 PDC SP'!$C:$C,'00 SP'!$D14,'00 PDC SP'!L:L)","v":0},{"$f":"SUMIF('00 PDC SP'!$C:$C,'00 SP'!$D14,'00 PDC SP'!M:M)","v":0},{"$f":"SUMIF('00 PDC SP'!$C:$C,'00 SP'!$D14,'00 PDC SP'!N:N)","v":0}]
["AAA110","A.I.3.d) F.do Amm.to diritti di brevetto e diritti di utilizzazione delle opere d'ingegno -  altri",null,"AAA110",4,{"$f":"SUMIF('00 PDC SP'!$C:$C,'00 SP'!$D15,'00 PDC SP'!H:H)","v":0},{"$f":"SUMIF('00 PDC SP'!$C:$C,'00 SP'!$D15,'00 PDC SP'!I:I)","v":0},{"$f":"SUMIF('00 PDC SP'!$C:$C,'00 SP'!$D15,'00 PDC SP'!J:J)","v":0},{"$f":"SUMIF('00 PDC SP'!$C:$C,'00 SP'!$D15,'00 PDC SP'!K:K)","v":0},{"$f":"SUMIF('00 PDC SP'!$C:$C,'00 SP'!$D15,'00 PDC SP'!L:L)","v":0},{"$f":"SUMIF('00 PDC SP'!$C:$C,'00 SP'!$D15,'00 PDC SP'!M:M)","v":0},{"$f":"SUMIF('00 PDC SP'!$C:$C,'00 SP'!$D15,'00 PDC SP'!N:N)","v":0}]
["AAA120","A.I.4) Immobilizzazioni immateriali in corso e acconti",null,"AAA120",37,{"$f":"SUMIF('00 PDC SP'!$C:$C,'00 SP'!$D16,'00 PDC SP'!H:H)","v":0},{"$f":"SUMIF('00 PDC SP'!$C:$C,'00 SP'!$D16,'00 PDC SP'!I:I)","v":0},{"$f":"SUMIF('00 PDC SP'!$C:$C,'00 SP'!$D16,'00 PDC SP'!J:J)","v":0},{"$f":"SUMIF('00 PDC SP'!$C:$C,'00 SP'!$D16,'00 PDC SP'!K:K)","v":0},{"$f":"SUMIF('00 PDC SP'!$C:$C,'00 SP'!$D16,'00 PDC SP'!L:L)","v":0},{"$f":"SUMIF('00 PDC SP'!$C:$C,'00 SP'!$D16,'00 PDC SP'!M:M)","v":0},{"$f":"SUMIF('00 PDC SP'!$C:$C,'00 SP'!$D16,'00 PDC SP'!N:N)","v":0}]
["AAA130","A.I.5) Altre immobilizzazioni immateriali","S","AAA130",null,{"$f":"SUM(F18:F25)","v":426807.2200000002},73289.199999999983,7129.38,492967.04000000004,-29741.25,0,463225.79000000004]
["AAA140","A.I.5.a) Concessioni, licenze, marchi e diritti simili",null,"AAA140",38,{"$f":"SUMIF('00 PDC SP'!$C:$C,'00 SP'!$D18,'00 PDC SP'!H:H)","v":1985432.37},{"$f":"SUMIF('00 PDC SP'!$C:$C,'00 SP'!$D18,'00 PDC SP'!I:I)","v":209841.59},{"$f":"SUMIF('00 PDC SP'!$C:$C,'00 SP'!$D18,'00 PDC SP'!J:J)","v":7129.38},{"$f":"SUMIF('00 PDC SP'!$C:$C,'00 SP'!$D18,'00 PDC SP'!K:K)","v":2188144.58},{"$f":"SUMIF('00 PDC SP'!$C:$C,'00 SP'!$D18,'00 PDC SP'!L:L)","v":131197.56},{"$f":"SUMIF('00 PDC SP'!$C:$C,'00 SP'!$D18,'00 PDC SP'!M:M)","v":11461.65},{"$f":"SUMIF('00 PDC SP'!$C:$C,'00 SP'!$D18,'00 PDC SP'!N:N)","v":2307880.4900000002}]
["AAA150","A.I.5.b) F.do Amm.to concessioni, licenze, marchi e diritti simili",null,"AAA150",4,{"$f":"SUMIF('00 PDC SP'!$C:$C,'00 SP'!$D19,'00 PDC SP'!H:H)","v":-1558625.15},{"$f":"SUMIF('00 PDC SP'!$C:$C,'00 SP'!$D19,'00 PDC SP'!I:I)","v":-136552.39000000001},{"$f":"SUMIF('00 PDC SP'!$C:$C,'00 SP'!$D19,'00 PDC SP'!J:J)","v":0},{"$f":"SUMIF('00 PDC SP'!$C:$C,'00 SP'!$D19,'00 PDC SP'!K:K)","v":-1695177.54},{"$f":"SUMIF('00 PDC SP'!$C:$C,'00 SP'!$D19,'00 PDC SP'!L:L)","v":-160938.81},{"$f":"SUMIF('00 PDC SP'!$C:$C,'00 SP'!$D19,'00 PDC SP'!M:M)","v":-11461.65},{"$f":"SUMIF('00 PDC SP'!$C:$C,'00 SP'!$D19,'00 PDC SP'!N:N)","v":-1844654.7000000002}]
["AAA160","A.I.5.c) Migliorie su beni di terzi",null,"AAA160",38,{"$f":"SUMIF('00 PDC SP'!$C:$C,'00 SP'!$D20,'00 PDC SP'!H:H)","v":0},{"$f":"SUMIF('00 PDC SP'!$C:$C,'00 SP'!$D20,'00 PDC SP'!I:I)","v":0},{"$f":"SUMIF('00 PDC SP'!$C:$C,'00 SP'!$D20,'00 PDC SP'!J:J)","v":0},{"$f":"SUMIF('00 PDC SP'!$C:$C,'00 SP'!$D20,'00 PDC SP'!K:K)","v":0},{"$f":"SUMIF('00 PDC SP'!$C:$C,'00 SP'!$D20,'00 PDC SP'!L:L)","v":0},{"$f":"SUMIF('00 PDC SP'!$C:$C,'00 SP'!$D20,'00 PDC SP'!M:M)","v":0},{"$f":"SUMIF('00 PDC SP'!$C:$C,'00 SP'!$D20,'00 PDC SP'!N:N)","v":0}]
["AAA170","A.I.5.d) F.do Amm.to migliorie su beni di terzi",null,"AAA170",4,{"$f":"SUMIF('00 PDC SP'!$C:$C,'00 SP'!$D21,'00 PDC SP'!H:H)","v":0},{"$f":"SUMIF('00 PDC SP'!$C:$C,'00 SP'!$D21,'00 PDC SP'!I:I)","v":0},{"$f":"SUMIF('00 PDC SP'!$C:$C,'00 SP'!$D21,'00 PDC SP'!J:J)","v":0},{"$f":"SUMIF('00 PDC SP'!$C:$C,'00 SP'!$D21,'00 PDC SP'!K:K)","v":0},{"$f":"SUMIF('00 PDC SP'!$C:$C,'00 SP'!$D21,'00 PDC SP'!L:L)","v":0},{"$f":"SUMIF('00 PDC SP'!$C:$C,'00 SP'!$D21,'00 PDC SP'!M:M)","v":0},{"$f":"SUMIF('00 PDC SP'!$C:$C,'00 SP'!$D21,'00 PDC SP'!N:N)","v":0}]
["AAA180","A.I.5.e) Pubblicità",null,"AAA180",38,{"$f":"SUMIF('00 PDC SP'!$C:$C,'00 SP'!$D22,'00 PDC SP'!H:H)","v":0},{"$f":"SUMIF('00 PDC SP'!$C:$C,'00 SP'!$D22,'00 PDC SP'!I:I)","v":0},{"$f":"SUMIF('00 PDC SP'!$C:$C,'00 SP'!$D22,'00 PDC SP'!J:J)","v":0},{"$f":"SUMIF('00 PDC SP'!$C:$C,'00 SP'!$D22,'00 PDC SP'!K:K)","v":0},{"$f":"SUMIF('00 PDC SP'!$C:$C,'00 SP'!$D22,'00 PDC SP'!L:L)","v":0},{"$f":"SUMIF('00 PDC SP'!$C:$C,'00 SP'!$D22,'00 PDC SP'!M:M)","v":0},{"$f":"SUMIF('00 PDC SP'!$C:$C,'00 SP'!$D22,'00 PDC SP'!N:N)","v":0}]
["AAA190","A.I.5.f) F.do Amm.to pubblicità",null,"AAA190",4,{"$f":"SUMIF('00 PDC SP'!$C:$C,'00 SP'!$D23,'00 PDC SP'!H:H)","v":0},{"$f":"SUMIF('00 PDC SP'!$C:$C,'00 SP'!$D23,'00 PDC SP'!I:I)","v":0},{"$f":"SUMIF('00 PDC SP'!$C:$C,'00 SP'!$D23,'00 PDC SP'!J:J)","v":0},{"$f":"SUMIF('00 PDC SP'!$C:$C,'00 SP'!$D23,'00 PDC SP'!K:K)","v":0},{"$f":"SUMIF('00 PDC SP'!$C:$C,'00 SP'!$D23,'00 PDC SP'!L:L)","v":0},{"$f":"SUMIF('00 PDC SP'!$C:$C,'00 SP'!$D23,'00 PDC SP'!M:M)","v":0},{"$f":"SUMIF('00 PDC SP'!$C:$C,'00 SP'!$D23,'00 PDC SP'!N:N)","v":0}]
["AAA200","A.I.5.g) Altre immobilizzazioni immateriali",null,"AAA200",38,{"$f":"SUMIF('00 PDC SP'!$C:$C,'00 SP'!$D24,'00 PDC SP'!H:H)","v":0},{"$f":"SUMIF('00 PDC SP'!$C:$C,'00 SP'!$D24,'00 PDC SP'!I:I)","v":0},{"$f":"SUMIF('00 PDC SP'!$C:$C,'00 SP'!$D24,'00 PDC SP'!J:J)","v":0},{"$f":"SUMIF('00 PDC SP'!$C:$C,'00 SP'!$D24,'00 PDC SP'!K:K)","v":0},{"$f":"SUMIF('00 PDC SP'!$C:$C,'00 SP'!$D24,'00 PDC SP'!L:L)","v":0},{"$f":"SUMIF('00 PDC SP'!$C:$C,'00 SP'!$D24,'00 PDC SP'!M:M)","v":0},{"$f":"SUMIF('00 PDC SP'!$C:$C,'00 SP'!$D24,'00 PDC SP'!N:N)","v":0}]
["AAA210","A.I.5.h) F.do Amm.to altre immobilizzazioni immateriali",null,"AAA210",4,{"$f":"SUMIF('00 PDC SP'!$C:$C,'00 SP'!$D25,'00 PDC SP'!H:H)","v":0},{"$f":"SUMIF('00 PDC SP'!$C:$C,'00 SP'!$D25,'00 PDC SP'!I:I)","v":0},{"$f":"SUMIF('00 PDC SP'!$C:$C,'00 SP'!$D25,'00 PDC SP'!J:J)","v":0},{"$f":"SUMIF('00 PDC SP'!$C:$C,'00 SP'!$D25,'00 PDC SP'!K:K)","v":0},{"$f":"SUMIF('00 PDC SP'!$C:$C,'00 SP'!$D25,'00 PDC SP'!L:L)","v":0},{"$f":"SUMIF('00 PDC SP'!$C:$C,'00 SP'!$D25,'00 PDC SP'!M:M)","v":0},{"$f":"SUMIF('00 PDC SP'!$C:$C,'00 SP'!$D25,'00 PDC SP'!N:N)","v":0}]
["AAA220","A.I.6) Fondo Svalutazione immobilizzazioni immateriali","S","AAA220",null,{"$f":"SUM(F27:F30)","v":0},0,0,0,0,0,0]
["AAA230","A.I.6.a) F.do Svalut. Costi di impianto e di ampliamento",null,"AAA230",34,{"$f":"SUMIF('00 PDC SP'!$C:$C,'00 SP'!$D27,'00 PDC SP'!H:H)","v":0},{"$f":"SUMIF('00 PDC SP'!$C:$C,'00 SP'!$D27,'00 PDC SP'!I:I)","v":0},{"$f":"SUMIF('00 PDC SP'!$C:$C,'00 SP'!$D27,'00 PDC SP'!J:J)","v":0},{"$f":"SUMIF('00 PDC SP'!$C:$C,'00 SP'!$D27,'00 PDC SP'!K:K)","v":0},{"$f":"SUMIF('00 PDC SP'!$C:$C,'00 SP'!$D27,'00 PDC SP'!L:L)","v":0},{"$f":"SUMIF('00 PDC SP'!$C:$C,'00 SP'!$D27,'00 PDC SP'!M:M)","v":0},{"$f":"SUMIF('00 PDC SP'!$C:$C,'00 SP'!$D27,'00 PDC SP'!N:N)","v":0}]
["AAA240","A.I.6.b) F.do Svalut. Costi di ricerca e sviluppo",null,"AAA240",35,{"$f":"SUMIF('00 PDC SP'!$C:$C,'00 SP'!$D28,'00 PDC SP'!H:H)","v":0},{"$f":"SUMIF('00 PDC SP'!$C:$C,'00 SP'!$D28,'00 PDC SP'!I:I)","v":0},{"$f":"SUMIF('00 PDC SP'!$C:$C,'00 SP'!$D28,'00 PDC SP'!J:J)","v":0},{"$f":"SUMIF('00 PDC SP'!$C:$C,'00 SP'!$D28,'00 PDC SP'!K:K)","v":0},{"$f":"SUMIF('00 PDC SP'!$C:$C,'00 SP'!$D28,'00 PDC SP'!L:L)","v":0},{"$f":"SUMIF('00 PDC SP'!$C:$C,'00 SP'!$D28,'00 PDC SP'!M:M)","v":0},{"$f":"SUMIF('00 PDC SP'!$C:$C,'00 SP'!$D28,'00 PDC SP'!N:N)","v":0}]
["AAA250","A.I.6.c) F.do Svalut. Diritti di brevetto e diritti di utilizzazione delle opere d'ingegno",null,"AAA250",36,{"$f":"SUMIF('00 PDC SP'!$C:$C,'00 SP'!$D29,'00 PDC SP'!H:H)","v":0},{"$f":"SUMIF('00 PDC SP'!$C:$C,'00 SP'!$D29,'00 PDC SP'!I:I)","v":0},{"$f":"SUMIF('00 PDC SP'!$C:$C,'00 SP'!$D29,'00 PDC SP'!J:J)","v":0},{"$f":"SUMIF('00 PDC SP'!$C:$C,'00 SP'!$D29,'00 PDC SP'!K:K)","v":0},{"$f":"SUMIF('00 PDC SP'!$C:$C,'00 SP'!$D29,'00 PDC SP'!L:L)","v":0},{"$f":"SUMIF('00 PDC SP'!$C:$C,'00 SP'!$D29,'00 PDC SP'!M:M)","v":0},{"$f":"SUMIF('00 PDC SP'!$C:$C,'00 SP'!$D29,'00 PDC SP'!N:N)","v":0}]
["AAA260","A.I.6.d) F.do Svalut. Altre immobilizzazioni immateriali",null,"AAA260",38,{"$f":"SUMIF('00 PDC SP'!$C:$C,'00 SP'!$D30,'00 PDC SP'!H:H)","v":0},{"$f":"SUMIF('00 PDC SP'!$C:$C,'00 SP'!$D30,'00 PDC SP'!I:I)","v":0},{"$f":"SUMIF('00 PDC SP'!$C:$C,'00 SP'!$D30,'00 PDC SP'!J:J)","v":0},{"$f":"SUMIF('00 PDC SP'!$C:$C,'00 SP'!$D30,'00 PDC SP'!K:K)","v":0},{"$f":"SUMIF('00 PDC SP'!$C:$C,'00 SP'!$D30,'00 PDC SP'!L:L)","v":0},{"$f":"SUMIF('00 PDC SP'!$C:$C,'00 SP'!$D30,'00 PDC SP'!M:M)","v":0},{"$f":"SUMIF('00 PDC SP'!$C:$C,'00 SP'!$D30,'00 PDC SP'!N:N)","v":0}]
["AAA270","A.II) IMMOBILIZZAZIONI MATERIALI","S","AAA270",null,{"$f":"F32+F35+F42+F45+F48+F51+F54+F55+F58+F59","v":109191135.64999998},-984932.74999999953,403746.64,107802456.25999999,-1460325.2200000004,3978813.77,102363317.26999998]
["AAA280","A.II.1) Terreni","S","AAA280",null,{"$f":"SUM(F33:F34)","v":942655.12},0,0,942655.12,0,0,942655.12]
["AAA290","A.II.1.a) Terreni disponibili",null,"AAA290",39,{"$f":"SUMIF('00 PDC SP'!$C:$C,'00 SP'!$D33,'00 PDC SP'!H:H)","v":0},{"$f":"SUMIF('00 PDC SP'!$C:$C,'00 SP'!$D33,'00 PDC SP'!I:I)","v":0},{"$f":"SUMIF('00 PDC SP'!$C:$C,'00 SP'!$D33,'00 PDC SP'!J:J)","v":0},{"$f":"SUMIF('00 PDC SP'!$C:$C,'00 SP'!$D33,'00 PDC SP'!K:K)","v":0},{"$f":"SUMIF('00 PDC SP'!$C:$C,'00 SP'!$D33,'00 PDC SP'!L:L)","v":0},{"$f":"SUMIF('00 PDC SP'!$C:$C,'00 SP'!$D33,'00 PDC SP'!M:M)","v":0},{"$f":"SUMIF('00 PDC SP'!$C:$C,'00 SP'!$D33,'00 PDC SP'!N:N)","v":0}]
["AAA300","A.II.1.b) Terreni indisponibili",null,"AAA300",39,{"$f":"SUMIF('00 PDC SP'!$C:$C,'00 SP'!$D34,'00 PDC SP'!H:H)","v":942655.12},{"$f":"SUMIF('00 PDC SP'!$C:$C,'00 SP'!$D34,'00 PDC SP'!I:I)","v":0},{"$f":"SUMIF('00 PDC SP'!$C:$C,'00 SP'!$D34,'00 PDC SP'!J:J)","v":0},{"$f":"SUMIF('00 PDC SP'!$C:$C,'00 SP'!$D34,'00 PDC SP'!K:K)","v":942655.12},{"$f":"SUMIF('00 PDC SP'!$C:$C,'00 SP'!$D34,'00 PDC SP'!L:L)","v":0},{"$f":"SUMIF('00 PDC SP'!$C:$C,'00 SP'!$D34,'00 PDC SP'!M:M)","v":0},{"$f":"SUMIF('00 PDC SP'!$C:$C,'00 SP'!$D34,'00 PDC SP'!N:N)","v":942655.12}]
["AAA310","A.II.2) Fabbricati","S","AAA310",null,{"$f":"F36+F39","v":83185071.939999983},-4970287.05,0,78214784.889999986,-2883228.6100000003,0,75331556.279999986]
["AAA320","A.II.2.a) Fabbricati non strumentali (disponibili)","S","AAA320",null,{"$f":"SUM(F37:F38)","v":0},0,0,0,0,0,0]
["AAA330","A.II.2.a.1) Fabbricati non strumentali (disponibili)",null,"AAA330",40,{"$f":"SUMIF('00 PDC SP'!$C:$C,'00 SP'!$D37,'00 PDC SP'!H:H)","v":0},{"$f":"SUMIF('00 PDC SP'!$C:$C,'00 SP'!$D37,'00 PDC SP'!I:I)","v":0},{"$f":"SUMIF('00 PDC SP'!$C:$C,'00 SP'!$D37,'00 PDC SP'!J:J)","v":0},{"$f":"SUMIF('00 PDC SP'!$C:$C,'00 SP'!$D37,'00 PDC SP'!K:K)","v":0},{"$f":"SUMIF('00 PDC SP'!$C:$C,'00 SP'!$D37,'00 PDC SP'!L:L)","v":0},{"$f":"SUMIF('00 PDC SP'!$C:$C,'00 SP'!$D37,'00 PDC SP'!M:M)","v":0},{"$f":"SUMIF('00 PDC SP'!$C:$C,'00 SP'!$D37,'00 PDC SP'!N:N)","v":0}]
["AAA340","A.II.2.a.2) F.do Amm.to Fabbricati non strumentali (disponibili)",null,"AAA340",2,{"$f":"SUMIF('00 PDC SP'!$C:$C,'00 SP'!$D38,'00 PDC SP'!H:H)","v":0},{"$f":"SUMIF('00 PDC SP'!$C:$C,'00 SP'!$D38,'00 PDC SP'!I:I)","v":0},{"$f":"SUMIF('00 PDC SP'!$C:$C,'00 SP'!$D38,'00 PDC SP'!J:J)","v":0},{"$f":"SUMIF('00 PDC SP'!$C:$C,'00 SP'!$D38,'00 PDC SP'!K:K)","v":0},{"$f":"SUMIF('00 PDC SP'!$C:$C,'00 SP'!$D38,'00 PDC SP'!L:L)","v":0},{"$f":"SUMIF('00 PDC SP'!$C:$C,'00 SP'!$D38,'00 PDC SP'!M:M)","v":0},{"$f":"SUMIF('00 PDC SP'!$C:$C,'00 SP'!$D38,'00 PDC SP'!N:N)","v":0}]
["AAA350","A.II.2.b) Fabbricati strumentali (indisponibili)","S","AAA350",null,{"$f":"SUM(F40:F41)","v":83185071.939999983},-4970287.05,0,78214784.889999986,-2883228.6100000003,0,75331556.279999986]
["AAA360","A.II.2.b.1) Fabbricati strumentali (indisponibili)",null,"AAA360",40,{"$f":"SUMIF('00 PDC SP'!$C:$C,'00 SP'!$D40,'00 PDC SP'!H:H)","v":169096559.22999999},{"$f":"SUMIF('00 PDC SP'!$C:$C,'00 SP'!$D40,'00 PDC SP'!I:I)","v":0},{"$f":"SUMIF('00 PDC SP'!$C:$C,'00 SP'!$D40,'00 PDC SP'!J:J)","v":0},{"$f":"SUMIF('00 PDC SP'!$C:$C,'00 SP'!$D40,'00 PDC SP'!K:K)","v":169096559.22999999},{"$f":"SUMIF('00 PDC SP'!$C:$C,'00 SP'!$D40,'00 PDC SP'!L:L)","v":2087230},{"$f":"SUMIF('00 PDC SP'!$C:$C,'00 SP'!$D40,'00 PDC SP'!M:M)","v":0},{"$f":"SUMIF('00 PDC SP'!$C:$C,'00 SP'!$D40,'00 PDC SP'!N:N)","v":171183789.22999999}]
["AAA370","A.II.2.b.2) F.do Amm.to Fabbricati strumentali (indisponibili)",null,"AAA370",2,{"$f":"SUMIF('00 PDC SP'!$C:$C,'00 SP'!$D41,'00 PDC SP'!H:H)","v":-85911487.290000007},{"$f":"SUMIF('00 PDC SP'!$C:$C,'00 SP'!$D41,'00 PDC SP'!I:I)","v":-4970287.05},{"$f":"SUMIF('00 PDC SP'!$C:$C,'00 SP'!$D41,'00 PDC SP'!J:J)","v":0},{"$f":"SUMIF('00 PDC SP'!$C:$C,'00 SP'!$D41,'00 PDC SP'!K:K)","v":-90881774.340000004},{"$f":"SUMIF('00 PDC SP'!$C:$C,'00 SP'!$D41,'00 PDC SP'!L:L)","v":-4970458.6100000003},{"$f":"SUMIF('00 PDC SP'!$C:$C,'00 SP'!$D41,'00 PDC SP'!M:M)","v":0},{"$f":"SUMIF('00 PDC SP'!$C:$C,'00 SP'!$D41,'00 PDC SP'!N:N)","v":-95852232.950000003}]
["AAA380","A.II.3) Impianti e macchinari","S","AAA380",null,{"$f":"SUM(F43:F44)","v":1058936.29},-43083.69,171.65,1015680.9500000002,410185.98,17402.93,1408463.9999999991]
["AAA390","A.II.3.a) Impianti e macchinari",null,"AAA390",41,{"$f":"SUMIF('00 PDC SP'!$C:$C,'00 SP'!$D43,'00 PDC SP'!H:H)","v":5947030.4800000004},{"$f":"SUMIF('00 PDC SP'!$C:$C,'00 SP'!$D43,'00 PDC SP'!I:I)","v":219918.7},{"$f":"SUMIF('00 PDC SP'!$C:$C,'00 SP'!$D43,'00 PDC SP'!J:J)","v":171.65},{"$f":"SUMIF('00 PDC SP'!$C:$C,'00 SP'!$D43,'00 PDC SP'!K:K)","v":6166777.5300000003},{"$f":"SUMIF('00 PDC SP'!$C:$C,'00 SP'!$D43,'00 PDC SP'!L:L)","v":653192.51},{"$f":"SUMIF('00 PDC SP'!$C:$C,'00 SP'!$D43,'00 PDC SP'!M:M)","v":17647.73},{"$f":"SUMIF('00 PDC SP'!$C:$C,'00 SP'!$D43,'00 PDC SP'!N:N)","v":6802322.3099999996}]
["AAA400","A.II.3.b) F.do Amm.to Impianti e macchinari",null,"AAA400",3,{"$f":"SUMIF('00 PDC SP'!$C:$C,'00 SP'!$D44,'00 PDC SP'!H:H)","v":-4888094.1900000004},{"$f":"SUMIF('00 PDC SP'!$C:$C,'00 SP'!$D44,'00 PDC SP'!I:I)","v":-263002.39},{"$f":"SUMIF('00 PDC SP'!$C:$C,'00 SP'!$D44,'00 PDC SP'!J:J)","v":0},{"$f":"SUMIF('00 PDC SP'!$C:$C,'00 SP'!$D44,'00 PDC SP'!K:K)","v":-5151096.58},{"$f":"SUMIF('00 PDC SP'!$C:$C,'00 SP'!$D44,'00 PDC SP'!L:L)","v":-243006.53},{"$f":"SUMIF('00 PDC SP'!$C:$C,'00 SP'!$D44,'00 PDC SP'!M:M)","v":-244.8},{"$f":"SUMIF('00 PDC SP'!$C:$C,'00 SP'!$D44,'00 PDC SP'!N:N)","v":-5393858.3100000005}]
["AAA410","A.II.4) Attrezzature sanitarie e scientifiche","S","AAA410",null,{"$f":"SUM(F46:F47)","v":12717953.259999998},1649118.9400000004,146622.01999999999,14220450.180000007,-503898.62000000011,16889.679999999702,13699661.879999995]
["AAA420","A.II.4.a) Attrezzature sanitarie e scientifiche",null,"AAA420",42,{"$f":"SUMIF('00 PDC SP'!$C:$C,'00 SP'!$D46,'00 PDC SP'!H:H)","v":79051702.269999996},{"$f":"SUMIF('00 PDC SP'!$C:$C,'00 SP'!$D46,'00 PDC SP'!I:I)","v":5812839.0700000003},{"$f":"SUMIF('00 PDC SP'!$C:$C,'00 SP'!$D46,'00 PDC SP'!J:J)","v":146692.79999999999},{"$f":"SUMIF('00 PDC SP'!$C:$C,'00 SP'!$D46,'00 PDC SP'!K:K)","v":84717848.540000007},{"$f":"SUMIF('00 PDC SP'!$C:$C,'00 SP'!$D46,'00 PDC SP'!L:L)","v":4303427.6100000003},{"$f":"SUMIF('00 PDC SP'!$C:$C,'00 SP'!$D46,'00 PDC SP'!M:M)","v":5885338.1699999999},{"$f":"SUMIF('00 PDC SP'!$C:$C,'00 SP'!$D46,'00 PDC SP'!N:N)","v":83135937.980000004}]
["AAA430","A.II.4.b) F.do Amm.to Attrezzature sanitarie e scientifiche",null,"AAA430",3,{"$f":"SUMIF('00 PDC SP'!$C:$C,'00 SP'!$D47,'00 PDC SP'!H:H)","v":-66333749.009999998},{"$f":"SUMIF('00 PDC SP'!$C:$C,'00 SP'!$D47,'00 PDC SP'!I:I)","v":-4163720.13},{"$f":"SUMIF('00 PDC SP'!$C:$C,'00 SP'!$D47,'00 PDC SP'!J:J)","v":-70.78},{"$f":"SUMIF('00 PDC SP'!$C:$C,'00 SP'!$D47,'00 PDC SP'!K:K)","v":-70497398.359999999},{"$f":"SUMIF('00 PDC SP'!$C:$C,'00 SP'!$D47,'00 PDC SP'!L:L)","v":-4807326.2300000004},{"$f":"SUMIF('00 PDC SP'!$C:$C,'00 SP'!$D47,'00 PDC SP'!M:M)","v":-5868448.4900000002},{"$f":"SUMIF('00 PDC SP'!$C:$C,'00 SP'!$D47,'00 PDC SP'!N:N)","v":-69436276.100000009}]
["AAA440","A.II.5) Mobili e arredi","S","AAA440",null,{"$f":"SUM(F49:F50)","v":1646201.75},-119794.21999999997,12215.84,1514191.6899999995,-15102.340000000026,2417.1999999999971,1496672.1499999985]
["AAA450","A.II.5.a) Mobili e arredi",null,"AAA450",43,{"$f":"SUMIF('00 PDC SP'!$C:$C,'00 SP'!$D49,'00 PDC SP'!H:H)","v":10368797.42},{"$f":"SUMIF('00 PDC SP'!$C:$C,'00 SP'!$D49,'00 PDC SP'!I:I)","v":241394.07},{"$f":"SUMIF('00 PDC SP'!$C:$C,'00 SP'!$D49,'00 PDC SP'!J:J)","v":12215.84},{"$f":"SUMIF('00 PDC SP'!$C:$C,'00 SP'!$D49,'00 PDC SP'!K:K)","v":10597975.65},{"$f":"SUMIF('00 PDC SP'!$C:$C,'00 SP'!$D49,'00 PDC SP'!L:L)","v":339281.25},{"$f":"SUMIF('00 PDC SP'!$C:$C,'00 SP'!$D49,'00 PDC SP'!M:M)","v":91861.65},{"$f":"SUMIF('00 PDC SP'!$C:$C,'00 SP'!$D49,'00 PDC SP'!N:N)","v":10845395.25}]
["AAA460","A.II.5.b) F.do Amm.to Mobili e arredi",null,"AAA460",3,{"$f":"SUMIF('00 PDC SP'!$C:$C,'00 SP'!$D50,'00 PDC SP'!H:H)","v":-8722595.6699999999},{"$f":"SUMIF('00 PDC SP'!$C:$C,'00 SP'!$D50,'00 PDC SP'!I:I)","v":-361188.29},{"$f":"SUMIF('00 PDC SP'!$C:$C,'00 SP'!$D50,'00 PDC SP'!J:J)","v":0},{"$f":"SUMIF('00 PDC SP'!$C:$C,'00 SP'!$D50,'00 PDC SP'!K:K)","v":-9083783.9600000009},{"$f":"SUMIF('00 PDC SP'!$C:$C,'00 SP'!$D50,'00 PDC SP'!L:L)","v":-354383.59},{"$f":"SUMIF('00 PDC SP'!$C:$C,'00 SP'!$D50,'00 PDC SP'!M:M)","v":-89444.45},{"$f":"SUMIF('00 PDC SP'!$C:$C,'00 SP'!$D50,'00 PDC SP'!N:N)","v":-9348723.1000000015}]
["AAA470","A.II.6) Automezzi","S","AAA470",null,{"$f":"SUM(F52:F53)","v":234150},288.80000000000291,0,234438.80000000005,-342.13000000000466,0,234096.66999999993]
["AAA480","A.II.6.a) Automezzi",null,"AAA480",44,{"$f":"SUMIF('00 PDC SP'!$C:$C,'00 SP'!$D52,'00 PDC SP'!H:H)","v":1839959.11},{"$f":"SUMIF('00 PDC SP'!$C:$C,'00 SP'!$D52,'00 PDC SP'!I:I)","v":123029.66},{"$f":"SUMIF('00 PDC SP'!$C:$C,'00 SP'!$D52,'00 PDC SP'!J:J)","v":0},{"$f":"SUMIF('00 PDC SP'!$C:$C,'00 SP'!$D52,'00 PDC SP'!K:K)","v":1962988.77},{"$f":"SUMIF('00 PDC SP'!$C:$C,'00 SP'!$D52,'00 PDC SP'!L:L)","v":93196.97},{"$f":"SUMIF('00 PDC SP'!$C:$C,'00 SP'!$D52,'00 PDC SP'!M:M)","v":149825.10999999999},{"$f":"SUMIF('00 PDC SP'!$C:$C,'00 SP'!$D52,'00 PDC SP'!N:N)","v":1906360.63}]
["AAA490","A.II.6.b) F.do Amm.to Automezzi",null,"AAA490",3,{"$f":"SUMIF('00 PDC SP'!$C:$C,'00 SP'!$D53,'00 PDC SP'!H:H)","v":-1605809.11},{"$f":"SUMIF('00 PDC SP'!$C:$C,'00 SP'!$D53,'00 PDC SP'!I:I)","v":-122740.86},{"$f":"SUMIF('00 PDC SP'!$C:$C,'00 SP'!$D53,'00 PDC SP'!J:J)","v":0},{"$f":"SUMIF('00 PDC SP'!$C:$C,'00 SP'!$D53,'00 PDC SP'!K:K)","v":-1728549.97},{"$f":"SUMIF('00 PDC SP'!$C:$C,'00 SP'!$D53,'00 PDC SP'!L:L)","v":-93539.1},{"$f":"SUMIF('00 PDC SP'!$C:$C,'00 SP'!$D53,'00 PDC SP'!M:M)","v":-149825.10999999999},{"$f":"SUMIF('00 PDC SP'!$C:$C,'00 SP'!$D53,'00 PDC SP'!N:N)","v":-1672263.96}]
["AAA500","A.II.7) Oggetti d'arte",null,"AAA500",45,{"$f":"SUMIF('00 PDC SP'!$C:$C,'00 SP'!$D54,'00 PDC SP'!H:H)","v":0},{"$f":"SUMIF('00 PDC SP'!$C:$C,'00 SP'!$D54,'00 PDC SP'!I:I)","v":0},{"$f":"SUMIF('00 PDC SP'!$C:$C,'00 SP'!$D54,'00 PDC SP'!J:J)","v":0},{"$f":"SUMIF('00 PDC SP'!$C:$C,'00 SP'!$D54,'00 PDC SP'!K:K)","v":0},{"$f":"SUMIF('00 PDC SP'!$C:$C,'00 SP'!$D54,'00 PDC SP'!L:L)","v":0},{"$f":"SUMIF('00 PDC SP'!$C:$C,'00 SP'!$D54,'00 PDC SP'!M:M)","v":0},{"$f":"SUMIF('00 PDC SP'!$C:$C,'00 SP'!$D54,'00 PDC SP'!N:N)","v":0}]
["AAA510","A.II.8) Altre immobilizzazioni materiali","S","AAA510",null,{"$f":"SUM(F56:F57)","v":641271.71},21030.350000000006,0,662302.06000000052,16012.800000000017,18304.450000000012,660010.41000000108]
["AAA520","A.II.8.a) Altre immobilizzazioni materiali",null,"AAA520",45,{"$f":"SUMIF('00 PDC SP'!$C:$C,'00 SP'!$D56,'00 PDC SP'!H:H)","v":5654090.7800000003},{"$f":"SUMIF('00 PDC SP'!$C:$C,'00 SP'!$D56,'00 PDC SP'!I:I)","v":265917},{"$f":"SUMIF('00 PDC SP'!$C:$C,'00 SP'!$D56,'00 PDC SP'!J:J)","v":2012.8},{"$f":"SUMIF('00 PDC SP'!$C:$C,'00 SP'!$D56,'00 PDC SP'!K:K)","v":5917994.9800000004},{"$f":"SUMIF('00 PDC SP'!$C:$C,'00 SP'!$D56,'00 PDC SP'!L:L)","v":267797.77},{"$f":"SUMIF('00 PDC SP'!$C:$C,'00 SP'!$D56,'00 PDC SP'!M:M)","v":330490.18},{"$f":"SUMIF('00 PDC SP'!$C:$C,'00 SP'!$D56,'00 PDC SP'!N:N)","v":5855302.5700000003}]
["AAA530","A.II.8.b) F.do Amm.to Altre immobilizzazioni materiali",null,"AAA530",3,{"$f":"SUMIF('00 PDC SP'!$C:$C,'00 SP'!$D57,'00 PDC SP'!H:H)","v":-5012819.07},{"$f":"SUMIF('00 PDC SP'!$C:$C,'00 SP'!$D57,'00 PDC SP'!I:I)","v":-244886.65},{"$f":"SUMIF('00 PDC SP'!$C:$C,'00 SP'!$D57,'00 PDC SP'!J:J)","v":-2012.8},{"$f":"SUMIF('00 PDC SP'!$C:$C,'00 SP'!$D57,'00 PDC SP'!K:K)","v":-5255692.92},{"$f":"SUMIF('00 PDC SP'!$C:$C,'00 SP'!$D57,'00 PDC SP'!L:L)","v":-251784.97},{"$f":"SUMIF('00 PDC SP'!$C:$C,'00 SP'!$D57,'00 PDC SP'!M:M)","v":-312185.73},{"$f":"SUMIF('00 PDC SP'!$C:$C,'00 SP'!$D57,'00 PDC SP'!N:N)","v":-5195292.1599999992}]
["AAA540","A.II.9) Immobilizzazioni materiali in corso e acconti",null,"AAA540",45,{"$f":"SUMIF('00 PDC SP'!$C:$C,'00 SP'!$D58,'00 PDC SP'!H:H)","v":8764895.5800000001},{"$f":"SUMIF('00 PDC SP'!$C:$C,'00 SP'!$D58,'00 PDC SP'!I:I)","v":2477794.12},{"$f":"SUMIF('00 PDC SP'!$C:$C,'00 SP'!$D58,'00 PDC SP'!J:J)","v":244737.13},{"$f":"SUMIF('00 PDC SP'!$C:$C,'00 SP'!$D58,'00 PDC SP'!K:K)","v":10997952.57},{"$f":"SUMIF('00 PDC SP'!$C:$C,'00 SP'!$D58,'00 PDC SP'!L:L)","v":1516047.7},{"$f":"SUMIF('00 PDC SP'!$C:$C,'00 SP'!$D58,'00 PDC SP'!M:M)","v":3923799.5100000002},{"$f":"SUMIF('00 PDC SP'!$C:$C,'00 SP'!$D58,'00 PDC SP'!N:N)","v":8590200.7600000016}]
["AAA550","A.II.10) Fondo Svalutazione immobilizzazioni materiali","S","AAA550",null,{"$f":"SUM(F60:F67)","v":0},0,0,0,0,0,0]
["AAA560","A.II.10.a) F.do Svalut. Terreni",null,"AAA560",39,{"$f":"SUMIF('00 PDC SP'!$C:$C,'00 SP'!$D60,'00 PDC SP'!H:H)","v":0},{"$f":"SUMIF('00 PDC SP'!$C:$C,'00 SP'!$D60,'00 PDC SP'!I:I)","v":0},{"$f":"SUMIF('00 PDC SP'!$C:$C,'00 SP'!$D60,'00 PDC SP'!J:J)","v":0},{"$f":"SUMIF('00 PDC SP'!$C:$C,'00 SP'!$D60,'00 PDC SP'!K:K)","v":0},{"$f":"SUMIF('00 PDC SP'!$C:$C,'00 SP'!$D60,'00 PDC SP'!L:L)","v":0},{"$f":"SUMIF('00 PDC SP'!$C:$C,'00 SP'!$D60,'00 PDC SP'!M:M)","v":0},{"$f":"SUMIF('00 PDC SP'!$C:$C,'00 SP'!$D60,'00 PDC SP'!N:N)","v":0}]
["AAA570","A.II.10.b) F.do Svalut. Fabbricati",null,"AAA570",40,{"$f":"SUMIF('00 PDC SP'!$C:$C,'00 SP'!$D61,'00 PDC SP'!H:H)","v":0},{"$f":"SUMIF('00 PDC SP'!$C:$C,'00 SP'!$D61,'00 PDC SP'!I:I)","v":0},{"$f":"SUMIF('00 PDC SP'!$C:$C,'00 SP'!$D61,'00 PDC SP'!J:J)","v":0},{"$f":"SUMIF('00 PDC SP'!$C:$C,'00 SP'!$D61,'00 PDC SP'!K:K)","v":0},{"$f":"SUMIF('00 PDC SP'!$C:$C,'00 SP'!$D61,'00 PDC SP'!L:L)","v":0},{"$f":"SUMIF('00 PDC SP'!$C:$C,'00 SP'!$D61,'00 PDC SP'!M:M)","v":0},{"$f":"SUMIF('00 PDC SP'!$C:$C,'00 SP'!$D61,'00 PDC SP'!N:N)","v":0}]
["AAA580","A.II.10.c) F.do Svalut. Impianti e macchinari",null,"AAA580",41,{"$f":"SUMIF('00 PDC SP'!$C:$C,'00 SP'!$D62,'00 PDC SP'!H:H)","v":0},{"$f":"SUMIF('00 PDC SP'!$C:$C,'00 SP'!$D62,'00 PDC SP'!I:I)","v":0},{"$f":"SUMIF('00 PDC SP'!$C:$C,'00 SP'!$D62,'00 PDC SP'!J:J)","v":0},{"$f":"SUMIF('00 PDC SP'!$C:$C,'00 SP'!$D62,'00 PDC SP'!K:K)","v":0},{"$f":"SUMIF('00 PDC SP'!$C:$C,'00 SP'!$D62,'00 PDC SP'!L:L)","v":0},{"$f":"SUMIF('00 PDC SP'!$C:$C,'00 SP'!$D62,'00 PDC SP'!M:M)","v":0},{"$f":"SUMIF('00 PDC SP'!$C:$C,'00 SP'!$D62,'00 PDC SP'!N:N)","v":0}]
["AAA590","A.II.10.d) F.do Svalut. Attrezzature sanitarie e scientifiche",null,"AAA590",42,{"$f":"SUMIF('00 PDC SP'!$C:$C,'00 SP'!$D63,'00 PDC SP'!H:H)","v":0},{"$f":"SUMIF('00 PDC SP'!$C:$C,'00 SP'!$D63,'00 PDC SP'!I:I)","v":0},{"$f":"SUMIF('00 PDC SP'!$C:$C,'00 SP'!$D63,'00 PDC SP'!J:J)","v":0},{"$f":"SUMIF('00 PDC SP'!$C:$C,'00 SP'!$D63,'00 PDC SP'!K:K)","v":0},{"$f":"SUMIF('00 PDC SP'!$C:$C,'00 SP'!$D63,'00 PDC SP'!L:L)","v":0},{"$f":"SUMIF('00 PDC SP'!$C:$C,'00 SP'!$D63,'00 PDC SP'!M:M)","v":0},{"$f":"SUMIF('00 PDC SP'!$C:$C,'00 SP'!$D63,'00 PDC SP'!N:N)","v":0}]
["AAA600","A.II.10.e) F.do Svalut. Mobili e arredi",null,"AAA600",43,{"$f":"SUMIF('00 PDC SP'!$C:$C,'00 SP'!$D64,'00 PDC SP'!H:H)","v":0},{"$f":"SUMIF('00 PDC SP'!$C:$C,'00 SP'!$D64,'00 PDC SP'!I:I)","v":0},{"$f":"SUMIF('00 PDC SP'!$C:$C,'00 SP'!$D64,'00 PDC SP'!J:J)","v":0},{"$f":"SUMIF('00 PDC SP'!$C:$C,'00 SP'!$D64,'00 PDC SP'!K:K)","v":0},{"$f":"SUMIF('00 PDC SP'!$C:$C,'00 SP'!$D64,'00 PDC SP'!L:L)","v":0},{"$f":"SUMIF('00 PDC SP'!$C:$C,'00 SP'!$D64,'00 PDC SP'!M:M)","v":0},{"$f":"SUMIF('00 PDC SP'!$C:$C,'00 SP'!$D64,'00 PDC SP'!N:N)","v":0}]
["AAA610","A.II.10.f) F.do Svalut. Automezzi",null,"AAA610",44,{"$f":"SUMIF('00 PDC SP'!$C:$C,'00 SP'!$D65,'00 PDC SP'!H:H)","v":0},{"$f":"SUMIF('00 PDC SP'!$C:$C,'00 SP'!$D65,'00 PDC SP'!I:I)","v":0},{"$f":"SUMIF('00 PDC SP'!$C:$C,'00 SP'!$D65,'00 PDC SP'!J:J)","v":0},{"$f":"SUMIF('00 PDC SP'!$C:$C,'00 SP'!$D65,'00 PDC SP'!K:K)","v":0},{"$f":"SUMIF('00 PDC SP'!$C:$C,'00 SP'!$D65,'00 PDC SP'!L:L)","v":0},{"$f":"SUMIF('00 PDC SP'!$C:$C,'00 SP'!$D65,'00 PDC SP'!M:M)","v":0},{"$f":"SUMIF('00 PDC SP'!$C:$C,'00 SP'!$D65,'00 PDC SP'!N:N)","v":0}]
["AAA620","A.II.10.g) F.do Svalut. Oggetti d'arte",null,"AAA620",45,{"$f":"SUMIF('00 PDC SP'!$C:$C,'00 SP'!$D66,'00 PDC SP'!H:H)","v":0},{"$f":"SUMIF('00 PDC SP'!$C:$C,'00 SP'!$D66,'00 PDC SP'!I:I)","v":0},{"$f":"SUMIF('00 PDC SP'!$C:$C,'00 SP'!$D66,'00 PDC SP'!J:J)","v":0},{"$f":"SUMIF('00 PDC SP'!$C:$C,'00 SP'!$D66,'00 PDC SP'!K:K)","v":0},{"$f":"SUMIF('00 PDC SP'!$C:$C,'00 SP'!$D66,'00 PDC SP'!L:L)","v":0},{"$f":"SUMIF('00 PDC SP'!$C:$C,'00 SP'!$D66,'00 PDC SP'!M:M)","v":0},{"$f":"SUMIF('00 PDC SP'!$C:$C,'00 SP'!$D66,'00 PDC SP'!N:N)","v":0}]
["AAA630","A.II.10.h) F.do Svalut. Altre immobilizzazioni materiali",null,"AAA630",45,{"$f":"SUMIF('00 PDC SP'!$C:$C,'00 SP'!$D67,'00 PDC SP'!H:H)","v":0},{"$f":"SUMIF('00 PDC SP'!$C:$C,'00 SP'!$D67,'00 PDC SP'!I:I)","v":0},{"$f":"SUMIF('00 PDC SP'!$C:$C,'00 SP'!$D67,'00 PDC SP'!J:J)","v":0},{"$f":"SUMIF('00 PDC SP'!$C:$C,'00 SP'!$D67,'00 PDC SP'!K:K)","v":0},{"$f":"SUMIF('00 PDC SP'!$C:$C,'00 SP'!$D67,'00 PDC SP'!L:L)","v":0},{"$f":"SUMIF('00 PDC SP'!$C:$C,'00 SP'!$D67,'00 PDC SP'!M:M)","v":0},{"$f":"SUMIF('00 PDC SP'!$C:$C,'00 SP'!$D67,'00 PDC SP'!N:N)","v":0}]
["AAA640","A.III) IMMOBILIZZAZIONI FINANZIARIE","S","AAA640",null,{"$f":"F69+F74","v":14036.45},0,0,14036.45,0,0,14036.45]
["AAA650","A.III.1) Crediti finanziari","S","AAA650",null,{"$f":"SUM(F70:F73)","v":14036.45},0,0,14036.45,0,0,14036.45]
["AAA660","A.III.1.a) Crediti finanziari v/Stato",null,"AAA660",46,{"$f":"SUMIF('00 PDC SP'!$C:$C,'00 SP'!$D70,'00 PDC SP'!H:H)","v":0},{"$f":"SUMIF('00 PDC SP'!$C:$C,'00 SP'!$D70,'00 PDC SP'!I:I)","v":0},{"$f":"SUMIF('00 PDC SP'!$C:$C,'00 SP'!$D70,'00 PDC SP'!J:J)","v":0},{"$f":"SUMIF('00 PDC SP'!$C:$C,'00 SP'!$D70,'00 PDC SP'!K:K)","v":0},{"$f":"SUMIF('00 PDC SP'!$C:$C,'00 SP'!$D70,'00 PDC SP'!L:L)","v":0},{"$f":"SUMIF('00 PDC SP'!$C:$C,'00 SP'!$D70,'00 PDC SP'!M:M)","v":0},{"$f":"SUMIF('00 PDC SP'!$C:$C,'00 SP'!$D70,'00 PDC SP'!N:N)","v":0}]
["AAA670","A.III.1.b) Crediti finanziari v/Regione",null,"AAA670",46,{"$f":"SUMIF('00 PDC SP'!$C:$C,'00 SP'!$D71,'00 PDC SP'!H:H)","v":0},{"$f":"SUMIF('00 PDC SP'!$C:$C,'00 SP'!$D71,'00 PDC SP'!I:I)","v":0},{"$f":"SUMIF('00 PDC SP'!$C:$C,'00 SP'!$D71,'00 PDC SP'!J:J)","v":0},{"$f":"SUMIF('00 PDC SP'!$C:$C,'00 SP'!$D71,'00 PDC SP'!K:K)","v":0},{"$f":"SUMIF('00 PDC SP'!$C:$C,'00 SP'!$D71,'00 PDC SP'!L:L)","v":0},{"$f":"SUMIF('00 PDC SP'!$C:$C,'00 SP'!$D71,'00 PDC SP'!M:M)","v":0},{"$f":"SUMIF('00 PDC SP'!$C:$C,'00 SP'!$D71,'00 PDC SP'!N:N)","v":0}]
["AAA680","A.III.1.c) Crediti finanziari v/partecipate",null,"AAA680",46,{"$f":"SUMIF('00 PDC SP'!$C:$C,'00 SP'!$D72,'00 PDC SP'!H:H)","v":0},{"$f":"SUMIF('00 PDC SP'!$C:$C,'00 SP'!$D72,'00 PDC SP'!I:I)","v":0},{"$f":"SUMIF('00 PDC SP'!$C:$C,'00 SP'!$D72,'00 PDC SP'!J:J)","v":0},{"$f":"SUMIF('00 PDC SP'!$C:$C,'00 SP'!$D72,'00 PDC SP'!K:K)","v":0},{"$f":"SUMIF('00 PDC SP'!$C:$C,'00 SP'!$D72,'00 PDC SP'!L:L)","v":0},{"$f":"SUMIF('00 PDC SP'!$C:$C,'00 SP'!$D72,'00 PDC SP'!M:M)","v":0},{"$f":"SUMIF('00 PDC SP'!$C:$C,'00 SP'!$D72,'00 PDC SP'!N:N)","v":0}]
["AAA690","A.III.1.d) Crediti finanziari v/altri",null,"AAA690",46,{"$f":"SUMIF('00 PDC SP'!$C:$C,'00 SP'!$D73,'00 PDC SP'!H:H)","v":14036.45},{"$f":"SUMIF('00 PDC SP'!$C:$C,'00 SP'!$D73,'00 PDC SP'!I:I)","v":0},{"$f":"SUMIF('00 PDC SP'!$C:$C,'00 SP'!$D73,'00 PDC SP'!J:J)","v":0},{"$f":"SUMIF('00 PDC SP'!$C:$C,'00 SP'!$D73,'00 PDC SP'!K:K)","v":14036.45},{"$f":"SUMIF('00 PDC SP'!$C:$C,'00 SP'!$D73,'00 PDC SP'!L:L)","v":0},{"$f":"SUMIF('00 PDC SP'!$C:$C,'00 SP'!$D73,'00 PDC SP'!M:M)","v":0},{"$f":"SUMIF('00 PDC SP'!$C:$C,'00 SP'!$D73,'00 PDC SP'!N:N)","v":14036.45}]
["AAA700","A.III.2) Titoli","S","AAA700",null,{"$f":"F75+F76","v":0},0,0,0,0,0,0]
["AAA710","A.III.2.a) Partecipazioni",null,"AAA710",47,{"$f":"SUMIF('00 PDC SP'!$C:$C,'00 SP'!$D75,'00 PDC SP'!H:H)","v":0},{"$f":"SUMIF('00 PDC SP'!$C:$C,'00 SP'!$D75,'00 PDC SP'!I:I)","v":0},{"$f":"SUMIF('00 PDC SP'!$C:$C,'00 SP'!$D75,'00 PDC SP'!J:J)","v":0},{"$f":"SUMIF('00 PDC SP'!$C:$C,'00 SP'!$D75,'00 PDC SP'!K:K)","v":0},{"$f":"SUMIF('00 PDC SP'!$C:$C,'00 SP'!$D75,'00 PDC SP'!L:L)","v":0},{"$f":"SUMIF('00 PDC SP'!$C:$C,'00 SP'!$D75,'00 PDC SP'!M:M)","v":0},{"$f":"SUMIF('00 PDC SP'!$C:$C,'00 SP'!$D75,'00 PDC SP'!N:N)","v":0}]
["AAA720","A.III.2.b) Altri titoli","S","AAA720",null,{"$f":"SUM(F77:F80)","v":0},0,0,0,0,0,0]
["AAA730","A.III.2.b.1) Titoli di Stato",null,"AAA730",47,{"$f":"SUMIF('00 PDC SP'!$C:$C,'00 SP'!$D77,'00 PDC SP'!H:H)","v":0},{"$f":"SUMIF('00 PDC SP'!$C:$C,'00 SP'!$D77,'00 PDC SP'!I:I)","v":0},{"$f":"SUMIF('00 PDC SP'!$C:$C,'00 SP'!$D77,'00 PDC SP'!J:J)","v":0},{"$f":"SUMIF('00 PDC SP'!$C:$C,'00 SP'!$D77,'00 PDC SP'!K:K)","v":0},{"$f":"SUMIF('00 PDC SP'!$C:$C,'00 SP'!$D77,'00 PDC SP'!L:L)","v":0},{"$f":"SUMIF('00 PDC SP'!$C:$C,'00 SP'!$D77,'00 PDC SP'!M:M)","v":0},{"$f":"SUMIF('00 PDC SP'!$C:$C,'00 SP'!$D77,'00 PDC SP'!N:N)","v":0}]
["AAA740","A.III.2.b.2) Altre Obbligazioni",null,"AAA740",47,{"$f":"SUMIF('00 PDC SP'!$C:$C,'00 SP'!$D78,'00 PDC SP'!H:H)","v":0},{"$f":"SUMIF('00 PDC SP'!$C:$C,'00 SP'!$D78,'00 PDC SP'!I:I)","v":0},{"$f":"SUMIF('00 PDC SP'!$C:$C,'00 SP'!$D78,'00 PDC SP'!J:J)","v":0},{"$f":"SUMIF('00 PDC SP'!$C:$C,'00 SP'!$D78,'00 PDC SP'!K:K)","v":0},{"$f":"SUMIF('00 PDC SP'!$C:$C,'00 SP'!$D78,'00 PDC SP'!L:L)","v":0},{"$f":"SUMIF('00 PDC SP'!$C:$C,'00 SP'!$D78,'00 PDC SP'!M:M)","v":0},{"$f":"SUMIF('00 PDC SP'!$C:$C,'00 SP'!$D78,'00 PDC SP'!N:N)","v":0}]
["AAA750","A.III.2.b.3) Titoli azionari quotati in Borsa",null,"AAA750",47,{"$f":"SUMIF('00 PDC SP'!$C:$C,'00 SP'!$D79,'00 PDC SP'!H:H)","v":0},{"$f":"SUMIF('00 PDC SP'!$C:$C,'00 SP'!$D79,'00 PDC SP'!I:I)","v":0},{"$f":"SUMIF('00 PDC SP'!$C:$C,'00 SP'!$D79,'00 PDC SP'!J:J)","v":0},{"$f":"SUMIF('00 PDC SP'!$C:$C,'00 SP'!$D79,'00 PDC SP'!K:K)","v":0},{"$f":"SUMIF('00 PDC SP'!$C:$C,'00 SP'!$D79,'00 PDC SP'!L:L)","v":0},{"$f":"SUMIF('00 PDC SP'!$C:$C,'00 SP'!$D79,'00 PDC SP'!M:M)","v":0},{"$f":"SUMIF('00 PDC SP'!$C:$C,'00 SP'!$D79,'00 PDC SP'!N:N)","v":0}]
["AAA760","A.III.2.b.4) Titoli diversi",null,"AAA760",47,{"$f":"SUMIF('00 PDC SP'!$C:$C,'00 SP'!$D80,'00 PDC SP'!H:H)","v":0},{"$f":"SUMIF('00 PDC SP'!$C:$C,'00 SP'!$D80,'00 PDC SP'!I:I)","v":0},{"$f":"SUMIF('00 PDC SP'!$C:$C,'00 SP'!$D80,'00 PDC SP'!J:J)","v":0},{"$f":"SUMIF('00 PDC SP'!$C:$C,'00 SP'!$D80,'00 PDC SP'!K:K)","v":0},{"$f":"SUMIF('00 PDC SP'!$C:$C,'00 SP'!$D80,'00 PDC SP'!L:L)","v":0},{"$f":"SUMIF('00 PDC SP'!$C:$C,'00 SP'!$D80,'00 PDC SP'!M:M)","v":0},{"$f":"SUMIF('00 PDC SP'!$C:$C,'00 SP'!$D80,'00 PDC SP'!N:N)","v":0}]
["ABZ999","B) ATTIVO CIRCOLANTE","S","ABZ999",null,{"$f":"F82+F101+F154+F157","v":260562718.86999997},2005032560.6500001,1999341648.4399998,266253631.07999998,2107441961.7599998,2090110564.4800003,283585028.36000001]
["ABA000","B.I) RIMANENZE","S","ABA000",null,{"$f":"F83+F93","v":10622628.800000003},11844723.249999998,10622628.800000003,11844723.249999998,16855724.809999999,11844723.249999998,16855724.809999999]
["ABA010","B.I.1) Rimanenze beni sanitari","S","ABA010",null,{"$f":"SUM(F84:F92)","v":10166401.240000002},11334105.079999998,10166401.240000002,11334105.079999998,16457605.35,11334105.079999998,16457605.35]
["ABA020","B.I.1.a) Prodotti farmaceutici ed emoderivati",null,"ABA020",31,{"$f":"SUMIF('00 PDC SP'!$C:$C,'00 SP'!$D84,'00 PDC SP'!H:H)","v":5481808.8900000006},{"$f":"SUMIF('00 PDC SP'!$C:$C,'00 SP'!$D84,'00 PDC SP'!I:I)","v":5834132.1200000001},{"$f":"SUMIF('00 PDC SP'!$C:$C,'00 SP'!$D84,'00 PDC SP'!J:J)","v":5481808.8900000006},{"$f":"SUMIF('00 PDC SP'!$C:$C,'00 SP'!$D84,'00 PDC SP'!K:K)","v":5834132.1200000001},{"$f":"SUMIF('00 PDC SP'!$C:$C,'00 SP'!$D84,'00 PDC SP'!L:L)","v":10541532.870000001},{"$f":"SUMIF('00 PDC SP'!$C:$C,'00 SP'!$D84,'00 PDC SP'!M:M)","v":5834132.1200000001},{"$f":"SUMIF('00 PDC SP'!$C:$C,'00 SP'!$D84,'00 PDC SP'!N:N)","v":10541532.870000001}]
["ABA030","B.I.1.b) Sangue ed emocomponenti",null,"ABA030",31,{"$f":"SUMIF('00 PDC SP'!$C:$C,'00 SP'!$D85,'00 PDC SP'!H:H)","v":0},{"$f":"SUMIF('00 PDC SP'!$C:$C,'00 SP'!$D85,'00 PDC SP'!I:I)","v":0},{"$f":"SUMIF('00 PDC SP'!$C:$C,'00 SP'!$D85,'00 PDC SP'!J:J)","v":0},{"$f":"SUMIF('00 PDC SP'!$C:$C,'00 SP'!$D85,'00 PDC SP'!K:K)","v":0},{"$f":"SUMIF('00 PDC SP'!$C:$C,'00 SP'!$D85,'00 PDC SP'!L:L)","v":0},{"$f":"SUMIF('00 PDC SP'!$C:$C,'00 SP'!$D85,'00 PDC SP'!M:M)","v":0},{"$f":"SUMIF('00 PDC SP'!$C:$C,'00 SP'!$D85,'00 PDC SP'!N:N)","v":0}]
["ABA040","B.I.1.c) Dispositivi medici",null,"ABA040",31,{"$f":"SUMIF('00 PDC SP'!$C:$C,'00 SP'!$D86,'00 PDC SP'!H:H)","v":4404910.21},{"$f":"SUMIF('00 PDC SP'!$C:$C,'00 SP'!$D86,'00 PDC SP'!I:I)","v":5139047.9299999988},{"$f":"SUMIF('00 PDC SP'!$C:$C,'00 SP'!$D86,'00 PDC SP'!J:J)","v":4404910.21},{"$f":"SUMIF('00 PDC SP'!$C:$C,'00 SP'!$D86,'00 PDC SP'!K:K)","v":5139047.9299999988},{"$f":"SUMIF('00 PDC SP'!$C:$C,'00 SP'!$D86,'00 PDC SP'!L:L)","v":5544382.7299999986},{"$f":"SUMIF('00 PDC SP'!$C:$C,'00 SP'!$D86,'00 PDC SP'!M:M)","v":5139047.9299999988},{"$f":"SUMIF('00 PDC SP'!$C:$C,'00 SP'!$D86,'00 PDC SP'!N:N)","v":5544382.7299999986}]
["ABA050","B.I.1.d) Prodotti dietetici",null,"ABA050",31,{"$f":"SUMIF('00 PDC SP'!$C:$C,'00 SP'!$D87,'00 PDC SP'!H:H)","v":68269.16},{"$f":"SUMIF('00 PDC SP'!$C:$C,'00 SP'!$D87,'00 PDC SP'!I:I)","v":63620.12},{"$f":"SUMIF('00 PDC SP'!$C:$C,'00 SP'!$D87,'00 PDC SP'!J:J)","v":68269.16},{"$f":"SUMIF('00 PDC SP'!$C:$C,'00 SP'!$D87,'00 PDC SP'!K:K)","v":63620.12},{"$f":"SUMIF('00 PDC SP'!$C:$C,'00 SP'!$D87,'00 PDC SP'!L:L)","v":71649.81},{"$f":"SUMIF('00 PDC SP'!$C:$C,'00 SP'!$D87,'00 PDC SP'!M:M)","v":63620.12},{"$f":"SUMIF('00 PDC SP'!$C:$C,'00 SP'!$D87,'00 PDC SP'!N:N)","v":71649.81}]
["ABA060","B.I.1.e) Materiali per la profilassi (vaccini)",null,"ABA060",31,{"$f":"SUMIF('00 PDC SP'!$C:$C,'00 SP'!$D88,'00 PDC SP'!H:H)","v":0},{"$f":"SUMIF('00 PDC SP'!$C:$C,'00 SP'!$D88,'00 PDC SP'!I:I)","v":1112.76},{"$f":"SUMIF('00 PDC SP'!$C:$C,'00 SP'!$D88,'00 PDC SP'!J:J)","v":0},{"$f":"SUMIF('00 PDC SP'!$C:$C,'00 SP'!$D88,'00 PDC SP'!K:K)","v":1112.76},{"$f":"SUMIF('00 PDC SP'!$C:$C,'00 SP'!$D88,'00 PDC SP'!L:L)","v":2856.7},{"$f":"SUMIF('00 PDC SP'!$C:$C,'00 SP'!$D88,'00 PDC SP'!M:M)","v":1112.76},{"$f":"SUMIF('00 PDC SP'!$C:$C,'00 SP'!$D88,'00 PDC SP'!N:N)","v":2856.7}]
["ABA070","B.I.1.f) Prodotti chimici",null,"ABA070",31,{"$f":"SUMIF('00 PDC SP'!$C:$C,'00 SP'!$D89,'00 PDC SP'!H:H)","v":0},{"$f":"SUMIF('00 PDC SP'!$C:$C,'00 SP'!$D89,'00 PDC SP'!I:I)","v":0},{"$f":"SUMIF('00 PDC SP'!$C:$C,'00 SP'!$D89,'00 PDC SP'!J:J)","v":0},{"$f":"SUMIF('00 PDC SP'!$C:$C,'00 SP'!$D89,'00 PDC SP'!K:K)","v":0},{"$f":"SUMIF('00 PDC SP'!$C:$C,'00 SP'!$D89,'00 PDC SP'!L:L)","v":0},{"$f":"SUMIF('00 PDC SP'!$C:$C,'00 SP'!$D89,'00 PDC SP'!M:M)","v":0},{"$f":"SUMIF('00 PDC SP'!$C:$C,'00 SP'!$D89,'00 PDC SP'!N:N)","v":0}]
["ABA080","B.I.1.g) Materiali e prodotti per uso veterinario",null,"ABA080",31,{"$f":"SUMIF('00 PDC SP'!$C:$C,'00 SP'!$D90,'00 PDC SP'!H:H)","v":0},{"$f":"SUMIF('00 PDC SP'!$C:$C,'00 SP'!$D90,'00 PDC SP'!I:I)","v":0},{"$f":"SUMIF('00 PDC SP'!$C:$C,'00 SP'!$D90,'00 PDC SP'!J:J)","v":0},{"$f":"SUMIF('00 PDC SP'!$C:$C,'00 SP'!$D90,'00 PDC SP'!K:K)","v":0},{"$f":"SUMIF('00 PDC SP'!$C:$C,'00 SP'!$D90,'00 PDC SP'!L:L)","v":0},{"$f":"SUMIF('00 PDC SP'!$C:$C,'00 SP'!$D90,'00 PDC SP'!M:M)","v":0},{"$f":"SUMIF('00 PDC SP'!$C:$C,'00 SP'!$D90,'00 PDC SP'!N:N)","v":0}]
["ABA090","B.I.1.h) Altri beni e prodotti sanitari",null,"ABA090",31,{"$f":"SUMIF('00 PDC SP'!$C:$C,'00 SP'!$D91,'00 PDC SP'!H:H)","v":211412.98},{"$f":"SUMIF('00 PDC SP'!$C:$C,'00 SP'!$D91,'00 PDC SP'!I:I)","v":296192.15000000002},{"$f":"SUMIF('00 PDC SP'!$C:$C,'00 SP'!$D91,'00 PDC SP'!J:J)","v":211412.98},{"$f":"SUMIF('00 PDC SP'!$C:$C,'00 SP'!$D91,'00 PDC SP'!K:K)","v":296192.15000000002},{"$f":"SUMIF('00 PDC SP'!$C:$C,'00 SP'!$D91,'00 PDC SP'!L:L)","v":297183.24},{"$f":"SUMIF('00 PDC SP'!$C:$C,'00 SP'!$D91,'00 PDC SP'!M:M)","v":296192.15000000002},{"$f":"SUMIF('00 PDC SP'!$C:$C,'00 SP'!$D91,'00 PDC SP'!N:N)","v":297183.24}]
["ABA100","B.I.1.i) Acconti per acquisto di beni e prodotti sanitari",null,"ABA100",32,{"$f":"SUMIF('00 PDC SP'!$C:$C,'00 SP'!$D92,'00 PDC SP'!H:H)","v":0},{"$f":"SUMIF('00 PDC SP'!$C:$C,'00 SP'!$D92,'00 PDC SP'!I:I)","v":0},{"$f":"SUMIF('00 PDC SP'!$C:$C,'00 SP'!$D92,'00 PDC SP'!J:J)","v":0},{"$f":"SUMIF('00 PDC SP'!$C:$C,'00 SP'!$D92,'00 PDC SP'!K:K)","v":0},{"$f":"SUMIF('00 PDC SP'!$C:$C,'00 SP'!$D92,'00 PDC SP'!L:L)","v":0},{"$f":"SUMIF('00 PDC SP'!$C:$C,'00 SP'!$D92,'00 PDC SP'!M:M)","v":0},{"$f":"SUMIF('00 PDC SP'!$C:$C,'00 SP'!$D92,'00 PDC SP'!N:N)","v":0}]
["ABA110","B.I.2) Rimanenze beni non sanitari","S","ABA110",null,{"$f":"SUM(F94:F100)","v":456227.56000000006},510618.16999999993,456227.56000000006,510618.16999999993,398119.46,510618.16999999993,398119.4599999999]
["ABA120","B.I.2.a) Prodotti alimentari",null,"ABA120",31,{"$f":"SUMIF('00 PDC SP'!$C:$C,'00 SP'!$D94,'00 PDC SP'!H:H)","v":0},{"$f":"SUMIF('00 PDC SP'!$C:$C,'00 SP'!$D94,'00 PDC SP'!I:I)","v":0},{"$f":"SUMIF('00 PDC SP'!$C:$C,'00 SP'!$D94,'00 PDC SP'!J:J)","v":0},{"$f":"SUMIF('00 PDC SP'!$C:$C,'00 SP'!$D94,'00 PDC SP'!K:K)","v":0},{"$f":"SUMIF('00 PDC SP'!$C:$C,'00 SP'!$D94,'00 PDC SP'!L:L)","v":0},{"$f":"SUMIF('00 PDC SP'!$C:$C,'00 SP'!$D94,'00 PDC SP'!M:M)","v":0},{"$f":"SUMIF('00 PDC SP'!$C:$C,'00 SP'!$D94,'00 PDC SP'!N:N)","v":0}]
["ABA130","B.I.2.b) Materiali di guardaroba, di pulizia, e di convivenza in genere",null,"ABA130",31,{"$f":"SUMIF('00 PDC SP'!$C:$C,'00 SP'!$D95,'00 PDC SP'!H:H)","v":35073.03},{"$f":"SUMIF('00 PDC SP'!$C:$C,'00 SP'!$D95,'00 PDC SP'!I:I)","v":29727.94},{"$f":"SUMIF('00 PDC SP'!$C:$C,'00 SP'!$D95,'00 PDC SP'!J:J)","v":35073.03},{"$f":"SUMIF('00 PDC SP'!$C:$C,'00 SP'!$D95,'00 PDC SP'!K:K)","v":29727.94},{"$f":"SUMIF('00 PDC SP'!$C:$C,'00 SP'!$D95,'00 PDC SP'!L:L)","v":29504.9},{"$f":"SUMIF('00 PDC SP'!$C:$C,'00 SP'!$D95,'00 PDC SP'!M:M)","v":29727.94},{"$f":"SUMIF('00 PDC SP'!$C:$C,'00 SP'!$D95,'00 PDC SP'!N:N)","v":29504.899999999998}]
["ABA140","B.I.2.c) Combustibili, carburanti e lubrificanti",null,"ABA140",31,{"$f":"SUMIF('00 PDC SP'!$C:$C,'00 SP'!$D96,'00 PDC SP'!H:H)","v":0},{"$f":"SUMIF('00 PDC SP'!$C:$C,'00 SP'!$D96,'00 PDC SP'!I:I)","v":0},{"$f":"SUMIF('00 PDC SP'!$C:$C,'00 SP'!$D96,'00 PDC SP'!J:J)","v":0},{"$f":"SUMIF('00 PDC SP'!$C:$C,'00 SP'!$D96,'00 PDC SP'!K:K)","v":0},{"$f":"SUMIF('00 PDC SP'!$C:$C,'00 SP'!$D96,'00 PDC SP'!L:L)","v":0},{"$f":"SUMIF('00 PDC SP'!$C:$C,'00 SP'!$D96,'00 PDC SP'!M:M)","v":0},{"$f":"SUMIF('00 PDC SP'!$C:$C,'00 SP'!$D96,'00 PDC SP'!N:N)","v":0}]
["ABA150","B.I.2.d) Supporti informatici e cancelleria",null,"ABA150",31,{"$f":"SUMIF('00 PDC SP'!$C:$C,'00 SP'!$D97,'00 PDC SP'!H:H)","v":333136.13},{"$f":"SUMIF('00 PDC SP'!$C:$C,'00 SP'!$D97,'00 PDC SP'!I:I)","v":362290.35},{"$f":"SUMIF('00 PDC SP'!$C:$C,'00 SP'!$D97,'00 PDC SP'!J:J)","v":333136.13},{"$f":"SUMIF('00 PDC SP'!$C:$C,'00 SP'!$D97,'00 PDC SP'!K:K)","v":362290.35},{"$f":"SUMIF('00 PDC SP'!$C:$C,'00 SP'!$D97,'00 PDC SP'!L:L)","v":209556.43},{"$f":"SUMIF('00 PDC SP'!$C:$C,'00 SP'!$D97,'00 PDC SP'!M:M)","v":362290.35},{"$f":"SUMIF('00 PDC SP'!$C:$C,'00 SP'!$D97,'00 PDC SP'!N:N)","v":209556.42999999996}]
["ABA160","B.I.2.e) Materiale per la manutenzione",null,"ABA160",31,{"$f":"SUMIF('00 PDC SP'!$C:$C,'00 SP'!$D98,'00 PDC SP'!H:H)","v":85148.94},{"$f":"SUMIF('00 PDC SP'!$C:$C,'00 SP'!$D98,'00 PDC SP'!I:I)","v":117370.13999999998},{"$f":"SUMIF('00 PDC SP'!$C:$C,'00 SP'!$D98,'00 PDC SP'!J:J)","v":85148.94},{"$f":"SUMIF('00 PDC SP'!$C:$C,'00 SP'!$D98,'00 PDC SP'!K:K)","v":117370.13999999998},{"$f":"SUMIF('00 PDC SP'!$C:$C,'00 SP'!$D98,'00 PDC SP'!L:L)","v":158555.70000000001},{"$f":"SUMIF('00 PDC SP'!$C:$C,'00 SP'!$D98,'00 PDC SP'!M:M)","v":117370.13999999998},{"$f":"SUMIF('00 PDC SP'!$C:$C,'00 SP'!$D98,'00 PDC SP'!N:N)","v":158555.69999999998}]
["ABA170","B.I.2.f) Altri beni e prodotti non sanitari",null,"ABA170",31,{"$f":"SUMIF('00 PDC SP'!$C:$C,'00 SP'!$D99,'00 PDC SP'!H:H)","v":2869.46},{"$f":"SUMIF('00 PDC SP'!$C:$C,'00 SP'!$D99,'00 PDC SP'!I:I)","v":1229.74},{"$f":"SUMIF('00 PDC SP'!$C:$C,'00 SP'!$D99,'00 PDC SP'!J:J)","v":2869.46},{"$f":"SUMIF('00 PDC SP'!$C:$C,'00 SP'!$D99,'00 PDC SP'!K:K)","v":1229.74},{"$f":"SUMIF('00 PDC SP'!$C:$C,'00 SP'!$D99,'00 PDC SP'!L:L)","v":502.43},{"$f":"SUMIF('00 PDC SP'!$C:$C,'00 SP'!$D99,'00 PDC SP'!M:M)","v":1229.74},{"$f":"SUMIF('00 PDC SP'!$C:$C,'00 SP'!$D99,'00 PDC SP'!N:N)","v":502.43000000000006}]
["ABA180","B.I.2.g) Acconti per acquisto di beni e prodotti non sanitari",null,"ABA180",32,{"$f":"SUMIF('00 PDC SP'!$C:$C,'00 SP'!$D100,'00 PDC SP'!H:H)","v":0},{"$f":"SUMIF('00 PDC SP'!$C:$C,'00 SP'!$D100,'00 PDC SP'!I:I)","v":0},{"$f":"SUMIF('00 PDC SP'!$C:$C,'00 SP'!$D100,'00 PDC SP'!J:J)","v":0},{"$f":"SUMIF('00 PDC SP'!$C:$C,'00 SP'!$D100,'00 PDC SP'!K:K)","v":0},{"$f":"SUMIF('00 PDC SP'!$C:$C,'00 SP'!$D100,'00 PDC SP'!L:L)","v":0},{"$f":"SUMIF('00 PDC SP'!$C:$C,'00 SP'!$D100,'00 PDC SP'!M:M)","v":0},{"$f":"SUMIF('00 PDC SP'!$C:$C,'00 SP'!$D100,'00 PDC SP'!N:N)","v":0}]
["ABA190","B.II) CREDITI","S","ABA190",null,{"$f":"F102+F117+F135+F136+F143+F147+F148","v":221460198.92999998},1317339059.71,1357196933.3299999,181602325.31,1463465367.76,1425846498.2500002,219221194.82000008]
["ABA200","B.II.1) Crediti v/Stato","S","ABA200",null,{"$f":"SUM(F103:F111)+F116","v":104053},12202.45,18172.71,98082.74,154584.84,245746.06,6921.5199999999968]
["ABA210","B.II.1.a) Crediti v/Stato per spesa corrente - Integrazione a norma del D.L.vo 56/2000",null,"ABA210",21,{"$f":"SUMIF('00 PDC SP'!$C:$C,'00 SP'!$D103,'00 PDC SP'!H:H)","v":5970.26},{"$f":"SUMIF('00 PDC SP'!$C:$C,'00 SP'!$D103,'00 PDC SP'!I:I)","v":12202.45},{"$f":"SUMIF('00 PDC SP'!$C:$C,'00 SP'!$D103,'00 PDC SP'!J:J)","v":18172.71},{"$f":"SUMIF('00 PDC SP'!$C:$C,'00 SP'!$D103,'00 PDC SP'!K:K)","v":0},{"$f":"SUMIF('00 PDC SP'!$C:$C,'00 SP'!$D103,'00 PDC SP'!L:L)","v":50822.1},{"$f":"SUMIF('00 PDC SP'!$C:$C,'00 SP'!$D103,'00 PDC SP'!M:M)","v":48520.58},{"$f":"SUMIF('00 PDC SP'!$C:$C,'00 SP'!$D103,'00 PDC SP'!N:N)","v":2301.5199999999968}]
["ABA220","B.II.1.b) Crediti v/Stato per spesa corrente - FSN",null,"ABA220",21,{"$f":"SUMIF('00 PDC SP'!$C:$C,'00 SP'!$D104,'00 PDC SP'!H:H)","v":0},{"$f":"SUMIF('00 PDC SP'!$C:$C,'00 SP'!$D104,'00 PDC SP'!I:I)","v":0},{"$f":"SUMIF('00 PDC SP'!$C:$C,'00 SP'!$D104,'00 PDC SP'!J:J)","v":0},{"$f":"SUMIF('00 PDC SP'!$C:$C,'00 SP'!$D104,'00 PDC SP'!K:K)","v":0},{"$f":"SUMIF('00 PDC SP'!$C:$C,'00 SP'!$D104,'00 PDC SP'!L:L)","v":0},{"$f":"SUMIF('00 PDC SP'!$C:$C,'00 SP'!$D104,'00 PDC SP'!M:M)","v":0},{"$f":"SUMIF('00 PDC SP'!$C:$C,'00 SP'!$D104,'00 PDC SP'!N:N)","v":0}]
["ABA230","B.II.1.c) Crediti v/Stato per mobilità attiva extraregionale",null,"ABA230",21,{"$f":"SUMIF('00 PDC SP'!$C:$C,'00 SP'!$D105,'00 PDC SP'!H:H)","v":0},{"$f":"SUMIF('00 PDC SP'!$C:$C,'00 SP'!$D105,'00 PDC SP'!I:I)","v":0},{"$f":"SUMIF('00 PDC SP'!$C:$C,'00 SP'!$D105,'00 PDC SP'!J:J)","v":0},{"$f":"SUMIF('00 PDC SP'!$C:$C,'00 SP'!$D105,'00 PDC SP'!K:K)","v":0},{"$f":"SUMIF('00 PDC SP'!$C:$C,'00 SP'!$D105,'00 PDC SP'!L:L)","v":0},{"$f":"SUMIF('00 PDC SP'!$C:$C,'00 SP'!$D105,'00 PDC SP'!M:M)","v":0},{"$f":"SUMIF('00 PDC SP'!$C:$C,'00 SP'!$D105,'00 PDC SP'!N:N)","v":0}]
["ABA240","B.II.1.d) Crediti v/Stato per mobilità attiva internazionale",null,"ABA240",21,{"$f":"SUMIF('00 PDC SP'!$C:$C,'00 SP'!$D106,'00 PDC SP'!H:H)","v":0},{"$f":"SUMIF('00 PDC SP'!$C:$C,'00 SP'!$D106,'00 PDC SP'!I:I)","v":0},{"$f":"SUMIF('00 PDC SP'!$C:$C,'00 SP'!$D106,'00 PDC SP'!J:J)","v":0},{"$f":"SUMIF('00 PDC SP'!$C:$C,'00 SP'!$D106,'00 PDC SP'!K:K)","v":0},{"$f":"SUMIF('00 PDC SP'!$C:$C,'00 SP'!$D106,'00 PDC SP'!L:L)","v":0},{"$f":"SUMIF('00 PDC SP'!$C:$C,'00 SP'!$D106,'00 PDC SP'!M:M)","v":0},{"$f":"SUMIF('00 PDC SP'!$C:$C,'00 SP'!$D106,'00 PDC SP'!N:N)","v":0}]
["ABA250","B.II.1.e) Crediti v/Stato per acconto quota fabbisogno sanitario regionale standard",null,"ABA250",21,{"$f":"SUMIF('00 PDC SP'!$C:$C,'00 SP'!$D107,'00 PDC SP'!H:H)","v":0},{"$f":"SUMIF('00 PDC SP'!$C:$C,'00 SP'!$D107,'00 PDC SP'!I:I)","v":0},{"$f":"SUMIF('00 PDC SP'!$C:$C,'00 SP'!$D107,'00 PDC SP'!J:J)","v":0},{"$f":"SUMIF('00 PDC SP'!$C:$C,'00 SP'!$D107,'00 PDC SP'!K:K)","v":0},{"$f":"SUMIF('00 PDC SP'!$C:$C,'00 SP'!$D107,'00 PDC SP'!L:L)","v":0},{"$f":"SUMIF('00 PDC SP'!$C:$C,'00 SP'!$D107,'00 PDC SP'!M:M)","v":0},{"$f":"SUMIF('00 PDC SP'!$C:$C,'00 SP'!$D107,'00 PDC SP'!N:N)","v":0}]
["ABA260","B.II.1.f) Crediti v/Stato per finanziamento sanitario aggiuntivo corrente",null,"ABA260",21,{"$f":"SUMIF('00 PDC SP'!$C:$C,'00 SP'!$D108,'00 PDC SP'!H:H)","v":0},{"$f":"SUMIF('00 PDC SP'!$C:$C,'00 SP'!$D108,'00 PDC SP'!I:I)","v":0},{"$f":"SUMIF('00 PDC SP'!$C:$C,'00 SP'!$D108,'00 PDC SP'!J:J)","v":0},{"$f":"SUMIF('00 PDC SP'!$C:$C,'00 SP'!$D108,'00 PDC SP'!K:K)","v":0},{"$f":"SUMIF('00 PDC SP'!$C:$C,'00 SP'!$D108,'00 PDC SP'!L:L)","v":0},{"$f":"SUMIF('00 PDC SP'!$C:$C,'00 SP'!$D108,'00 PDC SP'!M:M)","v":0},{"$f":"SUMIF('00 PDC SP'!$C:$C,'00 SP'!$D108,'00 PDC SP'!N:N)","v":0}]
["ABA270","B.II.1.g) Crediti v/Stato per spesa corrente - altro",null,"ABA270",21,{"$f":"SUMIF('00 PDC SP'!$C:$C,'00 SP'!$D109,'00 PDC SP'!H:H)","v":0},{"$f":"SUMIF('00 PDC SP'!$C:$C,'00 SP'!$D109,'00 PDC SP'!I:I)","v":0},{"$f":"SUMIF('00 PDC SP'!$C:$C,'00 SP'!$D109,'00 PDC SP'!J:J)","v":0},{"$f":"SUMIF('00 PDC SP'!$C:$C,'00 SP'!$D109,'00 PDC SP'!K:K)","v":0},{"$f":"SUMIF('00 PDC SP'!$C:$C,'00 SP'!$D109,'00 PDC SP'!L:L)","v":0},{"$f":"SUMIF('00 PDC SP'!$C:$C,'00 SP'!$D109,'00 PDC SP'!M:M)","v":0},{"$f":"SUMIF('00 PDC SP'!$C:$C,'00 SP'!$D109,'00 PDC SP'!N:N)","v":0}]
["ABA280","B.II.1.h) Crediti v/Stato per finanziamenti per investimenti",null,"ABA280",48,{"$f":"SUMIF('00 PDC SP'!$C:$C,'00 SP'!$D110,'00 PDC SP'!H:H)","v":0},{"$f":"SUMIF('00 PDC SP'!$C:$C,'00 SP'!$D110,'00 PDC SP'!I:I)","v":0},{"$f":"SUMIF('00 PDC SP'!$C:$C,'00 SP'!$D110,'00 PDC SP'!J:J)","v":0},{"$f":"SUMIF('00 PDC SP'!$C:$C,'00 SP'!$D110,'00 PDC SP'!K:K)","v":0},{"$f":"SUMIF('00 PDC SP'!$C:$C,'00 SP'!$D110,'00 PDC SP'!L:L)","v":0},{"$f":"SUMIF('00 PDC SP'!$C:$C,'00 SP'!$D110,'00 PDC SP'!M:M)","v":0},{"$f":"SUMIF('00 PDC SP'!$C:$C,'00 SP'!$D110,'00 PDC SP'!N:N)","v":0}]
["ABA290","B.II.1.i) Crediti v/Stato per ricerca","S","ABA290",null,{"$f":"SUM(F112:F115)","v":4620},0,0,4620,10300,10300,4620]
["ABA300","B.II.1.i.1) Crediti v/Stato per ricerca corrente - Ministero della Salute",null,"ABA300",21,{"$f":"SUMIF('00 PDC SP'!$C:$C,'00 SP'!$D112,'00 PDC SP'!H:H)","v":0},{"$f":"SUMIF('00 PDC SP'!$C:$C,'00 SP'!$D112,'00 PDC SP'!I:I)","v":0},{"$f":"SUMIF('00 PDC SP'!$C:$C,'00 SP'!$D112,'00 PDC SP'!J:J)","v":0},{"$f":"SUMIF('00 PDC SP'!$C:$C,'00 SP'!$D112,'00 PDC SP'!K:K)","v":0},{"$f":"SUMIF('00 PDC SP'!$C:$C,'00 SP'!$D112,'00 PDC SP'!L:L)","v":0},{"$f":"SUMIF('00 PDC SP'!$C:$C,'00 SP'!$D112,'00 PDC SP'!M:M)","v":0},{"$f":"SUMIF('00 PDC SP'!$C:$C,'00 SP'!$D112,'00 PDC SP'!N:N)","v":0}]
["ABA310","B.II.1.i.2) Crediti v/Stato per ricerca finalizzata - Ministero della Salute",null,"ABA310",21,{"$f":"SUMIF('00 PDC SP'!$C:$C,'00 SP'!$D113,'00 PDC SP'!H:H)","v":4620},{"$f":"SUMIF('00 PDC SP'!$C:$C,'00 SP'!$D113,'00 PDC SP'!I:I)","v":0},{"$f":"SUMIF('00 PDC SP'!$C:$C,'00 SP'!$D113,'00 PDC SP'!J:J)","v":0},{"$f":"SUMIF('00 PDC SP'!$C:$C,'00 SP'!$D113,'00 PDC SP'!K:K)","v":4620},{"$f":"SUMIF('00 PDC SP'!$C:$C,'00 SP'!$D113,'00 PDC SP'!L:L)","v":10300},{"$f":"SUMIF('00 PDC SP'!$C:$C,'00 SP'!$D113,'00 PDC SP'!M:M)","v":10300},{"$f":"SUMIF('00 PDC SP'!$C:$C,'00 SP'!$D113,'00 PDC SP'!N:N)","v":4620}]
["ABA320","B.II.1.i.3) Crediti v/Stato per ricerca - altre Amministrazioni centrali",null,"ABA320",21,{"$f":"SUMIF('00 PDC SP'!$C:$C,'00 SP'!$D114,'00 PDC SP'!H:H)","v":0},{"$f":"SUMIF('00 PDC SP'!$C:$C,'00 SP'!$D114,'00 PDC SP'!I:I)","v":0},{"$f":"SUMIF('00 PDC SP'!$C:$C,'00 SP'!$D114,'00 PDC SP'!J:J)","v":0},{"$f":"SUMIF('00 PDC SP'!$C:$C,'00 SP'!$D114,'00 PDC SP'!K:K)","v":0},{"$f":"SUMIF('00 PDC SP'!$C:$C,'00 SP'!$D114,'00 PDC SP'!L:L)","v":0},{"$f":"SUMIF('00 PDC SP'!$C:$C,'00 SP'!$D114,'00 PDC SP'!M:M)","v":0},{"$f":"SUMIF('00 PDC SP'!$C:$C,'00 SP'!$D114,'00 PDC SP'!N:N)","v":0}]
["ABA330","B.II.1.i.4) Crediti v/Stato per ricerca - finanziamenti per investimenti",null,"ABA330",21,{"$f":"SUMIF('00 PDC SP'!$C:$C,'00 SP'!$D115,'00 PDC SP'!H:H)","v":0},{"$f":"SUMIF('00 PDC SP'!$C:$C,'00 SP'!$D115,'00 PDC SP'!I:I)","v":0},{"$f":"SUMIF('00 PDC SP'!$C:$C,'00 SP'!$D115,'00 PDC SP'!J:J)","v":0},{"$f":"SUMIF('00 PDC SP'!$C:$C,'00 SP'!$D115,'00 PDC SP'!K:K)","v":0},{"$f":"SUMIF('00 PDC SP'!$C:$C,'00 SP'!$D115,'00 PDC SP'!L:L)","v":0},{"$f":"SUMIF('00 PDC SP'!$C:$C,'00 SP'!$D115,'00 PDC SP'!M:M)","v":0},{"$f":"SUMIF('00 PDC SP'!$C:$C,'00 SP'!$D115,'00 PDC SP'!N:N)","v":0}]
["ABA340","B.II.1.l) Crediti v/prefetture",null,"ABA340",21,{"$f":"SUMIF('00 PDC SP'!$C:$C,'00 SP'!$D116,'00 PDC SP'!H:H)","v":93462.74},{"$f":"SUMIF('00 PDC SP'!$C:$C,'00 SP'!$D116,'00 PDC SP'!I:I)","v":0},{"$f":"SUMIF('00 PDC SP'!$C:$C,'00 SP'!$D116,'00 PDC SP'!J:J)","v":0},{"$f":"SUMIF('00 PDC SP'!$C:$C,'00 SP'!$D116,'00 PDC SP'!K:K)","v":93462.74},{"$f":"SUMIF('00 PDC SP'!$C:$C,'00 SP'!$D116,'00 PDC SP'!L:L)","v":93462.74},{"$f":"SUMIF('00 PDC SP'!$C:$C,'00 SP'!$D116,'00 PDC SP'!M:M)","v":186925.48},{"$f":"SUMIF('00 PDC SP'!$C:$C,'00 SP'!$D116,'00 PDC SP'!N:N)","v":0}]
["ABA350","B.II.2) Crediti v/Regione o Provincia Autonoma","S","ABA350",null,{"$f":"F118+F129","v":215874017.31},1293654186.2599998,1333105858.78,176422344.78999999,1441602435.24,1403682648.8600001,214342131.17000008]
["ABA360","B.II.2.a) Crediti v/Regione o Provincia Autonoma per spesa corrente","S","ABA360",null,{"$f":"SUM(F119:F128)","v":194233702.74000001},1279389476.2599998,1311503799.21,162119379.78999999,1427992811.24,1403682648.8600001,186429542.17000008]
["ABA370","B.II.2.a.1) Crediti v/Regione o Provincia Autonoma per spesa corrente - IRAP",null,"ABA370",25,{"$f":"SUMIF('00 PDC SP'!$C:$C,'00 SP'!$D119,'00 PDC SP'!H:H)","v":0},{"$f":"SUMIF('00 PDC SP'!$C:$C,'00 SP'!$D119,'00 PDC SP'!I:I)","v":0},{"$f":"SUMIF('00 PDC SP'!$C:$C,'00 SP'!$D119,'00 PDC SP'!J:J)","v":0},{"$f":"SUMIF('00 PDC SP'!$C:$C,'00 SP'!$D119,'00 PDC SP'!K:K)","v":0},{"$f":"SUMIF('00 PDC SP'!$C:$C,'00 SP'!$D119,'00 PDC SP'!L:L)","v":0},{"$f":"SUMIF('00 PDC SP'!$C:$C,'00 SP'!$D119,'00 PDC SP'!M:M)","v":0},{"$f":"SUMIF('00 PDC SP'!$C:$C,'00 SP'!$D119,'00 PDC SP'!N:N)","v":0}]
["ABA380","B.II.2.a.2) Crediti v/Regione o Provincia Autonoma per spesa corrente -  Addizionale IRPEF",null,"ABA380",25,{"$f":"SUMIF('00 PDC SP'!$C:$C,'00 SP'!$D120,'00 PDC SP'!H:H)","v":0},{"$f":"SUMIF('00 PDC SP'!$C:$C,'00 SP'!$D120,'00 PDC SP'!I:I)","v":0},{"$f":"SUMIF('00 PDC SP'!$C:$C,'00 SP'!$D120,'00 PDC SP'!J:J)","v":0},{"$f":"SUMIF('00 PDC SP'!$C:$C,'00 SP'!$D120,'00 PDC SP'!K:K)","v":0},{"$f":"SUMIF('00 PDC SP'!$C:$C,'00 SP'!$D120,'00 PDC SP'!L:L)","v":0},{"$f":"SUMIF('00 PDC SP'!$C:$C,'00 SP'!$D120,'00 PDC SP'!M:M)","v":0},{"$f":"SUMIF('00 PDC SP'!$C:$C,'00 SP'!$D120,'00 PDC SP'!N:N)","v":0}]
["ABA390","B.II.2.a.3) Crediti v/Regione o Provincia Autonoma per quota FSR",null,"ABA390",25,{"$f":"SUMIF('00 PDC SP'!$C:$C,'00 SP'!$D121,'00 PDC SP'!H:H)","v":146422877.18000001},{"$f":"SUMIF('00 PDC SP'!$C:$C,'00 SP'!$D121,'00 PDC SP'!I:I)","v":611234256.89999998},{"$f":"SUMIF('00 PDC SP'!$C:$C,'00 SP'!$D121,'00 PDC SP'!J:J)","v":641777088.98000002},{"$f":"SUMIF('00 PDC SP'!$C:$C,'00 SP'!$D121,'00 PDC SP'!K:K)","v":115880045.09999999},{"$f":"SUMIF('00 PDC SP'!$C:$C,'00 SP'!$D121,'00 PDC SP'!L:L)","v":699144829.10000002},{"$f":"SUMIF('00 PDC SP'!$C:$C,'00 SP'!$D121,'00 PDC SP'!M:M)","v":673828882.24000001},{"$f":"SUMIF('00 PDC SP'!$C:$C,'00 SP'!$D121,'00 PDC SP'!N:N)","v":141195991.96000007}]
["ABA400","B.II.2.a.4) Crediti v/Regione o Provincia Autonoma per mobilità attiva intraregionale",null,"ABA400",25,{"$f":"SUMIF('00 PDC SP'!$C:$C,'00 SP'!$D122,'00 PDC SP'!H:H)","v":16936850.379999999},{"$f":"SUMIF('00 PDC SP'!$C:$C,'00 SP'!$D122,'00 PDC SP'!I:I)","v":98488215.590000004},{"$f":"SUMIF('00 PDC SP'!$C:$C,'00 SP'!$D122,'00 PDC SP'!J:J)","v":98575322.590000004},{"$f":"SUMIF('00 PDC SP'!$C:$C,'00 SP'!$D122,'00 PDC SP'!K:K)","v":16849743.379999999},{"$f":"SUMIF('00 PDC SP'!$C:$C,'00 SP'!$D122,'00 PDC SP'!L:L)","v":99510381.010000005},{"$f":"SUMIF('00 PDC SP'!$C:$C,'00 SP'!$D122,'00 PDC SP'!M:M)","v":99510381},{"$f":"SUMIF('00 PDC SP'!$C:$C,'00 SP'!$D122,'00 PDC SP'!N:N)","v":16849743.390000008}]
["ABA410","B.II.2.a.5) Crediti v/Regione o Provincia Autonoma per mobilità attiva extraregionale",null,"ABA410",25,{"$f":"SUMIF('00 PDC SP'!$C:$C,'00 SP'!$D123,'00 PDC SP'!H:H)","v":19005500.289999999},{"$f":"SUMIF('00 PDC SP'!$C:$C,'00 SP'!$D123,'00 PDC SP'!I:I)","v":17628432.399999999},{"$f":"SUMIF('00 PDC SP'!$C:$C,'00 SP'!$D123,'00 PDC SP'!J:J)","v":17628432.399999999},{"$f":"SUMIF('00 PDC SP'!$C:$C,'00 SP'!$D123,'00 PDC SP'!K:K)","v":19005500.289999999},{"$f":"SUMIF('00 PDC SP'!$C:$C,'00 SP'!$D123,'00 PDC SP'!L:L)","v":23288119.719999999},{"$f":"SUMIF('00 PDC SP'!$C:$C,'00 SP'!$D123,'00 PDC SP'!M:M)","v":23288119.719999999},{"$f":"SUMIF('00 PDC SP'!$C:$C,'00 SP'!$D123,'00 PDC SP'!N:N)","v":19005500.289999999}]
["ABA420","B.II.2.a.6) Crediti v/Regione o Provincia Autonoma per acconto quota FSR",null,"ABA420",25,{"$f":"SUMIF('00 PDC SP'!$C:$C,'00 SP'!$D124,'00 PDC SP'!H:H)","v":0},{"$f":"SUMIF('00 PDC SP'!$C:$C,'00 SP'!$D124,'00 PDC SP'!I:I)","v":546891755},{"$f":"SUMIF('00 PDC SP'!$C:$C,'00 SP'!$D124,'00 PDC SP'!J:J)","v":546891755},{"$f":"SUMIF('00 PDC SP'!$C:$C,'00 SP'!$D124,'00 PDC SP'!K:K)","v":0},{"$f":"SUMIF('00 PDC SP'!$C:$C,'00 SP'!$D124,'00 PDC SP'!L:L)","v":603150469.75},{"$f":"SUMIF('00 PDC SP'!$C:$C,'00 SP'!$D124,'00 PDC SP'!M:M)","v":603150469.75},{"$f":"SUMIF('00 PDC SP'!$C:$C,'00 SP'!$D124,'00 PDC SP'!N:N)","v":0}]
["ABA430","B.II.2.a.7) Crediti v/Regione o Provincia Autonoma per finanziamento sanitario aggiuntivo corrente LEA",null,"ABA430",25,{"$f":"SUMIF('00 PDC SP'!$C:$C,'00 SP'!$D125,'00 PDC SP'!H:H)","v":11868474.890000001},{"$f":"SUMIF('00 PDC SP'!$C:$C,'00 SP'!$D125,'00 PDC SP'!I:I)","v":5146816.37},{"$f":"SUMIF('00 PDC SP'!$C:$C,'00 SP'!$D125,'00 PDC SP'!J:J)","v":6631200.2400000002},{"$f":"SUMIF('00 PDC SP'!$C:$C,'00 SP'!$D125,'00 PDC SP'!K:K)","v":10384091.02},{"$f":"SUMIF('00 PDC SP'!$C:$C,'00 SP'!$D125,'00 PDC SP'!L:L)","v":2899011.66},{"$f":"SUMIF('00 PDC SP'!$C:$C,'00 SP'!$D125,'00 PDC SP'!M:M)","v":3904796.15},{"$f":"SUMIF('00 PDC SP'!$C:$C,'00 SP'!$D125,'00 PDC SP'!N:N)","v":9378306.5299999993}]
["ABA440","B.II.2.a.8) Crediti v/Regione o Provincia Autonoma per finanziamento sanitario aggiuntivo corrente extra LEA",null,"ABA440",25,{"$f":"SUMIF('00 PDC SP'!$C:$C,'00 SP'!$D126,'00 PDC SP'!H:H)","v":0},{"$f":"SUMIF('00 PDC SP'!$C:$C,'00 SP'!$D126,'00 PDC SP'!I:I)","v":0},{"$f":"SUMIF('00 PDC SP'!$C:$C,'00 SP'!$D126,'00 PDC SP'!J:J)","v":0},{"$f":"SUMIF('00 PDC SP'!$C:$C,'00 SP'!$D126,'00 PDC SP'!K:K)","v":0},{"$f":"SUMIF('00 PDC SP'!$C:$C,'00 SP'!$D126,'00 PDC SP'!L:L)","v":0},{"$f":"SUMIF('00 PDC SP'!$C:$C,'00 SP'!$D126,'00 PDC SP'!M:M)","v":0},{"$f":"SUMIF('00 PDC SP'!$C:$C,'00 SP'!$D126,'00 PDC SP'!N:N)","v":0}]
["ABA450","B.II.2.a.9) Crediti v/Regione o Provincia Autonoma per spesa corrente - altro",null,"ABA450",25,{"$f":"SUMIF('00 PDC SP'!$C:$C,'00 SP'!$D127,'00 PDC SP'!H:H)","v":0},{"$f":"SUMIF('00 PDC SP'!$C:$C,'00 SP'!$D127,'00 PDC SP'!I:I)","v":0},{"$f":"SUMIF('00 PDC SP'!$C:$C,'00 SP'!$D127,'00 PDC SP'!J:J)","v":0},{"$f":"SUMIF('00 PDC SP'!$C:$C,'00 SP'!$D127,'00 PDC SP'!K:K)","v":0},{"$f":"SUMIF('00 PDC SP'!$C:$C,'00 SP'!$D127,'00 PDC SP'!L:L)","v":0},{"$f":"SUMIF('00 PDC SP'!$C:$C,'00 SP'!$D127,'00 PDC SP'!M:M)","v":0},{"$f":"SUMIF('00 PDC SP'!$C:$C,'00 SP'!$D127,'00 PDC SP'!N:N)","v":0}]
["ABA460","B.II.2.a.10) Crediti v/Regione o Provincia Autonoma per ricerca",null,"ABA460",25,{"$f":"SUMIF('00 PDC SP'!$C:$C,'00 SP'!$D128,'00 PDC SP'!H:H)","v":0},{"$f":"SUMIF('00 PDC SP'!$C:$C,'00 SP'!$D128,'00 PDC SP'!I:I)","v":0},{"$f":"SUMIF('00 PDC SP'!$C:$C,'00 SP'!$D128,'00 PDC SP'!J:J)","v":0},{"$f":"SUMIF('00 PDC SP'!$C:$C,'00 SP'!$D128,'00 PDC SP'!K:K)","v":0},{"$f":"SUMIF('00 PDC SP'!$C:$C,'00 SP'!$D128,'00 PDC SP'!L:L)","v":0},{"$f":"SUMIF('00 PDC SP'!$C:$C,'00 SP'!$D128,'00 PDC SP'!M:M)","v":0},{"$f":"SUMIF('00 PDC SP'!$C:$C,'00 SP'!$D128,'00 PDC SP'!N:N)","v":0}]
["ABA470","B.II.2.b) Crediti v/Regione o Provincia Autonoma per versamenti a patrimonio netto","S","ABA470",null,{"$f":"SUM(F130:F134)","v":21640314.57},14264710,21602059.57,14302965,13609624,0,27912589]
["ABA480","B.II.2.b.1) Crediti v/Regione o Provincia Autonoma per finanziamenti per investimenti",null,"ABA480",49,{"$f":"SUMIF('00 PDC SP'!$C:$C,'00 SP'!$D130,'00 PDC SP'!H:H)","v":38255},{"$f":"SUMIF('00 PDC SP'!$C:$C,'00 SP'!$D130,'00 PDC SP'!I:I)","v":0},{"$f":"SUMIF('00 PDC SP'!$C:$C,'00 SP'!$D130,'00 PDC SP'!J:J)","v":0},{"$f":"SUMIF('00 PDC SP'!$C:$C,'00 SP'!$D130,'00 PDC SP'!K:K)","v":38255},{"$f":"SUMIF('00 PDC SP'!$C:$C,'00 SP'!$D130,'00 PDC SP'!L:L)","v":0},{"$f":"SUMIF('00 PDC SP'!$C:$C,'00 SP'!$D130,'00 PDC SP'!M:M)","v":0},{"$f":"SUMIF('00 PDC SP'!$C:$C,'00 SP'!$D130,'00 PDC SP'!N:N)","v":38255}]
["ABA490","B.II.2.b.2) Crediti v/Regione o Provincia Autonoma per incremento fondo dotazione",null,"ABA490",50,{"$f":"SUMIF('00 PDC SP'!$C:$C,'00 SP'!$D131,'00 PDC SP'!H:H)","v":0},{"$f":"SUMIF('00 PDC SP'!$C:$C,'00 SP'!$D131,'00 PDC SP'!I:I)","v":0},{"$f":"SUMIF('00 PDC SP'!$C:$C,'00 SP'!$D131,'00 PDC SP'!J:J)","v":0},{"$f":"SUMIF('00 PDC SP'!$C:$C,'00 SP'!$D131,'00 PDC SP'!K:K)","v":0},{"$f":"SUMIF('00 PDC SP'!$C:$C,'00 SP'!$D131,'00 PDC SP'!L:L)","v":0},{"$f":"SUMIF('00 PDC SP'!$C:$C,'00 SP'!$D131,'00 PDC SP'!M:M)","v":0},{"$f":"SUMIF('00 PDC SP'!$C:$C,'00 SP'!$D131,'00 PDC SP'!N:N)","v":0}]
["ABA500","B.II.2.b.3) Crediti v/Regione o Provincia Autonoma per ripiano perdite",null,"ABA500",51,{"$f":"SUMIF('00 PDC SP'!$C:$C,'00 SP'!$D132,'00 PDC SP'!H:H)","v":21602059.57},{"$f":"SUMIF('00 PDC SP'!$C:$C,'00 SP'!$D132,'00 PDC SP'!I:I)","v":14264710},{"$f":"SUMIF('00 PDC SP'!$C:$C,'00 SP'!$D132,'00 PDC SP'!J:J)","v":21602059.57},{"$f":"SUMIF('00 PDC SP'!$C:$C,'00 SP'!$D132,'00 PDC SP'!K:K)","v":14264710},{"$f":"SUMIF('00 PDC SP'!$C:$C,'00 SP'!$D132,'00 PDC SP'!L:L)","v":13609624},{"$f":"SUMIF('00 PDC SP'!$C:$C,'00 SP'!$D132,'00 PDC SP'!M:M)","v":0},{"$f":"SUMIF('00 PDC SP'!$C:$C,'00 SP'!$D132,'00 PDC SP'!N:N)","v":27874334}]
["ABA510","B.II.2.b.4) Crediti v/Regione per copertura debiti al 31/12/2005",null,"ABA510",52,{"$f":"SUMIF('00 PDC SP'!$C:$C,'00 SP'!$D133,'00 PDC SP'!H:H)","v":0},{"$f":"SUMIF('00 PDC SP'!$C:$C,'00 SP'!$D133,'00 PDC SP'!I:I)","v":0},{"$f":"SUMIF('00 PDC SP'!$C:$C,'00 SP'!$D133,'00 PDC SP'!J:J)","v":0},{"$f":"SUMIF('00 PDC SP'!$C:$C,'00 SP'!$D133,'00 PDC SP'!K:K)","v":0},{"$f":"SUMIF('00 PDC SP'!$C:$C,'00 SP'!$D133,'00 PDC SP'!L:L)","v":0},{"$f":"SUMIF('00 PDC SP'!$C:$C,'00 SP'!$D133,'00 PDC SP'!M:M)","v":0},{"$f":"SUMIF('00 PDC SP'!$C:$C,'00 SP'!$D133,'00 PDC SP'!N:N)","v":0}]
["ABA520","B.II.2.b.5) Crediti v/Regione o Provincia Autonoma per ricostituzione risorse da investimenti esercizi precedenti",null,"ABA520",49,{"$f":"SUMIF('00 PDC SP'!$C:$C,'00 SP'!$D134,'00 PDC SP'!H:H)","v":0},{"$f":"SUMIF('00 PDC SP'!$C:$C,'00 SP'!$D134,'00 PDC SP'!I:I)","v":0},{"$f":"SUMIF('00 PDC SP'!$C:$C,'00 SP'!$D134,'00 PDC SP'!J:J)","v":0},{"$f":"SUMIF('00 PDC SP'!$C:$C,'00 SP'!$D134,'00 PDC SP'!K:K)","v":0},{"$f":"SUMIF('00 PDC SP'!$C:$C,'00 SP'!$D134,'00 PDC SP'!L:L)","v":0},{"$f":"SUMIF('00 PDC SP'!$C:$C,'00 SP'!$D134,'00 PDC SP'!M:M)","v":0},{"$f":"SUMIF('00 PDC SP'!$C:$C,'00 SP'!$D134,'00 PDC SP'!N:N)","v":0}]
["ABA530","B.II.3) Crediti v/Comuni",null,"ABA530",26,{"$f":"SUMIF('00 PDC SP'!$C:$C,'00 SP'!$D135,'00 PDC SP'!H:H)","v":88306.98000000001},{"$f":"SUMIF('00 PDC SP'!$C:$C,'00 SP'!$D135,'00 PDC SP'!I:I)","v":172187.78},{"$f":"SUMIF('00 PDC SP'!$C:$C,'00 SP'!$D135,'00 PDC SP'!J:J)","v":40166.410000000003},{"$f":"SUMIF('00 PDC SP'!$C:$C,'00 SP'!$D135,'00 PDC SP'!K:K)","v":220328.34999999998},{"$f":"SUMIF('00 PDC SP'!$C:$C,'00 SP'!$D135,'00 PDC SP'!L:L)","v":165199.79},{"$f":"SUMIF('00 PDC SP'!$C:$C,'00 SP'!$D135,'00 PDC SP'!M:M)","v":148773.66},{"$f":"SUMIF('00 PDC SP'!$C:$C,'00 SP'!$D135,'00 PDC SP'!N:N)","v":236754.47999999998}]
["ABA540","B.II.4) Crediti v/Aziende sanitarie pubbliche","S","ABA540",null,{"$f":"F137+F141+F142","v":1931000.0399999998},5107921.6399999997,5494293.8099999996,1544627.8699999992,682163.99,649711.75,1577080.1099999996]
["ABA550","B.II.4.a) Crediti v/Aziende sanitarie pubbliche della Regione","S","ABA550",null,{"$f":"SUM(F138:F140)","v":1729868.2199999997},4860674.1399999997,5260150.0299999993,1330392.3299999991,404487.52,353901.46,1380978.3899999997]
["ABA560","B.II.4.a.1) Crediti v/Aziende sanitarie pubbliche della Regione - per mobilità in compensazione",null,"ABA560",27,{"$f":"SUMIF('00 PDC SP'!$C:$C,'00 SP'!$D138,'00 PDC SP'!H:H)","v":0},{"$f":"SUMIF('00 PDC SP'!$C:$C,'00 SP'!$D138,'00 PDC SP'!I:I)","v":0},{"$f":"SUMIF('00 PDC SP'!$C:$C,'00 SP'!$D138,'00 PDC SP'!J:J)","v":0},{"$f":"SUMIF('00 PDC SP'!$C:$C,'00 SP'!$D138,'00 PDC SP'!K:K)","v":0},{"$f":"SUMIF('00 PDC SP'!$C:$C,'00 SP'!$D138,'00 PDC SP'!L:L)","v":0},{"$f":"SUMIF('00 PDC SP'!$C:$C,'00 SP'!$D138,'00 PDC SP'!M:M)","v":0},{"$f":"SUMIF('00 PDC SP'!$C:$C,'00 SP'!$D138,'00 PDC SP'!N:N)","v":0}]
["ABA570","B.II.4.a.2) Crediti v/Aziende sanitarie pubbliche della Regione - per mobilità non in compensazione",null,"ABA570",27,{"$f":"SUMIF('00 PDC SP'!$C:$C,'00 SP'!$D139,'00 PDC SP'!H:H)","v":0},{"$f":"SUMIF('00 PDC SP'!$C:$C,'00 SP'!$D139,'00 PDC SP'!I:I)","v":0},{"$f":"SUMIF('00 PDC SP'!$C:$C,'00 SP'!$D139,'00 PDC SP'!J:J)","v":0},{"$f":"SUMIF('00 PDC SP'!$C:$C,'00 SP'!$D139,'00 PDC SP'!K:K)","v":0},{"$f":"SUMIF('00 PDC SP'!$C:$C,'00 SP'!$D139,'00 PDC SP'!L:L)","v":0},{"$f":"SUMIF('00 PDC SP'!$C:$C,'00 SP'!$D139,'00 PDC SP'!M:M)","v":0},{"$f":"SUMIF('00 PDC SP'!$C:$C,'00 SP'!$D139,'00 PDC SP'!N:N)","v":0}]
["ABA580","B.II.4.a.3) Crediti v/Aziende sanitarie pubbliche della Regione - per altre prestazioni",null,"ABA580",27,{"$f":"SUMIF('00 PDC SP'!$C:$C,'00 SP'!$D140,'00 PDC SP'!H:H)","v":1729868.2199999997},{"$f":"SUMIF('00 PDC SP'!$C:$C,'00 SP'!$D140,'00 PDC SP'!I:I)","v":4860674.1399999997},{"$f":"SUMIF('00 PDC SP'!$C:$C,'00 SP'!$D140,'00 PDC SP'!J:J)","v":5260150.0299999993},{"$f":"SUMIF('00 PDC SP'!$C:$C,'00 SP'!$D140,'00 PDC SP'!K:K)","v":1330392.3299999991},{"$f":"SUMIF('00 PDC SP'!$C:$C,'00 SP'!$D140,'00 PDC SP'!L:L)","v":404487.52},{"$f":"SUMIF('00 PDC SP'!$C:$C,'00 SP'!$D140,'00 PDC SP'!M:M)","v":353901.46},{"$f":"SUMIF('00 PDC SP'!$C:$C,'00 SP'!$D140,'00 PDC SP'!N:N)","v":1380978.3899999997}]
["ABA590","B.II.4.b) Acconto quota FSR da distribuire",null,"ABA590",27,{"$f":"SUMIF('00 PDC SP'!$C:$C,'00 SP'!$D141,'00 PDC SP'!H:H)","v":0},{"$f":"SUMIF('00 PDC SP'!$C:$C,'00 SP'!$D141,'00 PDC SP'!I:I)","v":0},{"$f":"SUMIF('00 PDC SP'!$C:$C,'00 SP'!$D141,'00 PDC SP'!J:J)","v":0},{"$f":"SUMIF('00 PDC SP'!$C:$C,'00 SP'!$D141,'00 PDC SP'!K:K)","v":0},{"$f":"SUMIF('00 PDC SP'!$C:$C,'00 SP'!$D141,'00 PDC SP'!L:L)","v":0},{"$f":"SUMIF('00 PDC SP'!$C:$C,'00 SP'!$D141,'00 PDC SP'!M:M)","v":0},{"$f":"SUMIF('00 PDC SP'!$C:$C,'00 SP'!$D141,'00 PDC SP'!N:N)","v":0}]
["ABA600","B.II.4.c) Crediti v/Aziende sanitarie pubbliche Extraregione",null,"ABA600",27,{"$f":"SUMIF('00 PDC SP'!$C:$C,'00 SP'!$D142,'00 PDC SP'!H:H)","v":201131.82},{"$f":"SUMIF('00 PDC SP'!$C:$C,'00 SP'!$D142,'00 PDC SP'!I:I)","v":247247.5},{"$f":"SUMIF('00 PDC SP'!$C:$C,'00 SP'!$D142,'00 PDC SP'!J:J)","v":234143.78},{"$f":"SUMIF('00 PDC SP'!$C:$C,'00 SP'!$D142,'00 PDC SP'!K:K)","v":214235.54},{"$f":"SUMIF('00 PDC SP'!$C:$C,'00 SP'!$D142,'00 PDC SP'!L:L)","v":277676.46999999997},{"$f":"SUMIF('00 PDC SP'!$C:$C,'00 SP'!$D142,'00 PDC SP'!M:M)","v":295810.28999999998},{"$f":"SUMIF('00 PDC SP'!$C:$C,'00 SP'!$D142,'00 PDC SP'!N:N)","v":196101.72000000003}]
["ABA610","B.II.5) Crediti v/società partecipate e/o enti dipendenti della Regione","S","ABA610",null,{"$f":"SUM(F144:F146)","v":5931.31},0,0,5931.31,0,0,5931.31]
["ABA620","B.II.5.a) Crediti v/enti regionali",null,"ABA620",28,{"$f":"SUMIF('00 PDC SP'!$C:$C,'00 SP'!$D144,'00 PDC SP'!H:H)","v":5931.31},{"$f":"SUMIF('00 PDC SP'!$C:$C,'00 SP'!$D144,'00 PDC SP'!I:I)","v":0},{"$f":"SUMIF('00 PDC SP'!$C:$C,'00 SP'!$D144,'00 PDC SP'!J:J)","v":0},{"$f":"SUMIF('00 PDC SP'!$C:$C,'00 SP'!$D144,'00 PDC SP'!K:K)","v":5931.31},{"$f":"SUMIF('00 PDC SP'!$C:$C,'00 SP'!$D144,'00 PDC SP'!L:L)","v":0},{"$f":"SUMIF('00 PDC SP'!$C:$C,'00 SP'!$D144,'00 PDC SP'!M:M)","v":0},{"$f":"SUMIF('00 PDC SP'!$C:$C,'00 SP'!$D144,'00 PDC SP'!N:N)","v":5931.31}]
["ABA630","B.II.5.b) Crediti v/sperimentazioni gestionali",null,"ABA630",28,{"$f":"SUMIF('00 PDC SP'!$C:$C,'00 SP'!$D145,'00 PDC SP'!H:H)","v":0},{"$f":"SUMIF('00 PDC SP'!$C:$C,'00 SP'!$D145,'00 PDC SP'!I:I)","v":0},{"$f":"SUMIF('00 PDC SP'!$C:$C,'00 SP'!$D145,'00 PDC SP'!J:J)","v":0},{"$f":"SUMIF('00 PDC SP'!$C:$C,'00 SP'!$D145,'00 PDC SP'!K:K)","v":0},{"$f":"SUMIF('00 PDC SP'!$C:$C,'00 SP'!$D145,'00 PDC SP'!L:L)","v":0},{"$f":"SUMIF('00 PDC SP'!$C:$C,'00 SP'!$D145,'00 PDC SP'!M:M)","v":0},{"$f":"SUMIF('00 PDC SP'!$C:$C,'00 SP'!$D145,'00 PDC SP'!N:N)","v":0}]
["ABA640","B.II.5.c) Crediti v/altre partecipate",null,"ABA640",28,{"$f":"SUMIF('00 PDC SP'!$C:$C,'00 SP'!$D146,'00 PDC SP'!H:H)","v":0},{"$f":"SUMIF('00 PDC SP'!$C:$C,'00 SP'!$D146,'00 PDC SP'!I:I)","v":0},{"$f":"SUMIF('00 PDC SP'!$C:$C,'00 SP'!$D146,'00 PDC SP'!J:J)","v":0},{"$f":"SUMIF('00 PDC SP'!$C:$C,'00 SP'!$D146,'00 PDC SP'!K:K)","v":0},{"$f":"SUMIF('00 PDC SP'!$C:$C,'00 SP'!$D146,'00 PDC SP'!L:L)","v":0},{"$f":"SUMIF('00 PDC SP'!$C:$C,'00 SP'!$D146,'00 PDC SP'!M:M)","v":0},{"$f":"SUMIF('00 PDC SP'!$C:$C,'00 SP'!$D146,'00 PDC SP'!N:N)","v":0}]
["ABA650","B.II.6) Crediti v/Erario",null,"ABA650",29,{"$f":"SUMIF('00 PDC SP'!$C:$C,'00 SP'!$D147,'00 PDC SP'!H:H)","v":12007.160000000002},{"$f":"SUMIF('00 PDC SP'!$C:$C,'00 SP'!$D147,'00 PDC SP'!I:I)","v":496878.45},{"$f":"SUMIF('00 PDC SP'!$C:$C,'00 SP'!$D147,'00 PDC SP'!J:J)","v":500676.57},{"$f":"SUMIF('00 PDC SP'!$C:$C,'00 SP'!$D147,'00 PDC SP'!K:K)","v":8209.0400000000009},{"$f":"SUMIF('00 PDC SP'!$C:$C,'00 SP'!$D147,'00 PDC SP'!L:L)","v":505567.5},{"$f":"SUMIF('00 PDC SP'!$C:$C,'00 SP'!$D147,'00 PDC SP'!M:M)","v":496872},{"$f":"SUMIF('00 PDC SP'!$C:$C,'00 SP'!$D147,'00 PDC SP'!N:N)","v":16904.54}]
["ABA660","B.II.7) Crediti v/altri","S","ABA660",null,{"$f":"SUM(F149:F153)","v":3444883.1300000008},17895683.129999999,18037765.050000001,3302801.209999999,20355416.400000002,20622745.920000002,3035471.689999999]
["ABA670","B.II.7.a) Crediti v/clienti privati",null,"ABA670",30,{"$f":"SUMIF('00 PDC SP'!$C:$C,'00 SP'!$D149,'00 PDC SP'!H:H)","v":2186539.4000000004},{"$f":"SUMIF('00 PDC SP'!$C:$C,'00 SP'!$D149,'00 PDC SP'!I:I)","v":15852276.68},{"$f":"SUMIF('00 PDC SP'!$C:$C,'00 SP'!$D149,'00 PDC SP'!J:J)","v":16016405.82},{"$f":"SUMIF('00 PDC SP'!$C:$C,'00 SP'!$D149,'00 PDC SP'!K:K)","v":2022410.2599999993},{"$f":"SUMIF('00 PDC SP'!$C:$C,'00 SP'!$D149,'00 PDC SP'!L:L)","v":19327870.000000004},{"$f":"SUMIF('00 PDC SP'!$C:$C,'00 SP'!$D149,'00 PDC SP'!M:M)","v":19097757.98},{"$f":"SUMIF('00 PDC SP'!$C:$C,'00 SP'!$D149,'00 PDC SP'!N:N)","v":2252522.2799999989}]
["ABA680","B.II.7.b) Crediti v/gestioni liquidatorie",null,"ABA680",30,{"$f":"SUMIF('00 PDC SP'!$C:$C,'00 SP'!$D150,'00 PDC SP'!H:H)","v":0},{"$f":"SUMIF('00 PDC SP'!$C:$C,'00 SP'!$D150,'00 PDC SP'!I:I)","v":0},{"$f":"SUMIF('00 PDC SP'!$C:$C,'00 SP'!$D150,'00 PDC SP'!J:J)","v":0},{"$f":"SUMIF('00 PDC SP'!$C:$C,'00 SP'!$D150,'00 PDC SP'!K:K)","v":0},{"$f":"SUMIF('00 PDC SP'!$C:$C,'00 SP'!$D150,'00 PDC SP'!L:L)","v":0},{"$f":"SUMIF('00 PDC SP'!$C:$C,'00 SP'!$D150,'00 PDC SP'!M:M)","v":0},{"$f":"SUMIF('00 PDC SP'!$C:$C,'00 SP'!$D150,'00 PDC SP'!N:N)","v":0}]
["ABA690","B.II.7.c) Crediti v/altri soggetti pubblici",null,"ABA690",30,{"$f":"SUMIF('00 PDC SP'!$C:$C,'00 SP'!$D151,'00 PDC SP'!H:H)","v":377206.68000000005},{"$f":"SUMIF('00 PDC SP'!$C:$C,'00 SP'!$D151,'00 PDC SP'!I:I)","v":422007.95},{"$f":"SUMIF('00 PDC SP'!$C:$C,'00 SP'!$D151,'00 PDC SP'!J:J)","v":404678.64},{"$f":"SUMIF('00 PDC SP'!$C:$C,'00 SP'!$D151,'00 PDC SP'!K:K)","v":394535.99},{"$f":"SUMIF('00 PDC SP'!$C:$C,'00 SP'!$D151,'00 PDC SP'!L:L)","v":288535.49},{"$f":"SUMIF('00 PDC SP'!$C:$C,'00 SP'!$D151,'00 PDC SP'!M:M)","v":465524.77},{"$f":"SUMIF('00 PDC SP'!$C:$C,'00 SP'!$D151,'00 PDC SP'!N:N)","v":217546.71000000002}]
["ABA700","B.II.7.d) Crediti v/altri soggetti pubblici per ricerca",null,"ABA700",30,{"$f":"SUMIF('00 PDC SP'!$C:$C,'00 SP'!$D152,'00 PDC SP'!H:H)","v":0},{"$f":"SUMIF('00 PDC SP'!$C:$C,'00 SP'!$D152,'00 PDC SP'!I:I)","v":0},{"$f":"SUMIF('00 PDC SP'!$C:$C,'00 SP'!$D152,'00 PDC SP'!J:J)","v":0},{"$f":"SUMIF('00 PDC SP'!$C:$C,'00 SP'!$D152,'00 PDC SP'!K:K)","v":0},{"$f":"SUMIF('00 PDC SP'!$C:$C,'00 SP'!$D152,'00 PDC SP'!L:L)","v":0},{"$f":"SUMIF('00 PDC SP'!$C:$C,'00 SP'!$D152,'00 PDC SP'!M:M)","v":0},{"$f":"SUMIF('00 PDC SP'!$C:$C,'00 SP'!$D152,'00 PDC SP'!N:N)","v":0}]
["ABA710","B.II.7.e) Altri crediti diversi",null,"ABA710",30,{"$f":"SUMIF('00 PDC SP'!$C:$C,'00 SP'!$D153,'00 PDC SP'!H:H)","v":881137.05},{"$f":"SUMIF('00 PDC SP'!$C:$C,'00 SP'!$D153,'00 PDC SP'!I:I)","v":1621398.5},{"$f":"SUMIF('00 PDC SP'!$C:$C,'00 SP'!$D153,'00 PDC SP'!J:J)","v":1616680.59},{"$f":"SUMIF('00 PDC SP'!$C:$C,'00 SP'!$D153,'00 PDC SP'!K:K)","v":885854.96},{"$f":"SUMIF('00 PDC SP'!$C:$C,'00 SP'!$D153,'00 PDC SP'!L:L)","v":739010.91},{"$f":"SUMIF('00 PDC SP'!$C:$C,'00 SP'!$D153,'00 PDC SP'!M:M)","v":1059463.17},{"$f":"SUMIF('00 PDC SP'!$C:$C,'00 SP'!$D153,'00 PDC SP'!N:N)","v":565402.70000000019}]
["ABA720","B.III) ATTIVITA' FINANZIARIE CHE NON COSTITUISCONO IMMOBILIZZAZIONI","S","ABA720",null,{"$f":"SUM(F155:F156)","v":0},0,0,0,0,0,0]
["ABA730","B.III.1) Partecipazioni che non costituiscono immobilizzazioni",null,"ABA730",9,{"$f":"SUMIF('00 PDC SP'!$C:$C,'00 SP'!$D155,'00 PDC SP'!H:H)","v":0},{"$f":"SUMIF('00 PDC SP'!$C:$C,'00 SP'!$D155,'00 PDC SP'!I:I)","v":0},{"$f":"SUMIF('00 PDC SP'!$C:$C,'00 SP'!$D155,'00 PDC SP'!J:J)","v":0},{"$f":"SUMIF('00 PDC SP'!$C:$C,'00 SP'!$D155,'00 PDC SP'!K:K)","v":0},{"$f":"SUMIF('00 PDC SP'!$C:$C,'00 SP'!$D155,'00 PDC SP'!L:L)","v":0},{"$f":"SUMIF('00 PDC SP'!$C:$C,'00 SP'!$D155,'00 PDC SP'!M:M)","v":0},{"$f":"SUMIF('00 PDC SP'!$C:$C,'00 SP'!$D155,'00 PDC SP'!N:N)","v":0}]
["ABA740","B.III.2) Altri titoli che non costituiscono immobilizzazioni",null,"ABA740",9,{"$f":"SUMIF('00 PDC SP'!$C:$C,'00 SP'!$D156,'00 PDC SP'!H:H)","v":0},{"$f":"SUMIF('00 PDC SP'!$C:$C,'00 SP'!$D156,'00 PDC SP'!I:I)","v":0},{"$f":"SUMIF('00 PDC SP'!$C:$C,'00 SP'!$D156,'00 PDC SP'!J:J)","v":0},{"$f":"SUMIF('00 PDC SP'!$C:$C,'00 SP'!$D156,'00 PDC SP'!K:K)","v":0},{"$f":"SUMIF('00 PDC SP'!$C:$C,'00 SP'!$D156,'00 PDC SP'!L:L)","v":0},{"$f":"SUMIF('00 PDC SP'!$C:$C,'00 SP'!$D156,'00 PDC SP'!M:M)","v":0},{"$f":"SUMIF('00 PDC SP'!$C:$C,'00 SP'!$D156,'00 PDC SP'!N:N)","v":0}]
["ABA750","B.IV) DISPONIBILITA' LIQUIDE","S","ABA750",null,{"$f":"SUM(F158:F161)","v":28479891.139999997},675848777.68999994,631522086.30999994,72806582.519999996,627120869.18999994,652419342.98000002,47508108.72999993]
["ABA760","B.IV.1) Cassa",null,"ABA760",57,{"$f":"SUMIF('00 PDC SP'!$C:$C,'00 SP'!$D158,'00 PDC SP'!H:H)","v":20000},{"$f":"SUMIF('00 PDC SP'!$C:$C,'00 SP'!$D158,'00 PDC SP'!I:I)","v":90884.92},{"$f":"SUMIF('00 PDC SP'!$C:$C,'00 SP'!$D158,'00 PDC SP'!J:J)","v":90884.92},{"$f":"SUMIF('00 PDC SP'!$C:$C,'00 SP'!$D158,'00 PDC SP'!K:K)","v":20000},{"$f":"SUMIF('00 PDC SP'!$C:$C,'00 SP'!$D158,'00 PDC SP'!L:L)","v":52671.15},{"$f":"SUMIF('00 PDC SP'!$C:$C,'00 SP'!$D158,'00 PDC SP'!M:M)","v":52671.15},{"$f":"SUMIF('00 PDC SP'!$C:$C,'00 SP'!$D158,'00 PDC SP'!N:N)","v":20000}]
["ABA770","B.IV.2) Istituto Tesoriere",null,"ABA770",57,{"$f":"SUMIF('00 PDC SP'!$C:$C,'00 SP'!$D159,'00 PDC SP'!H:H)","v":26889884.399999999},{"$f":"SUMIF('00 PDC SP'!$C:$C,'00 SP'!$D159,'00 PDC SP'!I:I)","v":674025083},{"$f":"SUMIF('00 PDC SP'!$C:$C,'00 SP'!$D159,'00 PDC SP'!J:J)","v":631356001.04999995},{"$f":"SUMIF('00 PDC SP'!$C:$C,'00 SP'!$D159,'00 PDC SP'!K:K)","v":69558966.349999994},{"$f":"SUMIF('00 PDC SP'!$C:$C,'00 SP'!$D159,'00 PDC SP'!L:L)","v":625609944.79999995},{"$f":"SUMIF('00 PDC SP'!$C:$C,'00 SP'!$D159,'00 PDC SP'!M:M)","v":648972836.83000004},{"$f":"SUMIF('00 PDC SP'!$C:$C,'00 SP'!$D159,'00 PDC SP'!N:N)","v":46196074.319999933}]
["ABA780","B.IV.3) Tesoreria Unica",null,"ABA780",57,{"$f":"SUMIF('00 PDC SP'!$C:$C,'00 SP'!$D160,'00 PDC SP'!H:H)","v":0},{"$f":"SUMIF('00 PDC SP'!$C:$C,'00 SP'!$D160,'00 PDC SP'!I:I)","v":0},{"$f":"SUMIF('00 PDC SP'!$C:$C,'00 SP'!$D160,'00 PDC SP'!J:J)","v":0},{"$f":"SUMIF('00 PDC SP'!$C:$C,'00 SP'!$D160,'00 PDC SP'!K:K)","v":0},{"$f":"SUMIF('00 PDC SP'!$C:$C,'00 SP'!$D160,'00 PDC SP'!L:L)","v":0},{"$f":"SUMIF('00 PDC SP'!$C:$C,'00 SP'!$D160,'00 PDC SP'!M:M)","v":0},{"$f":"SUMIF('00 PDC SP'!$C:$C,'00 SP'!$D160,'00 PDC SP'!N:N)","v":0}]
["ABA790","B.IV.4) Conto corrente postale",null,"ABA790",57,{"$f":"SUMIF('00 PDC SP'!$C:$C,'00 SP'!$D161,'00 PDC SP'!H:H)","v":1570006.74},{"$f":"SUMIF('00 PDC SP'!$C:$C,'00 SP'!$D161,'00 PDC SP'!I:I)","v":1732809.77},{"$f":"SUMIF('00 PDC SP'!$C:$C,'00 SP'!$D161,'00 PDC SP'!J:J)","v":75200.34},{"$f":"SUMIF('00 PDC SP'!$C:$C,'00 SP'!$D161,'00 PDC SP'!K:K)","v":3227616.17},{"$f":"SUMIF('00 PDC SP'!$C:$C,'00 SP'!$D161,'00 PDC SP'!L:L)","v":1458253.24},{"$f":"SUMIF('00 PDC SP'!$C:$C,'00 SP'!$D161,'00 PDC SP'!M:M)","v":3393835},{"$f":"SUMIF('00 PDC SP'!$C:$C,'00 SP'!$D161,'00 PDC SP'!N:N)","v":1292034.4100000001}]
["ACZ999","C) RATEI E RISCONTI ATTIVI","S","ACZ999",null,{"$f":"F163+F166","v":1502862.22},8698.51,1502862.22,8698.51,10533.97,8698.51,10533.97]
["ACA000","C.I) RATEI ATTIVI","S","ACA000",null,{"$f":"SUM(F164:F165)","v":0},0,0,0,0,0,0]
["ACA010","C.I.1) Ratei attivi",null,"ACA010",33,{"$f":"SUMIF('00 PDC SP'!$C:$C,'00 SP'!$D164,'00 PDC SP'!H:H)","v":0},{"$f":"SUMIF('00 PDC SP'!$C:$C,'00 SP'!$D164,'00 PDC SP'!I:I)","v":0},{"$f":"SUMIF('00 PDC SP'!$C:$C,'00 SP'!$D164,'00 PDC SP'!J:J)","v":0},{"$f":"SUMIF('00 PDC SP'!$C:$C,'00 SP'!$D164,'00 PDC SP'!K:K)","v":0},{"$f":"SUMIF('00 PDC SP'!$C:$C,'00 SP'!$D164,'00 PDC SP'!L:L)","v":0},{"$f":"SUMIF('00 PDC SP'!$C:$C,'00 SP'!$D164,'00 PDC SP'!M:M)","v":0},{"$f":"SUMIF('00 PDC SP'!$C:$C,'00 SP'!$D164,'00 PDC SP'!N:N)","v":0}]
["ACA020","C.I.2) Ratei attivi v/Aziende sanitarie pubbliche della Regione",null,"ACA020",33,{"$f":"SUMIF('00 PDC SP'!$C:$C,'00 SP'!$D165,'00 PDC SP'!H:H)","v":0},{"$f":"SUMIF('00 PDC SP'!$C:$C,'00 SP'!$D165,'00 PDC SP'!I:I)","v":0},{"$f":"SUMIF('00 PDC SP'!$C:$C,'00 SP'!$D165,'00 PDC SP'!J:J)","v":0},{"$f":"SUMIF('00 PDC SP'!$C:$C,'00 SP'!$D165,'00 PDC SP'!K:K)","v":0},{"$f":"SUMIF('00 PDC SP'!$C:$C,'00 SP'!$D165,'00 PDC SP'!L:L)","v":0},{"$f":"SUMIF('00 PDC SP'!$C:$C,'00 SP'!$D165,'00 PDC SP'!M:M)","v":0},{"$f":"SUMIF('00 PDC SP'!$C:$C,'00 SP'!$D165,'00 PDC SP'!N:N)","v":0}]
["ACA030","C.II) RISCONTI ATTIVI","S","ACA030",null,{"$f":"SUM(F167:F168)","v":1502862.22},8698.51,1502862.22,8698.51,10533.97,8698.51,10533.97]
["ACA040","C.II.1) Risconti attivi",null,"ACA040",33,{"$f":"SUMIF('00 PDC SP'!$C:$C,'00 SP'!$D167,'00 PDC SP'!H:H)","v":1502862.22},{"$f":"SUMIF('00 PDC SP'!$C:$C,'00 SP'!$D167,'00 PDC SP'!I:I)","v":8698.51},{"$f":"SUMIF('00 PDC SP'!$C:$C,'00 SP'!$D167,'00 PDC SP'!J:J)","v":1502862.22},{"$f":"SUMIF('00 PDC SP'!$C:$C,'00 SP'!$D167,'00 PDC SP'!K:K)","v":8698.51},{"$f":"SUMIF('00 PDC SP'!$C:$C,'00 SP'!$D167,'00 PDC SP'!L:L)","v":10533.97},{"$f":"SUMIF('00 PDC SP'!$C:$C,'00 SP'!$D167,'00 PDC SP'!M:M)","v":8698.51},{"$f":"SUMIF('00 PDC SP'!$C:$C,'00 SP'!$D167,'00 PDC SP'!N:N)","v":10533.97}]
["ACA050","C.II.2) Risconti attivi v/Aziende sanitarie pubbliche della Regione",null,"ACA050",33,{"$f":"SUMIF('00 PDC SP'!$C:$C,'00 SP'!$D168,'00 PDC SP'!H:H)","v":0},{"$f":"SUMIF('00 PDC SP'!$C:$C,'00 SP'!$D168,'00 PDC SP'!I:I)","v":0},{"$f":"SUMIF('00 PDC SP'!$C:$C,'00 SP'!$D168,'00 PDC SP'!J:J)","v":0},{"$f":"SUMIF('00 PDC SP'!$C:$C,'00 SP'!$D168,'00 PDC SP'!K:K)","v":0},{"$f":"SUMIF('00 PDC SP'!$C:$C,'00 SP'!$D168,'00 PDC SP'!L:L)","v":0},{"$f":"SUMIF('00 PDC SP'!$C:$C,'00 SP'!$D168,'00 PDC SP'!M:M)","v":0},{"$f":"SUMIF('00 PDC SP'!$C:$C,'00 SP'!$D168,'00 PDC SP'!N:N)","v":0}]
["ADZ999","D) CONTI D'ORDINE","S","ADZ999",null,{"$f":"SUM(F170:F173)","v":0},0,0,0,0,0,0]
["ADA000","D.I) CANONI DI LEASING ANCORA DA PAGARE",null,"ADA000",null,{"$f":"SUMIF('00 PDC SP'!$C:$C,'00 SP'!$D170,'00 PDC SP'!H:H)","v":0},{"$f":"SUMIF('00 PDC SP'!$C:$C,'00 SP'!$D170,'00 PDC SP'!I:I)","v":0},{"$f":"SUMIF('00 PDC SP'!$C:$C,'00 SP'!$D170,'00 PDC SP'!J:J)","v":0},{"$f":"SUMIF('00 PDC SP'!$C:$C,'00 SP'!$D170,'00 PDC SP'!K:K)","v":0},{"$f":"SUMIF('00 PDC SP'!$C:$C,'00 SP'!$D170,'00 PDC SP'!L:L)","v":0},{"$f":"SUMIF('00 PDC SP'!$C:$C,'00 SP'!$D170,'00 PDC SP'!M:M)","v":0},{"$f":"SUMIF('00 PDC SP'!$C:$C,'00 SP'!$D170,'00 PDC SP'!N:N)","v":0}]
["ADA010","D.II) DEPOSITI CAUZIONALI",null,"ADA010",null,{"$f":"SUMIF('00 PDC SP'!$C:$C,'00 SP'!$D171,'00 PDC SP'!H:H)","v":0},{"$f":"SUMIF('00 PDC SP'!$C:$C,'00 SP'!$D171,'00 PDC SP'!I:I)","v":0},{"$f":"SUMIF('00 PDC SP'!$C:$C,'00 SP'!$D171,'00 PDC SP'!J:J)","v":0},{"$f":"SUMIF('00 PDC SP'!$C:$C,'00 SP'!$D171,'00 PDC SP'!K:K)","v":0},{"$f":"SUMIF('00 PDC SP'!$C:$C,'00 SP'!$D171,'00 PDC SP'!L:L)","v":0},{"$f":"SUMIF('00 PDC SP'!$C:$C,'00 SP'!$D171,'00 PDC SP'!M:M)","v":0},{"$f":"SUMIF('00 PDC SP'!$C:$C,'00 SP'!$D171,'00 PDC SP'!N:N)","v":0}]
["ADA020","D.III) BENI IN COMODATO",null,"ADA020",null,{"$f":"SUMIF('00 PDC SP'!$C:$C,'00 SP'!$D172,'00 PDC SP'!H:H)","v":0},{"$f":"SUMIF('00 PDC SP'!$C:$C,'00 SP'!$D172,'00 PDC SP'!I:I)","v":0},{"$f":"SUMIF('00 PDC SP'!$C:$C,'00 SP'!$D172,'00 PDC SP'!J:J)","v":0},{"$f":"SUMIF('00 PDC SP'!$C:$C,'00 SP'!$D172,'00 PDC SP'!K:K)","v":0},{"$f":"SUMIF('00 PDC SP'!$C:$C,'00 SP'!$D172,'00 PDC SP'!L:L)","v":0},{"$f":"SUMIF('00 PDC SP'!$C:$C,'00 SP'!$D172,'00 PDC SP'!M:M)","v":0},{"$f":"SUMIF('00 PDC SP'!$C:$C,'00 SP'!$D172,'00 PDC SP'!N:N)","v":0}]
["ADA030","D.IV) ALTRI CONTI D'ORDINE",null,"ADA030",null,{"$f":"SUMIF('00 PDC SP'!$C:$C,'00 SP'!$D173,'00 PDC SP'!H:H)","v":0},{"$f":"SUMIF('00 PDC SP'!$C:$C,'00 SP'!$D173,'00 PDC SP'!I:I)","v":0},{"$f":"SUMIF('00 PDC SP'!$C:$C,'00 SP'!$D173,'00 PDC SP'!J:J)","v":0},{"$f":"SUMIF('00 PDC SP'!$C:$C,'00 SP'!$D173,'00 PDC SP'!K:K)","v":0},{"$f":"SUMIF('00 PDC SP'!$C:$C,'00 SP'!$D173,'00 PDC SP'!L:L)","v":0},{"$f":"SUMIF('00 PDC SP'!$C:$C,'00 SP'!$D173,'00 PDC SP'!M:M)","v":0},{"$f":"SUMIF('00 PDC SP'!$C:$C,'00 SP'!$D173,'00 PDC SP'!N:N)","v":0}]
["PAZ999","A) PATRIMONIO NETTO","S","PAZ999",null,{"$f":"F175+F176+F185+F186+F192+F196+F197","v":110947191.03},66014604.990000002,68477454.540000007,108484341.48,33821651.93,24101299.18,118204694.22999999]
["PAA000","A.I) FONDO DI DOTAZIONE",null,"PAA000",53,{"$f":"SUMIF('00 PDC SP'!$C:$C,'00 SP'!$D175,'00 PDC SP'!H:H)","v":0},{"$f":"SUMIF('00 PDC SP'!$C:$C,'00 SP'!$D175,'00 PDC SP'!I:I)","v":0},{"$f":"SUMIF('00 PDC SP'!$C:$C,'00 SP'!$D175,'00 PDC SP'!J:J)","v":0},{"$f":"SUMIF('00 PDC SP'!$C:$C,'00 SP'!$D175,'00 PDC SP'!K:K)","v":0},{"$f":"SUMIF('00 PDC SP'!$C:$C,'00 SP'!$D175,'00 PDC SP'!L:L)","v":0},{"$f":"SUMIF('00 PDC SP'!$C:$C,'00 SP'!$D175,'00 PDC SP'!M:M)","v":0},{"$f":"SUMIF('00 PDC SP'!$C:$C,'00 SP'!$D175,'00 PDC SP'!N:N)","v":0}]
["PAA010","A.II) FINANZIAMENTI PER INVESTIMENTI","S","PAA010",null,{"$f":"F177+F178+F182+F183+F184","v":122310905.73999999},6628571.3899999997,9776707.0800000001,119162770.05000001,6486693.4499999993,10436920.890000001,115212542.61]
["PAA020","A.II.1) Finanziamenti per beni di prima dotazione",null,"PAA020",5,{"$f":"SUMIF('00 PDC SP'!$C:$C,'00 SP'!$D177,'00 PDC SP'!H:H)","v":67286349.670000002},{"$f":"SUMIF('00 PDC SP'!$C:$C,'00 SP'!$D177,'00 PDC SP'!I:I)","v":0},{"$f":"SUMIF('00 PDC SP'!$C:$C,'00 SP'!$D177,'00 PDC SP'!J:J)","v":3577467.93},{"$f":"SUMIF('00 PDC SP'!$C:$C,'00 SP'!$D177,'00 PDC SP'!K:K)","v":63708881.740000002},{"$f":"SUMIF('00 PDC SP'!$C:$C,'00 SP'!$D177,'00 PDC SP'!L:L)","v":0},{"$f":"SUMIF('00 PDC SP'!$C:$C,'00 SP'!$D177,'00 PDC SP'!M:M)","v":3577467.93},{"$f":"SUMIF('00 PDC SP'!$C:$C,'00 SP'!$D177,'00 PDC SP'!N:N)","v":60131413.810000002}]
["PAA030","A.II.2) Finanziamenti da Stato per investimenti","S","PAA030",null,{"$f":"SUM(F179:F181)","v":0},0,0,0,0,0,0]
["PAA040","A.II.2.a) Finanziamenti da Stato per investimenti - ex art. 20 legge 67/88",null,"PAA040",5,{"$f":"SUMIF('00 PDC SP'!$C:$C,'00 SP'!$D179,'00 PDC SP'!H:H)","v":0},{"$f":"SUMIF('00 PDC SP'!$C:$C,'00 SP'!$D179,'00 PDC SP'!I:I)","v":0},{"$f":"SUMIF('00 PDC SP'!$C:$C,'00 SP'!$D179,'00 PDC SP'!J:J)","v":0},{"$f":"SUMIF('00 PDC SP'!$C:$C,'00 SP'!$D179,'00 PDC SP'!K:K)","v":0},{"$f":"SUMIF('00 PDC SP'!$C:$C,'00 SP'!$D179,'00 PDC SP'!L:L)","v":0},{"$f":"SUMIF('00 PDC SP'!$C:$C,'00 SP'!$D179,'00 PDC SP'!M:M)","v":0},{"$f":"SUMIF('00 PDC SP'!$C:$C,'00 SP'!$D179,'00 PDC SP'!N:N)","v":0}]
["PAA050","A.II.2.b) Finanziamenti da Stato per investimenti - ricerca",null,"PAA050",5,{"$f":"SUMIF('00 PDC SP'!$C:$C,'00 SP'!$D180,'00 PDC SP'!H:H)","v":0},{"$f":"SUMIF('00 PDC SP'!$C:$C,'00 SP'!$D180,'00 PDC SP'!I:I)","v":0},{"$f":"SUMIF('00 PDC SP'!$C:$C,'00 SP'!$D180,'00 PDC SP'!J:J)","v":0},{"$f":"SUMIF('00 PDC SP'!$C:$C,'00 SP'!$D180,'00 PDC SP'!K:K)","v":0},{"$f":"SUMIF('00 PDC SP'!$C:$C,'00 SP'!$D180,'00 PDC SP'!L:L)","v":0},{"$f":"SUMIF('00 PDC SP'!$C:$C,'00 SP'!$D180,'00 PDC SP'!M:M)","v":0},{"$f":"SUMIF('00 PDC SP'!$C:$C,'00 SP'!$D180,'00 PDC SP'!N:N)","v":0}]
["PAA060","A.II.2.c) Finanziamenti da Stato per investimenti - altro",null,"PAA060",5,{"$f":"SUMIF('00 PDC SP'!$C:$C,'00 SP'!$D181,'00 PDC SP'!H:H)","v":0},{"$f":"SUMIF('00 PDC SP'!$C:$C,'00 SP'!$D181,'00 PDC SP'!I:I)","v":0},{"$f":"SUMIF('00 PDC SP'!$C:$C,'00 SP'!$D181,'00 PDC SP'!J:J)","v":0},{"$f":"SUMIF('00 PDC SP'!$C:$C,'00 SP'!$D181,'00 PDC SP'!K:K)","v":0},{"$f":"SUMIF('00 PDC SP'!$C:$C,'00 SP'!$D181,'00 PDC SP'!L:L)","v":0},{"$f":"SUMIF('00 PDC SP'!$C:$C,'00 SP'!$D181,'00 PDC SP'!M:M)","v":0},{"$f":"SUMIF('00 PDC SP'!$C:$C,'00 SP'!$D181,'00 PDC SP'!N:N)","v":0}]
["PAA070","A.II.3) Finanziamenti da Regione per investimenti",null,"PAA070",5,{"$f":"SUMIF('00 PDC SP'!$C:$C,'00 SP'!$D182,'00 PDC SP'!H:H)","v":38902957.799999997},{"$f":"SUMIF('00 PDC SP'!$C:$C,'00 SP'!$D182,'00 PDC SP'!I:I)","v":122252.5},{"$f":"SUMIF('00 PDC SP'!$C:$C,'00 SP'!$D182,'00 PDC SP'!J:J)","v":1468544.84},{"$f":"SUMIF('00 PDC SP'!$C:$C,'00 SP'!$D182,'00 PDC SP'!K:K)","v":37556665.460000001},{"$f":"SUMIF('00 PDC SP'!$C:$C,'00 SP'!$D182,'00 PDC SP'!L:L)","v":2138846.64},{"$f":"SUMIF('00 PDC SP'!$C:$C,'00 SP'!$D182,'00 PDC SP'!M:M)","v":1674245.68},{"$f":"SUMIF('00 PDC SP'!$C:$C,'00 SP'!$D182,'00 PDC SP'!N:N)","v":38021266.420000002}]
["PAA080","A.II.4) Finanziamenti da altri soggetti pubblici per investimenti",null,"PAA080",5,{"$f":"SUMIF('00 PDC SP'!$C:$C,'00 SP'!$D183,'00 PDC SP'!H:H)","v":0},{"$f":"SUMIF('00 PDC SP'!$C:$C,'00 SP'!$D183,'00 PDC SP'!I:I)","v":0},{"$f":"SUMIF('00 PDC SP'!$C:$C,'00 SP'!$D183,'00 PDC SP'!J:J)","v":0},{"$f":"SUMIF('00 PDC SP'!$C:$C,'00 SP'!$D183,'00 PDC SP'!K:K)","v":0},{"$f":"SUMIF('00 PDC SP'!$C:$C,'00 SP'!$D183,'00 PDC SP'!L:L)","v":0},{"$f":"SUMIF('00 PDC SP'!$C:$C,'00 SP'!$D183,'00 PDC SP'!M:M)","v":0},{"$f":"SUMIF('00 PDC SP'!$C:$C,'00 SP'!$D183,'00 PDC SP'!N:N)","v":0}]
["PAA090","A.II.5) Finanziamenti per investimenti da rettifica contributi in conto esercizio",null,"PAA090",5,{"$f":"SUMIF('00 PDC SP'!$C:$C,'00 SP'!$D184,'00 PDC SP'!H:H)","v":16121598.27},{"$f":"SUMIF('00 PDC SP'!$C:$C,'00 SP'!$D184,'00 PDC SP'!I:I)","v":6506318.8899999997},{"$f":"SUMIF('00 PDC SP'!$C:$C,'00 SP'!$D184,'00 PDC SP'!J:J)","v":4730694.3099999996},{"$f":"SUMIF('00 PDC SP'!$C:$C,'00 SP'!$D184,'00 PDC SP'!K:K)","v":17897222.850000001},{"$f":"SUMIF('00 PDC SP'!$C:$C,'00 SP'!$D184,'00 PDC SP'!L:L)","v":4347846.8099999996},{"$f":"SUMIF('00 PDC SP'!$C:$C,'00 SP'!$D184,'00 PDC SP'!M:M)","v":5185207.28},{"$f":"SUMIF('00 PDC SP'!$C:$C,'00 SP'!$D184,'00 PDC SP'!N:N)","v":17059862.379999999}]
["PAA100","A.III) RISERVE DA DONAZIONI E LASCITI VINCOLATI AD INVESTIMENTI",null,"PAA100",53,{"$f":"SUMIF('00 PDC SP'!$C:$C,'00 SP'!$D185,'00 PDC SP'!H:H)","v":170994.85},{"$f":"SUMIF('00 PDC SP'!$C:$C,'00 SP'!$D185,'00 PDC SP'!I:I)","v":78486.47},{"$f":"SUMIF('00 PDC SP'!$C:$C,'00 SP'!$D185,'00 PDC SP'!J:J)","v":48286.07},{"$f":"SUMIF('00 PDC SP'!$C:$C,'00 SP'!$D185,'00 PDC SP'!K:K)","v":201195.25},{"$f":"SUMIF('00 PDC SP'!$C:$C,'00 SP'!$D185,'00 PDC SP'!L:L)","v":114032.88},{"$f":"SUMIF('00 PDC SP'!$C:$C,'00 SP'!$D185,'00 PDC SP'!M:M)","v":54754.03},{"$f":"SUMIF('00 PDC SP'!$C:$C,'00 SP'!$D185,'00 PDC SP'!N:N)","v":260474.1}]
["PAA110","A.IV) ALTRE RISERVE","S","PAA110",null,{"$f":"SUM(F187:F191)","v":2730000},0,0,2730000,0,0,2730000]
["PAA120","A.IV.1) Riserve da rivalutazioni",null,"PAA120",6,{"$f":"SUMIF('00 PDC SP'!$C:$C,'00 SP'!$D187,'00 PDC SP'!H:H)","v":0},{"$f":"SUMIF('00 PDC SP'!$C:$C,'00 SP'!$D187,'00 PDC SP'!I:I)","v":0},{"$f":"SUMIF('00 PDC SP'!$C:$C,'00 SP'!$D187,'00 PDC SP'!J:J)","v":0},{"$f":"SUMIF('00 PDC SP'!$C:$C,'00 SP'!$D187,'00 PDC SP'!K:K)","v":0},{"$f":"SUMIF('00 PDC SP'!$C:$C,'00 SP'!$D187,'00 PDC SP'!L:L)","v":0},{"$f":"SUMIF('00 PDC SP'!$C:$C,'00 SP'!$D187,'00 PDC SP'!M:M)","v":0},{"$f":"SUMIF('00 PDC SP'!$C:$C,'00 SP'!$D187,'00 PDC SP'!N:N)","v":0}]
["PAA130","A.IV.2) Riserve da plusvalenze da reinvestire",null,"PAA130",6,{"$f":"SUMIF('00 PDC SP'!$C:$C,'00 SP'!$D188,'00 PDC SP'!H:H)","v":0},{"$f":"SUMIF('00 PDC SP'!$C:$C,'00 SP'!$D188,'00 PDC SP'!I:I)","v":0},{"$f":"SUMIF('00 PDC SP'!$C:$C,'00 SP'!$D188,'00 PDC SP'!J:J)","v":0},{"$f":"SUMIF('00 PDC SP'!$C:$C,'00 SP'!$D188,'00 PDC SP'!K:K)","v":0},{"$f":"SUMIF('00 PDC SP'!$C:$C,'00 SP'!$D188,'00 PDC SP'!L:L)","v":0},{"$f":"SUMIF('00 PDC SP'!$C:$C,'00 SP'!$D188,'00 PDC SP'!M:M)","v":0},{"$f":"SUMIF('00 PDC SP'!$C:$C,'00 SP'!$D188,'00 PDC SP'!N:N)","v":0}]
["PAA140","A.IV.3) Contributi da reinvestire",null,"PAA140",6,{"$f":"SUMIF('00 PDC SP'!$C:$C,'00 SP'!$D189,'00 PDC SP'!H:H)","v":0},{"$f":"SUMIF('00 PDC SP'!$C:$C,'00 SP'!$D189,'00 PDC SP'!I:I)","v":0},{"$f":"SUMIF('00 PDC SP'!$C:$C,'00 SP'!$D189,'00 PDC SP'!J:J)","v":0},{"$f":"SUMIF('00 PDC SP'!$C:$C,'00 SP'!$D189,'00 PDC SP'!K:K)","v":0},{"$f":"SUMIF('00 PDC SP'!$C:$C,'00 SP'!$D189,'00 PDC SP'!L:L)","v":0},{"$f":"SUMIF('00 PDC SP'!$C:$C,'00 SP'!$D189,'00 PDC SP'!M:M)","v":0},{"$f":"SUMIF('00 PDC SP'!$C:$C,'00 SP'!$D189,'00 PDC SP'!N:N)","v":0}]
["PAA150","A.IV.4) Riserve da utili di esercizio destinati ad investimenti",null,"PAA150",6,{"$f":"SUMIF('00 PDC SP'!$C:$C,'00 SP'!$D190,'00 PDC SP'!H:H)","v":0},{"$f":"SUMIF('00 PDC SP'!$C:$C,'00 SP'!$D190,'00 PDC SP'!I:I)","v":0},{"$f":"SUMIF('00 PDC SP'!$C:$C,'00 SP'!$D190,'00 PDC SP'!J:J)","v":0},{"$f":"SUMIF('00 PDC SP'!$C:$C,'00 SP'!$D190,'00 PDC SP'!K:K)","v":0},{"$f":"SUMIF('00 PDC SP'!$C:$C,'00 SP'!$D190,'00 PDC SP'!L:L)","v":0},{"$f":"SUMIF('00 PDC SP'!$C:$C,'00 SP'!$D190,'00 PDC SP'!M:M)","v":0},{"$f":"SUMIF('00 PDC SP'!$C:$C,'00 SP'!$D190,'00 PDC SP'!N:N)","v":0}]
["PAA160","A.IV.5) Riserve diverse",null,"PAA160",6,{"$f":"SUMIF('00 PDC SP'!$C:$C,'00 SP'!$D191,'00 PDC SP'!H:H)","v":2730000},{"$f":"SUMIF('00 PDC SP'!$C:$C,'00 SP'!$D191,'00 PDC SP'!I:I)","v":0},{"$f":"SUMIF('00 PDC SP'!$C:$C,'00 SP'!$D191,'00 PDC SP'!J:J)","v":0},{"$f":"SUMIF('00 PDC SP'!$C:$C,'00 SP'!$D191,'00 PDC SP'!K:K)","v":2730000},{"$f":"SUMIF('00 PDC SP'!$C:$C,'00 SP'!$D191,'00 PDC SP'!L:L)","v":0},{"$f":"SUMIF('00 PDC SP'!$C:$C,'00 SP'!$D191,'00 PDC SP'!M:M)","v":0},{"$f":"SUMIF('00 PDC SP'!$C:$C,'00 SP'!$D191,'00 PDC SP'!N:N)","v":2730000}]
["PAA170","A.V) CONTRIBUTI PER RIPIANO PERDITE","S","PAA170",null,{"$f":"SUM(F193:F195)","v":30778127.57},14264710,30778127.57,14264710,13609624,0,27874334]
["PAA180","A.V.1) Contributi per copertura debiti al 31/12/2005",null,"PAA180",53,{"$f":"SUMIF('00 PDC SP'!$C:$C,'00 SP'!$D193,'00 PDC SP'!H:H)","v":0},{"$f":"SUMIF('00 PDC SP'!$C:$C,'00 SP'!$D193,'00 PDC SP'!I:I)","v":0},{"$f":"SUMIF('00 PDC SP'!$C:$C,'00 SP'!$D193,'00 PDC SP'!J:J)","v":0},{"$f":"SUMIF('00 PDC SP'!$C:$C,'00 SP'!$D193,'00 PDC SP'!K:K)","v":0},{"$f":"SUMIF('00 PDC SP'!$C:$C,'00 SP'!$D193,'00 PDC SP'!L:L)","v":0},{"$f":"SUMIF('00 PDC SP'!$C:$C,'00 SP'!$D193,'00 PDC SP'!M:M)","v":0},{"$f":"SUMIF('00 PDC SP'!$C:$C,'00 SP'!$D193,'00 PDC SP'!N:N)","v":0}]
["PAA190","A.V.2) Contributi per ricostituzione risorse da investimenti esercizi precedenti",null,"PAA190",53,{"$f":"SUMIF('00 PDC SP'!$C:$C,'00 SP'!$D194,'00 PDC SP'!H:H)","v":0},{"$f":"SUMIF('00 PDC SP'!$C:$C,'00 SP'!$D194,'00 PDC SP'!I:I)","v":0},{"$f":"SUMIF('00 PDC SP'!$C:$C,'00 SP'!$D194,'00 PDC SP'!J:J)","v":0},{"$f":"SUMIF('00 PDC SP'!$C:$C,'00 SP'!$D194,'00 PDC SP'!K:K)","v":0},{"$f":"SUMIF('00 PDC SP'!$C:$C,'00 SP'!$D194,'00 PDC SP'!L:L)","v":0},{"$f":"SUMIF('00 PDC SP'!$C:$C,'00 SP'!$D194,'00 PDC SP'!M:M)","v":0},{"$f":"SUMIF('00 PDC SP'!$C:$C,'00 SP'!$D194,'00 PDC SP'!N:N)","v":0}]
["PAA200","A.V.3) Altro",null,"PAA200",53,{"$f":"SUMIF('00 PDC SP'!$C:$C,'00 SP'!$D195,'00 PDC SP'!H:H)","v":30778127.57},{"$f":"SUMIF('00 PDC SP'!$C:$C,'00 SP'!$D195,'00 PDC SP'!I:I)","v":14264710},{"$f":"SUMIF('00 PDC SP'!$C:$C,'00 SP'!$D195,'00 PDC SP'!J:J)","v":30778127.57},{"$f":"SUMIF('00 PDC SP'!$C:$C,'00 SP'!$D195,'00 PDC SP'!K:K)","v":14264710},{"$f":"SUMIF('00 PDC SP'!$C:$C,'00 SP'!$D195,'00 PDC SP'!L:L)","v":13609624},{"$f":"SUMIF('00 PDC SP'!$C:$C,'00 SP'!$D195,'00 PDC SP'!M:M)","v":0},{"$f":"SUMIF('00 PDC SP'!$C:$C,'00 SP'!$D195,'00 PDC SP'!N:N)","v":27874334}]
["PAA210","A.VI) UTILI (PERDITE) PORTATI A NUOVO",null,"PAA210",53,{"$f":"SUMIF('00 PDC SP'!$C:$C,'00 SP'!$D196,'00 PDC SP'!H:H)","v":-30778127.57},{"$f":"SUMIF('00 PDC SP'!$C:$C,'00 SP'!$D196,'00 PDC SP'!I:I)","v":30778127.57},{"$f":"SUMIF('00 PDC SP'!$C:$C,'00 SP'!$D196,'00 PDC SP'!J:J)","v":14264709.560000001},{"$f":"SUMIF('00 PDC SP'!$C:$C,'00 SP'!$D196,'00 PDC SP'!K:K)","v":-14264709.560000001},{"$f":"SUMIF('00 PDC SP'!$C:$C,'00 SP'!$D196,'00 PDC SP'!L:L)","v":0},{"$f":"SUMIF('00 PDC SP'!$C:$C,'00 SP'!$D196,'00 PDC SP'!M:M)","v":13609624.26},{"$f":"SUMIF('00 PDC SP'!$C:$C,'00 SP'!$D196,'00 PDC SP'!N:N)","v":-27874333.82}]
["PAA220","A.VII) UTILE (PERDITA) D'ESERCIZIO",null,"PAA220",53,{"$f":"SUMIF('00 PDC SP'!$C:$C,'00 SP'!$D197,'00 PDC SP'!H:H)","v":-14264709.560000001},{"$f":"SUMIF('00 PDC SP'!$C:$C,'00 SP'!$D197,'00 PDC SP'!I:I)","v":14264709.560000001},{"$f":"SUMIF('00 PDC SP'!$C:$C,'00 SP'!$D197,'00 PDC SP'!J:J)","v":13609624.26},{"$f":"SUMIF('00 PDC SP'!$C:$C,'00 SP'!$D197,'00 PDC SP'!K:K)","v":-13609624.26},{"$f":"SUMIF('00 PDC SP'!$C:$C,'00 SP'!$D197,'00 PDC SP'!L:L)","v":13611301.6},{"$f":"SUMIF('00 PDC SP'!$C:$C,'00 SP'!$D197,'00 PDC SP'!M:M)","v":0},{"$f":"SUMIF('00 PDC SP'!$C:$C,'00 SP'!$D197,'00 PDC SP'!N:N)","v":1677.34}]
["PBZ999","B) FONDI PER RISCHI E ONERI","S","PBZ999",null,{"$f":"F199+F200+F206+F214+F219","v":70986748.230000004},27369043.699999999,12603218.6,85752573.330000013,18073168.949999999,20991484.870000001,82834257.409999996]
["PBA000","B.I) FONDI PER IMPOSTE, ANCHE DIFFERITE",null,"PBA000",11,{"$f":"SUMIF('00 PDC SP'!$C:$C,'00 SP'!$D199,'00 PDC SP'!H:H)*-1","v":0},{"$f":"SUMIF('00 PDC SP'!$C:$C,'00 SP'!$D199,'00 PDC SP'!I:I)*-1","v":0},{"$f":"SUMIF('00 PDC SP'!$C:$C,'00 SP'!$D199,'00 PDC SP'!J:J)*-1","v":0},{"$f":"SUMIF('00 PDC SP'!$C:$C,'00 SP'!$D199,'00 PDC SP'!K:K)*-1","v":0},{"$f":"SUMIF('00 PDC SP'!$C:$C,'00 SP'!$D199,'00 PDC SP'!L:L)*-1","v":0},{"$f":"SUMIF('00 PDC SP'!$C:$C,'00 SP'!$D199,'00 PDC SP'!M:M)*-1","v":0},{"$f":"SUMIF('00 PDC SP'!$C:$C,'00 SP'!$D199,'00 PDC SP'!N:N)*-1","v":0}]
["PBA010","B.II) FONDI PER RISCHI","S","PBA010",null,{"$f":"SUM(F201:F205)","v":36530382.340000004},{"$f":"SUM(G201:G205)","v":17313713.75},7504037.5800000001,46340058.510000005,3927713.96,10442430.949999999,39825341.520000003]
["PBA020","B.II.1) Fondo rischi per cause civili ed oneri processuali",null,"PBA020",11,{"$f":"SUMIF('00 PDC SP'!$C:$C,'00 SP'!$D201,'00 PDC SP'!H:H)*-1","v":7150000},{"$f":"SUMIF('00 PDC SP'!$C:$C,'00 SP'!$D201,'00 PDC SP'!I:I)*-1","v":9280260.1600000001},{"$f":"SUMIF('00 PDC SP'!$C:$C,'00 SP'!$D201,'00 PDC SP'!J:J)*-1","v":165038.16},{"$f":"SUMIF('00 PDC SP'!$C:$C,'00 SP'!$D201,'00 PDC SP'!K:K)*-1","v":16265222},{"$f":"SUMIF('00 PDC SP'!$C:$C,'00 SP'!$D201,'00 PDC SP'!L:L)*-1","v":1357811.38},{"$f":"SUMIF('00 PDC SP'!$C:$C,'00 SP'!$D201,'00 PDC SP'!M:M)*-1","v":6579085.1600000001},{"$f":"SUMIF('00 PDC SP'!$C:$C,'00 SP'!$D201,'00 PDC SP'!N:N)*-1","v":11043948.219999999}]
["PBA030","B.II.2) Fondo rischi per contenzioso personale dipendente",null,"PBA030",11,{"$f":"SUMIF('00 PDC SP'!$C:$C,'00 SP'!$D202,'00 PDC SP'!H:H)*-1","v":1250000},{"$f":"SUMIF('00 PDC SP'!$C:$C,'00 SP'!$D202,'00 PDC SP'!I:I)*-1","v":563110.28},{"$f":"SUMIF('00 PDC SP'!$C:$C,'00 SP'!$D202,'00 PDC SP'!J:J)*-1","v":563110.28},{"$f":"SUMIF('00 PDC SP'!$C:$C,'00 SP'!$D202,'00 PDC SP'!K:K)*-1","v":1250000},{"$f":"SUMIF('00 PDC SP'!$C:$C,'00 SP'!$D202,'00 PDC SP'!L:L)*-1","v":0},{"$f":"SUMIF('00 PDC SP'!$C:$C,'00 SP'!$D202,'00 PDC SP'!M:M)*-1","v":254237.67},{"$f":"SUMIF('00 PDC SP'!$C:$C,'00 SP'!$D202,'00 PDC SP'!N:N)*-1","v":995762.33}]
["PBA040","B.II.3) Fondo rischi connessi all'acquisto di prestazioni sanitarie da privato",null,"PBA040",11,{"$f":"SUMIF('00 PDC SP'!$C:$C,'00 SP'!$D203,'00 PDC SP'!H:H)*-1","v":22630382.34},{"$f":"SUMIF('00 PDC SP'!$C:$C,'00 SP'!$D203,'00 PDC SP'!I:I)*-1","v":4358962},{"$f":"SUMIF('00 PDC SP'!$C:$C,'00 SP'!$D203,'00 PDC SP'!J:J)*-1","v":3664507.83},{"$f":"SUMIF('00 PDC SP'!$C:$C,'00 SP'!$D203,'00 PDC SP'!K:K)*-1","v":23324836.510000002},{"$f":"SUMIF('00 PDC SP'!$C:$C,'00 SP'!$D203,'00 PDC SP'!L:L)*-1","v":272176.8},{"$f":"SUMIF('00 PDC SP'!$C:$C,'00 SP'!$D203,'00 PDC SP'!M:M)*-1","v":1311382.44},{"$f":"SUMIF('00 PDC SP'!$C:$C,'00 SP'!$D203,'00 PDC SP'!N:N)*-1","v":22285630.870000001}]
["PBA050","B.II.4) Fondo rischi per copertura diretta dei rischi (autoassicurazione)",null,"PBA050",11,{"$f":"SUMIF('00 PDC SP'!$C:$C,'00 SP'!$D204,'00 PDC SP'!H:H)*-1","v":5500000},{"$f":"SUMIF('00 PDC SP'!$C:$C,'00 SP'!$D204,'00 PDC SP'!I:I)*-1","v":3111381.31},{"$f":"SUMIF('00 PDC SP'!$C:$C,'00 SP'!$D204,'00 PDC SP'!J:J)*-1","v":3111381.31},{"$f":"SUMIF('00 PDC SP'!$C:$C,'00 SP'!$D204,'00 PDC SP'!K:K)*-1","v":5500000},{"$f":"SUMIF('00 PDC SP'!$C:$C,'00 SP'!$D204,'00 PDC SP'!L:L)*-1","v":2297725.7799999998},{"$f":"SUMIF('00 PDC SP'!$C:$C,'00 SP'!$D204,'00 PDC SP'!M:M)*-1","v":2297725.6800000002},{"$f":"SUMIF('00 PDC SP'!$C:$C,'00 SP'!$D204,'00 PDC SP'!N:N)*-1","v":5500000.0999999996}]
["PBA060","B.II.5) Altri fondi rischi",null,"PBA060",11,{"$f":"SUMIF('00 PDC SP'!$C:$C,'00 SP'!$D205,'00 PDC SP'!H:H)*-1","v":0},{"$f":"SUMIF('00 PDC SP'!$C:$C,'00 SP'!$D205,'00 PDC SP'!I:I)*-1","v":0},{"$f":"SUMIF('00 PDC SP'!$C:$C,'00 SP'!$D205,'00 PDC SP'!J:J)*-1","v":0},{"$f":"SUMIF('00 PDC SP'!$C:$C,'00 SP'!$D205,'00 PDC SP'!K:K)*-1","v":0},{"$f":"SUMIF('00 PDC SP'!$C:$C,'00 SP'!$D205,'00 PDC SP'!L:L)*-1","v":0},{"$f":"SUMIF('00 PDC SP'!$C:$C,'00 SP'!$D205,'00 PDC SP'!M:M)*-1","v":0},{"$f":"SUMIF('00 PDC SP'!$C:$C,'00 SP'!$D205,'00 PDC SP'!N:N)*-1","v":0}]
["PBA070","B.III) FONDI DA DISTRIBUIRE","S","PBA070",null,{"$f":"SUM(F207:F213)","v":0},0,0,0,0,0,0]
["PBA080","B.III.1) FSR indistinto da distribuire",null,"PBA080",11,{"$f":"SUMIF('00 PDC SP'!$C:$C,'00 SP'!$D207,'00 PDC SP'!H:H)*-1","v":0},{"$f":"SUMIF('00 PDC SP'!$C:$C,'00 SP'!$D207,'00 PDC SP'!I:I)*-1","v":0},{"$f":"SUMIF('00 PDC SP'!$C:$C,'00 SP'!$D207,'00 PDC SP'!J:J)*-1","v":0},{"$f":"SUMIF('00 PDC SP'!$C:$C,'00 SP'!$D207,'00 PDC SP'!K:K)*-1","v":0},{"$f":"SUMIF('00 PDC SP'!$C:$C,'00 SP'!$D207,'00 PDC SP'!L:L)*-1","v":0},{"$f":"SUMIF('00 PDC SP'!$C:$C,'00 SP'!$D207,'00 PDC SP'!M:M)*-1","v":0},{"$f":"SUMIF('00 PDC SP'!$C:$C,'00 SP'!$D207,'00 PDC SP'!N:N)*-1","v":0}]
["PBA090","B.III.2) FSR vincolato da distribuire",null,"PBA090",11,{"$f":"SUMIF('00 PDC SP'!$C:$C,'00 SP'!$D208,'00 PDC SP'!H:H)*-1","v":0},{"$f":"SUMIF('00 PDC SP'!$C:$C,'00 SP'!$D208,'00 PDC SP'!I:I)*-1","v":0},{"$f":"SUMIF('00 PDC SP'!$C:$C,'00 SP'!$D208,'00 PDC SP'!J:J)*-1","v":0},{"$f":"SUMIF('00 PDC SP'!$C:$C,'00 SP'!$D208,'00 PDC SP'!K:K)*-1","v":0},{"$f":"SUMIF('00 PDC SP'!$C:$C,'00 SP'!$D208,'00 PDC SP'!L:L)*-1","v":0},{"$f":"SUMIF('00 PDC SP'!$C:$C,'00 SP'!$D208,'00 PDC SP'!M:M)*-1","v":0},{"$f":"SUMIF('00 PDC SP'!$C:$C,'00 SP'!$D208,'00 PDC SP'!N:N)*-1","v":0}]
["PBA100","B.III.3) Fondo per ripiano disavanzi pregressi",null,"PBA100",11,{"$f":"SUMIF('00 PDC SP'!$C:$C,'00 SP'!$D209,'00 PDC SP'!H:H)*-1","v":0},{"$f":"SUMIF('00 PDC SP'!$C:$C,'00 SP'!$D209,'00 PDC SP'!I:I)*-1","v":0},{"$f":"SUMIF('00 PDC SP'!$C:$C,'00 SP'!$D209,'00 PDC SP'!J:J)*-1","v":0},{"$f":"SUMIF('00 PDC SP'!$C:$C,'00 SP'!$D209,'00 PDC SP'!K:K)*-1","v":0},{"$f":"SUMIF('00 PDC SP'!$C:$C,'00 SP'!$D209,'00 PDC SP'!L:L)*-1","v":0},{"$f":"SUMIF('00 PDC SP'!$C:$C,'00 SP'!$D209,'00 PDC SP'!M:M)*-1","v":0},{"$f":"SUMIF('00 PDC SP'!$C:$C,'00 SP'!$D209,'00 PDC SP'!N:N)*-1","v":0}]
["PBA110","B.III.4) Fondo finanziamento sanitario aggiuntivo corrente LEA",null,"PBA110",11,{"$f":"SUMIF('00 PDC SP'!$C:$C,'00 SP'!$D210,'00 PDC SP'!H:H)*-1","v":0},{"$f":"SUMIF('00 PDC SP'!$C:$C,'00 SP'!$D210,'00 PDC SP'!I:I)*-1","v":0},{"$f":"SUMIF('00 PDC SP'!$C:$C,'00 SP'!$D210,'00 PDC SP'!J:J)*-1","v":0},{"$f":"SUMIF('00 PDC SP'!$C:$C,'00 SP'!$D210,'00 PDC SP'!K:K)*-1","v":0},{"$f":"SUMIF('00 PDC SP'!$C:$C,'00 SP'!$D210,'00 PDC SP'!L:L)*-1","v":0},{"$f":"SUMIF('00 PDC SP'!$C:$C,'00 SP'!$D210,'00 PDC SP'!M:M)*-1","v":0},{"$f":"SUMIF('00 PDC SP'!$C:$C,'00 SP'!$D210,'00 PDC SP'!N:N)*-1","v":0}]
["PBA120","B.III.5) Fondo finanziamento sanitario aggiuntivo corrente extra LEA",null,"PBA120",11,{"$f":"SUMIF('00 PDC SP'!$C:$C,'00 SP'!$D211,'00 PDC SP'!H:H)*-1","v":0},{"$f":"SUMIF('00 PDC SP'!$C:$C,'00 SP'!$D211,'00 PDC SP'!I:I)*-1","v":0},{"$f":"SUMIF('00 PDC SP'!$C:$C,'00 SP'!$D211,'00 PDC SP'!J:J)*-1","v":0},{"$f":"SUMIF('00 PDC SP'!$C:$C,'00 SP'!$D211,'00 PDC SP'!K:K)*-1","v":0},{"$f":"SUMIF('00 PDC SP'!$C:$C,'00 SP'!$D211,'00 PDC SP'!L:L)*-1","v":0},{"$f":"SUMIF('00 PDC SP'!$C:$C,'00 SP'!$D211,'00 PDC SP'!M:M)*-1","v":0},{"$f":"SUMIF('00 PDC SP'!$C:$C,'00 SP'!$D211,'00 PDC SP'!N:N)*-1","v":0}]
["PBA130","B.III.6) Fondo finanziamento per ricerca",null,"PBA130",11,{"$f":"SUMIF('00 PDC SP'!$C:$C,'00 SP'!$D212,'00 PDC SP'!H:H)*-1","v":0},{"$f":"SUMIF('00 PDC SP'!$C:$C,'00 SP'!$D212,'00 PDC SP'!I:I)*-1","v":0},{"$f":"SUMIF('00 PDC SP'!$C:$C,'00 SP'!$D212,'00 PDC SP'!J:J)*-1","v":0},{"$f":"SUMIF('00 PDC SP'!$C:$C,'00 SP'!$D212,'00 PDC SP'!K:K)*-1","v":0},{"$f":"SUMIF('00 PDC SP'!$C:$C,'00 SP'!$D212,'00 PDC SP'!L:L)*-1","v":0},{"$f":"SUMIF('00 PDC SP'!$C:$C,'00 SP'!$D212,'00 PDC SP'!M:M)*-1","v":0},{"$f":"SUMIF('00 PDC SP'!$C:$C,'00 SP'!$D212,'00 PDC SP'!N:N)*-1","v":0}]
["PBA140","B.III.7) Fondo finanziamento per investimenti",null,"PBA140",11,{"$f":"SUMIF('00 PDC SP'!$C:$C,'00 SP'!$D213,'00 PDC SP'!H:H)*-1","v":0},{"$f":"SUMIF('00 PDC SP'!$C:$C,'00 SP'!$D213,'00 PDC SP'!I:I)*-1","v":0},{"$f":"SUMIF('00 PDC SP'!$C:$C,'00 SP'!$D213,'00 PDC SP'!J:J)*-1","v":0},{"$f":"SUMIF('00 PDC SP'!$C:$C,'00 SP'!$D213,'00 PDC SP'!K:K)*-1","v":0},{"$f":"SUMIF('00 PDC SP'!$C:$C,'00 SP'!$D213,'00 PDC SP'!L:L)*-1","v":0},{"$f":"SUMIF('00 PDC SP'!$C:$C,'00 SP'!$D213,'00 PDC SP'!M:M)*-1","v":0},{"$f":"SUMIF('00 PDC SP'!$C:$C,'00 SP'!$D213,'00 PDC SP'!N:N)*-1","v":0}]
["PBA150","B.IV) QUOTE INUTILIZZATE CONTRIBUTI","S","PBA150",null,{"$f":"SUM(F215:F218)","v":30490656.740000002},7477589.9500000002,5099181.0199999996,32869065.669999998,7269835.4900000002,7199516.7300000004,32939384.43]
["PBA160","B.IV.1) Quote inutilizzate contributi da Regione o Prov. Aut. per quota F.S. vincolato",null,"PBA160",11,{"$f":"SUMIF('00 PDC SP'!$C:$C,'00 SP'!$D215,'00 PDC SP'!H:H)*-1","v":30310050.780000001},{"$f":"SUMIF('00 PDC SP'!$C:$C,'00 SP'!$D215,'00 PDC SP'!I:I)*-1","v":7427287.5499999998},{"$f":"SUMIF('00 PDC SP'!$C:$C,'00 SP'!$D215,'00 PDC SP'!J:J)*-1","v":5006728.5599999996},{"$f":"SUMIF('00 PDC SP'!$C:$C,'00 SP'!$D215,'00 PDC SP'!K:K)*-1","v":32730609.77},{"$f":"SUMIF('00 PDC SP'!$C:$C,'00 SP'!$D215,'00 PDC SP'!L:L)*-1","v":7216729.6299999999},{"$f":"SUMIF('00 PDC SP'!$C:$C,'00 SP'!$D215,'00 PDC SP'!M:M)*-1","v":7199516.7300000004},{"$f":"SUMIF('00 PDC SP'!$C:$C,'00 SP'!$D215,'00 PDC SP'!N:N)*-1","v":32747822.669999998}]
["PBA170","B.IV.2) Quote inutilizzate contributi vincolati da soggetti pubblici (extra fondo)",null,"PBA170",11,{"$f":"SUMIF('00 PDC SP'!$C:$C,'00 SP'!$D216,'00 PDC SP'!H:H)*-1","v":180605.96},{"$f":"SUMIF('00 PDC SP'!$C:$C,'00 SP'!$D216,'00 PDC SP'!I:I)*-1","v":50302.400000000001},{"$f":"SUMIF('00 PDC SP'!$C:$C,'00 SP'!$D216,'00 PDC SP'!J:J)*-1","v":92452.46},{"$f":"SUMIF('00 PDC SP'!$C:$C,'00 SP'!$D216,'00 PDC SP'!K:K)*-1","v":138455.9},{"$f":"SUMIF('00 PDC SP'!$C:$C,'00 SP'!$D216,'00 PDC SP'!L:L)*-1","v":53105.86},{"$f":"SUMIF('00 PDC SP'!$C:$C,'00 SP'!$D216,'00 PDC SP'!M:M)*-1","v":0},{"$f":"SUMIF('00 PDC SP'!$C:$C,'00 SP'!$D216,'00 PDC SP'!N:N)*-1","v":191561.76}]
["PBA180","B.IV.3) Quote inutilizzate contributi per ricerca",null,"PBA180",11,{"$f":"SUMIF('00 PDC SP'!$C:$C,'00 SP'!$D217,'00 PDC SP'!H:H)*-1","v":0},{"$f":"SUMIF('00 PDC SP'!$C:$C,'00 SP'!$D217,'00 PDC SP'!I:I)*-1","v":0},{"$f":"SUMIF('00 PDC SP'!$C:$C,'00 SP'!$D217,'00 PDC SP'!J:J)*-1","v":0},{"$f":"SUMIF('00 PDC SP'!$C:$C,'00 SP'!$D217,'00 PDC SP'!K:K)*-1","v":0},{"$f":"SUMIF('00 PDC SP'!$C:$C,'00 SP'!$D217,'00 PDC SP'!L:L)*-1","v":0},{"$f":"SUMIF('00 PDC SP'!$C:$C,'00 SP'!$D217,'00 PDC SP'!M:M)*-1","v":0},{"$f":"SUMIF('00 PDC SP'!$C:$C,'00 SP'!$D217,'00 PDC SP'!N:N)*-1","v":0}]
["PBA190","B.IV.4) Quote inutilizzate contributi vincolati da privati",null,"PBA190",11,{"$f":"SUMIF('00 PDC SP'!$C:$C,'00 SP'!$D218,'00 PDC SP'!H:H)*-1","v":0},{"$f":"SUMIF('00 PDC SP'!$C:$C,'00 SP'!$D218,'00 PDC SP'!I:I)*-1","v":0},{"$f":"SUMIF('00 PDC SP'!$C:$C,'00 SP'!$D218,'00 PDC SP'!J:J)*-1","v":0},{"$f":"SUMIF('00 PDC SP'!$C:$C,'00 SP'!$D218,'00 PDC SP'!K:K)*-1","v":0},{"$f":"SUMIF('00 PDC SP'!$C:$C,'00 SP'!$D218,'00 PDC SP'!L:L)*-1","v":0},{"$f":"SUMIF('00 PDC SP'!$C:$C,'00 SP'!$D218,'00 PDC SP'!M:M)*-1","v":0},{"$f":"SUMIF('00 PDC SP'!$C:$C,'00 SP'!$D218,'00 PDC SP'!N:N)*-1","v":0}]
["PBA200","B.V) ALTRI FONDI PER ONERI E SPESE","S","PBA200",null,{"$f":"F220+F221+F225","v":3965709.15},2577740,0,6543449.1500000004,6875619.5,3349537.1900000004,10069531.460000001]
["PBA210","B.V.1) Fondi integrativi pensione",null,"PBA210",11,{"$f":"SUMIF('00 PDC SP'!$C:$C,'00 SP'!$D220,'00 PDC SP'!H:H)*-1","v":0},{"$f":"SUMIF('00 PDC SP'!$C:$C,'00 SP'!$D220,'00 PDC SP'!I:I)*-1","v":0},{"$f":"SUMIF('00 PDC SP'!$C:$C,'00 SP'!$D220,'00 PDC SP'!J:J)*-1","v":0},{"$f":"SUMIF('00 PDC SP'!$C:$C,'00 SP'!$D220,'00 PDC SP'!K:K)*-1","v":0},{"$f":"SUMIF('00 PDC SP'!$C:$C,'00 SP'!$D220,'00 PDC SP'!L:L)*-1","v":0},{"$f":"SUMIF('00 PDC SP'!$C:$C,'00 SP'!$D220,'00 PDC SP'!M:M)*-1","v":0},{"$f":"SUMIF('00 PDC SP'!$C:$C,'00 SP'!$D220,'00 PDC SP'!N:N)*-1","v":0}]
["PBA220","B.V.2) Fondi rinnovi contrattuali","S","PBA220",null,{"$f":"SUM(F222:F224)","v":3965709.15},2577740,0,6543449.1500000004,4475619.5,3349537.1900000004,7669531.4600000009]
["PBA230","B.V.2.a) Fondo rinnovi contrattuali personale dipendente",null,"PBA230",11,{"$f":"SUMIF('00 PDC SP'!$C:$C,'00 SP'!$D222,'00 PDC SP'!H:H)*-1","v":675624},{"$f":"SUMIF('00 PDC SP'!$C:$C,'00 SP'!$D222,'00 PDC SP'!I:I)*-1","v":1841073},{"$f":"SUMIF('00 PDC SP'!$C:$C,'00 SP'!$D222,'00 PDC SP'!J:J)*-1","v":0},{"$f":"SUMIF('00 PDC SP'!$C:$C,'00 SP'!$D222,'00 PDC SP'!K:K)*-1","v":2516697},{"$f":"SUMIF('00 PDC SP'!$C:$C,'00 SP'!$D222,'00 PDC SP'!L:L)*-1","v":2658672},{"$f":"SUMIF('00 PDC SP'!$C:$C,'00 SP'!$D222,'00 PDC SP'!M:M)*-1","v":1421530.85},{"$f":"SUMIF('00 PDC SP'!$C:$C,'00 SP'!$D222,'00 PDC SP'!N:N)*-1","v":3753838.15}]
["PBA240","B.V.2.b) Fondo rinnovi convenzioni MMG/PLS/MCA",null,"PBA240",11,{"$f":"SUMIF('00 PDC SP'!$C:$C,'00 SP'!$D223,'00 PDC SP'!H:H)*-1","v":3153969.15},{"$f":"SUMIF('00 PDC SP'!$C:$C,'00 SP'!$D223,'00 PDC SP'!I:I)*-1","v":653733},{"$f":"SUMIF('00 PDC SP'!$C:$C,'00 SP'!$D223,'00 PDC SP'!J:J)*-1","v":0},{"$f":"SUMIF('00 PDC SP'!$C:$C,'00 SP'!$D223,'00 PDC SP'!K:K)*-1","v":3807702.15},{"$f":"SUMIF('00 PDC SP'!$C:$C,'00 SP'!$D223,'00 PDC SP'!L:L)*-1","v":1507157},{"$f":"SUMIF('00 PDC SP'!$C:$C,'00 SP'!$D223,'00 PDC SP'!M:M)*-1","v":1600163.8400000001},{"$f":"SUMIF('00 PDC SP'!$C:$C,'00 SP'!$D223,'00 PDC SP'!N:N)*-1","v":3714695.3100000005}]
["PBA250","B.V.2.c) Fondo rinnovi convenzioni medici Sumai",null,"PBA250",11,{"$f":"SUMIF('00 PDC SP'!$C:$C,'00 SP'!$D224,'00 PDC SP'!H:H)*-1","v":136116},{"$f":"SUMIF('00 PDC SP'!$C:$C,'00 SP'!$D224,'00 PDC SP'!I:I)*-1","v":82934},{"$f":"SUMIF('00 PDC SP'!$C:$C,'00 SP'!$D224,'00 PDC SP'!J:J)*-1","v":0},{"$f":"SUMIF('00 PDC SP'!$C:$C,'00 SP'!$D224,'00 PDC SP'!K:K)*-1","v":219050},{"$f":"SUMIF('00 PDC SP'!$C:$C,'00 SP'!$D224,'00 PDC SP'!L:L)*-1","v":309790.5},{"$f":"SUMIF('00 PDC SP'!$C:$C,'00 SP'!$D224,'00 PDC SP'!M:M)*-1","v":327842.5},{"$f":"SUMIF('00 PDC SP'!$C:$C,'00 SP'!$D224,'00 PDC SP'!N:N)*-1","v":200998}]
["PBA260","B.V.3) Altri fondi per oneri e spese",null,"PBA260",11,{"$f":"SUMIF('00 PDC SP'!$C:$C,'00 SP'!$D225,'00 PDC SP'!H:H)*-1","v":0},{"$f":"SUMIF('00 PDC SP'!$C:$C,'00 SP'!$D225,'00 PDC SP'!I:I)*-1","v":0},{"$f":"SUMIF('00 PDC SP'!$C:$C,'00 SP'!$D225,'00 PDC SP'!J:J)*-1","v":0},{"$f":"SUMIF('00 PDC SP'!$C:$C,'00 SP'!$D225,'00 PDC SP'!K:K)*-1","v":0},{"$f":"SUMIF('00 PDC SP'!$C:$C,'00 SP'!$D225,'00 PDC SP'!L:L)*-1","v":2400000},{"$f":"SUMIF('00 PDC SP'!$C:$C,'00 SP'!$D225,'00 PDC SP'!M:M)*-1","v":0},{"$f":"SUMIF('00 PDC SP'!$C:$C,'00 SP'!$D225,'00 PDC SP'!N:N)*-1","v":2400000}]
["PCZ999","C) TRATTAMENTO FINE RAPPORTO","S","PCZ999",null,{"$f":"SUM(F227:F228)","v":2195943.02},223015.56,217866.17,2201092.41,264664.11,197944.41,2267812.11]
["PCA000","C.I) FONDO PER PREMI OPEROSITA' MEDICI SUMAI",null,"PCA000",7,{"$f":"SUMIF('00 PDC SP'!$C:$C,'00 SP'!$D227,'00 PDC SP'!H:H)*-1","v":2195943.02},{"$f":"SUMIF('00 PDC SP'!$C:$C,'00 SP'!$D227,'00 PDC SP'!I:I)*-1","v":223015.56},{"$f":"SUMIF('00 PDC SP'!$C:$C,'00 SP'!$D227,'00 PDC SP'!J:J)*-1","v":217866.17},{"$f":"SUMIF('00 PDC SP'!$C:$C,'00 SP'!$D227,'00 PDC SP'!K:K)*-1","v":2201092.41},{"$f":"SUMIF('00 PDC SP'!$C:$C,'00 SP'!$D227,'00 PDC SP'!L:L)*-1","v":264664.11},{"$f":"SUMIF('00 PDC SP'!$C:$C,'00 SP'!$D227,'00 PDC SP'!M:M)*-1","v":197944.41},{"$f":"SUMIF('00 PDC SP'!$C:$C,'00 SP'!$D227,'00 PDC SP'!N:N)*-1","v":2267812.11}]
["PCA010","C.II) FONDO PER TRATTAMENTO DI FINE RAPPORTO DIPENDENTI",null,"PCA010",8,{"$f":"SUMIF('00 PDC SP'!$C:$C,'00 SP'!$D228,'00 PDC SP'!H:H)*-1","v":0},{"$f":"SUMIF('00 PDC SP'!$C:$C,'00 SP'!$D228,'00 PDC SP'!I:I)*-1","v":0},{"$f":"SUMIF('00 PDC SP'!$C:$C,'00 SP'!$D228,'00 PDC SP'!J:J)*-1","v":0},{"$f":"SUMIF('00 PDC SP'!$C:$C,'00 SP'!$D228,'00 PDC SP'!K:K)*-1","v":0},{"$f":"SUMIF('00 PDC SP'!$C:$C,'00 SP'!$D228,'00 PDC SP'!L:L)*-1","v":0},{"$f":"SUMIF('00 PDC SP'!$C:$C,'00 SP'!$D228,'00 PDC SP'!M:M)*-1","v":0},{"$f":"SUMIF('00 PDC SP'!$C:$C,'00 SP'!$D228,'00 PDC SP'!N:N)*-1","v":0}]
["PDZ999","D) DEBITI","S","PDZ999",null,{"$f":"F230+F231+F237+F243+F244+F254+F258+F261+F262+F263+F264","v":187567678.13000003},2388545179.6799998,2397979075.6900005,178133782.12,1452726710.3,1447731114.3300004,183129378.08999997]
["PDA000","D.I) DEBITI PER MUTUI PASSIVI",null,"PDA000",55,{"$f":"SUMIF('00 PDC SP'!$C:$C,'00 SP'!$D230,'00 PDC SP'!H:H)*-1","v":0},{"$f":"SUMIF('00 PDC SP'!$C:$C,'00 SP'!$D230,'00 PDC SP'!I:I)*-1","v":0},{"$f":"SUMIF('00 PDC SP'!$C:$C,'00 SP'!$D230,'00 PDC SP'!J:J)*-1","v":0},{"$f":"SUMIF('00 PDC SP'!$C:$C,'00 SP'!$D230,'00 PDC SP'!K:K)*-1","v":0},{"$f":"SUMIF('00 PDC SP'!$C:$C,'00 SP'!$D230,'00 PDC SP'!L:L)*-1","v":0},{"$f":"SUMIF('00 PDC SP'!$C:$C,'00 SP'!$D230,'00 PDC SP'!M:M)*-1","v":0},{"$f":"SUMIF('00 PDC SP'!$C:$C,'00 SP'!$D230,'00 PDC SP'!N:N)*-1","v":0}]
["PDA010","D.II) DEBITI V/STATO","S","PDA010",null,{"$f":"SUMIF('00 PDC SP'!$C:$C,'00 SP'!$D231,'00 PDC SP'!H:H)*-1","v":0},{"$f":"SUMIF('00 PDC SP'!$C:$C,'00 SP'!$D231,'00 PDC SP'!I:I)*-1","v":0},{"$f":"SUMIF('00 PDC SP'!$C:$C,'00 SP'!$D231,'00 PDC SP'!J:J)*-1","v":0},{"$f":"SUMIF('00 PDC SP'!$C:$C,'00 SP'!$D231,'00 PDC SP'!K:K)*-1","v":0},{"$f":"SUMIF('00 PDC SP'!$C:$C,'00 SP'!$D231,'00 PDC SP'!L:L)*-1","v":0},{"$f":"SUMIF('00 PDC SP'!$C:$C,'00 SP'!$D231,'00 PDC SP'!M:M)*-1","v":0},{"$f":"SUMIF('00 PDC SP'!$C:$C,'00 SP'!$D231,'00 PDC SP'!N:N)*-1","v":0}]
["PDA020","D.II.1) Debiti v/Stato per mobilità passiva extraregionale",null,"PDA020",12,{"$f":"SUMIF('00 PDC SP'!$C:$C,'00 SP'!$D232,'00 PDC SP'!H:H)*-1","v":0},{"$f":"SUMIF('00 PDC SP'!$C:$C,'00 SP'!$D232,'00 PDC SP'!I:I)*-1","v":0},{"$f":"SUMIF('00 PDC SP'!$C:$C,'00 SP'!$D232,'00 PDC SP'!J:J)*-1","v":0},{"$f":"SUMIF('00 PDC SP'!$C:$C,'00 SP'!$D232,'00 PDC SP'!K:K)*-1","v":0},{"$f":"SUMIF('00 PDC SP'!$C:$C,'00 SP'!$D232,'00 PDC SP'!L:L)*-1","v":0},{"$f":"SUMIF('00 PDC SP'!$C:$C,'00 SP'!$D232,'00 PDC SP'!M:M)*-1","v":0},{"$f":"SUMIF('00 PDC SP'!$C:$C,'00 SP'!$D232,'00 PDC SP'!N:N)*-1","v":0}]
["PDA030","D.II.2) Debiti v/Stato per mobilità passiva internazionale",null,"PDA030",12,{"$f":"SUMIF('00 PDC SP'!$C:$C,'00 SP'!$D233,'00 PDC SP'!H:H)*-1","v":0},{"$f":"SUMIF('00 PDC SP'!$C:$C,'00 SP'!$D233,'00 PDC SP'!I:I)*-1","v":0},{"$f":"SUMIF('00 PDC SP'!$C:$C,'00 SP'!$D233,'00 PDC SP'!J:J)*-1","v":0},{"$f":"SUMIF('00 PDC SP'!$C:$C,'00 SP'!$D233,'00 PDC SP'!K:K)*-1","v":0},{"$f":"SUMIF('00 PDC SP'!$C:$C,'00 SP'!$D233,'00 PDC SP'!L:L)*-1","v":0},{"$f":"SUMIF('00 PDC SP'!$C:$C,'00 SP'!$D233,'00 PDC SP'!M:M)*-1","v":0},{"$f":"SUMIF('00 PDC SP'!$C:$C,'00 SP'!$D233,'00 PDC SP'!N:N)*-1","v":0}]
["PDA040","D.II.3) Acconto quota FSR v/Stato",null,"PDA040",12,{"$f":"SUMIF('00 PDC SP'!$C:$C,'00 SP'!$D234,'00 PDC SP'!H:H)*-1","v":0},{"$f":"SUMIF('00 PDC SP'!$C:$C,'00 SP'!$D234,'00 PDC SP'!I:I)*-1","v":0},{"$f":"SUMIF('00 PDC SP'!$C:$C,'00 SP'!$D234,'00 PDC SP'!J:J)*-1","v":0},{"$f":"SUMIF('00 PDC SP'!$C:$C,'00 SP'!$D234,'00 PDC SP'!K:K)*-1","v":0},{"$f":"SUMIF('00 PDC SP'!$C:$C,'00 SP'!$D234,'00 PDC SP'!L:L)*-1","v":0},{"$f":"SUMIF('00 PDC SP'!$C:$C,'00 SP'!$D234,'00 PDC SP'!M:M)*-1","v":0},{"$f":"SUMIF('00 PDC SP'!$C:$C,'00 SP'!$D234,'00 PDC SP'!N:N)*-1","v":0}]
["PDA050","D.II.4) Debiti v/Stato per restituzione finanziamenti - per ricerca",null,"PDA050",12,{"$f":"SUMIF('00 PDC SP'!$C:$C,'00 SP'!$D235,'00 PDC SP'!H:H)*-1","v":0},{"$f":"SUMIF('00 PDC SP'!$C:$C,'00 SP'!$D235,'00 PDC SP'!I:I)*-1","v":0},{"$f":"SUMIF('00 PDC SP'!$C:$C,'00 SP'!$D235,'00 PDC SP'!J:J)*-1","v":0},{"$f":"SUMIF('00 PDC SP'!$C:$C,'00 SP'!$D235,'00 PDC SP'!K:K)*-1","v":0},{"$f":"SUMIF('00 PDC SP'!$C:$C,'00 SP'!$D235,'00 PDC SP'!L:L)*-1","v":0},{"$f":"SUMIF('00 PDC SP'!$C:$C,'00 SP'!$D235,'00 PDC SP'!M:M)*-1","v":0},{"$f":"SUMIF('00 PDC SP'!$C:$C,'00 SP'!$D235,'00 PDC SP'!N:N)*-1","v":0}]
["PDA060","D.II.5) Altri debiti v/Stato",null,"PDA060",12,{"$f":"SUMIF('00 PDC SP'!$C:$C,'00 SP'!$D236,'00 PDC SP'!H:H)*-1","v":0},{"$f":"SUMIF('00 PDC SP'!$C:$C,'00 SP'!$D236,'00 PDC SP'!I:I)*-1","v":0},{"$f":"SUMIF('00 PDC SP'!$C:$C,'00 SP'!$D236,'00 PDC SP'!J:J)*-1","v":0},{"$f":"SUMIF('00 PDC SP'!$C:$C,'00 SP'!$D236,'00 PDC SP'!K:K)*-1","v":0},{"$f":"SUMIF('00 PDC SP'!$C:$C,'00 SP'!$D236,'00 PDC SP'!L:L)*-1","v":0},{"$f":"SUMIF('00 PDC SP'!$C:$C,'00 SP'!$D236,'00 PDC SP'!M:M)*-1","v":0},{"$f":"SUMIF('00 PDC SP'!$C:$C,'00 SP'!$D236,'00 PDC SP'!N:N)*-1","v":0}]
["PDA070","D.III) DEBITI V/REGIONE O PROVINCIA AUTONOMA","S","PDA070",null,{"$f":"SUM(F238:F242)","v":30296892.669999998},1638757741.1100001,1638758430.1100001,30296203.669999998,664380815.47000003,664380815.47000003,30296203.670000006]
["PDA080","D.III.1) Debiti v/Regione o Provincia Autonoma per finanziamenti",null,"PDA080",12,{"$f":"SUMIF('00 PDC SP'!$C:$C,'00 SP'!$D238,'00 PDC SP'!H:H)*-1","v":0},{"$f":"SUMIF('00 PDC SP'!$C:$C,'00 SP'!$D238,'00 PDC SP'!I:I)*-1","v":0},{"$f":"SUMIF('00 PDC SP'!$C:$C,'00 SP'!$D238,'00 PDC SP'!J:J)*-1","v":0},{"$f":"SUMIF('00 PDC SP'!$C:$C,'00 SP'!$D238,'00 PDC SP'!K:K)*-1","v":0},{"$f":"SUMIF('00 PDC SP'!$C:$C,'00 SP'!$D238,'00 PDC SP'!L:L)*-1","v":0},{"$f":"SUMIF('00 PDC SP'!$C:$C,'00 SP'!$D238,'00 PDC SP'!M:M)*-1","v":0},{"$f":"SUMIF('00 PDC SP'!$C:$C,'00 SP'!$D238,'00 PDC SP'!N:N)*-1","v":0}]
["PDA090","D.III.2) Debiti v/Regione o Provincia Autonoma per mobilità passiva intraregionale",null,"PDA090",12,{"$f":"SUMIF('00 PDC SP'!$C:$C,'00 SP'!$D239,'00 PDC SP'!H:H)*-1","v":20766344.579999998},{"$f":"SUMIF('00 PDC SP'!$C:$C,'00 SP'!$D239,'00 PDC SP'!I:I)*-1","v":51271679.93},{"$f":"SUMIF('00 PDC SP'!$C:$C,'00 SP'!$D239,'00 PDC SP'!J:J)*-1","v":51272368.93},{"$f":"SUMIF('00 PDC SP'!$C:$C,'00 SP'!$D239,'00 PDC SP'!K:K)*-1","v":20765655.579999998},{"$f":"SUMIF('00 PDC SP'!$C:$C,'00 SP'!$D239,'00 PDC SP'!L:L)*-1","v":49387581.229999997},{"$f":"SUMIF('00 PDC SP'!$C:$C,'00 SP'!$D239,'00 PDC SP'!M:M)*-1","v":49387581.229999997},{"$f":"SUMIF('00 PDC SP'!$C:$C,'00 SP'!$D239,'00 PDC SP'!N:N)*-1","v":20765655.580000006}]
["PDA100","D.III.3) Debiti v/Regione o Provincia Autonoma per mobilità passiva extraregionale",null,"PDA100",12,{"$f":"SUMIF('00 PDC SP'!$C:$C,'00 SP'!$D240,'00 PDC SP'!H:H)*-1","v":9530548.0899999999},{"$f":"SUMIF('00 PDC SP'!$C:$C,'00 SP'!$D240,'00 PDC SP'!I:I)*-1","v":57173157.460000001},{"$f":"SUMIF('00 PDC SP'!$C:$C,'00 SP'!$D240,'00 PDC SP'!J:J)*-1","v":57173157.460000001},{"$f":"SUMIF('00 PDC SP'!$C:$C,'00 SP'!$D240,'00 PDC SP'!K:K)*-1","v":9530548.0899999999},{"$f":"SUMIF('00 PDC SP'!$C:$C,'00 SP'!$D240,'00 PDC SP'!L:L)*-1","v":33463665.77},{"$f":"SUMIF('00 PDC SP'!$C:$C,'00 SP'!$D240,'00 PDC SP'!M:M)*-1","v":33463665.77},{"$f":"SUMIF('00 PDC SP'!$C:$C,'00 SP'!$D240,'00 PDC SP'!N:N)*-1","v":9530548.0899999999}]
["PDA110","D.III.4) Acconto quota FSR da Regione o Provincia Autonoma",null,"PDA110",12,{"$f":"SUMIF('00 PDC SP'!$C:$C,'00 SP'!$D241,'00 PDC SP'!H:H)*-1","v":0},{"$f":"SUMIF('00 PDC SP'!$C:$C,'00 SP'!$D241,'00 PDC SP'!I:I)*-1","v":546891755},{"$f":"SUMIF('00 PDC SP'!$C:$C,'00 SP'!$D241,'00 PDC SP'!J:J)*-1","v":546891755},{"$f":"SUMIF('00 PDC SP'!$C:$C,'00 SP'!$D241,'00 PDC SP'!K:K)*-1","v":0},{"$f":"SUMIF('00 PDC SP'!$C:$C,'00 SP'!$D241,'00 PDC SP'!L:L)*-1","v":581529568.47000003},{"$f":"SUMIF('00 PDC SP'!$C:$C,'00 SP'!$D241,'00 PDC SP'!M:M)*-1","v":581529568.47000003},{"$f":"SUMIF('00 PDC SP'!$C:$C,'00 SP'!$D241,'00 PDC SP'!N:N)*-1","v":0}]
["PDA120","D.III.5) Altri debiti v/Regione o Provincia Autonoma",null,"PDA120",12,{"$f":"SUMIF('00 PDC SP'!$C:$C,'00 SP'!$D242,'00 PDC SP'!H:H)*-1","v":0},{"$f":"SUMIF('00 PDC SP'!$C:$C,'00 SP'!$D242,'00 PDC SP'!I:I)*-1","v":983421148.72000003},{"$f":"SUMIF('00 PDC SP'!$C:$C,'00 SP'!$D242,'00 PDC SP'!J:J)*-1","v":983421148.72000003},{"$f":"SUMIF('00 PDC SP'!$C:$C,'00 SP'!$D242,'00 PDC SP'!K:K)*-1","v":0},{"$f":"SUMIF('00 PDC SP'!$C:$C,'00 SP'!$D242,'00 PDC SP'!L:L)*-1","v":0},{"$f":"SUMIF('00 PDC SP'!$C:$C,'00 SP'!$D242,'00 PDC SP'!M:M)*-1","v":0},{"$f":"SUMIF('00 PDC SP'!$C:$C,'00 SP'!$D242,'00 PDC SP'!N:N)*-1","v":0}]
["PDA130","D.IV) DEBITI V/COMUNI",null,"PDA130",13,{"$f":"SUMIF('00 PDC SP'!$C:$C,'00 SP'!$D243,'00 PDC SP'!H:H)*-1","v":150000},{"$f":"SUMIF('00 PDC SP'!$C:$C,'00 SP'!$D243,'00 PDC SP'!I:I)","v":0},{"$f":"SUMIF('00 PDC SP'!$C:$C,'00 SP'!$D243,'00 PDC SP'!J:J)","v":0},{"$f":"SUMIF('00 PDC SP'!$C:$C,'00 SP'!$D243,'00 PDC SP'!K:K)*-1","v":150000},{"$f":"SUMIF('00 PDC SP'!$C:$C,'00 SP'!$D243,'00 PDC SP'!L:L)*-1","v":0},{"$f":"SUMIF('00 PDC SP'!$C:$C,'00 SP'!$D243,'00 PDC SP'!M:M)*-1","v":0},{"$f":"SUMIF('00 PDC SP'!$C:$C,'00 SP'!$D243,'00 PDC SP'!N:N)*-1","v":150000}]
["PDA140","D.V) DEBITI V/AZIENDE SANITARIE PUBBLICHE","S","PDA140",null,{"$f":"F245+F252+F253","v":2391552.4500000002},1086526.68,887291.14999999991,2590787.98,974625.5,700678.94,2864734.54]
["PDA150","D.V.1) Debiti v/Aziende sanitarie pubbliche della Regione","S","PDA150",null,{"$f":"SUM(F246:F251)","v":2136539.1100000003},748956.39,495733.42,2389762.08,679354.5,403497.63,2665618.9500000002]
["PDA160","D.V.1.a) Debiti v/Aziende sanitarie pubbliche della Regione - per quota FSR",null,"PDA160",14,{"$f":"SUMIF('00 PDC SP'!$C:$C,'00 SP'!$D246,'00 PDC SP'!H:H)*-1","v":0},{"$f":"SUMIF('00 PDC SP'!$C:$C,'00 SP'!$D246,'00 PDC SP'!I:I)*-1","v":0},{"$f":"SUMIF('00 PDC SP'!$C:$C,'00 SP'!$D246,'00 PDC SP'!J:J)*-1","v":0},{"$f":"SUMIF('00 PDC SP'!$C:$C,'00 SP'!$D246,'00 PDC SP'!K:K)*-1","v":0},{"$f":"SUMIF('00 PDC SP'!$C:$C,'00 SP'!$D246,'00 PDC SP'!L:L)*-1","v":0},{"$f":"SUMIF('00 PDC SP'!$C:$C,'00 SP'!$D246,'00 PDC SP'!M:M)*-1","v":0},{"$f":"SUMIF('00 PDC SP'!$C:$C,'00 SP'!$D246,'00 PDC SP'!N:N)*-1","v":0}]
["PDA170","D.V.1.b) Debiti v/Aziende sanitarie pubbliche della Regione - per finanziamento sanitario aggiuntivo corrente LEA",null,"PDA170",14,{"$f":"SUMIF('00 PDC SP'!$C:$C,'00 SP'!$D247,'00 PDC SP'!H:H)*-1","v":0},{"$f":"SUMIF('00 PDC SP'!$C:$C,'00 SP'!$D247,'00 PDC SP'!I:I)*-1","v":0},{"$f":"SUMIF('00 PDC SP'!$C:$C,'00 SP'!$D247,'00 PDC SP'!J:J)*-1","v":0},{"$f":"SUMIF('00 PDC SP'!$C:$C,'00 SP'!$D247,'00 PDC SP'!K:K)*-1","v":0},{"$f":"SUMIF('00 PDC SP'!$C:$C,'00 SP'!$D247,'00 PDC SP'!L:L)*-1","v":0},{"$f":"SUMIF('00 PDC SP'!$C:$C,'00 SP'!$D247,'00 PDC SP'!M:M)*-1","v":0},{"$f":"SUMIF('00 PDC SP'!$C:$C,'00 SP'!$D247,'00 PDC SP'!N:N)*-1","v":0}]
["PDA180","D.V.1.c) Debiti v/Aziende sanitarie pubbliche della Regione - per finanziamento sanitario aggiuntivo corrente extra LEA",null,"PDA180",14,{"$f":"SUMIF('00 PDC SP'!$C:$C,'00 SP'!$D248,'00 PDC SP'!H:H)*-1","v":0},{"$f":"SUMIF('00 PDC SP'!$C:$C,'00 SP'!$D248,'00 PDC SP'!I:I)*-1","v":0},{"$f":"SUMIF('00 PDC SP'!$C:$C,'00 SP'!$D248,'00 PDC SP'!J:J)*-1","v":0},{"$f":"SUMIF('00 PDC SP'!$C:$C,'00 SP'!$D248,'00 PDC SP'!K:K)*-1","v":0},{"$f":"SUMIF('00 PDC SP'!$C:$C,'00 SP'!$D248,'00 PDC SP'!L:L)*-1","v":0},{"$f":"SUMIF('00 PDC SP'!$C:$C,'00 SP'!$D248,'00 PDC SP'!M:M)*-1","v":0},{"$f":"SUMIF('00 PDC SP'!$C:$C,'00 SP'!$D248,'00 PDC SP'!N:N)*-1","v":0}]
["PDA190","D.V.1.d) Debiti v/Aziende sanitarie pubbliche della Regione - per mobilità in compensazione",null,"PDA190",14,{"$f":"SUMIF('00 PDC SP'!$C:$C,'00 SP'!$D249,'00 PDC SP'!H:H)*-1","v":0},{"$f":"SUMIF('00 PDC SP'!$C:$C,'00 SP'!$D249,'00 PDC SP'!I:I)*-1","v":0},{"$f":"SUMIF('00 PDC SP'!$C:$C,'00 SP'!$D249,'00 PDC SP'!J:J)*-1","v":0},{"$f":"SUMIF('00 PDC SP'!$C:$C,'00 SP'!$D249,'00 PDC SP'!K:K)*-1","v":0},{"$f":"SUMIF('00 PDC SP'!$C:$C,'00 SP'!$D249,'00 PDC SP'!L:L)*-1","v":0},{"$f":"SUMIF('00 PDC SP'!$C:$C,'00 SP'!$D249,'00 PDC SP'!M:M)*-1","v":0},{"$f":"SUMIF('00 PDC SP'!$C:$C,'00 SP'!$D249,'00 PDC SP'!N:N)*-1","v":0}]
["PDA200","D.V.1.e) Debiti v/Aziende sanitarie pubbliche della Regione - per mobilità non in compensazione",null,"PDA200",14,{"$f":"SUMIF('00 PDC SP'!$C:$C,'00 SP'!$D250,'00 PDC SP'!H:H)*-1","v":0},{"$f":"SUMIF('00 PDC SP'!$C:$C,'00 SP'!$D250,'00 PDC SP'!I:I)*-1","v":0},{"$f":"SUMIF('00 PDC SP'!$C:$C,'00 SP'!$D250,'00 PDC SP'!J:J)*-1","v":0},{"$f":"SUMIF('00 PDC SP'!$C:$C,'00 SP'!$D250,'00 PDC SP'!K:K)*-1","v":0},{"$f":"SUMIF('00 PDC SP'!$C:$C,'00 SP'!$D250,'00 PDC SP'!L:L)*-1","v":0},{"$f":"SUMIF('00 PDC SP'!$C:$C,'00 SP'!$D250,'00 PDC SP'!M:M)*-1","v":0},{"$f":"SUMIF('00 PDC SP'!$C:$C,'00 SP'!$D250,'00 PDC SP'!N:N)*-1","v":0}]
["PDA210","D.V.1.f) Debiti v/Aziende sanitarie pubbliche della Regione - per altre prestazioni",null,"PDA210",14,{"$f":"SUMIF('00 PDC SP'!$C:$C,'00 SP'!$D251,'00 PDC SP'!H:H)*-1","v":2136539.1100000003},{"$f":"SUMIF('00 PDC SP'!$C:$C,'00 SP'!$D251,'00 PDC SP'!I:I)*-1","v":748956.39},{"$f":"SUMIF('00 PDC SP'!$C:$C,'00 SP'!$D251,'00 PDC SP'!J:J)*-1","v":495733.42},{"$f":"SUMIF('00 PDC SP'!$C:$C,'00 SP'!$D251,'00 PDC SP'!K:K)*-1","v":2389762.08},{"$f":"SUMIF('00 PDC SP'!$C:$C,'00 SP'!$D251,'00 PDC SP'!L:L)*-1","v":679354.5},{"$f":"SUMIF('00 PDC SP'!$C:$C,'00 SP'!$D251,'00 PDC SP'!M:M)*-1","v":403497.63},{"$f":"SUMIF('00 PDC SP'!$C:$C,'00 SP'!$D251,'00 PDC SP'!N:N)*-1","v":2665618.9500000002}]
["PDA220","D.V.2) Debiti v/Aziende sanitarie pubbliche Extraregione",null,"PDA220",14,{"$f":"SUMIF('00 PDC SP'!$C:$C,'00 SP'!$D252,'00 PDC SP'!H:H)*-1","v":255013.34},{"$f":"SUMIF('00 PDC SP'!$C:$C,'00 SP'!$D252,'00 PDC SP'!I:I)*-1","v":337570.29},{"$f":"SUMIF('00 PDC SP'!$C:$C,'00 SP'!$D252,'00 PDC SP'!J:J)*-1","v":391557.73},{"$f":"SUMIF('00 PDC SP'!$C:$C,'00 SP'!$D252,'00 PDC SP'!K:K)*-1","v":201025.89999999997},{"$f":"SUMIF('00 PDC SP'!$C:$C,'00 SP'!$D252,'00 PDC SP'!L:L)*-1","v":295271},{"$f":"SUMIF('00 PDC SP'!$C:$C,'00 SP'!$D252,'00 PDC SP'!M:M)*-1","v":297181.31},{"$f":"SUMIF('00 PDC SP'!$C:$C,'00 SP'!$D252,'00 PDC SP'!N:N)*-1","v":199115.59}]
["PDA230","D.V.3) Debiti v/Aziende sanitarie pubbliche della Regione per versamenti c/patrimonio netto",null,"PDA230",14,{"$f":"SUMIF('00 PDC SP'!$C:$C,'00 SP'!$D253,'00 PDC SP'!H:H)*-1","v":0},{"$f":"SUMIF('00 PDC SP'!$C:$C,'00 SP'!$D253,'00 PDC SP'!I:I)*-1","v":0},{"$f":"SUMIF('00 PDC SP'!$C:$C,'00 SP'!$D253,'00 PDC SP'!J:J)*-1","v":0},{"$f":"SUMIF('00 PDC SP'!$C:$C,'00 SP'!$D253,'00 PDC SP'!K:K)*-1","v":0},{"$f":"SUMIF('00 PDC SP'!$C:$C,'00 SP'!$D253,'00 PDC SP'!L:L)*-1","v":0},{"$f":"SUMIF('00 PDC SP'!$C:$C,'00 SP'!$D253,'00 PDC SP'!M:M)*-1","v":0},{"$f":"SUMIF('00 PDC SP'!$C:$C,'00 SP'!$D253,'00 PDC SP'!N:N)*-1","v":0}]
["PDA240","D.VI) DEBITI V/ SOCIETA' PARTECIPATE E/O ENTI DIPENDENTI DELLA REGIONE","S","PDA240",null,{"$f":"SUM(F255:F257)","v":0},0,0,0,0,0,0]
["PDA250","D.VI.1) Debiti v/enti regionali",null,"PDA250",15,{"$f":"SUMIF('00 PDC SP'!$C:$C,'00 SP'!$D255,'00 PDC SP'!H:H)*-1","v":0},{"$f":"SUMIF('00 PDC SP'!$C:$C,'00 SP'!$D255,'00 PDC SP'!I:I)*-1","v":0},{"$f":"SUMIF('00 PDC SP'!$C:$C,'00 SP'!$D255,'00 PDC SP'!J:J)*-1","v":0},{"$f":"SUMIF('00 PDC SP'!$C:$C,'00 SP'!$D255,'00 PDC SP'!K:K)*-1","v":0},{"$f":"SUMIF('00 PDC SP'!$C:$C,'00 SP'!$D255,'00 PDC SP'!L:L)*-1","v":0},{"$f":"SUMIF('00 PDC SP'!$C:$C,'00 SP'!$D255,'00 PDC SP'!M:M)*-1","v":0},{"$f":"SUMIF('00 PDC SP'!$C:$C,'00 SP'!$D255,'00 PDC SP'!N:N)*-1","v":0}]
["PDA260","D.VI.2) Debiti v/sperimentazioni gestionali",null,"PDA260",15,{"$f":"SUMIF('00 PDC SP'!$C:$C,'00 SP'!$D256,'00 PDC SP'!H:H)*-1","v":0},{"$f":"SUMIF('00 PDC SP'!$C:$C,'00 SP'!$D256,'00 PDC SP'!I:I)*-1","v":0},{"$f":"SUMIF('00 PDC SP'!$C:$C,'00 SP'!$D256,'00 PDC SP'!J:J)*-1","v":0},{"$f":"SUMIF('00 PDC SP'!$C:$C,'00 SP'!$D256,'00 PDC SP'!K:K)*-1","v":0},{"$f":"SUMIF('00 PDC SP'!$C:$C,'00 SP'!$D256,'00 PDC SP'!L:L)*-1","v":0},{"$f":"SUMIF('00 PDC SP'!$C:$C,'00 SP'!$D256,'00 PDC SP'!M:M)*-1","v":0},{"$f":"SUMIF('00 PDC SP'!$C:$C,'00 SP'!$D256,'00 PDC SP'!N:N)*-1","v":0}]
["PDA270","D.VI.3) Debiti v/altre partecipate",null,"PDA270",15,{"$f":"SUMIF('00 PDC SP'!$C:$C,'00 SP'!$D257,'00 PDC SP'!H:H)*-1","v":0},{"$f":"SUMIF('00 PDC SP'!$C:$C,'00 SP'!$D257,'00 PDC SP'!I:I)*-1","v":0},{"$f":"SUMIF('00 PDC SP'!$C:$C,'00 SP'!$D257,'00 PDC SP'!J:J)*-1","v":0},{"$f":"SUMIF('00 PDC SP'!$C:$C,'00 SP'!$D257,'00 PDC SP'!K:K)*-1","v":0},{"$f":"SUMIF('00 PDC SP'!$C:$C,'00 SP'!$D257,'00 PDC SP'!L:L)*-1","v":0},{"$f":"SUMIF('00 PDC SP'!$C:$C,'00 SP'!$D257,'00 PDC SP'!M:M)*-1","v":0},{"$f":"SUMIF('00 PDC SP'!$C:$C,'00 SP'!$D257,'00 PDC SP'!N:N)*-1","v":0}]
["PDA280","D.VII) DEBITI V/FORNITORI","S","PDA280",null,{"$f":"SUM(F259:F260)","v":132711079},507456245.35999995,514422300.49000001,125745023.86999997,536635603.63,534893371.63999999,127487255.85999995]
["PDA290","D.VII.1) Debiti verso erogatori (privati accreditati e convenzionati) di prestazioni sanitarie",null,"PDA290",16,{"$f":"SUMIF('00 PDC SP'!$C:$C,'00 SP'!$D259,'00 PDC SP'!H:H)*-1","v":90875602.260000005},{"$f":"SUMIF('00 PDC SP'!$C:$C,'00 SP'!$D259,'00 PDC SP'!I:I)*-1","v":204921158.75},{"$f":"SUMIF('00 PDC SP'!$C:$C,'00 SP'!$D259,'00 PDC SP'!J:J)*-1","v":221886119.70999998},{"$f":"SUMIF('00 PDC SP'!$C:$C,'00 SP'!$D259,'00 PDC SP'!K:K)*-1","v":73910641.299999982},{"$f":"SUMIF('00 PDC SP'!$C:$C,'00 SP'!$D259,'00 PDC SP'!L:L)*-1","v":206227882.84000003},{"$f":"SUMIF('00 PDC SP'!$C:$C,'00 SP'!$D259,'00 PDC SP'!M:M)*-1","v":200801539.90000001},{"$f":"SUMIF('00 PDC SP'!$C:$C,'00 SP'!$D259,'00 PDC SP'!N:N)*-1","v":79336984.239999995}]
["PDA300","D.VII.2) Debiti verso altri fornitori",null,"PDA300",16,{"$f":"SUMIF('00 PDC SP'!$C:$C,'00 SP'!$D260,'00 PDC SP'!H:H)*-1","v":41835476.740000002},{"$f":"SUMIF('00 PDC SP'!$C:$C,'00 SP'!$D260,'00 PDC SP'!I:I)*-1","v":302535086.60999995},{"$f":"SUMIF('00 PDC SP'!$C:$C,'00 SP'!$D260,'00 PDC SP'!J:J)*-1","v":292536180.78000003},{"$f":"SUMIF('00 PDC SP'!$C:$C,'00 SP'!$D260,'00 PDC SP'!K:K)*-1","v":51834382.57},{"$f":"SUMIF('00 PDC SP'!$C:$C,'00 SP'!$D260,'00 PDC SP'!L:L)*-1","v":330407720.78999996},{"$f":"SUMIF('00 PDC SP'!$C:$C,'00 SP'!$D260,'00 PDC SP'!M:M)*-1","v":334091831.74000001},{"$f":"SUMIF('00 PDC SP'!$C:$C,'00 SP'!$D260,'00 PDC SP'!N:N)*-1","v":48150271.619999968}]
["PDA310","D.VIII) DEBITI V/ISTITUTO TESORIERE",null,"PDA310",54,{"$f":"SUMIF('00 PDC SP'!$C:$C,'00 SP'!$D261,'00 PDC SP'!H:H)*-1","v":0},{"$f":"SUMIF('00 PDC SP'!$C:$C,'00 SP'!$D261,'00 PDC SP'!I:I)*-1","v":0},{"$f":"SUMIF('00 PDC SP'!$C:$C,'00 SP'!$D261,'00 PDC SP'!J:J)*-1","v":0},{"$f":"SUMIF('00 PDC SP'!$C:$C,'00 SP'!$D261,'00 PDC SP'!K:K)*-1","v":0},{"$f":"SUMIF('00 PDC SP'!$C:$C,'00 SP'!$D261,'00 PDC SP'!L:L)*-1","v":0},{"$f":"SUMIF('00 PDC SP'!$C:$C,'00 SP'!$D261,'00 PDC SP'!M:M)*-1","v":0},{"$f":"SUMIF('00 PDC SP'!$C:$C,'00 SP'!$D261,'00 PDC SP'!N:N)*-1","v":0}]
["PDA320","D.IX) DEBITI TRIBUTARI",null,"PDA320",17,{"$f":"SUMIF('00 PDC SP'!$C:$C,'00 SP'!$D262,'00 PDC SP'!H:H)*-1","v":4373806.8599999994},{"$f":"SUMIF('00 PDC SP'!$C:$C,'00 SP'!$D262,'00 PDC SP'!I:I)*-1","v":77110739.460000008},{"$f":"SUMIF('00 PDC SP'!$C:$C,'00 SP'!$D262,'00 PDC SP'!J:J)*-1","v":78409524.050000012},{"$f":"SUMIF('00 PDC SP'!$C:$C,'00 SP'!$D262,'00 PDC SP'!K:K)*-1","v":3075022.27},{"$f":"SUMIF('00 PDC SP'!$C:$C,'00 SP'!$D262,'00 PDC SP'!L:L)*-1","v":81770826.739999995},{"$f":"SUMIF('00 PDC SP'!$C:$C,'00 SP'!$D262,'00 PDC SP'!M:M)*-1","v":80709847.110000014},{"$f":"SUMIF('00 PDC SP'!$C:$C,'00 SP'!$D262,'00 PDC SP'!N:N)*-1","v":4136001.8999999939}]
["PDA330","D.X) DEBITI V/ISTITUTI PREVIDENZIALI, ASSISTENZIALI E SICUREZZA SOCIALE",null,"PDA330",18,{"$f":"SUMIF('00 PDC SP'!$C:$C,'00 SP'!$D263,'00 PDC SP'!H:H)*-1","v":1392547.71},{"$f":"SUMIF('00 PDC SP'!$C:$C,'00 SP'!$D263,'00 PDC SP'!I:I)*-1","v":59538714.160000004},{"$f":"SUMIF('00 PDC SP'!$C:$C,'00 SP'!$D263,'00 PDC SP'!J:J)*-1","v":59412731.259999998},{"$f":"SUMIF('00 PDC SP'!$C:$C,'00 SP'!$D263,'00 PDC SP'!K:K)*-1","v":1518530.61},{"$f":"SUMIF('00 PDC SP'!$C:$C,'00 SP'!$D263,'00 PDC SP'!L:L)*-1","v":61881373.919999994},{"$f":"SUMIF('00 PDC SP'!$C:$C,'00 SP'!$D263,'00 PDC SP'!M:M)*-1","v":61879449.490000002},{"$f":"SUMIF('00 PDC SP'!$C:$C,'00 SP'!$D263,'00 PDC SP'!N:N)*-1","v":1520455.0399999938}]
["PDA340","D.XI) DEBITI V/ALTRI","S","PDA340",null,{"$f":"SUM(F265:F268)","v":16251799.439999999},104595212.91,106088798.63,14758213.719999999,107083465.03999999,105166951.67999999,16674727.079999998]
["PDA350","D.XI.1) Debiti v/altri finanziatori",null,"PDA350",19,{"$f":"SUMIF('00 PDC SP'!$C:$C,'00 SP'!$D265,'00 PDC SP'!H:H)*-1","v":0},{"$f":"SUMIF('00 PDC SP'!$C:$C,'00 SP'!$D265,'00 PDC SP'!I:I)*-1","v":0},{"$f":"SUMIF('00 PDC SP'!$C:$C,'00 SP'!$D265,'00 PDC SP'!J:J)*-1","v":0},{"$f":"SUMIF('00 PDC SP'!$C:$C,'00 SP'!$D265,'00 PDC SP'!K:K)*-1","v":0},{"$f":"SUMIF('00 PDC SP'!$C:$C,'00 SP'!$D265,'00 PDC SP'!L:L)*-1","v":0},{"$f":"SUMIF('00 PDC SP'!$C:$C,'00 SP'!$D265,'00 PDC SP'!M:M)*-1","v":0},{"$f":"SUMIF('00 PDC SP'!$C:$C,'00 SP'!$D265,'00 PDC SP'!N:N)*-1","v":0}]
["PDA360","D.XI.2) Debiti v/dipendenti",null,"PDA360",19,{"$f":"SUMIF('00 PDC SP'!$C:$C,'00 SP'!$D266,'00 PDC SP'!H:H)*-1","v":15018431.27},{"$f":"SUMIF('00 PDC SP'!$C:$C,'00 SP'!$D266,'00 PDC SP'!I:I)*-1","v":96085417.479999989},{"$f":"SUMIF('00 PDC SP'!$C:$C,'00 SP'!$D266,'00 PDC SP'!J:J)*-1","v":97248603.310000002},{"$f":"SUMIF('00 PDC SP'!$C:$C,'00 SP'!$D266,'00 PDC SP'!K:K)*-1","v":13855245.439999999},{"$f":"SUMIF('00 PDC SP'!$C:$C,'00 SP'!$D266,'00 PDC SP'!L:L)*-1","v":98561758.25999999},{"$f":"SUMIF('00 PDC SP'!$C:$C,'00 SP'!$D266,'00 PDC SP'!M:M)*-1","v":96905871.109999999},{"$f":"SUMIF('00 PDC SP'!$C:$C,'00 SP'!$D266,'00 PDC SP'!N:N)*-1","v":15511132.589999998}]
["PDA370","D.XI.3) Debiti v/gestioni liquidatorie",null,"PDA370",19,{"$f":"SUMIF('00 PDC SP'!$C:$C,'00 SP'!$D267,'00 PDC SP'!H:H)*-1","v":0},{"$f":"SUMIF('00 PDC SP'!$C:$C,'00 SP'!$D267,'00 PDC SP'!I:I)*-1","v":0},{"$f":"SUMIF('00 PDC SP'!$C:$C,'00 SP'!$D267,'00 PDC SP'!J:J)*-1","v":0},{"$f":"SUMIF('00 PDC SP'!$C:$C,'00 SP'!$D267,'00 PDC SP'!K:K)*-1","v":0},{"$f":"SUMIF('00 PDC SP'!$C:$C,'00 SP'!$D267,'00 PDC SP'!L:L)*-1","v":0},{"$f":"SUMIF('00 PDC SP'!$C:$C,'00 SP'!$D267,'00 PDC SP'!M:M)*-1","v":0},{"$f":"SUMIF('00 PDC SP'!$C:$C,'00 SP'!$D267,'00 PDC SP'!N:N)*-1","v":0}]
["PDA380","D.XI.4) Altri debiti diversi",null,"PDA380",19,{"$f":"SUMIF('00 PDC SP'!$C:$C,'00 SP'!$D268,'00 PDC SP'!H:H)*-1","v":1233368.17},{"$f":"SUMIF('00 PDC SP'!$C:$C,'00 SP'!$D268,'00 PDC SP'!I:I)*-1","v":8509795.4299999997},{"$f":"SUMIF('00 PDC SP'!$C:$C,'00 SP'!$D268,'00 PDC SP'!J:J)*-1","v":8840195.3200000003},{"$f":"SUMIF('00 PDC SP'!$C:$C,'00 SP'!$D268,'00 PDC SP'!K:K)*-1","v":902968.28},{"$f":"SUMIF('00 PDC SP'!$C:$C,'00 SP'!$D268,'00 PDC SP'!L:L)*-1","v":8521706.7799999993},{"$f":"SUMIF('00 PDC SP'!$C:$C,'00 SP'!$D268,'00 PDC SP'!M:M)*-1","v":8261080.5699999994},{"$f":"SUMIF('00 PDC SP'!$C:$C,'00 SP'!$D268,'00 PDC SP'!N:N)*-1","v":1163594.4899999993}]
["PEZ999","E) RATEI E RISCONTI PASSIVI","S","PEZ999",null,{"$f":"F270+F273","v":0},0,0,0,0,0,0]
["PEA000","E.I) RATEI PASSIVI","S","PEA000",null,{"$f":"SUM(F271:F272)","v":0},0,0,0,0,0,0]
["PEA010","E.I.1) Ratei passivi",null,"PEA010",20,{"$f":"SUMIF('00 PDC SP'!$C:$C,'00 SP'!$D271,'00 PDC SP'!H:H)*-1","v":0},{"$f":"SUMIF('00 PDC SP'!$C:$C,'00 SP'!$D271,'00 PDC SP'!I:I)*-1","v":0},{"$f":"SUMIF('00 PDC SP'!$C:$C,'00 SP'!$D271,'00 PDC SP'!J:J)*-1","v":0},{"$f":"SUMIF('00 PDC SP'!$C:$C,'00 SP'!$D271,'00 PDC SP'!K:K)*-1","v":0},{"$f":"SUMIF('00 PDC SP'!$C:$C,'00 SP'!$D271,'00 PDC SP'!L:L)*-1","v":0},{"$f":"SUMIF('00 PDC SP'!$C:$C,'00 SP'!$D271,'00 PDC SP'!M:M)*-1","v":0},{"$f":"SUMIF('00 PDC SP'!$C:$C,'00 SP'!$D271,'00 PDC SP'!N:N)*-1","v":0}]
["PEA020","E.I.2) Ratei passivi v/Aziende sanitarie pubbliche della Regione",null,"PEA020",20,{"$f":"SUMIF('00 PDC SP'!$C:$C,'00 SP'!$D272,'00 PDC SP'!H:H)*-1","v":0},{"$f":"SUMIF('00 PDC SP'!$C:$C,'00 SP'!$D272,'00 PDC SP'!I:I)*-1","v":0},{"$f":"SUMIF('00 PDC SP'!$C:$C,'00 SP'!$D272,'00 PDC SP'!J:J)*-1","v":0},{"$f":"SUMIF('00 PDC SP'!$C:$C,'00 SP'!$D272,'00 PDC SP'!K:K)*-1","v":0},{"$f":"SUMIF('00 PDC SP'!$C:$C,'00 SP'!$D272,'00 PDC SP'!L:L)*-1","v":0},{"$f":"SUMIF('00 PDC SP'!$C:$C,'00 SP'!$D272,'00 PDC SP'!M:M)*-1","v":0},{"$f":"SUMIF('00 PDC SP'!$C:$C,'00 SP'!$D272,'00 PDC SP'!N:N)*-1","v":0}]
["PEA030","E.II) RISCONTI PASSIVI","S","PEA030",null,{"$f":"SUM(F274:F275)","v":0},0,0,0,0,0,0]
["PEA040","E.II.1) Risconti passivi",null,"PEA040",20,{"$f":"SUMIF('00 PDC SP'!$C:$C,'00 SP'!$D274,'00 PDC SP'!H:H)*-1","v":0},{"$f":"SUMIF('00 PDC SP'!$C:$C,'00 SP'!$D274,'00 PDC SP'!I:I)*-1","v":0},{"$f":"SUMIF('00 PDC SP'!$C:$C,'00 SP'!$D274,'00 PDC SP'!J:J)*-1","v":0},{"$f":"SUMIF('00 PDC SP'!$C:$C,'00 SP'!$D274,'00 PDC SP'!K:K)*-1","v":0},{"$f":"SUMIF('00 PDC SP'!$C:$C,'00 SP'!$D274,'00 PDC SP'!L:L)*-1","v":0},{"$f":"SUMIF('00 PDC SP'!$C:$C,'00 SP'!$D274,'00 PDC SP'!M:M)*-1","v":0},{"$f":"SUMIF('00 PDC SP'!$C:$C,'00 SP'!$D274,'00 PDC SP'!N:N)*-1","v":0}]
["PEA050","E.II.2) Risconti passivi v/Aziende sanitarie pubbliche della Regione",null,"PEA050",20,{"$f":"SUMIF('00 PDC SP'!$C:$C,'00 SP'!$D275,'00 PDC SP'!H:H)*-1","v":0},{"$f":"SUMIF('00 PDC SP'!$C:$C,'00 SP'!$D275,'00 PDC SP'!I:I)*-1","v":0},{"$f":"SUMIF('00 PDC SP'!$C:$C,'00 SP'!$D275,'00 PDC SP'!J:J)*-1","v":0},{"$f":"SUMIF('00 PDC SP'!$C:$C,'00 SP'!$D275,'00 PDC SP'!K:K)*-1","v":0},{"$f":"SUMIF('00 PDC SP'!$C:$C,'00 SP'!$D275,'00 PDC SP'!L:L)*-1","v":0},{"$f":"SUMIF('00 PDC SP'!$C:$C,'00 SP'!$D275,'00 PDC SP'!M:M)*-1","v":0},{"$f":"SUMIF('00 PDC SP'!$C:$C,'00 SP'!$D275,'00 PDC SP'!N:N)*-1","v":0}]
["PFZ999","F) CONTI D'ORDINE","S","PFZ999",null,{"$f":"SUM(F277:F280)","v":0},0,0,0,0,0,0]
["PFA000","F.I) CANONI DI LEASING ANCORA DA PAGARE",null,"PFA000",null,{"$f":"SUMIF('00 PDC SP'!$C:$C,'00 SP'!$D277,'00 PDC SP'!H:H)*-1","v":0},{"$f":"SUMIF('00 PDC SP'!$C:$C,'00 SP'!$D277,'00 PDC SP'!I:I)*-1","v":0},{"$f":"SUMIF('00 PDC SP'!$C:$C,'00 SP'!$D277,'00 PDC SP'!J:J)*-1","v":0},{"$f":"SUMIF('00 PDC SP'!$C:$C,'00 SP'!$D277,'00 PDC SP'!K:K)*-1","v":0},{"$f":"SUMIF('00 PDC SP'!$C:$C,'00 SP'!$D277,'00 PDC SP'!L:L)*-1","v":0},{"$f":"SUMIF('00 PDC SP'!$C:$C,'00 SP'!$D277,'00 PDC SP'!M:M)*-1","v":0},{"$f":"SUMIF('00 PDC SP'!$C:$C,'00 SP'!$D277,'00 PDC SP'!N:N)*-1","v":0}]
["PFA010","F.II) DEPOSITI CAUZIONALI",null,"PFA010",null,{"$f":"SUMIF('00 PDC SP'!$C:$C,'00 SP'!$D278,'00 PDC SP'!H:H)*-1","v":0},{"$f":"SUMIF('00 PDC SP'!$C:$C,'00 SP'!$D278,'00 PDC SP'!I:I)*-1","v":0},{"$f":"SUMIF('00 PDC SP'!$C:$C,'00 SP'!$D278,'00 PDC SP'!J:J)*-1","v":0},{"$f":"SUMIF('00 PDC SP'!$C:$C,'00 SP'!$D278,'00 PDC SP'!K:K)*-1","v":0},{"$f":"SUMIF('00 PDC SP'!$C:$C,'00 SP'!$D278,'00 PDC SP'!L:L)*-1","v":0},{"$f":"SUMIF('00 PDC SP'!$C:$C,'00 SP'!$D278,'00 PDC SP'!M:M)*-1","v":0},{"$f":"SUMIF('00 PDC SP'!$C:$C,'00 SP'!$D278,'00 PDC SP'!N:N)*-1","v":0}]
["PFA020","F.III) BENI IN COMODATO",null,"PFA020",null,{"$f":"SUMIF('00 PDC SP'!$C:$C,'00 SP'!$D279,'00 PDC SP'!H:H)*-1","v":0},{"$f":"SUMIF('00 PDC SP'!$C:$C,'00 SP'!$D279,'00 PDC SP'!I:I)*-1","v":0},{"$f":"SUMIF('00 PDC SP'!$C:$C,'00 SP'!$D279,'00 PDC SP'!J:J)*-1","v":0},{"$f":"SUMIF('00 PDC SP'!$C:$C,'00 SP'!$D279,'00 PDC SP'!K:K)*-1","v":0},{"$f":"SUMIF('00 PDC SP'!$C:$C,'00 SP'!$D279,'00 PDC SP'!L:L)*-1","v":0},{"$f":"SUMIF('00 PDC SP'!$C:$C,'00 SP'!$D279,'00 PDC SP'!M:M)*-1","v":0},{"$f":"SUMIF('00 PDC SP'!$C:$C,'00 SP'!$D279,'00 PDC SP'!N:N)*-1","v":0}]
["PFA030","F.IV) ALTRI CONTI D'ORDINE",null,"PFA030",null,{"$f":"SUMIF('00 PDC SP'!$C:$C,'00 SP'!$D280,'00 PDC SP'!H:H)*-1","v":0},{"$f":"SUMIF('00 PDC SP'!$C:$C,'00 SP'!$D280,'00 PDC SP'!I:I)*-1","v":0},{"$f":"SUMIF('00 PDC SP'!$C:$C,'00 SP'!$D280,'00 PDC SP'!J:J)*-1","v":0},{"$f":"SUMIF('00 PDC SP'!$C:$C,'00 SP'!$D280,'00 PDC SP'!K:K)*-1","v":0},{"$f":"SUMIF('00 PDC SP'!$C:$C,'00 SP'!$D280,'00 PDC SP'!L:L)*-1","v":0},{"$f":"SUMIF('00 PDC SP'!$C:$C,'00 SP'!$D280,'00 PDC SP'!M:M)*-1","v":0},{"$f":"SUMIF('00 PDC SP'!$C:$C,'00 SP'!$D280,'00 PDC SP'!N:N)*-1","v":0}]
[]
[null,"TOTALE ATTIVO",null,null,null,{"$f":"F3+F81+F162+F169","v":371697560.40999997},null,null,{"$f":"I3+I81+I162+I169","v":374571789.33999997},null,null,{"$f":"L3+L81+L162+L169","v":386436141.84000003}]
[null,"PATRIMONIO NETTO",null,null,null,{"$f":"F174","v":110947191.03},null,null,{"$f":"I174","v":108484341.48},null,null,{"$f":"L174","v":118204694.22999999}]
[null,"TOTALE PASSIVO",null,null,null,{"$f":"F198+F226+F229+F269+F276","v":260750369.38000003},null,null,{"$f":"I198+I226+I229+I269+I276","v":266087447.86000001},null,null,{"$f":"L198+L226+L229+L269+L276","v":268231447.60999995}]
[null,null,null,null,null,{"$f":"F282-(F283+F284)","v":0},null,null,{"$f":"I282-(I283+I284)","v":0},null,null,{"$f":"L282-(L283+L284)","v":0}]
[null,"UTILE/PERDITA DI ESERCIZIO",null,null,null,{"$f":"F197","v":-14264709.560000001},null,null,{"$f":"I197","v":-13609624.26},null,null,{"$f":"L197","v":1677.34}]

{"sheet":"01 Rendiconto Finanziario","index":3,"n_rows":119,"n_cols":12,"rows_kept":119,"cut":false,"hidden":false,"merged":[[91,3,91,4],[1,3,1,4],[3,3,3,4],[5,3,5,4],[9,3,9,4],[12,3,12,4],[17,3,17,4],[21,3,21,4],[24,3,24,4],[25,3,25,4],[54,3,54,4],[55,3,55,4],[92,3,92,4],[106,3,106,4],[107,3,107,4],[108,3,108,4],[109,3,109,4]]}
[]
[null,null,null,"Rendiconto Finanziario",null,{"$f":"'00 SP'!L2","v":"Esercizio 2018"},{"$f":"'00 SP'!I2","v":"Esercizio 2017"},null,"NOTE"]
[]
[null,null,null,"OPERAZIONI DI GESTIONE REDDITUALE"]
[1,"SP",1,"(+)","risultato di esercizio",{"$f":"SUMIF('00 PDC SP'!$D:$D,'01 Rendiconto Finanziario'!$A5,'00 PDC SP'!N:N)*'01 Rendiconto Finanziario'!$C5","v":1677.3400001227856},{"$f":"SUMIF('00 PDC SP'!$D:$D,'01 Rendiconto Finanziario'!$A5,'00 PDC SP'!K:K)*'01 Rendiconto Finanziario'!$C5","v":-13609624.26000005}]
[null,null,null,"Voci che non hanno effetto sulla liquidità: costi e ricavi non monetari"]
[2,"VP",-1,"(+)","ammortamenti fabbricati",{"$f":"(SUMIF('00 PDC SP'!$D:$D,'01 Rendiconto Finanziario'!$A7,'00 PDC SP'!L:L)-SUMIF('00 PDC SP'!$D:$D,'01 Rendiconto Finanziario'!$A7,'00 PDC SP'!M:M))*'01 Rendiconto Finanziario'!$C7","v":4970458.6100000003},{"$f":"(SUMIF('00 PDC SP'!$D:$D,'01 Rendiconto Finanziario'!$A7,'00 PDC SP'!I:I)-SUMIF('00 PDC SP'!$D:$D,'01 Rendiconto Finanziario'!$A7,'00 PDC SP'!J:J))*'01 Rendiconto Finanziario'!$C7","v":4970287.05}]
[3,"VP",-1,"(+)","ammortamenti altre immobilizzazioni materiali",{"$f":"(SUMIF('00 PDC SP'!$D:$D,'01 Rendiconto Finanziario'!$A8,'00 PDC SP'!L:L)-SUMIF('00 PDC SP'!$D:$D,'01 Rendiconto Finanziario'!$A8,'00 PDC SP'!M:M))*'01 Rendiconto Finanziario'!$C8","v":-670108.15999999922},{"$f":"(SUMIF('00 PDC SP'!$D:$D,'01 Rendiconto Finanziario'!$A8,'00 PDC SP'!I:I)-SUMIF('00 PDC SP'!$D:$D,'01 Rendiconto Finanziario'!$A8,'00 PDC SP'!J:J))*'01 Rendiconto Finanziario'!C8","v":5153454.74}]
[4,"VP",-1,"(+)","ammortamenti immobilizzazioni immateriali",{"$f":"(SUMIF('00 PDC SP'!$D:$D,'01 Rendiconto Finanziario'!$A9,'00 PDC SP'!L:L)-SUMIF('00 PDC SP'!$D:$D,'01 Rendiconto Finanziario'!$A9,'00 PDC SP'!M:M))*'01 Rendiconto Finanziario'!$C9","v":149477.16},{"$f":"(SUMIF('00 PDC SP'!$D:$D,'01 Rendiconto Finanziario'!$A9,'00 PDC SP'!I:I)-SUMIF('00 PDC SP'!$D:$D,'01 Rendiconto Finanziario'!$A9,'00 PDC SP'!J:J))*'01 Rendiconto Finanziario'!C9","v":136552.39000000001}]
[null,null,null,"Ammortamenti",null,{"$f":"SUM(F7:F9)","v":4449827.6100000013},{"$f":"SUM(G7:G9)","v":10260294.18}]
[5,"DP",-1,"(-)","Utilizzo finanziamenti per investimenti",{"$f":"(SUMIF('00 PDC SP'!$D:$D,'01 Rendiconto Finanziario'!$A11,'00 PDC SP'!M:M))*'01 Rendiconto Finanziario'!$C11","v":-10436920.890000001},{"$f":"(SUMIF('00 PDC SP'!$D:$D,'01 Rendiconto Finanziario'!$A11,'00 PDC SP'!J:J))*'01 Rendiconto Finanziario'!C11","v":-9776707.0800000001}]
[6,"DP",-1,"(-)","Utilizzo fondi riserva: investimenti, incentivi al personale, successioni e donaz., plusvalenze da reinvestire",0,{"$f":"(SUMIF('00 PDC SP'!$D:$D,'01 Rendiconto Finanziario'!$A12,'00 PDC SP'!J:J))*'01 Rendiconto Finanziario'!C12","v":0}]
[null,null,null,"Utilizzo contributi in c/capitale e fondi riserva",null,{"$f":"SUM(F11:F12)","v":-10436920.890000001},{"$f":"SUM(G11:G12)","v":-9776707.0800000001}]
[7,"IP",-1,"(+)","accantonamenti SUMAI",{"$f":"(SUMIF('00 PDC SP'!$D:$D,'01 Rendiconto Finanziario'!$A14,'00 PDC SP'!L:L))*'01 Rendiconto Finanziario'!$C14","v":264664.11},{"$f":"(SUMIF('00 PDC SP'!$D:$D,'01 Rendiconto Finanziario'!$A14,'00 PDC SP'!I:I))*'01 Rendiconto Finanziario'!C14","v":223015.56}]
[7,"DP",1,"(-)","pagamenti SUMAI",{"$f":"(SUMIF('00 PDC SP'!$D:$D,'01 Rendiconto Finanziario'!$A15,'00 PDC SP'!M:M))*'01 Rendiconto Finanziario'!$C15","v":-197944.41},{"$f":"(SUMIF('00 PDC SP'!$D:$D,'01 Rendiconto Finanziario'!$A15,'00 PDC SP'!J:J))*'01 Rendiconto Finanziario'!C15","v":-217866.17}]
[8,"IP",-1,"(+)","accantonamenti TFR",{"$f":"(SUMIF('00 PDC SP'!$D:$D,'01 Rendiconto Finanziario'!$A16,'00 PDC SP'!L:L))*'01 Rendiconto Finanziario'!$C16","v":0},{"$f":"(SUMIF('00 PDC SP'!$D:$D,'01 Rendiconto Finanziario'!$A16,'00 PDC SP'!J:J))*'01 Rendiconto Finanziario'!C16","v":0}]
[8,"DP",1,"(-)","pagamenti TFR",{"$f":"(SUMIF('00 PDC SP'!$D:$D,'01 Rendiconto Finanziario'!$A17,'00 PDC SP'!M:M))*'01 Rendiconto Finanziario'!$C17","v":0},{"$f":"(SUMIF('00 PDC SP'!$D:$D,'01 Rendiconto Finanziario'!$A17,'00 PDC SP'!J:J))*'01 Rendiconto Finanziario'!C17","v":0}]
[null,null,null,"- Premio operosità medici SUMAI + TFR",null,{"$f":"SUM(F14:F17)","v":66719.699999999983},{"$f":"SUM(G14:G17)","v":5149.3899999999849}]
[9,"VA",1,"(+/-)","Rivalutazioni/svalutazioni di attività finanziarie",{"$f":"(SUMIF('00 PDC SP'!$D:$D,'01 Rendiconto Finanziario'!$A19,'00 PDC SP'!L:L)-SUMIF('00 PDC SP'!$D:$D,'01 Rendiconto Finanziario'!$A19,'00 PDC SP'!M:M))*'01 Rendiconto Finanziario'!$C19","v":0},{"$f":"(SUMIF('00 PDC SP'!$D:$D,'01 Rendiconto Finanziario'!$A19,'00 PDC SP'!I:I)-SUMIF('00 PDC SP'!$D:$D,'01 Rendiconto Finanziario'!$A19,'00 PDC SP'!J:J))*'01 Rendiconto Finanziario'!C19","v":0}]
[10,"IP",-1,"(+)","accantonamenti a fondi svalutazioni",{"$f":"(SUMIF('00 PDC SP'!$D:$D,'01 Rendiconto Finanziario'!$A20,'00 PDC SP'!L:L))*'01 Rendiconto Finanziario'!$C20","v":0},{"$f":"(SUMIF('00 PDC SP'!$D:$D,'01 Rendiconto Finanziario'!$A20,'00 PDC SP'!I:I))*'01 Rendiconto Finanziario'!C20","v":300000}]
[10,"DP",1,"(-)","utilizzo fondi svalutazioni (*)",{"$f":"(SUMIF('00 PDC SP'!$D:$D,'01 Rendiconto Finanziario'!$A21,'00 PDC SP'!M:M))*'01 Rendiconto Finanziario'!$C21","v":0},{"$f":"(SUMIF('00 PDC SP'!$D:$D,'01 Rendiconto Finanziario'!$A21,'00 PDC SP'!J:J))*'01 Rendiconto Finanziario'!C21","v":0}]
[null,null,null,"- Fondi svalutazione di attività",null,{"$f":"SUM(F19:F21)","v":0},{"$f":"SUM(G19:G21)","v":300000}]
[11,"IP",-1,"(+)","accantonamenti a fondi per rischi e oneri",{"$f":"(SUMIF('00 PDC SP'!$D:$D,'01 Rendiconto Finanziario'!$A23,'00 PDC SP'!L:L))*'01 Rendiconto Finanziario'!$C23","v":18073168.949999999},{"$f":"(SUMIF('00 PDC SP'!$D:$D,'01 Rendiconto Finanziario'!$A23,'00 PDC SP'!I:I))*'01 Rendiconto Finanziario'!C23","v":27369043.699999999}]
[11,"DP",1,"(-)","utilizzo fondi per rischi e oneri",{"$f":"(SUMIF('00 PDC SP'!$D:$D,'01 Rendiconto Finanziario'!$A24,'00 PDC SP'!M:M))*'01 Rendiconto Finanziario'!$C24","v":-20991484.870000001},{"$f":"(SUMIF('00 PDC SP'!$D:$D,'01 Rendiconto Finanziario'!$A24,'00 PDC SP'!J:J))*'01 Rendiconto Finanziario'!C24","v":-12603218.600000001}]
[null,null,null,"- Fondo per rischi ed oneri futuri",null,{"$f":"SUM(F23:F24)","v":-2918315.9200000018},{"$f":"SUM(G23:G24)","v":14765825.099999998}]
[null,null,null,"TOTALE Flusso di CCN della gestione corrente",null,{"$f":"F5+F10+F13+F18+F22+F25","v":-8837012.1599998772},{"$f":"G5+G10+G13+G18+G22+G25","v":1944937.3299999479}]
[12,"VP",-1,"(+)/(-)","aumento/diminuzione debiti verso regione e provincia autonoma, esclusa la variazione relativa a debiti per acquisto di beni strumentali",{"$f":"((SUMIF('00 PDC SP'!$D:$D,'01 Rendiconto Finanziario'!$A27,'00 PDC SP'!L:L)-SUMIF('00 PDC SP'!$D:$D,'01 Rendiconto Finanziario'!$A27,'00 PDC SP'!M:M))*'01 Rendiconto Finanziario'!C27)","v":0},{"$f":"((SUMIF('00 PDC SP'!$D:$D,'01 Rendiconto Finanziario'!$A27,'00 PDC SP'!I:I)-SUMIF('00 PDC SP'!$D:$D,'01 Rendiconto Finanziario'!$A27,'00 PDC SP'!J:J))*'01 Rendiconto Finanziario'!C27)","v":-689}]
[13,"VP",-1,"(+)/(-)","aumento/diminuzione debiti verso comune",{"$f":"((SUMIF('00 PDC SP'!$D:$D,'01 Rendiconto Finanziario'!$A28,'00 PDC SP'!L:L)-SUMIF('00 PDC SP'!$D:$D,'01 Rendiconto Finanziario'!$A28,'00 PDC SP'!M:M))*'01 Rendiconto Finanziario'!C28)","v":0},{"$f":"(SUMIF('00 PDC SP'!$D:$D,'01 Rendiconto Finanziario'!$A28,'00 PDC SP'!I:I)-SUMIF('00 PDC SP'!$D:$D,'01 Rendiconto Finanziario'!$A28,'00 PDC SP'!J:J))*'01 Rendiconto Finanziario'!C28","v":0}]
[14,"VP",-1,"(+)/(-)","aumento/diminuzione debiti verso aziende sanitarie pubbliche",{"$f":"((SUMIF('00 PDC SP'!$D:$D,'01 Rendiconto Finanziario'!$A29,'00 PDC SP'!L:L)-SUMIF('00 PDC SP'!$D:$D,'01 Rendiconto Finanziario'!$A29,'00 PDC SP'!M:M))*'01 Rendiconto Finanziario'!C29)","v":273946.56000000006},{"$f":"(SUMIF('00 PDC SP'!$D:$D,'01 Rendiconto Finanziario'!$A29,'00 PDC SP'!I:I)-SUMIF('00 PDC SP'!$D:$D,'01 Rendiconto Finanziario'!$A29,'00 PDC SP'!J:J))*'01 Rendiconto Finanziario'!C29","v":199235.52999999991}]
[15,"VP",-1,"(+)/(-)","aumento/diminuzione debiti verso arpa",{"$f":"((SUMIF('00 PDC SP'!$D:$D,'01 Rendiconto Finanziario'!$A30,'00 PDC SP'!L:L)-SUMIF('00 PDC SP'!$D:$D,'01 Rendiconto Finanziario'!$A30,'00 PDC SP'!M:M))*'01 Rendiconto Finanziario'!C30)","v":0},{"$f":"(SUMIF('00 PDC SP'!$D:$D,'01 Rendiconto Finanziario'!$A30,'00 PDC SP'!I:I)-SUMIF('00 PDC SP'!$D:$D,'01 Rendiconto Finanziario'!$A30,'00 PDC SP'!J:J))*'01 Rendiconto Finanziario'!C30","v":0}]
[16,"VP",-1,"(+)/(-)","aumento/diminuzione debiti verso fornitori",{"$f":"((SUMIF('00 PDC SP'!$D:$D,'01 Rendiconto Finanziario'!$A31,'00 PDC SP'!L:L)-SUMIF('00 PDC SP'!$D:$D,'01 Rendiconto Finanziario'!$A31,'00 PDC SP'!M:M))*'01 Rendiconto Finanziario'!C31)-F91","v":690526.99000000954},{"$f":"((SUMIF('00 PDC SP'!$D:$D,'01 Rendiconto Finanziario'!$A31,'00 PDC SP'!I:I)-SUMIF('00 PDC SP'!$D:$D,'01 Rendiconto Finanziario'!$A31,'00 PDC SP'!J:J))*'01 Rendiconto Finanziario'!C31)-G91","v":-6966055.1300000548},null,"IMPOSTATA FORMULA DI SOTTRAZIONE VS CODICE DI AGGREGAZIONE 58"]
[17,"VP",-1,"(+)/(-)","aumento/diminuzione debiti tributari",{"$f":"((SUMIF('00 PDC SP'!$D:$D,'01 Rendiconto Finanziario'!$A32,'00 PDC SP'!L:L)-SUMIF('00 PDC SP'!$D:$D,'01 Rendiconto Finanziario'!$A32,'00 PDC SP'!M:M))*'01 Rendiconto Finanziario'!C32)","v":1060979.6299999803},{"$f":"(SUMIF('00 PDC SP'!$D:$D,'01 Rendiconto Finanziario'!$A32,'00 PDC SP'!I:I)-SUMIF('00 PDC SP'!$D:$D,'01 Rendiconto Finanziario'!$A32,'00 PDC SP'!J:J))*'01 Rendiconto Finanziario'!C32","v":-1298784.5900000036}]
[18,"VP",-1,"(+)/(-)","aumento/diminuzione debiti verso istituti di previdenza",{"$f":"((SUMIF('00 PDC SP'!$D:$D,'01 Rendiconto Finanziario'!$A33,'00 PDC SP'!L:L)-SUMIF('00 PDC SP'!$D:$D,'01 Rendiconto Finanziario'!$A33,'00 PDC SP'!M:M))*'01 Rendiconto Finanziario'!C33)","v":1924.4299999922514},{"$f":"(SUMIF('00 PDC SP'!$D:$D,'01 Rendiconto Finanziario'!$A33,'00 PDC SP'!I:I)-SUMIF('00 PDC SP'!$D:$D,'01 Rendiconto Finanziario'!$A33,'00 PDC SP'!J:J))*'01 Rendiconto Finanziario'!C33","v":125982.90000000596}]
[19,"VP",-1,"(+)/(-)","aumento/diminuzione altri debiti",{"$f":"((SUMIF('00 PDC SP'!$D:$D,'01 Rendiconto Finanziario'!$A34,'00 PDC SP'!L:L)-SUMIF('00 PDC SP'!$D:$D,'01 Rendiconto Finanziario'!$A34,'00 PDC SP'!M:M))*'01 Rendiconto Finanziario'!C34)","v":1916513.3599999696},{"$f":"(SUMIF('00 PDC SP'!$D:$D,'01 Rendiconto Finanziario'!$A34,'00 PDC SP'!I:I)-SUMIF('00 PDC SP'!$D:$D,'01 Rendiconto Finanziario'!$A34,'00 PDC SP'!J:J))*'01 Rendiconto Finanziario'!C34","v":-1493585.7199999988}]
[null,null,null,"(+)/(-)","aumento/diminuzione debiti (escl. forn. di immob. e C/C bancari e istituto tesoriere)",{"$f":"SUM(F27:F34)","v":3943890.9699999518},{"$f":"SUM(G27:G34)","v":-9433896.0100000501}]
[20,"VP",-1,"(+)/(-)","aumento/diminuzione ratei e risconti passivi",{"$f":"((SUMIF('00 PDC SP'!$D:$D,'01 Rendiconto Finanziario'!$A36,'00 PDC SP'!L:L)-SUMIF('00 PDC SP'!$D:$D,'01 Rendiconto Finanziario'!$A36,'00 PDC SP'!M:M))*'01 Rendiconto Finanziario'!C36)","v":0},{"$f":"(SUMIF('00 PDC SP'!$D:$D,'01 Rendiconto Finanziario'!$A36,'00 PDC SP'!I:I)-SUMIF('00 PDC SP'!$D:$D,'01 Rendiconto Finanziario'!$A36,'00 PDC SP'!J:J))*'01 Rendiconto Finanziario'!C36","v":0}]
[21,"VA",-1,"(+)/(-)","diminuzione/aumento crediti parte corrente v/Stato quote indistinte",{"$f":"((SUMIF('00 PDC SP'!$D:$D,'01 Rendiconto Finanziario'!$A37,'00 PDC SP'!L:L)-SUMIF('00 PDC SP'!$D:$D,'01 Rendiconto Finanziario'!$A37,'00 PDC SP'!M:M))*'01 Rendiconto Finanziario'!C37)-F38","v":91161.22},{"$f":"((SUMIF('00 PDC SP'!$D:$D,'01 Rendiconto Finanziario'!$A37,'00 PDC SP'!I:I)-SUMIF('00 PDC SP'!$D:$D,'01 Rendiconto Finanziario'!$A37,'00 PDC SP'!J:J))*'01 Rendiconto Finanziario'!C37)-G38","v":5970.2599999999984},null,"IMPOSTATA FORMULA DI SOTTRAZIONE VS CODICE DI AGGREGAZIONE 22 "]
[22,"VA",-1,"(+)/(-)","diminuzione/aumento crediti parte corrente v/Stato quote vincolate",{"$f":"((SUMIF('00 PDC SP'!$D:$D,'01 Rendiconto Finanziario'!$A38,'00 PDC SP'!L:L)-SUMIF('00 PDC SP'!$D:$D,'01 Rendiconto Finanziario'!$A38,'00 PDC SP'!M:M))*'01 Rendiconto Finanziario'!C38)","v":0},{"$f":"(SUMIF('00 PDC SP'!$D:$D,'01 Rendiconto Finanziario'!$A38,'00 PDC SP'!I:I)-SUMIF('00 PDC SP'!$D:$D,'01 Rendiconto Finanziario'!$A38,'00 PDC SP'!J:J))*'01 Rendiconto Finanziario'!C38","v":0},null,"CODICE 22  - DA INSERIRE MANUALMENTE"]
[23,"VA",-1,"(+)/(-)","diminuzione/aumento crediti parte corrente v/Regione per gettito addizionali Irpef e Irap",{"$f":"((SUMIF('00 PDC SP'!$D:$D,'01 Rendiconto Finanziario'!$A39,'00 PDC SP'!L:L)-SUMIF('00 PDC SP'!$D:$D,'01 Rendiconto Finanziario'!$A39,'00 PDC SP'!M:M))*'01 Rendiconto Finanziario'!C39)","v":0},{"$f":"(SUMIF('00 PDC SP'!$D:$D,'01 Rendiconto Finanziario'!$A39,'00 PDC SP'!I:I)-SUMIF('00 PDC SP'!$D:$D,'01 Rendiconto Finanziario'!$A39,'00 PDC SP'!J:J))*'01 Rendiconto Finanziario'!C39","v":0},null,"CODICE 23 - DA INSERIRE MANUALMENTE"]
[23,"VA",-1,"(+)/(-)","diminuzione/aumento crediti parte corrente v/Regione per partecipazioni regioni a Statuto speciale",{"$f":"((SUMIF('00 PDC SP'!$D:$D,'01 Rendiconto Finanziario'!$A40,'00 PDC SP'!L:L)-SUMIF('00 PDC SP'!$D:$D,'01 Rendiconto Finanziario'!$A40,'00 PDC SP'!M:M))*'01 Rendiconto Finanziario'!C40)","v":0},{"$f":"(SUMIF('00 PDC SP'!$D:$D,'01 Rendiconto Finanziario'!$A40,'00 PDC SP'!I:I)-SUMIF('00 PDC SP'!$D:$D,'01 Rendiconto Finanziario'!$A40,'00 PDC SP'!J:J))*'01 Rendiconto Finanziario'!C40","v":0},null,"CODICE 23 - DA INSERIRE MANUALMENTE"]
[23,"VA",-1,"(+)/(-)","diminuzione/aumento crediti parte corrente v/Regione - vincolate per partecipazioni regioni a Statuto speciale",{"$f":"((SUMIF('00 PDC SP'!$D:$D,'01 Rendiconto Finanziario'!$A41,'00 PDC SP'!L:L)-SUMIF('00 PDC SP'!$D:$D,'01 Rendiconto Finanziario'!$A41,'00 PDC SP'!M:M))*'01 Rendiconto Finanziario'!C41)","v":0},{"$f":"(SUMIF('00 PDC SP'!$D:$D,'01 Rendiconto Finanziario'!$A41,'00 PDC SP'!I:I)-SUMIF('00 PDC SP'!$D:$D,'01 Rendiconto Finanziario'!$A41,'00 PDC SP'!J:J))*'01 Rendiconto Finanziario'!C41","v":0},null,"CODICE 23 - DA INSERIRE MANUALMENTE"]
[23,"VA",-1,"(+)/(-)","diminuzione/aumento crediti parte corrente v/Regione - gettito fiscalità regionale",{"$f":"((SUMIF('00 PDC SP'!$D:$D,'01 Rendiconto Finanziario'!$A42,'00 PDC SP'!L:L)-SUMIF('00 PDC SP'!$D:$D,'01 Rendiconto Finanziario'!$A42,'00 PDC SP'!M:M))*'01 Rendiconto Finanziario'!C42)","v":0},{"$f":"(SUMIF('00 PDC SP'!$D:$D,'01 Rendiconto Finanziario'!$A42,'00 PDC SP'!I:I)-SUMIF('00 PDC SP'!$D:$D,'01 Rendiconto Finanziario'!$A42,'00 PDC SP'!J:J))*'01 Rendiconto Finanziario'!C42","v":0},null,"CODICE 23 - DA INSERIRE MANUALMENTE"]
[23,"VA",-1,"(+)/(-)","diminuzione/aumento crediti parte corrente v/Regione - altri contributi extrafondo",{"$f":"((SUMIF('00 PDC SP'!$D:$D,'01 Rendiconto Finanziario'!$A43,'00 PDC SP'!L:L)-SUMIF('00 PDC SP'!$D:$D,'01 Rendiconto Finanziario'!$A43,'00 PDC SP'!M:M))*'01 Rendiconto Finanziario'!C43)","v":0},{"$f":"(SUMIF('00 PDC SP'!$D:$D,'01 Rendiconto Finanziario'!$A43,'00 PDC SP'!I:I)-SUMIF('00 PDC SP'!$D:$D,'01 Rendiconto Finanziario'!$A43,'00 PDC SP'!J:J))*'01 Rendiconto Finanziario'!C43","v":0},null,"CODICE 23 - DA INSERIRE MANUALMENTE"]
[25,"VA",-1,"(+)/(-)","diminuzione/aumento crediti parte corrente v/Regione",{"$f":"((SUMIF('00 PDC SP'!$D:$D,'01 Rendiconto Finanziario'!$A44,'00 PDC SP'!L:L)-SUMIF('00 PDC SP'!$D:$D,'01 Rendiconto Finanziario'!$A44,'00 PDC SP'!M:M))*'01 Rendiconto Finanziario'!C44)-(F39+F40+F41+F42+F43)","v":-24310162.380000114},{"$f":"((SUMIF('00 PDC SP'!$D:$D,'01 Rendiconto Finanziario'!$A44,'00 PDC SP'!I:I)-SUMIF('00 PDC SP'!$D:$D,'01 Rendiconto Finanziario'!$A44,'00 PDC SP'!J:J))*'01 Rendiconto Finanziario'!C44)-(G39+G40+G41+G42+G43)","v":32114322.950000286},null,"IMPOSTATA FORMULA DI SOTTRAZIONE VS CODICE DI AGGREGAZIONE 23"]
[26,"VA",-1,"(+)/(-)","diminuzione/aumento crediti parte corrente v/Comune",{"$f":"((SUMIF('00 PDC SP'!$D:$D,'01 Rendiconto Finanziario'!$A45,'00 PDC SP'!L:L)-SUMIF('00 PDC SP'!$D:$D,'01 Rendiconto Finanziario'!$A45,'00 PDC SP'!M:M))*'01 Rendiconto Finanziario'!C45)","v":-16426.130000000005},{"$f":"(SUMIF('00 PDC SP'!$D:$D,'01 Rendiconto Finanziario'!$A45,'00 PDC SP'!I:I)-SUMIF('00 PDC SP'!$D:$D,'01 Rendiconto Finanziario'!$A45,'00 PDC SP'!J:J))*'01 Rendiconto Finanziario'!C45","v":-132021.37}]
[27,"VA",-1,"(+)/(-)","diminuzione/aumento crediti parte corrente v/Asl-Ao",{"$f":"((SUMIF('00 PDC SP'!$D:$D,'01 Rendiconto Finanziario'!$A46,'00 PDC SP'!L:L)-SUMIF('00 PDC SP'!$D:$D,'01 Rendiconto Finanziario'!$A46,'00 PDC SP'!M:M))*'01 Rendiconto Finanziario'!C46)","v":-32452.239999999991},{"$f":"(SUMIF('00 PDC SP'!$D:$D,'01 Rendiconto Finanziario'!$A46,'00 PDC SP'!I:I)-SUMIF('00 PDC SP'!$D:$D,'01 Rendiconto Finanziario'!$A46,'00 PDC SP'!J:J))*'01 Rendiconto Finanziario'!C46","v":386372.16999999993}]
[28,"VA",-1,"(+)/(-)","diminuzione/aumento crediti parte corrente v/ARPA",{"$f":"((SUMIF('00 PDC SP'!$D:$D,'01 Rendiconto Finanziario'!$A47,'00 PDC SP'!L:L)-SUMIF('00 PDC SP'!$D:$D,'01 Rendiconto Finanziario'!$A47,'00 PDC SP'!M:M))*'01 Rendiconto Finanziario'!C47)","v":0},{"$f":"(SUMIF('00 PDC SP'!$D:$D,'01 Rendiconto Finanziario'!$A47,'00 PDC SP'!I:I)-SUMIF('00 PDC SP'!$D:$D,'01 Rendiconto Finanziario'!$A47,'00 PDC SP'!J:J))*'01 Rendiconto Finanziario'!C47","v":0}]
[29,"VA",-1,"(+)/(-)","diminuzione/aumento crediti parte corrente v/Erario",{"$f":"((SUMIF('00 PDC SP'!$D:$D,'01 Rendiconto Finanziario'!$A48,'00 PDC SP'!L:L)-SUMIF('00 PDC SP'!$D:$D,'01 Rendiconto Finanziario'!$A48,'00 PDC SP'!M:M))*'01 Rendiconto Finanziario'!C48)","v":-8695.5},{"$f":"(SUMIF('00 PDC SP'!$D:$D,'01 Rendiconto Finanziario'!$A48,'00 PDC SP'!I:I)-SUMIF('00 PDC SP'!$D:$D,'01 Rendiconto Finanziario'!$A48,'00 PDC SP'!J:J))*'01 Rendiconto Finanziario'!C48","v":3798.1199999999953}]
[30,"VA",-1,"(+)/(-)","diminuzione/aumento crediti parte corrente v/Altri",{"$f":"((SUMIF('00 PDC SP'!$D:$D,'01 Rendiconto Finanziario'!$A49,'00 PDC SP'!L:L)-SUMIF('00 PDC SP'!$D:$D,'01 Rendiconto Finanziario'!$A49,'00 PDC SP'!M:M))*'01 Rendiconto Finanziario'!C49)","v":267329.51999999583},{"$f":"(SUMIF('00 PDC SP'!$D:$D,'01 Rendiconto Finanziario'!$A49,'00 PDC SP'!I:I)-SUMIF('00 PDC SP'!$D:$D,'01 Rendiconto Finanziario'!$A49,'00 PDC SP'!J:J))*'01 Rendiconto Finanziario'!C49","v":-157918.07999999821}]
[null,null,null,"(+)/(-)","diminuzione/aumento di crediti",{"$f":"SUM(F37:F49)","v":-24009245.510000117},{"$f":"SUM(G37:G49)","v":32220524.050000291}]
[31,"VA",-1,"(+)/(-)","diminuzione/aumento del magazzino",{"$f":"((SUMIF('00 PDC SP'!$D:$D,'01 Rendiconto Finanziario'!$A51,'00 PDC SP'!L:L)-SUMIF('00 PDC SP'!$D:$D,'01 Rendiconto Finanziario'!$A51,'00 PDC SP'!M:M))*'01 Rendiconto Finanziario'!C51)","v":-5011001.5599999987},{"$f":"(SUMIF('00 PDC SP'!$D:$D,'01 Rendiconto Finanziario'!$A51,'00 PDC SP'!I:I)-SUMIF('00 PDC SP'!$D:$D,'01 Rendiconto Finanziario'!$A51,'00 PDC SP'!J:J))*'01 Rendiconto Finanziario'!C51","v":-1222094.4499999993}]
[32,"VA",-1,"(+)/(-)","diminuzione/aumento di acconti a fornitori per magazzino",{"$f":"((SUMIF('00 PDC SP'!$D:$D,'01 Rendiconto Finanziario'!$A52,'00 PDC SP'!L:L)-SUMIF('00 PDC SP'!$D:$D,'01 Rendiconto Finanziario'!$A52,'00 PDC SP'!M:M))*'01 Rendiconto Finanziario'!C52)","v":0},{"$f":"(SUMIF('00 PDC SP'!$D:$D,'01 Rendiconto Finanziario'!$A52,'00 PDC SP'!I:I)-SUMIF('00 PDC SP'!$D:$D,'01 Rendiconto Finanziario'!$A52,'00 PDC SP'!J:J))*'01 Rendiconto Finanziario'!C52","v":0}]
[null,null,null,"(+)/(-)","diminuzione/aumento rimanenze",{"$f":"SUM(F51:F52)","v":-5011001.5599999987},{"$f":"SUM(G51:G52)","v":-1222094.4499999993}]
[33,"VA",-1,"(+)/(-)","diminuzione/aumento ratei e risconti attivi",{"$f":"((SUMIF('00 PDC SP'!$D:$D,'01 Rendiconto Finanziario'!$A54,'00 PDC SP'!L:L)-SUMIF('00 PDC SP'!$D:$D,'01 Rendiconto Finanziario'!$A54,'00 PDC SP'!M:M))*'01 Rendiconto Finanziario'!C54)","v":-1835.4599999999991},{"$f":"(SUMIF('00 PDC SP'!$D:$D,'01 Rendiconto Finanziario'!$A54,'00 PDC SP'!I:I)-SUMIF('00 PDC SP'!$D:$D,'01 Rendiconto Finanziario'!$A54,'00 PDC SP'!J:J))*'01 Rendiconto Finanziario'!C54","v":1494163.71}]
[null,null,null,"A - Totale operazioni di gestione reddituale",null,{"$f":"F26+F35+F36+F50+F53+F54","v":-33915203.720000036},{"$f":"G26+G35+G36+G50+G53+G54","v":25003634.630000193}]
[null,null,null,"ATTIVITA' DI INVESTIMENTO"]
[34,"IA",-1,"(-)","Acquisto costi di impianto e di ampliamento",{"$f":"((SUMIF('00 PDC SP'!$D:$D,'01 Rendiconto Finanziario'!$A57,'00 PDC SP'!L:L)))*'01 Rendiconto Finanziario'!C57","v":0},{"$f":"(SUMIF('00 PDC SP'!$D:$D,'01 Rendiconto Finanziario'!$A57,'00 PDC SP'!I:I))*'01 Rendiconto Finanziario'!C57","v":0}]
[35,"IA",-1,"(-)","Acquisto costi di ricerca e sviluppo",{"$f":"((SUMIF('00 PDC SP'!$D:$D,'01 Rendiconto Finanziario'!$A58,'00 PDC SP'!L:L)))*'01 Rendiconto Finanziario'!C58","v":0},{"$f":"(SUMIF('00 PDC SP'!$D:$D,'01 Rendiconto Finanziario'!$A58,'00 PDC SP'!I:I))*'01 Rendiconto Finanziario'!C58","v":0}]
[36,"IA",-1,"(-)","Acquisto Diritti di brevetto e diritti di utilizzazione delle opere d'ingegno",{"$f":"((SUMIF('00 PDC SP'!$D:$D,'01 Rendiconto Finanziario'!$A59,'00 PDC SP'!L:L)))*'01 Rendiconto Finanziario'!C59","v":0},{"$f":"(SUMIF('00 PDC SP'!$D:$D,'01 Rendiconto Finanziario'!$A59,'00 PDC SP'!I:I))*'01 Rendiconto Finanziario'!C59","v":0}]
[37,"IA",-1,"(-)","Acquisto immobilizzazioni immateriali in corso",{"$f":"((SUMIF('00 PDC SP'!$D:$D,'01 Rendiconto Finanziario'!$A60,'00 PDC SP'!L:L)))*'01 Rendiconto Finanziario'!C60","v":0},{"$f":"(SUMIF('00 PDC SP'!$D:$D,'01 Rendiconto Finanziario'!$A60,'00 PDC SP'!I:I))*'01 Rendiconto Finanziario'!C60","v":0}]
[38,"IA",-1,"(-)","Acquisto altre immobilizzazioni immateriali",{"$f":"((SUMIF('00 PDC SP'!$D:$D,'01 Rendiconto Finanziario'!$A61,'00 PDC SP'!L:L)))*'01 Rendiconto Finanziario'!C61","v":-131197.56},{"$f":"(SUMIF('00 PDC SP'!$D:$D,'01 Rendiconto Finanziario'!$A61,'00 PDC SP'!I:I))*'01 Rendiconto Finanziario'!C61","v":-209841.59}]
[null,null,null,"(-)","Acquisto immobilizzazioni immateriali",{"$f":"SUM(F57:F61)","v":-131197.56},{"$f":"SUM(G57:G61)","v":-209841.59}]
[34,"DA",1,"(+)","Valore netto contabile costi di impianto e di ampliamento dismessi",{"$f":"((SUMIF('00 PDC SP'!$D:$D,'01 Rendiconto Finanziario'!$A63,'00 PDC SP'!M:M)))*'01 Rendiconto Finanziario'!C63","v":0},{"$f":"(SUMIF('00 PDC SP'!$D:$D,'01 Rendiconto Finanziario'!$A63,'00 PDC SP'!J:J))*'01 Rendiconto Finanziario'!C63","v":0}]
[35,"DA",1,"(+)","Valore netto contabile costi di ricerca e sviluppo dismessi",{"$f":"((SUMIF('00 PDC SP'!$D:$D,'01 Rendiconto Finanziario'!$A64,'00 PDC SP'!M:M)))*'01 Rendiconto Finanziario'!C64","v":0},{"$f":"(SUMIF('00 PDC SP'!$D:$D,'01 Rendiconto Finanziario'!$A64,'00 PDC SP'!J:J))*'01 Rendiconto Finanziario'!C64","v":0}]
[36,"DA",1,"(+)","Valore netto contabile Diritti di brevetto e diritti di utilizzazione delle opere d'ingegno dismessi",{"$f":"((SUMIF('00 PDC SP'!$D:$D,'01 Rendiconto Finanziario'!$A65,'00 PDC SP'!M:M)))*'01 Rendiconto Finanziario'!C65","v":0},{"$f":"(SUMIF('00 PDC SP'!$D:$D,'01 Rendiconto Finanziario'!$A65,'00 PDC SP'!J:J))*'01 Rendiconto Finanziario'!C65","v":0}]
[37,"DA",1,"(+)","Valore netto contabile immobilizzazioni immateriali in corso dismesse",{"$f":"((SUMIF('00 PDC SP'!$D:$D,'01 Rendiconto Finanziario'!$A66,'00 PDC SP'!M:M)))*'01 Rendiconto Finanziario'!C66","v":0},{"$f":"(SUMIF('00 PDC SP'!$D:$D,'01 Rendiconto Finanziario'!$A66,'00 PDC SP'!J:J))*'01 Rendiconto Finanziario'!C66","v":0}]
[38,"DA",1,"(+)","Valore netto contabile altre immobilizzazioni immateriali dismesse",{"$f":"((SUMIF('00 PDC SP'!$D:$D,'01 Rendiconto Finanziario'!$A67,'00 PDC SP'!M:M)))*'01 Rendiconto Finanziario'!C67","v":11461.65},{"$f":"(SUMIF('00 PDC SP'!$D:$D,'01 Rendiconto Finanziario'!$A67,'00 PDC SP'!J:J))*'01 Rendiconto Finanziario'!C67","v":7129.38}]
[null,null,null,"(+)","Valore netto contabile Immobilizzazioni Immateriali dismesse",{"$f":"SUM(F63:F67)","v":11461.65},{"$f":"SUM(G63:G67)","v":7129.38}]
[39,"IA",-1,"(-)","Acquisto terreni",{"$f":"((SUMIF('00 PDC SP'!$D:$D,'01 Rendiconto Finanziario'!$A69,'00 PDC SP'!L:L)))*'01 Rendiconto Finanziario'!C69","v":0},{"$f":"(SUMIF('00 PDC SP'!$D:$D,'01 Rendiconto Finanziario'!$A69,'00 PDC SP'!I:I))*'01 Rendiconto Finanziario'!C69","v":0}]
[40,"IA",-1,"(-)","Acquisto fabbricati",{"$f":"((SUMIF('00 PDC SP'!$D:$D,'01 Rendiconto Finanziario'!$A70,'00 PDC SP'!L:L)))*'01 Rendiconto Finanziario'!C70","v":-2087230},{"$f":"(SUMIF('00 PDC SP'!$D:$D,'01 Rendiconto Finanziario'!$A70,'00 PDC SP'!I:I))*'01 Rendiconto Finanziario'!C70","v":0}]
[41,"IA",-1,"(-)","Acquisto impianti e macchinari",{"$f":"((SUMIF('00 PDC SP'!$D:$D,'01 Rendiconto Finanziario'!$A71,'00 PDC SP'!L:L)))*'01 Rendiconto Finanziario'!C71","v":-653192.51},{"$f":"(SUMIF('00 PDC SP'!$D:$D,'01 Rendiconto Finanziario'!$A71,'00 PDC SP'!I:I))*'01 Rendiconto Finanziario'!C71","v":-219918.7}]
[42,"IA",-1,"(-)","Acquisto attrezzature sanitarie e scientifiche",{"$f":"((SUMIF('00 PDC SP'!$D:$D,'01 Rendiconto Finanziario'!$A72,'00 PDC SP'!L:L)))*'01 Rendiconto Finanziario'!C72","v":-4303427.6100000003},{"$f":"(SUMIF('00 PDC SP'!$D:$D,'01 Rendiconto Finanziario'!$A72,'00 PDC SP'!I:I))*'01 Rendiconto Finanziario'!C72","v":-5812839.0700000003}]
[43,"IA",-1,"(-)","Acquisto mobili e arredi",{"$f":"((SUMIF('00 PDC SP'!$D:$D,'01 Rendiconto Finanziario'!$A73,'00 PDC SP'!L:L)))*'01 Rendiconto Finanziario'!C73","v":-339281.25},{"$f":"(SUMIF('00 PDC SP'!$D:$D,'01 Rendiconto Finanziario'!$A73,'00 PDC SP'!I:I))*'01 Rendiconto Finanziario'!C73","v":-241394.07}]
[44,"IA",-1,"(-)","Acquisto automezzi",{"$f":"((SUMIF('00 PDC SP'!$D:$D,'01 Rendiconto Finanziario'!$A74,'00 PDC SP'!L:L)))*'01 Rendiconto Finanziario'!C74","v":-93196.97},{"$f":"(SUMIF('00 PDC SP'!$D:$D,'01 Rendiconto Finanziario'!$A74,'00 PDC SP'!I:I))*'01 Rendiconto Finanziario'!C74","v":-123029.66}]
[45,"IA",-1,"(-)","Acquisto altri beni materiali",{"$f":"((SUMIF('00 PDC SP'!$D:$D,'01 Rendiconto Finanziario'!$A75,'00 PDC SP'!L:L)))*'01 Rendiconto Finanziario'!C75","v":-1783845.47},{"$f":"(SUMIF('00 PDC SP'!$D:$D,'01 Rendiconto Finanziario'!$A75,'00 PDC SP'!I:I))*'01 Rendiconto Finanziario'!C75","v":-2743711.12}]
[null,null,null,"(-)","Acquisto Immobilizzazioni Materiali",{"$f":"SUM(F69:F75)","v":-9260173.8100000005},{"$f":"SUM(G69:G75)","v":-9140892.620000001}]
[39,"DA",1,"(+)","Valore netto contabile terreni dismessi",{"$f":"((SUMIF('00 PDC SP'!$D:$D,'01 Rendiconto Finanziario'!$A77,'00 PDC SP'!M:M)))*'01 Rendiconto Finanziario'!C77","v":0},{"$f":"(SUMIF('00 PDC SP'!$D:$D,'01 Rendiconto Finanziario'!$A77,'00 PDC SP'!J:J))*'01 Rendiconto Finanziario'!C77","v":0}]
[40,"DA",1,"(+)","Valore netto contabile fabbricati dismessi",{"$f":"((SUMIF('00 PDC SP'!$D:$D,'01 Rendiconto Finanziario'!$A78,'00 PDC SP'!M:M)))*'01 Rendiconto Finanziario'!C78","v":0},{"$f":"(SUMIF('00 PDC SP'!$D:$D,'01 Rendiconto Finanziario'!$A78,'00 PDC SP'!J:J))*'01 Rendiconto Finanziario'!C78","v":0}]
[41,"DA",1,"(+)","Valore netto contabile impianti e macchinari dismessi",{"$f":"((SUMIF('00 PDC SP'!$D:$D,'01 Rendiconto Finanziario'!$A79,'00 PDC SP'!M:M)))*'01 Rendiconto Finanziario'!C79","v":17647.73},{"$f":"(SUMIF('00 PDC SP'!$D:$D,'01 Rendiconto Finanziario'!$A79,'00 PDC SP'!J:J))*'01 Rendiconto Finanziario'!C79","v":171.65}]
[42,"DA",1,"(+)","Valore netto contabile attrezzature sanitarie e scientifiche dismesse",{"$f":"((SUMIF('00 PDC SP'!$D:$D,'01 Rendiconto Finanziario'!$A80,'00 PDC SP'!M:M)))*'01 Rendiconto Finanziario'!C80","v":5885338.1699999999},{"$f":"(SUMIF('00 PDC SP'!$D:$D,'01 Rendiconto Finanziario'!$A80,'00 PDC SP'!J:J))*'01 Rendiconto Finanziario'!C80","v":146692.79999999999}]
[43,"DA",1,"(+)","Valore netto contabile mobili e arredi dismessi",{"$f":"((SUMIF('00 PDC SP'!$D:$D,'01 Rendiconto Finanziario'!$A81,'00 PDC SP'!M:M)))*'01 Rendiconto Finanziario'!C81","v":91861.65},{"$f":"(SUMIF('00 PDC SP'!$D:$D,'01 Rendiconto Finanziario'!$A81,'00 PDC SP'!J:J))*'01 Rendiconto Finanziario'!C81","v":12215.84}]
[44,"DA",1,"(+)","Valore netto contabile automezzi dismessi",{"$f":"((SUMIF('00 PDC SP'!$D:$D,'01 Rendiconto Finanziario'!$A82,'00 PDC SP'!M:M)))*'01 Rendiconto Finanziario'!C82","v":149825.10999999999},{"$f":"(SUMIF('00 PDC SP'!$D:$D,'01 Rendiconto Finanziario'!$A82,'00 PDC SP'!J:J))*'01 Rendiconto Finanziario'!C82","v":0}]
[45,"DA",1,"(+)","Valore netto contabile altri beni materiali dismessi",{"$f":"((SUMIF('00 PDC SP'!$D:$D,'01 Rendiconto Finanziario'!$A83,'00 PDC SP'!M:M)))*'01 Rendiconto Finanziario'!C83","v":4254289.6900000004},{"$f":"(SUMIF('00 PDC SP'!$D:$D,'01 Rendiconto Finanziario'!$A83,'00 PDC SP'!J:J))*'01 Rendiconto Finanziario'!C83","v":246749.93}]
[null,null,null,"(+)","Valore netto contabile Immobilizzazioni Materiali dismesse",{"$f":"SUM(F77:F83)","v":10398962.350000001},{"$f":"SUM(G77:G83)","v":405830.22}]
[46,"IA",-1,"(-)","Acquisto crediti finanziari",{"$f":"((SUMIF('00 PDC SP'!$D:$D,'01 Rendiconto Finanziario'!$A85,'00 PDC SP'!L:L)))*'01 Rendiconto Finanziario'!C85","v":0},{"$f":"(SUMIF('00 PDC SP'!$D:$D,'01 Rendiconto Finanziario'!$A85,'00 PDC SP'!I:I))*'01 Rendiconto Finanziario'!C85","v":0}]
[47,"IA",-1,"(-)","Acquisto titoli",{"$f":"((SUMIF('00 PDC SP'!$D:$D,'01 Rendiconto Finanziario'!$A86,'00 PDC SP'!L:L)))*'01 Rendiconto Finanziario'!C86","v":0},{"$f":"(SUMIF('00 PDC SP'!$D:$D,'01 Rendiconto Finanziario'!$A86,'00 PDC SP'!I:I))*'01 Rendiconto Finanziario'!C86","v":0},null,null,null,2014,2734481]
[null,null,null,"(-)","Acquisto Immobilizzazioni Finanziarie",{"$f":"SUM(F85:F86)","v":0},{"$f":"SUM(G85:G86)","v":0},null,null,null,2013,1682776]
[46,"DA",1,"(+)","Valore netto contabile crediti finanziari dismessi",{"$f":"((SUMIF('00 PDC SP'!$D:$D,'01 Rendiconto Finanziario'!$A88,'00 PDC SP'!M:M)))*'01 Rendiconto Finanziario'!C88","v":0},{"$f":"(SUMIF('00 PDC SP'!$D:$D,'01 Rendiconto Finanziario'!$A88,'00 PDC SP'!J:J))*'01 Rendiconto Finanziario'!C88","v":0},null,null,null,null,{"$f":"L86-L87","v":1051705}]
[47,"DA",1,"(+)","Valore netto contabile titoli dismessi",{"$f":"((SUMIF('00 PDC SP'!$D:$D,'01 Rendiconto Finanziario'!$A89,'00 PDC SP'!M:M)))*'01 Rendiconto Finanziario'!C89","v":0},{"$f":"(SUMIF('00 PDC SP'!$D:$D,'01 Rendiconto Finanziario'!$A89,'00 PDC SP'!J:J))*'01 Rendiconto Finanziario'!C89","v":0}]
[null,null,null,"(+)","Valore netto contabile Immobilizzazioni Finanziarie dismesse",{"$f":"SUM(F88:F89)","v":0},{"$f":"SUM(G88:G89)","v":0}]
[58,"VP",-1,"(+/-)","Aumento/Diminuzione debiti v/fornitori di immobilizzazioni",1051705,0,null,"CODICE 58 - DA INSERIRE MANUALMENTE"]
[null,null,null,"B - Totale attività di investimento",null,{"$f":"F62+F68+F76+F84+F87+F90+F91+0.0000001416","v":2070757.6300001424},{"$f":"G62+G68+G76+G84+G87+G90+G91","v":-8937774.6100000013}]
[null,null,null,"ATTIVITA' DI FINANZIAMENTO"]
[48,"VA",-1,"(+)/(-)","diminuzione/aumento crediti vs Stato (finanziamenti per investimenti)",{"$f":"((SUMIF('00 PDC SP'!$D:$D,'01 Rendiconto Finanziario'!$A94,'00 PDC SP'!L:L)-SUMIF('00 PDC SP'!$D:$D,'01 Rendiconto Finanziario'!$A94,'00 PDC SP'!M:M))*'01 Rendiconto Finanziario'!C94)","v":0},{"$f":"(SUMIF('00 PDC SP'!$D:$D,'01 Rendiconto Finanziario'!$A94,'00 PDC SP'!I:I)-SUMIF('00 PDC SP'!$D:$D,'01 Rendiconto Finanziario'!$A94,'00 PDC SP'!J:J))*'01 Rendiconto Finanziario'!C94","v":0}]
[49,"VA",-1,"(+)/(-)","diminuzione/aumento crediti vs Regione (finanziamenti per investimenti)",{"$f":"((SUMIF('00 PDC SP'!$D:$D,'01 Rendiconto Finanziario'!$A95,'00 PDC SP'!L:L)-SUMIF('00 PDC SP'!$D:$D,'01 Rendiconto Finanziario'!$A95,'00 PDC SP'!M:M))*'01 Rendiconto Finanziario'!C95)","v":0},{"$f":"(SUMIF('00 PDC SP'!$D:$D,'01 Rendiconto Finanziario'!$A95,'00 PDC SP'!I:I)-SUMIF('00 PDC SP'!$D:$D,'01 Rendiconto Finanziario'!$A95,'00 PDC SP'!J:J))*'01 Rendiconto Finanziario'!C95","v":0}]
[50,"VA",-1,"(+)/(-)","diminuzione/aumento crediti vs Regione (aumento fondo di dotazione)",{"$f":"((SUMIF('00 PDC SP'!$D:$D,'01 Rendiconto Finanziario'!$A96,'00 PDC SP'!L:L)-SUMIF('00 PDC SP'!$D:$D,'01 Rendiconto Finanziario'!$A96,'00 PDC SP'!M:M))*'01 Rendiconto Finanziario'!C96)","v":0},{"$f":"(SUMIF('00 PDC SP'!$D:$D,'01 Rendiconto Finanziario'!$A96,'00 PDC SP'!I:I)-SUMIF('00 PDC SP'!$D:$D,'01 Rendiconto Finanziario'!$A96,'00 PDC SP'!J:J))*'01 Rendiconto Finanziario'!C96","v":0}]
[51,"VA",-1,"(+)/(-)","diminuzione/aumento crediti vs Regione (ripiano perdite)",{"$f":"((SUMIF('00 PDC SP'!$D:$D,'01 Rendiconto Finanziario'!$A97,'00 PDC SP'!L:L)-SUMIF('00 PDC SP'!$D:$D,'01 Rendiconto Finanziario'!$A97,'00 PDC SP'!M:M))*'01 Rendiconto Finanziario'!C97)","v":-13609624},{"$f":"(SUMIF('00 PDC SP'!$D:$D,'01 Rendiconto Finanziario'!$A97,'00 PDC SP'!I:I)-SUMIF('00 PDC SP'!$D:$D,'01 Rendiconto Finanziario'!$A97,'00 PDC SP'!J:J))*'01 Rendiconto Finanziario'!C97","v":7337349.5700000003}]
[52,"VA",-1,"(+)/(-)","diminuzione/aumento crediti vs Regione (copertura debiti al 31.12.2005)",{"$f":"((SUMIF('00 PDC SP'!$D:$D,'01 Rendiconto Finanziario'!$A98,'00 PDC SP'!L:L)-SUMIF('00 PDC SP'!$D:$D,'01 Rendiconto Finanziario'!$A98,'00 PDC SP'!M:M))*'01 Rendiconto Finanziario'!C98)","v":0},{"$f":"(SUMIF('00 PDC SP'!$D:$D,'01 Rendiconto Finanziario'!$A98,'00 PDC SP'!I:I)-SUMIF('00 PDC SP'!$D:$D,'01 Rendiconto Finanziario'!$A98,'00 PDC SP'!J:J))*'01 Rendiconto Finanziario'!C98","v":0}]
[null,null,null,"(+)","aumento fondo di dotazione",{"$f":"SUM(F94:F98)","v":-13609624},{"$f":"SUM(G94:G98)","v":7337349.5700000003}]
[5,"IP",1,"(+)","aumento contributi in c/capitale da regione e da altri",{"$f":"(SUMIF('00 PDC SP'!$D:$D,'01 Rendiconto Finanziario'!$A100,'00 PDC SP'!L:L))*'01 Rendiconto Finanziario'!C100","v":6486693.4499999993},{"$f":"(SUMIF('00 PDC SP'!$D:$D,'01 Rendiconto Finanziario'!$A100,'00 PDC SP'!I:I))*'01 Rendiconto Finanziario'!C100","v":6628571.3899999997}]
[6,"IP",1,"(+)","aumento fondi riserva: investimenti, incentivi al personale, successioni e donaz., plusvalenze da reinvestire",0,{"$f":"(SUMIF('00 PDC SP'!$D:$D,'01 Rendiconto Finanziario'!$A101,'00 PDC SP'!I:I))*'01 Rendiconto Finanziario'!C101","v":0}]
[53,"VP",1,"(+)/(-)","altri aumenti/diminuzioni al patrimonio netto (*)",{"$f":"((SUMIF('00 PDC SP'!$D:$D,'01 Rendiconto Finanziario'!$A102,'00 PDC SP'!L:L)-SUMIF('00 PDC SP'!$D:$D,'01 Rendiconto Finanziario'!$A102,'00 PDC SP'!M:M))*'01 Rendiconto Finanziario'!C102)-F5","v":13668902.849999879},{"$f":"((SUMIF('00 PDC SP'!$D:$D,'01 Rendiconto Finanziario'!$A102,'00 PDC SP'!I:I)-SUMIF('00 PDC SP'!$D:$D,'01 Rendiconto Finanziario'!$A102,'00 PDC SP'!J:J))*'01 Rendiconto Finanziario'!C102)-G5","v":14294910.400000051}]
[null,null,null,"(+)/(-)","aumenti/diminuzioni nette contabili al patrimonio netto",{"$f":"SUM(F100:F102)","v":20155596.299999878},{"$f":"SUM(G100:G102)","v":20923481.790000051}]
[54,"VA",-1,"(+)/(-)","aumenti/diminuzione debiti C/C bancari e istituto tesoriere (*)",{"$f":"((SUMIF('00 PDC SP'!$D:$D,'01 Rendiconto Finanziario'!$A104,'00 PDC SP'!L:L)-SUMIF('00 PDC SP'!$D:$D,'01 Rendiconto Finanziario'!$A104,'00 PDC SP'!M:M))*'01 Rendiconto Finanziario'!C104)","v":0},{"$f":"(SUMIF('00 PDC SP'!$D:$D,'01 Rendiconto Finanziario'!$A104,'00 PDC SP'!I:I)-SUMIF('00 PDC SP'!$D:$D,'01 Rendiconto Finanziario'!$A104,'00 PDC SP'!J:J))*'01 Rendiconto Finanziario'!C104","v":0}]
[55,"IP",1,"(+)","assunzione nuovi mutui (*)",{"$f":"((SUMIF('00 PDC SP'!$D:$D,'01 Rendiconto Finanziario'!$A105,'00 PDC SP'!L:L))*'01 Rendiconto Finanziario'!C105)","v":0},{"$f":"(SUMIF('00 PDC SP'!$D:$D,'01 Rendiconto Finanziario'!$A105,'00 PDC SP'!I:I))*'01 Rendiconto Finanziario'!C105","v":0}]
[56,"DP",-1,"(-)","mutui quota capitale rimborsata",{"$f":"((SUMIF('00 PDC SP'!$D:$D,'01 Rendiconto Finanziario'!$A106,'00 PDC SP'!M:M))*'01 Rendiconto Finanziario'!C106)","v":0},{"$f":"(SUMIF('00 PDC SP'!$D:$D,'01 Rendiconto Finanziario'!$A106,'00 PDC SP'!J:J))*'01 Rendiconto Finanziario'!C106","v":0}]
[null,null,null,"C - Totale attività di finanziamento",null,{"$f":"F99+F103+F104+F105+F106","v":6545972.2999998778},{"$f":"G99+G103+G104+G105+G106","v":28260831.360000052}]
[null,null,null,"FLUSSO DI CASSA COMPLESSIVO (A+B+C+)",null,{"$f":"F55+F92+F107","v":-25298473.790000014},{"$f":"G55+G92+G107","v":44326691.380000241}]
[57,"VA",1,"Delta liquidità tra inizio e fine esercizio (al netto dei conti bancari passivi)",null,{"$f":"((SUMIF('00 PDC SP'!$D:$D,'01 Rendiconto Finanziario'!$A109,'00 PDC SP'!L:L)-SUMIF('00 PDC SP'!$D:$D,'01 Rendiconto Finanziario'!$A109,'00 PDC SP'!M:M))*'01 Rendiconto Finanziario'!C109)","v":-25298473.790000081},{"$f":"(SUMIF('00 PDC SP'!$D:$D,'01 Rendiconto Finanziario'!$A109,'00 PDC SP'!I:I)-SUMIF('00 PDC SP'!$D:$D,'01 Rendiconto Finanziario'!$A109,'00 PDC SP'!J:J))*'01 Rendiconto Finanziario'!C109","v":44326691.379999995}]
[null,null,null,"Squadratura tra il valore delle disponibilità liquide nello SP e il valore del flusso di cassa complessivo",null,{"$f":"F108-F109","v":6.7055225372314453E-8},{"$f":"G108-G109","v":2.4586915969848633E-7}]
[]
[null,null,null,null,"LEGENDA"]
[null,null,null,"SP","Saldo Stato Patrimoniale"]
[null,null,null,"IP","Passività - Incrementi"]
[null,null,null,"DP","Passività - Decrementi"]
[null,null,null,"VA","Attività - Variazione Saldo"]
[null,null,null,"VP","Passività - Variazione Saldo"]
[null,null,null,"IA","Attività - Incrementi"]
[null,null,null,"DA","Attività - Decrementi"]

{"sheet":"Personale","index":4,"n_rows":39,"n_cols":5,"rows_kept":39,"cut":false,"hidden":false,"merged":[]}
["Dati sull'occupazione al 31.12 XX"]
[]
["PERSONALE DIPENDENTE (Conto Annuale)"]
[null,"T1A","T1C","T1A","T1C"]
["Tipologia di personale","Personale in comando al 31/12/X-1 \nad altri enti","Personale in comando al 31/12/X-1 \nda altri enti","Personale in comando al 31/12/X ad altri enti","Personale in comando al 31/12/X da altri enti"]
["RUOLO SANITARIO"]
["Dirigenza"]
["- Medico veterinaria",1,1,null,1]
["- Sanitaria"]
["Comparto"]
["- Categoria Ds"]
["- Categoria D",3,7,1,10]
["- Categoria C"]
["- Categoria Bs"]
["RUOLO PROFESSIONALE"]
["Dirigenza"]
["Livello dirigenziale"]
["Comparto"]
["- Categoria D"]
["RUOLO TECNICO"]
["Dirigenza"]
["Livello dirigenziale"]
["Comparto"]
["- Categoria Ds"]
["- Categoria D"]
["- Categoria C"]
["- Categoria Bs",null,null,null,1]
["- Categoria B"]
["- Categoria A"]
["RUOLO AMMINISTRATIVO"]
["Dirigenza"]
["Livello dirigenziale"]
["Comparto"]
["- Categoria Ds",null,1]
["- Categoria D",1]
["- Categoria C"]
["- Categoria Bs"]
["- Categoria B"]
["- Categoria A"]

{"sheet":"Universitario","index":5,"n_rows":15,"n_cols":5,"rows_kept":15,"cut":false,"hidden":true,"merged":[]}
[]
["PERSONALE UNIVERSITARIO (Conto Annuale T1B)"]
["Tipologia di personale","Personale al 31/12/X-1","di cui Personale a tempo parziale al 31/12/X-1","Personale al 31/12/X","di cui Personale a tempo parziale al 31/12/X"]
["RUOLO SANITARIO"]
["Dirigenza"]
["Comparto"]
["RUOLO PROFESSIONALE"]
["Dirigenza"]
["Comparto"]
["RUOLO TECNICO"]
["Dirigenza"]
["Comparto"]
["RUOLO AMMINISTRATIVO"]
["Dirigenza"]
["Comparto"]

{"sheet":"Altro contratto","index":6,"n_rows":59,"n_cols":3,"rows_kept":59,"cut":false,"hidden":true,"merged":[[1,0,1,2],[18,0,18,2],[52,0,52,2],[35,0,35,2]]}
[]
["PERSONALE CON ALTRO CONTRATTO - FORMAZIONE LAVORO (Conto Annuale T2)"]
["Tipologia di personale","Uomini-anno  \nanno X -1","Uomini-anno \nanno X"]
["RUOLO SANITARIO"]
["Dirigenza"]
["- Medico - Veterinari"]
["- Sanitaria non medica"]
["Comparto"]
["RUOLO PROFESSIONALE"]
["Dirigenza"]
["Comparto"]
["RUOLO TECNICO"]
["Dirigenza"]
["Comparto"]
["RUOLO AMMINISTRATIVO"]
["Dirigenza"]
["Comparto"]
[]
["PERSONALE CON ALTRO CONTRATTO - CONTRATTO DI SOMMINISTRAZIONE (Conto Annuale T2)"]
["Tipologia di personale","Uomini-anno \nanno X -1","Uomini-anno \nanno X"]
["RUOLO SANITARIO"]
["Dirigenza"]
["- Medico - Veterinari"]
["- Sanitaria non medica"]
["Comparto"]
["RUOLO PROFESSIONALE"]
["Dirigenza"]
["Comparto"]
["RUOLO TECNICO"]
["Dirigenza"]
["Comparto"]
["RUOLO AMMINISTRATIVO"]
["Dirigenza"]
["Comparto"]
[]
["PERSONALE CON ALTRO CONTRATTO - LSU (Conto Annuale T2)"]
["Tipologia di personale","Uomini-anno \nanno X -1","Uomini-anno \nanno X"]
["RUOLO SANITARIO"]
["Dirigenza"]
["- Medico - Veterinari"]
["- Sanitaria non medica"]
["Comparto"]
["RUOLO PROFESSIONALE"]
["Dirigenza"]
["Comparto"]
["RUOLO TECNICO"]
["Dirigenza"]
["Comparto"]
["RUOLO AMMINISTRATIVO"]
["Dirigenza"]
["Comparto"]
[]
["PERSONALE IN CONVENZIONE  (FLS 12 quadro E per MMG e PLS)"]
["Tipologia di personale","Personale al \n31/12/ X-1","Personale al \n31/12/ X"]
["MEDICINA DI BASE"]
["MMG"]
["PLS"]
["Continuità assistenziale"]
["Altro"]

{"sheet":"Tab 1-2-3-4","index":7,"n_rows":47,"n_cols":24,"rows_kept":47,"cut":false,"hidden":false,"merged":[[30,10,30,11],[0,3,0,19],[3,3,4,3],[3,4,4,4],[3,6,4,6],[3,7,3,10],[3,11,3,18],[3,19,4,19],[28,4,29,4],[28,6,28,8],[28,9,28,11],[29,10,29,11],[2,3,2,13],[27,4,27,11],[42,4,43,4],[42,6,42,8],[42,9,42,11],[43,10,43,11],[31,10,31,11],[32,10,32,11],[35,4,36,4],[35,6,35,8],[35,9,35,11],[36,10,36,11],[34,4,34,11],[44,10,44,11],[45,10,45,11],[46,10,46,11],[37,10,37,11],[38,10,38,11],[39,10,39,11]]}
[null,null,null,"4.4     Immobilizzazioni materiali e immateriali"]
[]
[null,null,null,"Tab. 1 – Dettagli e movimentazioni delle immobilizzazioni immateriali "]
[null,null,null,"CODICE MOD. SP","IMMOBILIZZAZIONI IMMATERIALI",null,"Costo\nstorico","ESERCIZI PRECEDENTI",null,null,null,"MOVIMENTI DELL'ESERCIZIO",null,null,null,null,null,null,null,"Valore Netto Contabile"]
["Costo Storico","F.do Amm.to","F.do Svalutaz",null,null,null,null,"Rivalutaz. (+)","Svalutaz. (-)","Fondo Amm.to (-)","Valore netto iniz.","Giroconti e Riclass. (+/-)","Rivalutaz. (+)","Svalutaz. (-)","Acquisizioni e costruzioni in economia ","Manuten. increment.","Interessi capital.","Dismiss. (valore netto) (-)","Ammort. (-)",null,null,"Valore SP","Diff","Ctrl"]
["AAA020","AAA030","AAA230","AAA010"," Costi d'impianto e di ampliamento",null,{"$f":"SUMIF('00 SP'!$A:$A,'Tab 1-2-3-4'!A6,'00 SP'!I:I)","v":0},{"$f":"SUMIF('00 SP'!A:A,'Tab 1-2-3-4'!C6,'00 SP'!H:H)*-1","v":0},{"$f":"SUMIF('00 SP'!A:A,'Tab 1-2-3-4'!C6,'00 SP'!G:G)","v":0},{"$f":"SUMIF('00 SP'!A:A,'Tab 1-2-3-4'!B6,'00 SP'!I:I)","v":0},{"$f":"G6+H6+I6+J6","v":0},0,{"$f":"SUMIF('00 SP'!A:A,'Tab 1-2-3-4'!C6,'00 SP'!K:K)*-1","v":0},{"$f":"SUMIF('00 SP'!A:A,'Tab 1-2-3-4'!C6,'00 SP'!J:J)","v":0},{"$f":"SUMIF('00 SP'!A:A,A6,'00 SP'!J:J)-SUMIF('00 SP'!A:A,A6,'00 SP'!K:K)-(P6+Q6+L6)","v":0},0,0,0,{"$f":"(SUMIF('00 SP'!A:A,'Tab 1-2-3-4'!B6,'00 SP'!J:J)-SUMIF('00 SP'!A:A,B6,'00 SP'!K:K)-R6)","v":0},{"$f":"K6+L6+M6+N6+O6+P6+Q6+R6+S6","v":0},null,{"$f":"SUMIF('00 SP'!A:A,'Tab 1-2-3-4'!D6,'00 SP'!L:L)","v":0},{"$f":"T6-V6","v":0},{"$f":"IF(W6=0,\"OK\",\"CTRL\")","v":"OK"}]
[null,null,null,null,"di cui soggetti a sterilizzazione",null,null,null,null,null,0,null,null,null,null,null,null,null,null,0]
["AAA050","AAA060","AAA240","AAA040"," Costi di ricerca e sviluppo",null,{"$f":"SUMIF('00 SP'!$A:$A,'Tab 1-2-3-4'!A8,'00 SP'!I:I)","v":0},{"$f":"SUMIF('00 SP'!A:A,'Tab 1-2-3-4'!C8,'00 SP'!H:H)*-1","v":0},{"$f":"SUMIF('00 SP'!A:A,'Tab 1-2-3-4'!C8,'00 SP'!G:G)","v":0},{"$f":"SUMIF('00 SP'!A:A,'Tab 1-2-3-4'!B8,'00 SP'!I:I)","v":0},0,0,{"$f":"SUMIF('00 SP'!A:A,'Tab 1-2-3-4'!C8,'00 SP'!K:K)*-1","v":0},{"$f":"SUMIF('00 SP'!A:A,'Tab 1-2-3-4'!C8,'00 SP'!J:J)","v":0},{"$f":"SUMIF('00 SP'!A:A,A8,'00 SP'!J:J)-SUMIF('00 SP'!A:A,A8,'00 SP'!K:K)-(P8+Q8+L8)","v":0},0,0,0,{"$f":"(SUMIF('00 SP'!A:A,'Tab 1-2-3-4'!B8,'00 SP'!J:J)-SUMIF('00 SP'!A:A,B8,'00 SP'!K:K)-R8)","v":0},0,null,{"$f":"SUMIF('00 SP'!A:A,'Tab 1-2-3-4'!D8,'00 SP'!L:L)","v":0},{"$f":"T8-V8","v":0},{"$f":"IF(W8=0,\"OK\",\"CTRL\")","v":"OK"}]
[null,null,null,null,"di cui soggetti a sterilizzazione",null,null,null,null,null,0,null,null,null,null,null,null,null,null,0]
["AAA080","AAA090","AAA250","AAA070"," Diritti di brevetto e utilizzazione opere d'ingegno",null,{"$f":"SUMIF('00 SP'!$A:$A,'Tab 1-2-3-4'!A10,'00 SP'!I:I)","v":0},{"$f":"SUMIF('00 SP'!A:A,'Tab 1-2-3-4'!C10,'00 SP'!H:H)*-1","v":0},{"$f":"SUMIF('00 SP'!A:A,'Tab 1-2-3-4'!C10,'00 SP'!G:G)","v":0},{"$f":"SUMIF('00 SP'!A:A,'Tab 1-2-3-4'!B10,'00 SP'!I:I)","v":0},0,0,{"$f":"SUMIF('00 SP'!A:A,'Tab 1-2-3-4'!C10,'00 SP'!K:K)*-1","v":0},{"$f":"SUMIF('00 SP'!A:A,'Tab 1-2-3-4'!C10,'00 SP'!J:J)","v":0},{"$f":"SUMIF('00 SP'!A:A,A10,'00 SP'!J:J)-SUMIF('00 SP'!A:A,A10,'00 SP'!K:K)-(P10+Q10+L10)","v":0},0,0,0,{"$f":"(SUMIF('00 SP'!A:A,'Tab 1-2-3-4'!B10,'00 SP'!J:J)-SUMIF('00 SP'!A:A,B10,'00 SP'!K:K)-R10)","v":0},0,null,{"$f":"SUMIF('00 SP'!A:A,'Tab 1-2-3-4'!D10,'00 SP'!L:L)","v":0},{"$f":"T10-V10","v":0},{"$f":"IF(W10=0,\"OK\",\"CTRL\")","v":"OK"}]
[null,null,null,null,"di cui soggetti a sterilizzazione",null,null,null,null,null,0,null,null,null,null,null,null,null,null,0]
["AAA120",null,null,"AAA120"," Immobilizzazioni immateriali in corso e acconti",null,{"$f":"SUMIF('00 SP'!$A:$A,'Tab 1-2-3-4'!A12,'00 SP'!I:I)","v":0},{"$f":"SUMIF('00 SP'!A:A,'Tab 1-2-3-4'!C12,'00 SP'!H:H)*-1","v":0},{"$f":"SUMIF('00 SP'!A:A,'Tab 1-2-3-4'!C12,'00 SP'!G:G)","v":0},{"$f":"SUMIF('00 SP'!A:A,'Tab 1-2-3-4'!B12,'00 SP'!I:I)","v":0},0,0,{"$f":"SUMIF('00 SP'!A:A,'Tab 1-2-3-4'!C12,'00 SP'!K:K)*-1","v":0},{"$f":"SUMIF('00 SP'!A:A,'Tab 1-2-3-4'!C12,'00 SP'!J:J)","v":0},{"$f":"SUMIF('00 SP'!A:A,A12,'00 SP'!J:J)-SUMIF('00 SP'!A:A,A12,'00 SP'!K:K)-(P12+Q12+L12)","v":0},0,0,0,{"$f":"(SUMIF('00 SP'!A:A,'Tab 1-2-3-4'!B12,'00 SP'!J:J)-SUMIF('00 SP'!A:A,B12,'00 SP'!K:K)-R12)","v":0},0,null,{"$f":"SUMIF('00 SP'!A:A,'Tab 1-2-3-4'!D12,'00 SP'!L:L)","v":0},{"$f":"T12-V12","v":0},{"$f":"IF(W12=0,\"OK\",\"CTRL\")","v":"OK"}]
["AAA200","AAA210",null,"AAA130"," Altre immobilizzazioni immateriali",null,{"$f":"G15+G17+G19+G21","v":2188144.58},{"$f":"H15+H17+H19+H21","v":0},0,-1695177.54,{"$f":"K15+K17+K19+K21","v":492967.04000000004},0,0,0,{"$f":"O15+O17+O19+O21","v":131197.91},0,0,0,-160939.16,{"$f":"T15+T17+T19+T21","v":463225.79000000004},null,{"$f":"SUMIF('00 SP'!A:A,'Tab 1-2-3-4'!D13,'00 SP'!L:L)","v":463225.79000000004},{"$f":"T13-V13","v":0},{"$f":"IF(W13=0,\"OK\",\"CTRL\")","v":"OK"}]
[null,null,null,null,"di cui soggette a sterilizzazione",null,{"$f":"G16+G18+G20+G22","v":2082843},{"$f":"H16+H18+H20+H22","v":0},0,-1695177.54,387665.45999999996,0,0,0,131198,0,0,0,{"$f":"S16+S18+S20+S22","v":-160939},357924.45999999996]
["AAA140","AAA150","AAA260","AAA140"," Concessioni, licenze, marchi e diritti simili",null,{"$f":"SUMIF('00 SP'!$A:$A,'Tab 1-2-3-4'!A15,'00 SP'!I:I)","v":2188144.58},{"$f":"SUMIF('00 SP'!A:A,'Tab 1-2-3-4'!C15,'00 SP'!H:H)*-1","v":0},{"$f":"SUMIF('00 SP'!A:A,'Tab 1-2-3-4'!C15,'00 SP'!G:G)","v":0},{"$f":"SUMIF('00 SP'!A:A,'Tab 1-2-3-4'!B15,'00 SP'!I:I)","v":-1695177.54},{"$f":"G15+H15+I15+J15","v":492967.04000000004},0,{"$f":"SUMIF('00 SP'!A:A,'Tab 1-2-3-4'!C15,'00 SP'!K:K)*-1","v":0},{"$f":"SUMIF('00 SP'!A:A,'Tab 1-2-3-4'!C15,'00 SP'!J:J)","v":0},{"$f":"SUMIF('00 SP'!A:A,A15,'00 SP'!J:J)-SUMIF('00 SP'!A:A,A15,'00 SP'!K:K)-(P15+Q15+L15)+11462","v":131197.91},0,0,0,{"$f":"(SUMIF('00 SP'!A:A,'Tab 1-2-3-4'!B15,'00 SP'!J:J)-SUMIF('00 SP'!A:A,B15,'00 SP'!K:K)-R15)-11462","v":-160939.16},{"$f":"K15+L15+M15+N15+O15+P15+Q15+R15+S15","v":463225.79000000004}]
[null,null,null,null,"di cui soggette a sterilizzazione",null,{"$f":"1985432-105301+202712","v":2082843},null,null,{"$f":"J15","v":-1695177.54},{"$f":"G16+H16+I16+J16","v":387665.45999999996},null,null,null,131198,null,null,null,-160939,{"$f":"K16+L16+M16+N16+O16+P16+Q16+R16+S16","v":357924.45999999996}]
["AAA160","AAA170",null,"AAA160"," Migliorie su beni di terzi",null,{"$f":"SUMIF('00 SP'!$A:$A,'Tab 1-2-3-4'!A17,'00 SP'!I:I)","v":0},{"$f":"SUMIF('00 SP'!A:A,'Tab 1-2-3-4'!C17,'00 SP'!H:H)*-1","v":0},{"$f":"SUMIF('00 SP'!A:A,'Tab 1-2-3-4'!C17,'00 SP'!G:G)","v":0},{"$f":"SUMIF('00 SP'!A:A,'Tab 1-2-3-4'!B17,'00 SP'!I:I)","v":0},0,0,{"$f":"SUMIF('00 SP'!A:A,'Tab 1-2-3-4'!C17,'00 SP'!K:K)*-1","v":0},{"$f":"SUMIF('00 SP'!A:A,'Tab 1-2-3-4'!C17,'00 SP'!J:J)","v":0},{"$f":"SUMIF('00 SP'!A:A,A17,'00 SP'!J:J)-SUMIF('00 SP'!A:A,A17,'00 SP'!K:K)-(P17+Q17+L17)","v":0},0,0,0,{"$f":"(SUMIF('00 SP'!A:A,'Tab 1-2-3-4'!B17,'00 SP'!J:J)-SUMIF('00 SP'!A:A,B17,'00 SP'!K:K)-R17)","v":0},0]
[null,null,null,null,"di cui soggette a sterilizzazione",null,null,null,null,null,0,null,null,null,null,null,null,null,null,0]
["AAA180","AAA190",null,"AAA180","Pubblicità",null,{"$f":"SUMIF('00 SP'!$A:$A,'Tab 1-2-3-4'!A19,'00 SP'!I:I)","v":0},{"$f":"SUMIF('00 SP'!A:A,'Tab 1-2-3-4'!C19,'00 SP'!H:H)*-1","v":0},{"$f":"SUMIF('00 SP'!A:A,'Tab 1-2-3-4'!C19,'00 SP'!G:G)","v":0},{"$f":"SUMIF('00 SP'!A:A,'Tab 1-2-3-4'!B19,'00 SP'!I:I)","v":0},0,0,{"$f":"SUMIF('00 SP'!A:A,'Tab 1-2-3-4'!C19,'00 SP'!K:K)*-1","v":0},{"$f":"SUMIF('00 SP'!A:A,'Tab 1-2-3-4'!C19,'00 SP'!J:J)","v":0},{"$f":"SUMIF('00 SP'!A:A,A19,'00 SP'!J:J)-SUMIF('00 SP'!A:A,A19,'00 SP'!K:K)-(P19+Q19+L19)","v":0},0,0,0,{"$f":"(SUMIF('00 SP'!A:A,'Tab 1-2-3-4'!B19,'00 SP'!J:J)-SUMIF('00 SP'!A:A,B19,'00 SP'!K:K)-R19)","v":0},0]
[null,null,null,null,"di cui soggette a sterilizzazione",null,null,null,null,null,0,null,null,null,null,null,null,null,null,0]
["AAA200","AAA210",null,"AAA200","Altre immobilizzazioni immateriali",null,{"$f":"SUMIF('00 SP'!$A:$A,'Tab 1-2-3-4'!A21,'00 SP'!I:I)","v":0},{"$f":"SUMIF('00 SP'!A:A,'Tab 1-2-3-4'!C21,'00 SP'!H:H)*-1","v":0},{"$f":"SUMIF('00 SP'!A:A,'Tab 1-2-3-4'!C21,'00 SP'!G:G)","v":0},{"$f":"SUMIF('00 SP'!A:A,'Tab 1-2-3-4'!B21,'00 SP'!I:I)","v":0},0,0,{"$f":"SUMIF('00 SP'!A:A,'Tab 1-2-3-4'!C21,'00 SP'!K:K)*-1","v":0},{"$f":"SUMIF('00 SP'!A:A,'Tab 1-2-3-4'!C21,'00 SP'!J:J)","v":0},{"$f":"SUMIF('00 SP'!A:A,A21,'00 SP'!J:J)-SUMIF('00 SP'!A:A,A21,'00 SP'!K:K)-(P21+Q21+L21)","v":0},0,0,0,{"$f":"(SUMIF('00 SP'!A:A,'Tab 1-2-3-4'!B21,'00 SP'!J:J)-SUMIF('00 SP'!A:A,B21,'00 SP'!K:K)-R21)","v":0},0,null,{"$f":"SUMIF('00 SP'!A:A,'Tab 1-2-3-4'!D21,'00 SP'!L:L)","v":0},{"$f":"T21-V21","v":0},{"$f":"IF(W21=0,\"OK\",\"CTRL\")","v":"OK"}]
[null,null,null,null,"di cui soggette a sterilizzazione",null,null,null,null,null,0,null,null,null,null,null,null,null,null,0]
[null,null,null,null,"TOTALE IMMOBILIZZAZIONI IMMATERIALI",null,{"$f":"G6+G8+G10+G12+G13","v":2188144.58},{"$f":"H6+H8+H10+H12+H13","v":0},0,{"$f":"J6+J8+J10+J12+J13","v":-1695177.54},492967.04000000004,0,0,0,131197.91,0,0,0,-160939.16,463225.79000000004]
[]
[null,null,null,null,"di cui soggette a sterilizzazione",null,{"$f":"G7+G9+G11+G14","v":2082843},{"$f":"H7+H9+H11+H14","v":0},0,-1695177.54,387665.45999999996,0,0,0,131198,0,0,0,-160939,357924.45999999996]
[]
[]
[null,null,null,null,"Tab. 2 – Dettaglio costi di impianto e di ampliamento"]
[null,null,null,null,"DETTAGLIO COSTI D'IMPIANTO E DI AMPLIAMENTO",null,"MOVIMENTI DELL'ESERCIZIO",null,null,"ALTRE INFORMAZIONI"]
[null,null,null,null,null,null,"Valore\niniziale","Incrementi","Valore\nfinale","Ragioni iscrizione","Estremi del verbale del Collegio Sindacale"]
[null,null,null,null,"Descrizione composizione"]
[null,null,null,null,"…."]
[null,null,null,null,"…."]
[]
[null,null,null,null,"Tab. 3 – Dettaglio costi di ricerca e sviluppo"]
[null,null,null,null,"DETTAGLIO COSTI DI RICERCA E SVILUPPO",null,"MOVIMENTI DELL'ESERCIZIO",null,null,"ALTRE INFORMAZIONI"]
[null,null,null,null,null,null,"Valore\niniziale","Incrementi","Valore\nfinale","Ragioni iscrizione","Estremi del verbale del Collegio Sindacale"]
[null,null,null,null,"Descrizione composizione"]
[null,null,null,null,"…."]
[null,null,null,null,"…"]
[]
[null,null,null,null,"Tab. 4 – Dettaglio costi di pubblicità"]
[null,null,null,null,"DETTAGLIO PUBBLICITA'",null,"MOVIMENTI DELL'ESERCIZIO",null,null,"ALTRE INFORMAZIONI"]
[null,null,null,null,null,null,"Valore\niniziale","Incrementi","Valore\nfinale","Ragioni iscrizione","Estremi del verbale del Collegio Sindacale"]
[null,null,null,null,"Descrizione composizione"]
[null,null,null,null,"…."]
[null,null,null,null,"…"]

{"sheet":"Tab 5-6","index":8,"n_rows":40,"n_cols":24,"rows_kept":40,"cut":false,"hidden":false,"merged":[[1,4,1,9],[33,4,33,8],[2,19,3,19],[2,3,3,3],[2,4,3,4],[2,6,3,6],[2,7,2,10],[2,11,2,18],[30,4,31,17],[34,11,35,11],[34,12,35,12],[34,4,35,4],[34,6,35,6],[34,7,35,7],[34,8,35,8],[34,10,35,10]]}
[]
[null,null,null,null,"Tab. 5 – Dettagli e movimentazioni delle immobilizzazioni materiali "]
[null,null,null,"CODICE MOD. SP","IMMOBILIZZAZIONI MATERIALI",null,"Costo\nstorico","ESERCIZI PRECEDENTI",null,null,null,"MOVIMENTI DELL'ESERCIZIO",null,null,null,null,null,null,null,"Valore Netto Contabile"]
["Costo Storico","F.do Amm.to","F.do Svalutaz",null,null,null,null,"Rivalutaz.","Svalutaz.","Fondo\namm.","Valore netto iniziale","Giroconti e Riclassifiche","Rivalutaz.","Svalutaz.","Acquisizioni e costruzioni in economia ","Manutenz. increm.","Interessi capitalizz.","Dismissioni (valore netto)","Ammort. 2018",null,null,"Valore SP","Diff","Ctrl"]
["AAA290",null,null,"AAA290","Terreni disponibili",null,{"$f":"SUMIF('00 SP'!$A:$A,'Tab 5-6'!A5,'00 SP'!I:I)","v":0},{"$f":"SUMIF('00 SP'!A:A,'Tab 5-6'!C5,'00 SP'!H:H)*-1","v":0},{"$f":"SUMIF('00 SP'!A:A,'Tab 5-6'!C5,'00 SP'!G:G)","v":0},{"$f":"SUMIF('00 SP'!A:A,'Tab 5-6'!B5,'00 SP'!I:I)","v":0},{"$f":"G5+H5+I5+J5","v":0},0,{"$f":"SUMIF('00 SP'!A:A,'Tab 5-6'!C5,'00 SP'!K:K)*-1","v":0},{"$f":"SUMIF('00 SP'!A:A,'Tab 5-6'!C5,'00 SP'!J:J)","v":0},{"$f":"SUMIF('00 SP'!A:A,A5,'00 SP'!J:J)-SUMIF('00 SP'!A:A,A5,'00 SP'!K:K)-(P5+Q5)","v":0},0,0,0,{"$f":"SUMIF('00 SP'!A:A,'Tab 5-6'!B5,'00 SP'!J:J)-SUMIF('00 SP'!A:A,B5,'00 SP'!K:K)-R5","v":0},{"$f":"K5+L5+M5+N5+O5+P5+Q5+R5+S5","v":0},null,{"$f":"SUMIF('00 SP'!A:A,'Tab 5-6'!D5,'00 SP'!L:L)","v":0},{"$f":"T5-V5","v":0},{"$f":"IF(W5=0,\"OK\",\"CTRL\")","v":"OK"}]
[null,null,null,null,"di cui soggetti a sterilizzazione",null,null,null,null,null,0,null,null,null,null,null,null,null,null,0]
["AAA300",null,"AAA560","AAA300","Terreni indisponibili",null,{"$f":"SUMIF('00 SP'!$A:$A,'Tab 5-6'!A7,'00 SP'!I:I)","v":942655.12},{"$f":"SUMIF('00 SP'!A:A,'Tab 5-6'!C7,'00 SP'!H:H)*-1","v":0},{"$f":"SUMIF('00 SP'!A:A,'Tab 5-6'!C7,'00 SP'!G:G)","v":0},{"$f":"SUMIF('00 SP'!A:A,'Tab 5-6'!B7,'00 SP'!I:I)","v":0},{"$f":"G7+H7+I7+J7","v":942655.12},0,{"$f":"SUMIF('00 SP'!A:A,'Tab 5-6'!C7,'00 SP'!K:K)*-1","v":0},{"$f":"SUMIF('00 SP'!A:A,'Tab 5-6'!C7,'00 SP'!J:J)","v":0},{"$f":"SUMIF('00 SP'!A:A,A7,'00 SP'!J:J)-SUMIF('00 SP'!A:A,A7,'00 SP'!K:K)-(P7+Q7)","v":0},0,0,0,{"$f":"SUMIF('00 SP'!A:A,'Tab 5-6'!B7,'00 SP'!J:J)-SUMIF('00 SP'!A:A,B7,'00 SP'!K:K)-R7","v":0},942655.12,null,{"$f":"SUMIF('00 SP'!A:A,'Tab 5-6'!D7,'00 SP'!L:L)","v":942655.12},{"$f":"T7-V7","v":0},{"$f":"IF(W7=0,\"OK\",\"CTRL\")","v":"OK"}]
[null,null,null,null,"di cui soggetti a sterilizzazione",null,null,null,null,null,0,null,null,null,null,null,null,null,null,0]
["AAA330","AAA340",null,"AAA320"," Fabbricati non strumentali (disponibili)",null,{"$f":"SUMIF('00 SP'!$A:$A,'Tab 5-6'!A9,'00 SP'!I:I)","v":0},{"$f":"SUMIF('00 SP'!A:A,'Tab 5-6'!C9,'00 SP'!H:H)*-1","v":0},{"$f":"SUMIF('00 SP'!A:A,'Tab 5-6'!C9,'00 SP'!G:G)","v":0},{"$f":"SUMIF('00 SP'!A:A,'Tab 5-6'!B9,'00 SP'!I:I)","v":0},0,0,{"$f":"SUMIF('00 SP'!A:A,'Tab 5-6'!C9,'00 SP'!K:K)*-1","v":0},{"$f":"SUMIF('00 SP'!A:A,'Tab 5-6'!C9,'00 SP'!J:J)","v":0},{"$f":"SUMIF('00 SP'!A:A,A9,'00 SP'!J:J)-SUMIF('00 SP'!A:A,A9,'00 SP'!K:K)-(P9+Q9)","v":0},0,0,0,{"$f":"SUMIF('00 SP'!A:A,'Tab 5-6'!B9,'00 SP'!J:J)-SUMIF('00 SP'!A:A,B9,'00 SP'!K:K)-R9","v":0},0,null,{"$f":"SUMIF('00 SP'!A:A,'Tab 5-6'!D9,'00 SP'!L:L)","v":0},{"$f":"T9-V9","v":0},{"$f":"IF(W9=0,\"OK\",\"CTRL\")","v":"OK"}]
[null,null,null,null,"di cui soggetti a sterilizzazione",null,null,null,null,null,0,null,null,null,null,null,null,null,null,0]
["AAA360","AAA370","AAA570","AAA350"," Fabbricati strumentali (indisponibili)",null,{"$f":"SUMIF('00 SP'!$A:$A,'Tab 5-6'!A11,'00 SP'!I:I)","v":169096559.22999999},{"$f":"SUMIF('00 SP'!A:A,'Tab 5-6'!C11,'00 SP'!H:H)*-1","v":0},{"$f":"SUMIF('00 SP'!A:A,'Tab 5-6'!C11,'00 SP'!G:G)","v":0},{"$f":"SUMIF('00 SP'!A:A,'Tab 5-6'!B11,'00 SP'!I:I)","v":-90881774.340000004},78214784.889999986,0,{"$f":"SUMIF('00 SP'!A:A,'Tab 5-6'!C11,'00 SP'!K:K)*-1","v":0},{"$f":"SUMIF('00 SP'!A:A,'Tab 5-6'!C11,'00 SP'!J:J)","v":0},{"$f":"SUMIF('00 SP'!A:A,A11,'00 SP'!J:J)-SUMIF('00 SP'!A:A,A11,'00 SP'!K:K)-(P11+Q11)","v":2087230},0,0,0,{"$f":"SUMIF('00 SP'!A:A,'Tab 5-6'!B11,'00 SP'!J:J)-SUMIF('00 SP'!A:A,B11,'00 SP'!K:K)-R11","v":-4970458.6100000003},75331556.279999986,null,{"$f":"SUMIF('00 SP'!A:A,'Tab 5-6'!D11,'00 SP'!L:L)","v":75331556.279999986},{"$f":"T11-V11","v":0},{"$f":"IF(W11=0,\"OK\",\"CTRL\")","v":"OK"}]
[null,null,null,null,"di cui soggetti a sterilizzazione",null,{"$f":"153972072+138664+1842985+2856420-3500000-3968135","v":151342006},null,null,{"$f":"-68974861-4490908-663604","v":-74129373},77212633,null,null,null,2087230,null,null,null,{"$f":"-4631739+51214-171","v":-4580696},74719167]
["AAA390","AAA400","AAA580","AAA380"," Impianti e macchinari",null,{"$f":"SUMIF('00 SP'!$A:$A,'Tab 5-6'!A13,'00 SP'!I:I)","v":6166777.5300000003},{"$f":"SUMIF('00 SP'!A:A,'Tab 5-6'!C13,'00 SP'!H:H)*-1","v":0},{"$f":"SUMIF('00 SP'!A:A,'Tab 5-6'!C13,'00 SP'!G:G)","v":0},{"$f":"SUMIF('00 SP'!A:A,'Tab 5-6'!B13,'00 SP'!I:I)","v":-5151096.58},1015680.9500000002,0,{"$f":"SUMIF('00 SP'!A:A,'Tab 5-6'!C13,'00 SP'!K:K)*-1","v":0},{"$f":"SUMIF('00 SP'!A:A,'Tab 5-6'!C13,'00 SP'!J:J)","v":0},{"$f":"SUMIF('00 SP'!A:A,A13,'00 SP'!J:J)-SUMIF('00 SP'!A:A,A13,'00 SP'!K:K)-(P13+Q13)+244.08","v":635788.86},0,0,0,{"$f":"SUMIF('00 SP'!A:A,'Tab 5-6'!B13,'00 SP'!J:J)-SUMIF('00 SP'!A:A,B13,'00 SP'!K:K)-R13-244.08","v":-243005.81},{"$f":"K13+L13+M13+N13+O13+P13+Q13+R13+S13","v":1408464},null,{"$f":"SUMIF('00 SP'!A:A,'Tab 5-6'!D13,'00 SP'!L:L)","v":1408463.9999999991},{"$f":"T13-V13","v":0},{"$f":"IF(W13=0,\"OK\",\"CTRL\")","v":"OK"}]
[null,null,null,null,"di cui soggetti a sterilizzazione",null,{"$f":"1906260-127000-8171","v":1771089},null,null,{"$f":"-456618-321266+7452","v":-770432},1000657,null,null,null,{"$f":"O13","v":635788.86},null,null,null,{"$f":"S13","v":-243005.81},1393440.0499999998]
["AAA420","AAA430","AAA590","AAA410"," Attrezzature sanitarie e scientifiche",null,{"$f":"SUMIF('00 SP'!$A:$A,'Tab 5-6'!A15,'00 SP'!I:I)","v":84717848.540000007},{"$f":"SUMIF('00 SP'!A:A,'Tab 5-6'!C15,'00 SP'!H:H)*-1","v":0},{"$f":"SUMIF('00 SP'!A:A,'Tab 5-6'!C15,'00 SP'!G:G)","v":0},{"$f":"SUMIF('00 SP'!A:A,'Tab 5-6'!B15,'00 SP'!I:I)","v":-70497398.359999999},14220450.180000007,0,{"$f":"SUMIF('00 SP'!A:A,'Tab 5-6'!C15,'00 SP'!K:K)*-1","v":0},{"$f":"SUMIF('00 SP'!A:A,'Tab 5-6'!C15,'00 SP'!J:J)","v":0},{"$f":"SUMIF('00 SP'!A:A,A15,'00 SP'!J:J)-SUMIF('00 SP'!A:A,A15,'00 SP'!K:K)-(P15+Q15)+5885338.17","v":4303427.6100000003},0,0,-16889.68,{"$f":"SUMIF('00 SP'!A:A,'Tab 5-6'!B15,'00 SP'!J:J)-SUMIF('00 SP'!A:A,B15,'00 SP'!K:K)-5868448.49","v":-4807326.2300000004},{"$f":"K15+L15+M15+N15+O15+P15+Q15+R15+S15","v":13699661.880000006},null,{"$f":"SUMIF('00 SP'!A:A,'Tab 5-6'!D15,'00 SP'!L:L)","v":13699661.879999995},{"$f":"T15-V15","v":0},{"$f":"IF(W15=0,\"OK\",\"CTRL\")","v":"OK"}]
[null,null,null,null,"di cui soggette a sterilizzazione",null,{"$f":"37347033-1000000","v":36347033},null,null,{"$f":"-22130790-1603295+1507334","v":-22226751},14120282,null,null,null,{"$f":"O15","v":4303427.6100000003},null,null,null,{"$f":"S15","v":-4807326.2300000004},13616383.379999999]
["AAA450","AAA460","AAA600","AAA440"," Mobili e arredi",null,{"$f":"SUMIF('00 SP'!$A:$A,'Tab 5-6'!A17,'00 SP'!I:I)","v":10597975.65},{"$f":"SUMIF('00 SP'!A:A,'Tab 5-6'!C17,'00 SP'!H:H)*-1","v":0},{"$f":"SUMIF('00 SP'!A:A,'Tab 5-6'!C17,'00 SP'!G:G)","v":0},{"$f":"SUMIF('00 SP'!A:A,'Tab 5-6'!B17,'00 SP'!I:I)","v":-9083783.9600000009},{"$f":"G17+H17+I17+J17","v":1514191.6899999995},0,{"$f":"SUMIF('00 SP'!A:A,'Tab 5-6'!C17,'00 SP'!K:K)*-1","v":0},{"$f":"SUMIF('00 SP'!A:A,'Tab 5-6'!C17,'00 SP'!J:J)","v":0},{"$f":"SUMIF('00 SP'!A:A,A17,'00 SP'!J:J)-SUMIF('00 SP'!A:A,A17,'00 SP'!K:K)-(P17+Q17)+91861.65","v":339281.25},0,0,-2417.1999999999998,{"$f":"SUMIF('00 SP'!A:A,'Tab 5-6'!B17,'00 SP'!J:J)-SUMIF('00 SP'!A:A,B17,'00 SP'!K:K)-89444.45","v":-354383.59},{"$f":"K17+L17+M17+N17+O17+P17+Q17+R17+S17","v":1496672.1499999994},null,{"$f":"SUMIF('00 SP'!A:A,'Tab 5-6'!D17,'00 SP'!L:L)","v":1496672.1499999985},{"$f":"T17-V17","v":0},{"$f":"IF(W17=0,\"OK\",\"CTRL\")","v":"OK"}]
[null,null,null,null,"di cui soggetti a sterilizzazione",null,{"$f":"4030942-1300000","v":2730942},null,null,{"$f":"-1191157-204660-80640","v":-1476457},1254485,null,null,null,{"$f":"O17","v":339281.25},null,null,null,{"$f":"S17","v":-354383.59},1239382.6599999999]
["AAA480","AAA490","AAA610","AAA470"," Automezzi",null,{"$f":"SUMIF('00 SP'!$A:$A,'Tab 5-6'!A19,'00 SP'!I:I)","v":1962988.77},{"$f":"SUMIF('00 SP'!A:A,'Tab 5-6'!C19,'00 SP'!H:H)*-1","v":0},{"$f":"SUMIF('00 SP'!A:A,'Tab 5-6'!C19,'00 SP'!G:G)","v":0},{"$f":"SUMIF('00 SP'!A:A,'Tab 5-6'!B19,'00 SP'!I:I)","v":-1728549.97},234438.80000000005,0,{"$f":"SUMIF('00 SP'!A:A,'Tab 5-6'!C19,'00 SP'!K:K)*-1","v":0},{"$f":"SUMIF('00 SP'!A:A,'Tab 5-6'!C19,'00 SP'!J:J)","v":0},{"$f":"SUMIF('00 SP'!A:A,A19,'00 SP'!J:J)-SUMIF('00 SP'!A:A,A19,'00 SP'!K:K)+149825.11","v":93196.97},0,0,0,{"$f":"SUMIF('00 SP'!A:A,'Tab 5-6'!B19,'00 SP'!J:J)-SUMIF('00 SP'!A:A,B19,'00 SP'!K:K)-149825.11","v":-93539.1},234096.67,null,{"$f":"SUMIF('00 SP'!A:A,'Tab 5-6'!D19,'00 SP'!L:L)","v":234096.66999999993},{"$f":"T19-V19","v":0},{"$f":"IF(W19=0,\"OK\",\"CTRL\")","v":"OK"}]
[null,null,null,null,"di cui soggetti a sterilizzazione",null,{"$f":"693538-100000","v":593538},null,null,{"$f":"-314448-82399+289","v":-396558},196980,null,null,null,{"$f":"O19","v":93196.97},null,null,null,{"$f":"S19","v":-93539.1},196637.86999999997]
["AAA500",null,null,"AAA500","Oggetti d'arte",null,{"$f":"SUMIF('00 SP'!$A:$A,'Tab 5-6'!A21,'00 SP'!I:I)","v":0},{"$f":"SUMIF('00 SP'!A:A,'Tab 5-6'!C21,'00 SP'!H:H)*-1","v":0},{"$f":"SUMIF('00 SP'!A:A,'Tab 5-6'!C21,'00 SP'!G:G)","v":0},{"$f":"SUMIF('00 SP'!A:A,'Tab 5-6'!B21,'00 SP'!I:I)","v":0},0,0,{"$f":"SUMIF('00 SP'!A:A,'Tab 5-6'!C21,'00 SP'!K:K)*-1","v":0},{"$f":"SUMIF('00 SP'!A:A,'Tab 5-6'!C21,'00 SP'!J:J)","v":0},{"$f":"SUMIF('00 SP'!A:A,A21,'00 SP'!J:J)-SUMIF('00 SP'!A:A,A21,'00 SP'!K:K)-(P21+Q21)","v":0},0,0,0,{"$f":"SUMIF('00 SP'!A:A,'Tab 5-6'!B21,'00 SP'!J:J)-SUMIF('00 SP'!A:A,B21,'00 SP'!K:K)-R21","v":0},0,null,{"$f":"SUMIF('00 SP'!A:A,'Tab 5-6'!D21,'00 SP'!L:L)","v":0},{"$f":"T21-V21","v":0},{"$f":"IF(W21=0,\"OK\",\"CTRL\")","v":"OK"}]
["AAA520","AAA530","AAA620","AAA510"," Altre immobilizzazioni materiali",null,{"$f":"SUMIF('00 SP'!$A:$A,'Tab 5-6'!A22,'00 SP'!I:I)","v":5917994.9800000004},{"$f":"SUMIF('00 SP'!A:A,'Tab 5-6'!C22,'00 SP'!H:H)*-1","v":0},{"$f":"SUMIF('00 SP'!A:A,'Tab 5-6'!C22,'00 SP'!G:G)","v":0},{"$f":"SUMIF('00 SP'!A:A,'Tab 5-6'!B22,'00 SP'!I:I)","v":-5255692.92},662302.06000000052,0,{"$f":"SUMIF('00 SP'!A:A,'Tab 5-6'!C22,'00 SP'!K:K)*-1","v":0},{"$f":"SUMIF('00 SP'!A:A,'Tab 5-6'!C22,'00 SP'!J:J)","v":0},{"$f":"SUMIF('00 SP'!A:A,A22,'00 SP'!J:J)-SUMIF('00 SP'!A:A,A22,'00 SP'!K:K)-(P22+Q22)+309159.3+3249.6","v":249716.49000000002},0,0,-223.17,{"$f":"SUMIF('00 SP'!A:A,'Tab 5-6'!B22,'00 SP'!J:J)-SUMIF('00 SP'!A:A,B22,'00 SP'!K:K)-308936.13-3249.6","v":-251784.97000000003},660010.41000000038,null,{"$f":"SUMIF('00 SP'!A:A,'Tab 5-6'!D22,'00 SP'!L:L)","v":660010.41000000108},{"$f":"T22-V22","v":0},{"$f":"IF(W22=0,\"OK\",\"CTRL\")","v":"OK"}]
[null,null,null,null,"di cui soggetti a sterilizzazione",null,{"$f":"2617557-500000","v":2117557},null,null,{"$f":"-1455927-184665+21361","v":-1619231},498326,null,null,null,{"$f":"O22","v":249716.49000000002},null,null,null,{"$f":"S22","v":-251784.97000000003},496257.51999999996]
["AAA540",null,"AAA630","AAA540"," Immobilizzazioni materiali in corso e acconti",null,{"$f":"SUMIF('00 SP'!$A:$A,'Tab 5-6'!A24,'00 SP'!I:I)","v":10997952.57},{"$f":"SUMIF('00 SP'!A:A,'Tab 5-6'!C24,'00 SP'!H:H)*-1","v":0},{"$f":"SUMIF('00 SP'!A:A,'Tab 5-6'!C24,'00 SP'!G:G)","v":0},{"$f":"SUMIF('00 SP'!A:A,'Tab 5-6'!B24,'00 SP'!I:I)","v":0},10997952.57,{"$f":"-2396699.18-1527100.33+122104","v":-3801695.5100000002},{"$f":"SUMIF('00 SP'!A:A,'Tab 5-6'!C24,'00 SP'!K:K)*-1","v":0},{"$f":"SUMIF('00 SP'!A:A,'Tab 5-6'!C24,'00 SP'!J:J)","v":0},{"$f":"SUMIF('00 SP'!A:A,A24,'00 SP'!J:J)-SUMIF('00 SP'!A:A,A24,'00 SP'!K:K)-(P24+Q24)+2396699.18+1527100.33-122104","v":1393943.6999999997},0,0,0,{"$f":"SUMIF('00 SP'!A:A,'Tab 5-6'!B24,'00 SP'!J:J)-SUMIF('00 SP'!A:A,B24,'00 SP'!K:K)-R24","v":0},8590200.7599999998,null,{"$f":"SUMIF('00 SP'!A:A,'Tab 5-6'!D24,'00 SP'!L:L)","v":8590200.7600000016},{"$f":"T24-V24","v":0},{"$f":"IF(W24=0,\"OK\",\"CTRL\")","v":"OK"}]
[null,null,null,null,"TOTALE IMMOBILIZZAZIONI MATERIALI",null,{"$f":"G5+G7+G9+G11+G13+G15+G17+G19+G21+G22+G24","v":290400752.38999999},0,0,{"$f":"J5+J7+J9+J11+J13+J15+J17+J19+J21+J22+J24","v":-182598296.13},{"$f":"K5+K7+K9+K11+K13+K15+K17+K19+K21+K22+K24","v":107802456.25999999},-3801695.5100000002,0,0,{"$f":"O5+O7+O9+O11+O13+O15+O17+O19+O21+O22+O24","v":9102584.8800000008},0,0,-19530.05,-10720498.310000001,{"$f":"T5+T7+T9+T11+T13+T15+T17+T19+T21+T22+T24","v":102363317.27000001}]
[]
[null,null,null,null,"di cui soggette a sterilizzazione",null,{"$f":"G6+G8+G10+G12+G14+G16+G18+G20+G23","v":194902165},0,0,-100618802,94283363,0,0,0,7708641.1800000006,0,0,0,-10330735.699999999,91661268.479999989]
[]
[]
[]
[null,null,null,null,"Nel corso dell'esercizio 2018 sono stati acquistati cespiti con contributi in c/esercizio per un valore complessivo di €. 4.347.846  Ai fini della contabilizzazione degli ammortamenti di tali beni, è stata data applicazione alla casistica applicativa del Titolo II del D. Lgs. n. 118/2011, Documento n. 1 \"La sterilizzazione degli ammortamenti\", allegata all'Intesa del 06/09/2013. "]
[]
[]
[null,null,null,null,"Tab. 6 – Dettaglio altre immobilizzazioni materiali "]
[null,null,null,null,"DETTAGLIO ALTRE IMMOBILIZZAZIONI MATERIALI",null,"Valore lordo","Fondo Amm.to","Valore netto"]
[]
[null,null,null,null,"Computer e macchinari elettronici",null,5416386,4788250,{"$f":"G37-H37","v":628136}]
[null,null,null,null,"Altri beni materiali",null,438916.5,407043,{"$f":"G38-H38","v":31873.5}]
[null,null,null,null,"…"]
[null,null,null,null,"TOTALE",null,{"$f":"SUM(G37:G39)","v":5855302.5},{"$f":"SUM(H37:H39)","v":5195293},{"$f":"SUM(I37:I39)","v":660009.5}]

{"sheet":"Tab 7","index":9,"n_rows":41,"n_cols":7,"rows_kept":41,"cut":false,"hidden":false,"merged":[[1,0,1,5],[2,0,3,0],[2,2,3,2],[2,3,2,6]]}
[]
["Tab. 7 – Dettaglio immobilizzazioni materiali in corso"]
["DETTAGLIO IMMOBILIZZAZIONI MATERIALI IN CORSO",null,"Tipologia finanziamento","MOVIMENTI DELL'ESERCIZIO"]
[null,null,null,"Valore \niniziale","Incrementi","Giroconti e Riclassifiche","Valore \nfinale"]
["Ristrutturazione   DSB Pescara SUD - Stanziati     €.1.291.142",null,"Art.20/88",359831,0,null,{"$f":"D5+E5-F5","v":359831}]
["Ristrutturazione   DSB Pescara SUD ",null,"progetto",null,149843.70000000001,null,{"$f":"D6+E6-F6","v":149843.70000000001}]
["Costruzione Canile Pubblico a Loreto Aprutino - stanziati € 309.874",null,"Regione ,Comune e ASL",6257,0,0,6257]
["Ristrutturazione consultotorio Familiare di Bussi- materno infantile-€ 154.937",null,"L.34/96",156569,null,null,156569]
["Ristrutturazione consultorio familiare di Bussi-materno infantile-€ 200.000",null,"C/Capitale",200000,0,0,{"$f":"D9+E9-F9","v":200000}]
["Ristrutturazione consultorio familiare di Bussi-materno infantile-€ 150.000 dati dal comune",null,"Comune di Bussi",86644,0,0,86644]
["Ristrutturazione ex pediatria",null,"Art.20/88",3550729,0,null,3550729]
["Ristrutturazione reparto di neonatologia",null,"Art.20/88",311022,0,0,311022]
["Adeguamento locali nuova allocazione Pronto soccorso P.O. di Pescara",null,"Art.20/88",616253,144955,null,761208]
["Riqualificazione P.O. di Penne",null,"Fondi Propri",565380,null,0,565380]
["Adeguamento e messa a norma  nuovi locali di Scafa",null,"Art.20/88",95532,0,null,95532]
["Ristrutturazione DSB Montesilvano",null,"Art.20/88",125241,0,0,125241]
["Ristrutturazione DSB Montesilvano",null,"progetto",0,306453,null,306453]
["Reingegnerizzazione P.O. Pescara",null,"Regione  e ASL",184315,19047,null,203362]
["Ristrutturazione DSB Cepagatti",null,"Fondi Propri",442499,0,442499,0]
["lavori edili ex RMN Popoli (674.023)",null,"Fondi Propri",643838,0,643838,0]
["Lavori bòlocco parto Pescara",null,"C/Capitale",818309,0,0,818309]
["Riqualificazione Area Verde",null,"Fondi Propri",124571,0,null,124571]
["Lavori normativa antincendio",null,"C/Capitale",259710,0,0,259710]
["Impianto di climatizzazione Pediatria P.O. di Pescara",null,"Fondi Propri",187365,0,187365,0]
["Parcheggio Dialisi scala in ferro",null,"Fondi Propri",4240,0,4240,0]
["Scala UTIC Monta lettighe",null,"Fondi Propri",148654,0,148654,0]
["Impermealizzazione terrazzo 1° piano P.o.Pescara",null,"Fondi Propri",44136.61,0,44136.61,0]
["Copertura piscina S.Valentino",null,"Fondi Propri",40700,0,40700,0]
["Risanam.igienico-sanitario oncologia P.O. Pescara",null,"Fondi Propri",71190.8,0,0,71190.8]
["Abbattim.barriere arch.sistemaz.a verdeed arredo urbano",null,"Fondi Propri",62198.27,0,0,62198.27]
["Lavori presso Laboratorio di Farmacotossicologia P.O. Pescara",null,"Fondi Propri",121079,0,121079,0]
["Impermeabilizzazione e manto carrabile",null,"Fondi Propri",55897,0,55897,0]
["Manto Impermeabile Tocco Casauria",null,"Fondi Propri",67100,0,67100,0]
["Lavori per servizio CEREBROPATIE POPOLI",null,"Fondi Propri",86889,0,0,86889]
["Lavoro di riqualificazione area esterna vecchio PO di Pescara",null,"progetto",34702,0,null,34702]
["Prevenzione Palazzina G",null,"Fondi propri",0,399852,{"$f":"399852","v":399852},0]
["Palazzina Amm.va P.O. Penne",null,"Progetto",0,188346,0,188346]
["Spogliatoi centralizzati",null,"Fondi propri",0,119234,119234,0]
["TOTALE",null,null,{"$f":"SUM(D5:D38)","v":9470851.6799999997},{"$f":"SUM(E5:E38)","v":1327730.7},{"$f":"SUM(F5:F38)","v":2274594.6100000003},{"$f":"SUM(G5:G38)","v":8523987.7699999996}]
["Fatture relative a cespiti non ancora collaudati",null,null,1527100,66213,1527100,66213]
["TOTALE GENERALE",null,null,{"$f":"SUM(D39:D40)","v":10997951.68},{"$f":"SUM(E39:E40)","v":1393943.7},{"$f":"SUM(F39:F40)","v":3801694.6100000003},{"$f":"SUM(G39:G40)","v":8590200.7699999996}]

{"sheet":"Tab 7bis","index":10,"n_rows":34,"n_cols":7,"rows_kept":34,"cut":false,"hidden":false,"merged":[[23,0,23,5],[0,0,0,6],[2,0,2,4],[27,0,27,4]]}
["Di seguito si riporta il dettaglio della composizione delle manutenzioni incrementative su \"Immobilizzazioni in corso e acconti\":"]
[]
["Tab. 7 bis – Dettaglio manutenzioni incrementative su \"Immobilizzazioni in corso e acconti\"- fabbricati in costruzione"]
["Descrizione",null,"Codice Fornitore","Fornitore","Numero Fattura","Data Fattura","Importo"]
["DSB PE SUD",null,18358,"GIAMBERARDINO SRL","05_PA               ","2018-03-20",6246.67]
["DSB PE SUD",null,18817,"LUPONE GIOVANNI COLOMBO","01/A                ","2018-12-03",143597.03]
["LAVORI PALAZZINA AMM.VA P.O. PENNE",null,5008954,"GEO SERVICE SAS",43647,"2018-07-06",38159.730000000003]
["LAVORI PALAZZINA AMM.VA P.O. PENNE",null,5008954,"GEO SERVICE SAS",43709,"2018-10-04",77796.149999999994]
["LAVORI PALAZZINA AMM.VA P.O. PENNE",null,5008954,"GEO SERVICE SAS",1,"2019-01-02",72389.69]
["LAVORI PALAZZINA G RIABILITAZIONE",null,18453,"DI REMIGIO COSTRUZIONE SRL","5/E/2018            ","2018-05-17",23625.48]
["LAVORI PALAZZINA G RIABILITAZIONE",null,17422,"S2 SOC. DI SERVIZI PER L'EDILIZIA SRL","21/P                ","2018-05-24",59312.55]
["LAVORI PALAZZINA G RIABILITAZIONE",null,17422,"S2 SOC. DI SERVIZI PER L'EDILIZIA SRL","49/P                ","2018-09-27",63781.599999999999]
["LAVORI PALAZZINA G RIABILITAZIONE",null,17422,"S2 SOC. DI SERVIZI PER L'EDILIZIA SRL","62/P                ","2018-11-23",101176.26]
["LAVORI PALAZZINA G RIABILITAZIONE",null,17422,"S2 SOC. DI SERVIZI PER L'EDILIZIA SRL","00264/A","2019-01-24",151956.07999999999]
["LAVORI PRONTO SOCCORSO P.O. PESCARA",null,18366,"COZZOLINO CIRO ","FATTPA 1_18         ","2018-04-09",19578.91]
["LAVORI PRONTO SOCCORSO P.O. PESCARA",null,18385,"SICURCANTIERI CO.SRL","FatPAM 7            ","2018-04-11",2957.73]
["LAVORI PRONTO SOCCORSO P.O. PESCARA",null,297,"ENEL DISTRIBUZIONE S.P.A.","918900002734","2018-06-19",13617.52]
["LAVORI PRONTO SOCCORSO P.O. PESCARA",null,18227,"AR.CO. LAVORI S.C.C.","1333/2018/D         ","2018-11-23",108801]
["LAVORI SPOGLIATOI CENTRALIZZATI",null,18674,"PELUSO COSTRUZIONI S.R.L.","003_18/PA           ","2018-09-21",46816.76]
["LAVORI SPOGLIATOI CENTRALIZZATI",null,18674,"PELUSO COSTRUZIONI S.R.L.","007_18/PA           ","2018-12-11",72417.13]
["REINGEGNERIZZAZIONE P.O. PESCARA",null,18193,"PROGETTO COSTRUZIONE QUALITA' S.R.L.","6/E                 ","2018-01-22",19046.669999999998]
["DSB MONTESILVANO",null,15844,"COMUNE DI MONTESILVANO","DET.230/T.P","2018-04-18",171128.47]
["DSB MONTESILVANO",null,15844,"COMUNE DI MONTESILVANO","DET.169/T.M","2018-12-04",135324.79]
["TOTALE",null,null,null,null,null,{"$f":"SUM(G5:G23)","v":1327730.22}]
[]
[]
[]
["Tab. 7 ter – Dettaglio manutenzioni incrementative su \"Immobilizzazioni in corso e acconti\" - attrezzature da collaudare"]
["CONDIZIONATORI ",null,17467,"NEON TOMA ILLUMINAZIONE SRL",6800089,"2018-06-29",7198]
["CONDIZIONATORI UNICO ",null,18560,"MI.A. IMPIANTI TECNOLOGICI S.R.L.","2018/143 - V -      ","2018-07-20",17161]
["ATTREZZATURE RIABILITAZIONE POPOLI",null,5629,"CHINESPORT S.P.A.","1870906/7           ","2018-12-14",30173.040000000001]
["ATTREZZATURE X AMBULANZA",null,18859,"ORION","FATTPA 29_18        ","2018-12-27",6100]
["ARREDI X ORTOPEDIA",null,null,"DONAZIONE","DEL.1346","2018-12-10",5581.74]
[null,null,null,null,null,"TOTALE",{"$f":"SUM(G29:G33)","v":66213.78}]

{"sheet":"Tab 7ter ","index":11,"n_rows":51,"n_cols":7,"rows_kept":51,"cut":false,"hidden":false,"merged":[[1,0,1,6],[3,0,3,4],[50,0,50,5]]}
[]
["Di seguito si riporta il dettaglio della composizione delle manutenzioni incrementative su \"Fabbricati strumentali (indisponibili)\":"]
[]
["Tab. 7 ter – Dettaglio manutenzioni incrementative su \"Fabbricati strumentali (indisponibili)\""]
["Descrizione",null,"Codice Fornitore","Denominazione Fornitore","Numero Fattura","Data Fattura","Importo"]
["MONTA LETTIGHE SALA UTIC",null,14965,"GRIFONE DARIO ING.",1,"2016-01-08",3177]
["MONTA LETTIGHE SALA UTIC",null,14223,"IMPRESA EDILE FELIZIANI MIRKO",4,"2015-05-13",15769.81]
["MONTA LETTIGHE SALA UTIC",null,14965,"ING. DARIO GRIFONE","1. 2015","2015-01-07",10577.46]
["MONTA LETTIGHE SALA UTIC",null,14223,"IMPRESA EDILE FELIZIANI MIRKOGEST.DITTA FELIZIANI ITALO","56/2014","16/04/2014",66770]
["MONTA LETTIGHE SALA UTIC",null,14223,"IMPRESA EDILE FELIZIANI MIRKOGEST.DITTA FELIZIANI ITALO","139/2014","2014-12-08",52360]
["PARCHEGGIO DIALISI",null,15088,"GG INFISSI","24","30/04/2014",4240.1099999999997]
["RISTRUTTURAZIONE DSB CEPAGATTI",null,14826,"SOCIETA' ITALIANA SERVIZI","52","30/09/2014",17509.439999999999]
["RISTRUTTURAZIONE DSB CEPAGATTI",null,14826,"SOCIETA' ITALIANA SERVIZI","1/PA","2015-03-31",11672.96]
["RISTRUTTURAZIONE DSB CEPAGATTI",null,14945,"ARCH. LORENZO LEOMBRONI","FATTPA 4_15","2015-06-04",1979.33]
["RISTRUTTURAZIONE DSB CEPAGATTI",null,9362,"DEL SIGNORE SRL",99,"2015-08-05",60545.85]
["RISTRUTTURAZIONE DSB CEPAGATTI",null,9362,"DEL SIGNORE SRL",112,"2015-09-13",65230]
["RISTRUTTURAZIONE DSB CEPAGATTI",null,14826,"SOCIETA' ITALIANA SERVIZI","7/PA","2015-09-25",2932.31]
["RISTRUTTURAZIONE DSB CEPAGATTI",null,14826,"SOCIETà' ITALIANA SERVIZI ",6,"2016-04-26",22462.76]
["RISTRUTTURAZIONE DSB CEPAGATTI",null,9362,"DEL SIGNORE",16,"2016-02-25",249558.76]
["RISTRUTTURAZIONE DSB CEPAGATTI",null,9362,"DEL SIGNORE",25,"2016-03-15",1805.33]
["RISTRUTTURAZIONE DSB CEPAGATTI",null,14945,"ARCH LEOMBRINI LORENZO",2,"2016-04-22",6837.98]
["RISTRUTTURAZIONE DSB CEPAGATTI",null,9362,"DEL SIGNORE",40,"2016-04-28",1964.86]
["MANTO IMPERMEABILE E MANTO CARRABILE ",null,17611,"DE.CO COSTRUZIONI SRL","1900-01-03","2016-11-04",11425.12]
["MANTO IMPERMEABILE E MANTO CARRABILE ",null,17611,"DE.CO COSTRUZIONI SRL","1900-01-04","2016-12-14",44472.02]
["MANTO IMPERMEABILE TOCCO DA CASAURIA",null,17581,"C.I.R. SRL",99,"2016-10-06",67099.88]
["LAVORI DI FARMACOTOSSICOLOGIA P.O. PESCARA",null,16299,"IMPRESA CN STRADE",4,"2016-10-26",47410]
["LAVORI DI FARMACOTOSSICOLOGIA P.O. PESCARA",null,16299,"IMPRESA CN STRADE",2,"2016-06-30",32308.63]
["LAVORI DI FARMACOTOSSICOLOGIA P.O. PESCARA",null,16299,"IMPRESA CN STRADE",8,"2016-12-13",41360]
["IMPERMEALIZZAZIONE TERRAZZO 1° PIANO P.O. DI PESCARA",null,15978,"ECO IMPIANTI","01","2016-03-16",44136.61]
["COPERTURA PISCINA SAN VALENTINO",null,6601,"EUROASFALTI",16,"2016-02-29",40700]
["LAVORI PER RISONANZA MAGNETICA DI POPOLI",null,3313,"MARTELLA ING. ACHILLE CLAUDIO",6,"2016-10-25",11956]
["LAVORI PER RISONANZA MAGNETICA DI POPOLI",null,3313,"MARTELLA ING. ACHILLE CLAUDIO",5,"2016-10-18",10784.8]
["LAVORI PER RISONANZA MAGNETICA DI POPOLI",null,17593,"COGEFI",16,"2016-11-03",96111.03]
["LAVORI PER RISONANZA MAGNETICA DI POPOLI",null,14969,"SANTARELLI",172,"2016-10-06",6100]
["LAVORI PER RISONANZA MAGNETICA DI POPOLI",null,13479,"CSAMED SRL",1500580,"2015-05-14",976.51]
["LAVORI PER RISONANZA MAGNETICA DI POPOLI",null,3313,"MARTELLA ING. ACHILLE CLAUDIO","5/FE","2015-11-23",73825.88]
["LAVORI PER RISONANZA MAGNETICA DI POPOLI",null,3313,"MARTELLA ING. ACHILLE CLAUDIO","01/FE","2017-02-06",9516]
["LAVORI PER RISONANZA MAGNETICA DI POPOLI",null,17593,"COGEFI SRL","FATTPA 1_17","2017-10-02",77325.25]
["LAVORI PER RISONANZA MAGNETICA DI POPOLI",null,17593,"COGEFI SRL","FATTPA 2_17","29/06/2017",221403.57]
["LAVORI PER RISONANZA MAGNETICA DI POPOLI",null,17975,"ELETTRIMPIANTI CALICCHIA CRL","FATTPA 1_17","2017-10-07",68539.87]
["LAVORI PER RISONANZA MAGNETICA DI POPOLI",null,17593,"COGEFI SRL","FATTPA 3_17","27/12/2017",388.56]
["LAVORI PER RISONANZA MAGNETICA DI POPOLI",null,17593,"COGEFI SRL","FATTPA 4_17","27/12/2017",53968.55]
["LAVORI PER RISONANZA MAGNETICA DI POPOLI",null,3313,"MARTELLA ING. ACHILLE CLAUDIO","06/FE","2017-12-22",12942]
["LAVORI PALAZZINA G RIABILITAZIONE",null,18453,"DI REMIGIO COSTRUZIONE SRL","5/E/2018            ","2018-05-17",23625.48]
["LAVORI PALAZZINA G RIABILITAZIONE",null,17422,"S2 SOC. DI SERVIZI PER L'EDILIZIA SRL","21/P                ","2018-05-24",59312.55]
["LAVORI PALAZZINA G RIABILITAZIONE",null,17422,"S2 SOC. DI SERVIZI PER L'EDILIZIA SRL","49/P                ","2018-09-27",63781.599999999999]
["LAVORI PALAZZINA G RIABILITAZIONE",null,17422,"S2 SOC. DI SERVIZI PER L'EDILIZIA SRL","62/P                ","2018-11-23",101176.26]
["LAVORI PALAZZINA G RIABILITAZIONE",null,17422,"S2 SOC. DI SERVIZI PER L'EDILIZIA SRL","00264/A","2019-01-24",151956.07999999999]
["LAVORI SPOGLIATOI CENTRALIZZATI",null,18674,"PELUSO COSTRUZIONI S.R.L.","003_18/PA           ","2018-09-21",46816.76]
["LAVORI SPOGLIATOI CENTRALIZZATI",null,18674,"PELUSO COSTRUZIONI S.R.L.","007_18/PA           ","2018-12-11",72417.13]
["TOTALE",null,null,null,null,null,{"$f":"SUM(G6:G50)","v":2087230.1}]

{"sheet":"Tab 7ter  (2)","index":12,"n_rows":12,"n_cols":7,"rows_kept":12,"cut":false,"hidden":false,"merged":[[1,0,1,6],[3,0,3,4],[11,0,11,5]]}
[]
["Di seguito si riporta il dettaglio della composizione delle manutenzioni incrementative su \"impianti\":"]
[]
["Tab. 7 ter – Dettaglio manutenzioni incrementative su \"Impianti\""]
["Descrizione",null,"Codice Fornitore","Denominazione Fornitore","Numero Fattura","Data Fattura","Importo"]
["IMPIANTO CLIMATIZZAZIONE PEDIATRIA PESCARA",null,7497,"ELETTROIDRAULICA SILVI","047","16/04/2014",52963.55]
["IMPIANTO CLIMATIZZAZIONE PEDIATRIA PESCARA",null,14323,"ING.DI GIAMPAOLO DOMENICO","FATTPA 1_15","2015-05-07",3358.39]
["IMPIANTO CLIMATIZZAZIONE PEDIATRIA PESCARA",null,16574,"ELETTROIDRAULICA SILVI",54,"2015-04-30",73201.289999999994]
["IMPIANTO CLIMATIZZAZIONE PEDIATRIA PESCARA",null,16574,"ELETTROIDRAULICA SILVI",56,"30*/04/2015",5934.84]
["IMPIANTO CLIMATIZZAZIONE PEDIATRIA PESCARA",null,16574,"ELETTROIDRAULICA SILVI",55,"2015-04-30",47623.57]
["IMPIANTO CLIMATIZZAZIONE PEDIATRIA PESCARA",null,7497,"ELETTRO IDUAULICA SILVI",26,"2016-02-29",4282.93]
["TOTALE",null,null,null,null,null,{"$f":"SUM(G6:G11)","v":187364.57}]

{"sheet":"Tab 7quater","index":13,"n_rows":58,"n_cols":6,"rows_kept":58,"cut":false,"hidden":false,"merged":[[0,0,0,3],[22,0,22,1],[6,0,8,0],[6,1,8,1],[9,0,9,1],[10,0,11,0],[10,1,11,1],[12,0,12,1],[13,0,16,0],[13,1,16,1],[17,0,17,1],[18,0,21,0],[4,0,5,0],[4,1,5,1],[49,0,49,3],[42,0,42,1],[23,0,26,0],[23,1,26,1],[27,0,27,1],[30,0,30,1],[31,0,33,0],[31,1,33,1],[34,0,34,1],[35,0,35,1],[36,0,36,1],[37,0,41,0],[37,1,41,1],[28,1,29,1],[28,0,29,0],[18,1,21,1],[2,0,2,3],[43,0,43,1],[4,2,5,2],[4,3,5,3]]}
["Di seguito si riporta il dettaglio degli acquisti di immobilizzazioni effettuati nel corso dell'esercizio 2018, con indicazione delle relative fonti di finanziamento. "]
[]
["Tab. 7 quater – Dettaglio degli acquisti di immobilizzazioni"]
[]
["CODICE MOD. SP","DESCRIZIONE","IMPORTO","FONTE DI FINANZIAMENTO"]
[]
["AAA130","immobilizzazioni immateria",0,"Donazioni","d"]
[null,null,113589,"Progetto Obiettivo","po"]
[null,null,17609,"Fondi propri","f"]
["TOTALE ACQUISTI IMMOBILIZZAZIONI IMMATERIALI",null,{"$f":"SUM(C7:C9)","v":131198}]
["AAA350","FABBRICATI",0,"Donazioni"]
[null,null,2087230,"Fondi propri","f"]
["TOTALE ACQUISTI FABBRICATI STRUMENTALI",null,{"$f":"SUM(C11:C12)","v":2087230}]
["AAA380","Impianti e macchinari",0,"Donazioni","d"]
[null,null,302687,"Progetto Obiettivo","po"]
[null,null,39555,"Contributi in c/capitale","c"]
[null,null,{"$f":"106183+187365","v":293548},"Fondi propri","f"]
["TOTALE ACQUISTI MACCHINARI GENERICI",null,{"$f":"SUM(C14:C17)","v":635790}]
["AAA410","Attrezzature sanitarie e scientifiche",753923,"Progetto Obiettivo","po"]
[null,null,1843082,"Contributi in c/capitale","c"]
[null,null,4875,"Donazioni","d"]
[null,null,1701548,"Fondi propri","f"]
["TOTALE ACQUISTI ATTREZZATURE",null,{"$f":"SUM(C19:C22)","v":4303428}]
["AAA440","Mobili e arredi",6566,"Donazioni","d"]
[null,null,{"$f":"121265","v":121265},"Progetto Obiettivo","po"]
[null,null,6701,"Contributi in c/capitale","c"]
[null,null,204748,"Fondi propri","f"]
["TOTALE ACQUISTI MOBILI E ARREDI",null,{"$f":"SUM(C24:C27)","v":339280}]
["AAA470","Automezzi",{"$f":"19851+73346","v":93197},"Donazioni","d"]
[null,null,0,"Fondi propri","f"]
["TOTALE AUTOMEZZI",null,{"$f":"SUM(C29:C30)","v":93197},null,null,93196]
["AAA510","Altre immobilizzazioni materiali",{"$f":"615+3198","v":3813},"Donazioni","d"]
[null,null,{"$f":"8772+193967","v":202739},"Progetto Obiettivo","po"]
[null,null,{"$f":"40910+2254","v":43164},"Fondi propri","f"]
["TOTALE ALTRE IMMOBILIZZAZIONI",null,{"$f":"SUM(C32:C34)","v":249716}]
["TOTALE IMMOBILIZZAZIONI MATERIALI ",null,{"$f":"C13+C18+C23+C28+C31+C35","v":7708641}]
["TOTALE IMMOBILIZZAZIONI MATERIALI ED IMMATERIALI",null,{"$f":"C36+C10","v":7839839}]
["AAA540","Immobilizzazioni materiali in corso e acconti",19047,"Contributi in c/capitale","c"]
[null,null,144955,"Finanziamenti ex art. 20","a20"]
[null,null,{"$f":"149844+188346+306453","v":644643},"Progetto Obiettivo","po"]
[null,null,0,"Donazioni","d"]
[null,null,{"$f":"399852+119234+66213","v":585299},"Fondi propri","f"]
["TOTALE IMMOBILIZZAZIONI MATERIALI IN CORSO",null,{"$f":"SUM(C38:C42)","v":1393944}]
["TOTALE GENERALE",null,{"$f":"C13+C18+C23+C28+C31+C35+C43+C10","v":9233783}]
[]
[]
[]
[]
[]
["RIEPILOGO PER FONTE DI FINANZIAMENTO"]
[]
[]
[null,"Contributi in c/capitale",{"$f":"C20+C38+C16+C26","v":1908385}]
[null,"Finanziamenti ex art. 20",{"$f":"C39","v":144955}]
[null,"Donazioni",{"$f":"C14+C21+C24+C32+C29+C11+C7","v":108451}]
[null,"Progetti obiettivo",{"$f":"C8+C19+C25+C40+C33+C15","v":2138846}]
[null,"Fondi propri",{"$f":"C17+C22+C27+C30+C34+C42+C9+C12","v":4933146}]
[null,"TOTALE GENERALE",{"$f":"SUM(C53:C57)","v":9233783}]

{"sheet":"IMM01-IMM14","index":14,"n_rows":55,"n_cols":7,"rows_kept":55,"cut":false,"hidden":false,"merged":[[33,1,33,6],[37,1,37,6],[1,1,1,6],[12,1,12,6],[48,0,48,3],[48,4,48,5],[47,0,47,5],[25,1,25,6],[41,1,41,6],[30,1,30,6],[45,1,45,6],[54,0,54,3],[49,0,49,3],[50,0,50,3],[51,0,51,3],[52,0,52,3],[53,0,53,3]]}
["IMM01 - Aliquote di ammortamento immobilizzazioni immateriali."]
["IMM01 - NO","Per le immobilizzazioni immateriali, non ci si è avvalsi della facoltà di adottare aliquote di ammortamento superiori a quelle indicate nel D. Lgs. 118/2011 e s.m.i., nonché dai successivi decreti ministeriali di attuazione."]
[]
[]
[null,"Immobilizzazioni Immateriali","Aliquota indicata nel D. Lgs. 118/2011","Aliquota utilizzata dall'azienda"]
[null," Costi d'impianto e di ampliamento",0.2,0.2]
[null," Costi di ricerca e sviluppo",0.2,0.2]
[null," Diritti di brevetto e diritti di utilizzazione delle opere d'ingegno",0.2,0.2]
[null," Concessioni, licenze, marchi e diritti simili",0.2,0.2]
[null,"Altre immobilizzazioni immateriali",0.2,0.2]
[]
["IMM02 - Aliquote di ammortamento immobilizzazioni materiali."]
["IMM02 - NO","Per le immobilizzazioni materiali, non ci si è avvalsi della facoltà di adottare aliquote di ammortamento superiori a quelle indicate nel D. Lgs. 118/2011 e s.m.i., nonché dai successivi decreti ministeriali di attuazione."]
[]
[null,"Immobilizzazioni materiali","Aliquota indicata nel D. Lgs. 118/2011","Aliquota utilizzata dall'azienda"]
[null,"Fabbricati",0.03,0.03]
[null,"Impianti e macchinari",0.125,0.125]
[null,"Impianti e macchinari-Audiovisivi",0.2,0.2]
[null,"Impianti inseriti stabilmente nel fabbricato",0.03,0.03]
[null,"Attrezzature Sanitarie e scientifiche",0.2,0.2]
[null,"Mobili e arredi",0.125,0.125]
[null,"Automezzi",0.25,0.25]
[null,"Altri Beni Materiali",0.2,0.2]
[]
["IMM03 - Eventuale ammortamento dimezzato per i cespiti acquistati nell'anno."]
["IMM03 - NO","Per i cespiti acquistati nell'anno, l'aliquota di ammortamento è stata analiticamente commisurata al periodo intercorso tra (i) il momento in cui il bene è divenuto disponibile e pronto per l'uso e (ii)  il 31/12. "]
[]
[]
[]
["IMM04 - Eventuale ammortamento integrale."]
["IMM04 - NO","Per i cespiti di valore inferiore a € 516,46, non ci si è avvalsi della facoltà di ammortizzare integralmente il bene nell'esercizio in cui il bene è diventato disponibile e pronto per l'uso. "]
[]
["IMM05 - Svalutazioni."]
["IMM05 - NO","Nel corso dell'esercizio non sono state effettuate svalutazioni di immobilizzazioni materiali e/o immateriali."]
[]
[]
["IMM06 - Rivalutazioni."]
["IMM06 - NO","Nel corso dell'esercizio non sono state effettuate rivalutazioni di immobilizzazioni materiali e/o immateriali."]
[]
[]
["IMM07 - Incrementi delle immobilizzazioni per lavori interni."]
["IMM07 - NO","Nel corso dell'esercizio non si sono effettuate capitalizzazioni di costi (la voce CE \"Incrementi delle immobilizzazioni per lavori interni\" è pari a zero)."]
[]
[]
["IMM08 – Oneri finanziari capitalizzati."]
["IMM08 – NO","Nel corso dell’esercizio non si sono capitalizzati oneri finanziari."]
[]
["Altre informazioni relative alle immobilizzazioni materiali e immateriali"]
["Informazione",null,null,null,"Caso presente in azienda?",null,"Se sì, illustrare"]
["IMM09 - Gravami. Sulle immobilizzazionidell'azienda vi sono gravami quali ipoteche, privilegi, pegni, pignoramenti, ecc.?",null,null,null,null,"NO"]
["IMM10 - Immobilizzazioni in contenzioso iscritte in bilancio. Sulle immobilizzazioni iscritte in bilancio sono in corso contenziosin con altre aziende sanitarie, con altri enti pubblici o con enti privati?",null,null,null,null,"NO"]
["IMM11 - Immobilizzazioni in contenzioso  non iscritte in bilancio. Esistono immobilizzazioni non iscritte nello stato patrimoniale perché non riconosciute come proprietà dell'azienda in seguito a contenziosi in corso con altre aziende sanitarie, con altri enti pubblici o con soggetti privati?",null,null,null,null,"NO"]
["IMM12 - Eventuali impegni significativi assunti con fornitori per l'acquisizione di immobilizzazioni materiali. Esistono impegni già assunti, ma non ancora tradottisi in debiti? (SE SI, ILLUSTRARE L'AMMONTARE PER SINGOLO IMPEGNO)",null,null,null,null,"NO"]
["IMM13 - Immobilizzazioni destinate alla vendita. Esistono immobilizzazioni destinate alla vendita con apposito atto deliberativo aziendale?",null,null,null,null,"NO"]
["IMM14 - Altro. Esistono altre informazioni che si ritiene necessario fornire per soddisfare la regola generale secondo cui \"Se le informazioni richieste da specifiche disposizioni di legge non sono sufficienti a dare una rappresentazione veritiera e corretta, si devono fornire le informazioni complementari necessarie allo scopo\" (art. 2423 cc)?",null,null,null,"SI",null,"L'azienda è provvista di un libro cespiti aggiornato"]

{"sheet":"Tab 8-9-10-11-12-13-14","index":15,"n_rows":75,"n_cols":19,"rows_kept":75,"cut":false,"hidden":false,"merged":[[39,2,39,14],[0,2,0,3],[2,3,2,8],[13,8,14,8],[22,2,23,2],[22,3,23,3],[22,5,22,9],[3,8,4,8],[3,2,4,2],[3,3,4,3],[3,5,4,5],[3,6,4,6],[3,7,4,7],[31,2,32,2],[31,3,32,3],[31,5,31,7],[13,7,14,7],[13,2,14,2],[13,3,14,3],[13,5,14,5],[13,6,14,6],[67,9,67,14],[44,2,45,2],[44,3,45,3],[44,5,45,5],[44,6,44,8],[44,9,44,14],[57,3,57,8],[67,3,68,3],[67,5,68,5],[67,6,67,8]]}
[null,null,"4.5     Immobilizzazioni finanziarie"]
[]
[null,null,null,"Tab. 8 – Movimentazione dei crediti finanziari"]
[null,null,"CODICE MOD. SP","CREDITI FINANZIARI\n(VALORE NOMINALE)",null,"Valore iniziale","Incrementi","Decrementi","Valore finale"]
[]
[{"$f":"C6&\"CR\"","v":"AAA660CR"},{"$f":"C6&\"CR\"","v":"AAA660CR"},"AAA660"," Crediti finanziari v/Stato",null,{"$f":"SUMIF('00 PDC SP'!$A:$A,'Tab 8-9-10-11-12-13-14'!$A6,'00 PDC SP'!K:K)","v":0},{"$f":"SUMIF('00 PDC SP'!$A:$A,'Tab 8-9-10-11-12-13-14'!$A6,'00 PDC SP'!L:L)+SUMIF('00 PDC SP'!$A:$A,'Tab 8-9-10-11-12-13-14'!$B6,'00 PDC SP'!L:L)","v":0},{"$f":"SUMIF('00 PDC SP'!$A:$A,'Tab 8-9-10-11-12-13-14'!$A6,'00 PDC SP'!M:M)+SUMIF('00 PDC SP'!$A:$A,'Tab 8-9-10-11-12-13-14'!$B6,'00 PDC SP'!M:M)","v":0},{"$f":"F6+G6-H6","v":0}]
[{"$f":"C7&\"CR\"","v":"AAA670CR"},{"$f":"C7&\"CR\"","v":"AAA670CR"},"AAA670"," Crediti finanziari v/Regione",null,{"$f":"SUMIF('00 PDC SP'!$A:$A,'Tab 8-9-10-11-12-13-14'!$A7,'00 PDC SP'!K:K)","v":0},{"$f":"SUMIF('00 PDC SP'!$A:$A,'Tab 8-9-10-11-12-13-14'!$A7,'00 PDC SP'!L:L)+SUMIF('00 PDC SP'!$A:$A,'Tab 8-9-10-11-12-13-14'!$B7,'00 PDC SP'!L:L)","v":0},{"$f":"SUMIF('00 PDC SP'!$A:$A,'Tab 8-9-10-11-12-13-14'!$A7,'00 PDC SP'!M:M)+SUMIF('00 PDC SP'!$A:$A,'Tab 8-9-10-11-12-13-14'!$B7,'00 PDC SP'!M:M)","v":0},{"$f":"F7+G7-H7","v":0}]
["AAA680CR",{"$f":"C8&\"CR\"","v":"AAA680CR"},"AAA680"," Crediti finanziari v/partecipate:",null,{"$f":"SUMIF('00 PDC SP'!$A:$A,'Tab 8-9-10-11-12-13-14'!$A8,'00 PDC SP'!K:K)","v":0},{"$f":"SUMIF('00 PDC SP'!$A:$A,'Tab 8-9-10-11-12-13-14'!$A8,'00 PDC SP'!L:L)+SUMIF('00 PDC SP'!$A:$A,'Tab 8-9-10-11-12-13-14'!$B8,'00 PDC SP'!L:L)","v":0},{"$f":"SUMIF('00 PDC SP'!$A:$A,'Tab 8-9-10-11-12-13-14'!$A8,'00 PDC SP'!M:M)+SUMIF('00 PDC SP'!$A:$A,'Tab 8-9-10-11-12-13-14'!$B8,'00 PDC SP'!M:M)","v":0},0]
["AAA690CR",{"$f":"C9&\"CR\"","v":"AAA690CR"},"AAA690"," Crediti finanziari v/altri:",null,14036.45,0,{"$f":"SUMIF('00 PDC SP'!$A:$A,'Tab 8-9-10-11-12-13-14'!$A9,'00 PDC SP'!M:M)+SUMIF('00 PDC SP'!$A:$A,'Tab 8-9-10-11-12-13-14'!$B9,'00 PDC SP'!M:M)","v":0},14036.45]
[null,null,null,null,null,{"$f":"SUMIF('00 PDC SP'!$A:$A,'Tab 8-9-10-11-12-13-14'!$A10,'00 PDC SP'!K:K)","v":0},{"$f":"SUMIF('00 PDC SP'!$A:$A,'Tab 8-9-10-11-12-13-14'!$A10,'00 PDC SP'!L:L)+SUMIF('00 PDC SP'!$A:$A,'Tab 8-9-10-11-12-13-14'!$B10,'00 PDC SP'!L:L)","v":0},{"$f":"SUMIF('00 PDC SP'!$A:$A,'Tab 8-9-10-11-12-13-14'!$A10,'00 PDC SP'!M:M)+SUMIF('00 PDC SP'!$A:$A,'Tab 8-9-10-11-12-13-14'!$B10,'00 PDC SP'!M:M)","v":0},0]
[null,null,null,"TOTALE CREDITI FINANZIARI",null,{"$f":"SUM(F6:F9)","v":14036.45},{"$f":"SUM(G6:G9)","v":0},{"$f":"SUM(H6:H9)","v":0},{"$f":"SUM(I6:I9)","v":14036.45}]
[]
[null,null,null,"Tab. 9 – Movimentazione del fondo svalutazione dei crediti finanziari"]
[null,null,"CODICE MOD. SP","CREDITI FINANZIARI\n(FONDO SVALUTAZIONE)",null,"Fondo svalutaz. iniziale","Accanton.ti","Utilizzi","Fondo svalutaz.  finale"]
[]
[null,{"$f":"C16&\"FS\"","v":"AAA660FS"},"AAA660"," Crediti finanziari v/Stato",null,{"$f":"SUMIF('00 PDC SP'!$A:$A,'Tab 8-9-10-11-12-13-14'!$B16,'00 PDC SP'!K:K)","v":0},{"$f":"SUMIF('00 PDC SP'!$A:$A,'Tab 8-9-10-11-12-13-14'!$B16,'00 PDC SP'!L:L)","v":0},{"$f":"SUMIF('00 PDC SP'!$A:$A,'Tab 8-9-10-11-12-13-14'!$B16,'00 PDC SP'!M:M)","v":0},{"$f":"F16+G16-H16","v":0}]
[null,{"$f":"C17&\"FS\"","v":"AAA670FS"},"AAA670"," Crediti finanziari v/Regione",null,{"$f":"SUMIF('00 PDC SP'!$A:$A,'Tab 8-9-10-11-12-13-14'!$B17,'00 PDC SP'!K:K)","v":0},{"$f":"SUMIF('00 PDC SP'!$A:$A,'Tab 8-9-10-11-12-13-14'!$B17,'00 PDC SP'!L:L)","v":0},{"$f":"SUMIF('00 PDC SP'!$A:$A,'Tab 8-9-10-11-12-13-14'!$B17,'00 PDC SP'!M:M)","v":0},{"$f":"SUMIF('00 PDC SP'!$A:$A,'Tab 8-9-10-11-12-13-14'!$B17,'00 PDC SP'!N:N)","v":0}]
[null,{"$f":"C18&\"FS\"","v":"AAA680FS"},"AAA680"," Crediti finanziari v/partecipate:",null,{"$f":"SUMIF('00 PDC SP'!$A:$A,'Tab 8-9-10-11-12-13-14'!$B18,'00 PDC SP'!K:K)","v":0},{"$f":"SUMIF('00 PDC SP'!$A:$A,'Tab 8-9-10-11-12-13-14'!$B18,'00 PDC SP'!L:L)","v":0},{"$f":"SUMIF('00 PDC SP'!$A:$A,'Tab 8-9-10-11-12-13-14'!$B18,'00 PDC SP'!M:M)","v":0},{"$f":"SUMIF('00 PDC SP'!$A:$A,'Tab 8-9-10-11-12-13-14'!$B18,'00 PDC SP'!N:N)","v":0}]
[null,{"$f":"C19&\"FS\"","v":"AAA690FS"},"AAA690"," Crediti finanziari v/altri:",null,{"$f":"SUMIF('00 PDC SP'!$A:$A,'Tab 8-9-10-11-12-13-14'!$B19,'00 PDC SP'!K:K)","v":0},{"$f":"SUMIF('00 PDC SP'!$A:$A,'Tab 8-9-10-11-12-13-14'!$B19,'00 PDC SP'!L:L)","v":0},{"$f":"SUMIF('00 PDC SP'!$A:$A,'Tab 8-9-10-11-12-13-14'!$B19,'00 PDC SP'!M:M)","v":0},{"$f":"SUMIF('00 PDC SP'!$A:$A,'Tab 8-9-10-11-12-13-14'!$B19,'00 PDC SP'!N:N)","v":0}]
[null,null,null,"TOTALE CREDITI FINANZIARI",null,{"$f":"SUM(F16:F19)","v":0},{"$f":"SUM(G16:G19)","v":0},{"$f":"SUM(H16:H19)","v":0},{"$f":"SUM(I16:I19)","v":0}]
[]
[null,null,null,"Tab. 10 – Valore nominale dei crediti finanziari distinti per anno di formazione"]
[null,null,"CODICE MOD. SP","CREDITI FINANZIARI",null,{"$f":"\"VALORE NOMINALE DEI CREDITI AL 31/12/\" & '00 PDC SP'!$F$2 & \" PER ANNO DI FORMAZIONE\"","v":"VALORE NOMINALE DEI CREDITI AL 31/12/2018 PER ANNO DI FORMAZIONE"}]
[null,null,null,null,null,{"$f":"\"Anno \" & '00 PDC SP'!$F$2-4 & \" e precedenti\"","v":"Anno 2014 e precedenti"},{"$f":"\"Anno \" & '00 PDC SP'!$F$2-3","v":"Anno 2015"},{"$f":"\"Anno \" & '00 PDC SP'!$F$2-2","v":"Anno 2016"},{"$f":"\"Anno \" & '00 PDC SP'!$F$2 -1","v":"Anno 2017"},{"$f":"\"Anno \" & '00 PDC SP'!$F$2","v":"Anno 2018"},null,null,null,null,null,null,"Valore SP","Diff","Ctrl"]
[null,null,"AAA660"," Crediti finanziari v/Stato",null,0,0,0,0,0,null,null,null,null,null,null,{"$f":"SUMIF('00 SP'!A:A,'Tab 8-9-10-11-12-13-14'!C25,'00 SP'!L:L)","v":0},{"$f":"(F25+G25+H25+I25+J25)-Q25","v":0},{"$f":"IF(R25=0,\"OK\",\"CTRL\")","v":"OK"}]
[null,null,"AAA670"," Crediti finanziari v/Regione",null,0,0,0,0,0,null,null,null,null,null,null,{"$f":"SUMIF('00 SP'!A:A,'Tab 8-9-10-11-12-13-14'!C26,'00 SP'!L:L)","v":0},{"$f":"(F26+G26+H26+I26+J26)-Q26","v":0},{"$f":"IF(R26=0,\"OK\",\"CTRL\")","v":"OK"}]
[null,null,"AAA680"," Crediti finanziari v/partecipate:",null,0,0,0,0,0,null,null,null,null,null,null,{"$f":"SUMIF('00 SP'!A:A,'Tab 8-9-10-11-12-13-14'!C27,'00 SP'!L:L)","v":0},{"$f":"(F27+G27+H27+I27+J27)-Q27","v":0},{"$f":"IF(R27=0,\"OK\",\"CTRL\")","v":"OK"}]
[null,null,"AAA690"," Crediti finanziari v/altri:",null,12379.7,0,1656.75,null,0,null,null,null,null,null,null,{"$f":"SUMIF('00 SP'!A:A,'Tab 8-9-10-11-12-13-14'!C28,'00 SP'!L:L)","v":14036.45},{"$f":"(F28+G28+H28+I28+J28)-Q28","v":0},{"$f":"IF(R28=0,\"OK\",\"CTRL\")","v":"OK"}]
[null,null,null,"TOTALE CREDITI FINANZIARI",null,{"$f":"SUM(F25:F28)","v":12379.7},{"$f":"SUM(G25:G28)","v":0},1656.75,0,0]
[]
[null,null,null,"Tab. 11 – Valore netto dei crediti finanziari distinti per scadenza"]
[null,null,"CODICE MOD. SP","CREDITI FINANZIARI",null,{"$f":"\"VALORE NETTO DEI CREDITI AL 31/12/\" & '00 PDC SP'!$F$2 & \" PER SCADENZA\"","v":"VALORE NETTO DEI CREDITI AL 31/12/2018 PER SCADENZA"}]
[null,null,null,null,null,"Entro\n12 mesi","Tra 1 e 5 anni","Oltre\n5 anni",null,null,null,null,null,null,null,null,"Valore SP","Diff","Ctrl"]
[null,null,"AAA660"," Crediti finanziari v/Stato",null,0,0,0,null,null,null,null,null,null,null,null,{"$f":"SUMIF('00 SP'!A:A,'Tab 8-9-10-11-12-13-14'!C34,'00 SP'!L:L)","v":0},{"$f":"(F34+G34+H34)-Q34","v":0},{"$f":"IF(R34=0,\"OK\",\"CTRL\")","v":"OK"}]
[null,null,"AAA670"," Crediti finanziari v/Regione",null,0,0,0,null,null,null,null,null,null,null,null,{"$f":"SUMIF('00 SP'!A:A,'Tab 8-9-10-11-12-13-14'!C35,'00 SP'!L:L)","v":0},{"$f":"(F35+G35+H35)-Q35","v":0},{"$f":"IF(R35=0,\"OK\",\"CTRL\")","v":"OK"}]
[null,null,"AAA680"," Crediti finanziari v/partecipate:",null,0,0,0,null,null,null,null,null,null,null,null,{"$f":"SUMIF('00 SP'!A:A,'Tab 8-9-10-11-12-13-14'!C36,'00 SP'!L:L)","v":0},{"$f":"(F36+G36+H36)-Q36","v":0},{"$f":"IF(R36=0,\"OK\",\"CTRL\")","v":"OK"}]
[null,null,"AAA690"," Crediti finanziari v/altri:",null,0,0,{"$f":"12379.7+1656.75","v":14036.45},null,null,null,null,null,null,null,null,{"$f":"SUMIF('00 SP'!A:A,'Tab 8-9-10-11-12-13-14'!C37,'00 SP'!L:L)","v":14036.45},{"$f":"(F37+G37+H37)-Q37","v":0},{"$f":"IF(R37=0,\"OK\",\"CTRL\")","v":"OK"}]
[null,null,null,"TOTALE CREDITI FINANZIARI",null,{"$f":"SUM(F34:F37)","v":0},0,{"$f":"SUM(H34:H37)","v":14036.45}]
[]
[null,null,"L'importo di € 12.380 si riferisce al deposito cauzionale versato dall'Azienda con riferimento al contratto di locazione relativo all'immobile sito in via Rieti n. 47, sede del DSB di Pescara Sud. Il deposito in questione è stato versato e contabilizzato nel corso dell'esercizio 2010. Ad oggi il contratto di locazione è ancora in essere, per cui il credito relativo al deposito cauzionale risulta ancora aperto. Il contratto è stato rinnovato nel 2016 con l'integrazione del deposito cauzionale di € 1.657"]
[]
[]
[]
[null,null,null,"Tab. 12 – Dettagli e movimentazioni dei titoli iscritti nelle immobilizzazioni finanziarie"]
[null,null,"CODICE MOD. SP","TITOLI CHE COSTITUISCONO IMMOBILIZZAZIONI FINANZIARIE",null,"Costo\nstorico","ESERCIZI PRECEDENTI",null,null,"MOVIMENTI DELL'ESERCIZIO"]
[null,null,null,null,null,null,"Rivalutazioni","Svalutazioni","Valore iniziale","Giroconti e Riclassificaz.","Rivalutazioni (+)","Svalutazioni (-)","Acquisizioni e conferimenti ","Cessioni\n(valore contabile)","Valore contabile",null,"Valore SP","Diff","Ctrl"]
[null,null,"AAA710"," Partecipazioni:",null,{"$f":"SUMIF('00 SP'!$A:$A,'Tab 8-9-10-11-12-13-14'!$C47,'00 SP'!F:F)","v":0},{"$f":"SUMIF('00 SP'!$A:$A,'Tab 8-9-10-11-12-13-14'!$C47,'00 SP'!G:G)","v":0},{"$f":"SUMIF('00 SP'!$A:$A,'Tab 8-9-10-11-12-13-14'!$C47,'00 SP'!H:H)","v":0},{"$f":"F47+G47-H47","v":0},0,0,0,{"$f":"SUMIF('00 SP'!$A:$A,'Tab 8-9-10-11-12-13-14'!$C47,'00 SP'!J:J)-(J47+K47+L47)","v":0},{"$f":"SUMIF('00 SP'!$A:$A,'Tab 8-9-10-11-12-13-14'!$C47,'00 SP'!K:K)","v":0},{"$f":"I47+J47+K47-L47+M47-N47","v":0},null,{"$f":"SUMIF('00 SP'!A:A,'Tab 8-9-10-11-12-13-14'!C47,'00 SP'!L:L)","v":0},{"$f":"O47-Q47","v":0},{"$f":"IF(R47=0,\"OK\",\"CTRL\")","v":"OK"}]
[null,null,null," Partecipazioni in imprese controllate"]
[null,null,null," Partecipazioni in imprese collegate"]
[null,null,null," Partecipazioni in altre imprese"]
[null,null,"AAA720"," Altri titoli:",null,{"$f":"SUM(F52:F55)","v":0},0,0,0,0,0,0,0,0,0,null,{"$f":"SUMIF('00 SP'!A:A,'Tab 8-9-10-11-12-13-14'!C51,'00 SP'!L:L)","v":0},{"$f":"O51-Q51","v":0},{"$f":"IF(R51=0,\"OK\",\"CTRL\")","v":"OK"}]
[null,null,"AAA730"," Titoli di Stato",null,{"$f":"SUMIF('00 SP'!$A:$A,'Tab 8-9-10-11-12-13-14'!$C52,'00 SP'!F:F)","v":0},{"$f":"SUMIF('00 SP'!$A:$A,'Tab 8-9-10-11-12-13-14'!$C52,'00 SP'!G:G)","v":0},{"$f":"SUMIF('00 SP'!$A:$A,'Tab 8-9-10-11-12-13-14'!$C52,'00 SP'!H:H)","v":0},{"$f":"F52+G52-H52","v":0},0,0,0,{"$f":"SUMIF('00 SP'!$A:$A,'Tab 8-9-10-11-12-13-14'!$C52,'00 SP'!J:J)-(J52+K52+L52)","v":0},{"$f":"SUMIF('00 SP'!$A:$A,'Tab 8-9-10-11-12-13-14'!$C52,'00 SP'!K:K)","v":0},{"$f":"I52+J52+K52-L52+M52-N52","v":0},null,{"$f":"SUMIF('00 SP'!A:A,'Tab 8-9-10-11-12-13-14'!C52,'00 SP'!L:L)","v":0},{"$f":"O52-Q52","v":0},{"$f":"IF(R52=0,\"OK\",\"CTRL\")","v":"OK"}]
[null,null,"AAA740"," Altre Obbligazioni",null,{"$f":"SUMIF('00 SP'!$A:$A,'Tab 8-9-10-11-12-13-14'!$C53,'00 SP'!F:F)","v":0},{"$f":"SUMIF('00 SP'!$A:$A,'Tab 8-9-10-11-12-13-14'!$C53,'00 SP'!G:G)","v":0},{"$f":"SUMIF('00 SP'!$A:$A,'Tab 8-9-10-11-12-13-14'!$C53,'00 SP'!H:H)","v":0},{"$f":"F53+G53-H53","v":0},0,0,0,{"$f":"SUMIF('00 SP'!$A:$A,'Tab 8-9-10-11-12-13-14'!$C53,'00 SP'!J:J)-(J53+K53+L53)","v":0},{"$f":"SUMIF('00 SP'!$A:$A,'Tab 8-9-10-11-12-13-14'!$C53,'00 SP'!K:K)","v":0},{"$f":"I53+J53+K53-L53+M53-N53","v":0},null,{"$f":"SUMIF('00 SP'!A:A,'Tab 8-9-10-11-12-13-14'!C53,'00 SP'!L:L)","v":0},{"$f":"O53-Q53","v":0},{"$f":"IF(R53=0,\"OK\",\"CTRL\")","v":"OK"}]
[null,null,"AAA750"," Titoli azionari quotati in Borsa",null,{"$f":"SUMIF('00 SP'!$A:$A,'Tab 8-9-10-11-12-13-14'!$C54,'00 SP'!F:F)","v":0},{"$f":"SUMIF('00 SP'!$A:$A,'Tab 8-9-10-11-12-13-14'!$C54,'00 SP'!G:G)","v":0},{"$f":"SUMIF('00 SP'!$A:$A,'Tab 8-9-10-11-12-13-14'!$C54,'00 SP'!H:H)","v":0},0,0,0,0,{"$f":"SUMIF('00 SP'!$A:$A,'Tab 8-9-10-11-12-13-14'!$C54,'00 SP'!J:J)-(J54+K54+L54)","v":0},{"$f":"SUMIF('00 SP'!$A:$A,'Tab 8-9-10-11-12-13-14'!$C54,'00 SP'!K:K)","v":0},0,null,{"$f":"SUMIF('00 SP'!A:A,'Tab 8-9-10-11-12-13-14'!C54,'00 SP'!L:L)","v":0},{"$f":"O54-Q54","v":0},{"$f":"IF(R54=0,\"OK\",\"CTRL\")","v":"OK"}]
[null,null,"AAA760"," Titoli diversi",null,{"$f":"SUMIF('00 SP'!$A:$A,'Tab 8-9-10-11-12-13-14'!$C55,'00 SP'!F:F)","v":0},{"$f":"SUMIF('00 SP'!$A:$A,'Tab 8-9-10-11-12-13-14'!$C55,'00 SP'!G:G)","v":0},{"$f":"SUMIF('00 SP'!$A:$A,'Tab 8-9-10-11-12-13-14'!$C55,'00 SP'!H:H)","v":0},0,0,0,0,{"$f":"SUMIF('00 SP'!$A:$A,'Tab 8-9-10-11-12-13-14'!$C55,'00 SP'!J:J)-(J55+K55+L55)","v":0},{"$f":"SUMIF('00 SP'!$A:$A,'Tab 8-9-10-11-12-13-14'!$C55,'00 SP'!K:K)","v":0},0,null,{"$f":"SUMIF('00 SP'!A:A,'Tab 8-9-10-11-12-13-14'!C55,'00 SP'!L:L)","v":0},{"$f":"O55-Q55","v":0},{"$f":"IF(R55=0,\"OK\",\"CTRL\")","v":"OK"}]
[null,null,null,"TOTALE",null,{"$f":"F47+F51","v":0},0,0,0,0,0,0,0,0,0]
[]
[null,null,null,"Tab. 13 – Informativa in merito alle partecipazioni iscritte nelle immobilizzazioni finanziarie"]
[null,null,null,"ELENCO PARTECIPAZIONI",null,"Sede","Forma\ngiuridica","Capitale","% capitale pubblico","Patrimonio netto incluso riserve","Totale\nAttivo","Risultato di esercizio","% di possesso","Valore attribuito a bilancio","Criterio di valorizzazione (costo / PN)"]
[null,null,null," Partecipazioni in imprese controllate:"]
[null,null,null,"…"]
[null,null,null," Partecipazioni in imprese collegate:"]
[null,null,null,"…"]
[null,null,null," Partecipazioni in altre imprese:"]
[null,null,null,"…"]
[]
[null,null,null,"Tab. 14 – Dettagli e movimentazioni delle partecipazioni iscritte nelle immobilizzazioni finanziarie"]
[null,null,null,"DETTAGLIO PARTECIPAZIONI",null,"Costo \nstorico","ESERCIZI PRECEDENTI",null,null,"MOVIMENTI DELL'ESERCIZIO"]
[null,null,null,null,null,null,"Rivalutazioni","Svalutazioni","Valore iniziale","Giroconti e Riclassificazioni","Rivalutazioni","Svalutazioni","Acquisizioni e conferimenti","Cessioni (valore contabile)","Valore\nfinale"]
[null,null,null," Partecipazioni in imprese controllate:"]
[null,null,null,"…"]
[null,null,null," Partecipazioni in imprese collegate:"]
[null,null,null,"…"]
[null,null,null," Partecipazioni in altre imprese:"]
[null,null,null,"…"]

{"sheet":"IF01-IF02","index":16,"n_rows":9,"n_cols":5,"rows_kept":9,"cut":false,"hidden":false,"merged":[[1,1,1,4],[7,0,7,1],[8,0,8,1],[3,0,3,4],[4,0,4,1],[4,2,4,3],[5,0,5,1],[6,0,6,1]]}
["IF01 - Svalutazione delle immobilizzazioni finanziarie."]
["IF01 - NO","Nel corso dell'esercizio non sono state effettuate svalutazioni delle immobilizzazioni finanziarie."]
[]
["Altre informazioni relative alle immobilizzazioni finanziarie"]
["Informazione",null,"Caso presente in azienda?",null,"Se sì, illustrare"]
["IF02 - Gravami. Su crediti immobilizzati, partecipazioni e altri titoli dell'azienda vi sono gravami quali pegni, pignoramenti, ecc.?",null,null,"NO"]
["IF03 - Contenzioso con iscrizione in bilancio. Su crediti immobilizzati, partecipazioni e altri titoli iscritti in bilancio sono in corso contenziosi con altre aziende sanitarie, con altri enti pubblici o con enti privati?",null,null,"NO"]
["IF04 - Contenzioso senza iscrizione in bilancio. Esistono partecipazioni o altri titoli non iscritti nello stato patrimoniale perché non riconosciuti come proprietà dell'azienda in seguito a contenziosi in corso con altre aziende sanitarie, con altri enti pubblici o con soggetti privati?",null,null,"NO"]
["IF05 - Altro. Esistono altre informazioni che si ritiene necessario fornire per soddisfare la regola generale secondo cui \"Se le informazioni richieste da specifiche disposizioni di legge non sono sufficienti a dare una rappresentazione veritiera e corretta, si devono fornire le informazioni complementari necessarie allo scopo\" (art. 2423 cc)?",null,null,"NO"]

{"sheet":"Tab 15","index":17,"n_rows":41,"n_cols":17,"rows_kept":41,"cut":false,"hidden":false,"merged":[[35,0,35,3],[36,0,36,4],[36,5,36,6],[2,1,2,10],[30,0,30,10],[33,1,33,10],[38,7,38,10],[37,7,37,10],[36,7,36,10],[40,0,40,4],[37,0,37,4],[38,0,38,4],[39,0,39,4],[40,7,40,10],[39,7,39,10]]}
[null,"6.     Rimanenze"]
[]
[null,"Tab. 15 – Movimentazioni delle rimanenze di beni sanitari e non sanitari"]
["CODICE MOD. SP","RIMANENZE",null,"Valore\niniziale","Giroconti e Riclassifiche (+/-)","Incrementi","Incrementi/ Utilizzi Fondo Svalutazione magazzino (+/-)","Decrementi","Valore finale","di cui presso terzi per distribuzione per nome e per conto","di cui scorte di reparto",null,"Valore SP","Diff","Ctrl"]
["ABA020","  Prodotti farmaceutici ed emoderivati:",null,{"$f":"SUMIF('00 SP'!A:A,'Tab 15'!A5,'00 SP'!I:I)","v":5834132.1200000001},0,{"$f":"SUMIF('00 SP'!A:A,'Tab 15'!A5,'00 SP'!J:J)-(G5+E5)","v":10541532.870000001},0,{"$f":"SUMIF('00 SP'!A:A,'Tab 15'!A5,'00 SP'!K:K)","v":5834132.1200000001},{"$f":"D5+E5+F5+G5-H5","v":10541532.870000001},0,2293983,null,{"$f":"SUMIF('00 SP'!A:A,'Tab 15'!A5,'00 SP'!L:L)","v":10541532.870000001},{"$f":"I5-M5","v":0},{"$f":"IF(N5=0,\"OK\",\"CTRL\")","v":"OK"}]
[null,"   Medicinali con AIC, ad eccezione di vaccini ed emoderivati di produzione  regionale"]
[null,"   Medicinali senza AIC"]
[null,"   Emoderivati di produzione regionale"]
["ABA030","  Sangue ed emocomponenti",null,{"$f":"SUMIF('00 SP'!A:A,'Tab 15'!A9,'00 SP'!I:I)","v":0},0,{"$f":"SUMIF('00 SP'!A:A,'Tab 15'!A9,'00 SP'!J:J)-(G9+E9)","v":0},0,{"$f":"SUMIF('00 SP'!A:A,'Tab 15'!A9,'00 SP'!K:K)*-1","v":0},{"$f":"D9+E9+F9+G9-H9","v":0},0,0,null,{"$f":"SUMIF('00 SP'!A:A,'Tab 15'!A9,'00 SP'!L:L)","v":0},{"$f":"I9-M9","v":0},{"$f":"IF(N9=0,\"OK\",\"CTRL\")","v":"OK"}]
["ABA040","  Dispositivi medici:",null,{"$f":"SUMIF('00 SP'!A:A,'Tab 15'!A10,'00 SP'!I:I)","v":5139047.9299999988},0,{"$f":"SUMIF('00 SP'!A:A,'Tab 15'!A10,'00 SP'!J:J)-(G10+E10)","v":5544382.7299999986},0,{"$f":"SUMIF('00 SP'!A:A,'Tab 15'!A10,'00 SP'!K:K)","v":5139047.9299999988},5544382.7299999977,0,4320886,null,{"$f":"SUMIF('00 SP'!A:A,'Tab 15'!A10,'00 SP'!L:L)","v":5544382.7299999986},{"$f":"I10-M10","v":0},{"$f":"IF(N10=0,\"OK\",\"CTRL\")","v":"OK"}]
[null,"   Dispositivi medici"]
[null,"   Dispositivi medici impiantabili attivi"]
[null,"   Dispositivi medico diagnostici in vitro (IVD)"]
["ABA050","  Prodotti dietetici",null,{"$f":"SUMIF('00 SP'!A:A,'Tab 15'!A14,'00 SP'!I:I)","v":63620.12},0,{"$f":"SUMIF('00 SP'!A:A,'Tab 15'!A14,'00 SP'!J:J)-(G14+E14)","v":71649.81},0,{"$f":"SUMIF('00 SP'!A:A,'Tab 15'!A14,'00 SP'!K:K)","v":63620.12},71649.81,0,13209,null,{"$f":"SUMIF('00 SP'!A:A,'Tab 15'!A14,'00 SP'!L:L)","v":71649.81},{"$f":"I14-M14","v":0},{"$f":"IF(N14=0,\"OK\",\"CTRL\")","v":"OK"}]
["ABA060","  Materiali per la profilassi (vaccini)",null,{"$f":"SUMIF('00 SP'!A:A,'Tab 15'!A15,'00 SP'!I:I)","v":1112.76},0,{"$f":"SUMIF('00 SP'!A:A,'Tab 15'!A15,'00 SP'!J:J)-(G15+E15)","v":2856.7},0,{"$f":"SUMIF('00 SP'!A:A,'Tab 15'!A15,'00 SP'!K:K)","v":1112.76},2856.7,0,0,null,{"$f":"SUMIF('00 SP'!A:A,'Tab 15'!A15,'00 SP'!L:L)","v":2856.7},0,"OK"]
["ABA070","  Prodotti chimici",null,{"$f":"SUMIF('00 SP'!A:A,'Tab 15'!A16,'00 SP'!I:I)","v":0},0,{"$f":"SUMIF('00 SP'!A:A,'Tab 15'!A16,'00 SP'!J:J)-(G16+E16)","v":0},0,{"$f":"SUMIF('00 SP'!A:A,'Tab 15'!A16,'00 SP'!K:K)","v":0},0,0,0,null,{"$f":"SUMIF('00 SP'!A:A,'Tab 15'!A16,'00 SP'!L:L)","v":0},0,"OK"]
["ABA080","  Materiali e prodotti per uso veterinario",null,{"$f":"SUMIF('00 SP'!A:A,'Tab 15'!A17,'00 SP'!I:I)","v":0},0,{"$f":"SUMIF('00 SP'!A:A,'Tab 15'!A17,'00 SP'!J:J)-(G17+E17)","v":0},0,{"$f":"SUMIF('00 SP'!A:A,'Tab 15'!A17,'00 SP'!K:K)","v":0},0,0,0,null,{"$f":"SUMIF('00 SP'!A:A,'Tab 15'!A17,'00 SP'!L:L)","v":0},0,"OK"]
["ABA090","  Altri beni e prodotti sanitari",null,{"$f":"SUMIF('00 SP'!A:A,'Tab 15'!A18,'00 SP'!I:I)","v":296192.15000000002},0,{"$f":"SUMIF('00 SP'!A:A,'Tab 15'!A18,'00 SP'!J:J)-(G18+E18)","v":297183.24},0,{"$f":"SUMIF('00 SP'!A:A,'Tab 15'!A18,'00 SP'!K:K)","v":296192.15000000002},297183.24,0,193711,null,{"$f":"SUMIF('00 SP'!A:A,'Tab 15'!A18,'00 SP'!L:L)","v":297183.24},0,"OK"]
["ABA100","  Acconti per acquisto di beni e prodotti sanitari",null,{"$f":"SUMIF('00 SP'!A:A,'Tab 15'!A19,'00 SP'!I:I)","v":0},0,{"$f":"SUMIF('00 SP'!A:A,'Tab 15'!A19,'00 SP'!J:J)-(G19+E19)","v":0},0,{"$f":"SUMIF('00 SP'!A:A,'Tab 15'!A19,'00 SP'!K:K)","v":0},0,0,0,null,{"$f":"SUMIF('00 SP'!A:A,'Tab 15'!A19,'00 SP'!L:L)","v":0},0,"OK"]
[null," RIMANENZE BENI SANITARI",null,{"$f":"D5+D9+D10+D14+D15+D16+D17+D18+D19","v":11334105.079999998},{"$f":"SUM(E5:E19)","v":0},16457605.35,0,11334105.079999998,16457605.349999998,4620894,6821789,null,null,null,null,null,{"$f":"I20-K20","v":9635816.3499999978}]
[]
["ABA120","  Prodotti alimentari",null,{"$f":"SUMIF('00 SP'!A:A,'Tab 15'!A22,'00 SP'!I:I)","v":0},0,{"$f":"SUMIF('00 SP'!A:A,'Tab 15'!A22,'00 SP'!J:J)-(G22+E22)","v":0},0,{"$f":"SUMIF('00 SP'!A:A,'Tab 15'!A22,'00 SP'!K:K)","v":0},{"$f":"D22+E22+F22+G22-H22","v":0},0,0,null,{"$f":"SUMIF('00 SP'!A:A,'Tab 15'!A22,'00 SP'!L:L)","v":0},{"$f":"I22-M22","v":0},{"$f":"IF(N22=0,\"OK\",\"CTRL\")","v":"OK"}]
["ABA130","  Materiali di guardaroba, di pulizia e di convivenza in genere",null,{"$f":"SUMIF('00 SP'!A:A,'Tab 15'!A23,'00 SP'!I:I)","v":29727.94},0,{"$f":"SUMIF('00 SP'!A:A,'Tab 15'!A23,'00 SP'!J:J)-(G23+E23)","v":29504.9},0,{"$f":"SUMIF('00 SP'!A:A,'Tab 15'!A23,'00 SP'!K:K)","v":29727.94},29504.899999999998,0,0,null,{"$f":"SUMIF('00 SP'!A:A,'Tab 15'!A23,'00 SP'!L:L)","v":29504.899999999998},{"$f":"I23-M23","v":0},{"$f":"IF(N23=0,\"OK\",\"CTRL\")","v":"OK"}]
["ABA140","  Combustibili, carburanti e lubrificanti",null,{"$f":"SUMIF('00 SP'!A:A,'Tab 15'!A24,'00 SP'!I:I)","v":0},0,{"$f":"SUMIF('00 SP'!A:A,'Tab 15'!A24,'00 SP'!J:J)-(G24+E24)","v":0},0,{"$f":"SUMIF('00 SP'!A:A,'Tab 15'!A24,'00 SP'!K:K)","v":0},0,0,0,null,{"$f":"SUMIF('00 SP'!A:A,'Tab 15'!A24,'00 SP'!L:L)","v":0},0,"OK"]
["ABA150","  Supporti informatici e cancelleria",null,{"$f":"SUMIF('00 SP'!A:A,'Tab 15'!A25,'00 SP'!I:I)","v":362290.35},0,{"$f":"SUMIF('00 SP'!A:A,'Tab 15'!A25,'00 SP'!J:J)-(G25+E25)","v":209556.43},0,{"$f":"SUMIF('00 SP'!A:A,'Tab 15'!A25,'00 SP'!K:K)","v":362290.35},209556.43000000005,0,0,null,{"$f":"SUMIF('00 SP'!A:A,'Tab 15'!A25,'00 SP'!L:L)","v":209556.42999999996},0,"OK"]
["ABA160","  Materiale per la manutenzione",null,{"$f":"SUMIF('00 SP'!A:A,'Tab 15'!A26,'00 SP'!I:I)","v":117370.13999999998},0,{"$f":"SUMIF('00 SP'!A:A,'Tab 15'!A26,'00 SP'!J:J)-(G26+E26)","v":158555.70000000001},0,{"$f":"SUMIF('00 SP'!A:A,'Tab 15'!A26,'00 SP'!K:K)","v":117370.13999999998},158555.69999999998,0,0,null,{"$f":"SUMIF('00 SP'!A:A,'Tab 15'!A26,'00 SP'!L:L)","v":158555.69999999998},0,"OK"]
["ABA170","  Altri beni e prodotti non sanitari",null,{"$f":"SUMIF('00 SP'!A:A,'Tab 15'!A27,'00 SP'!I:I)","v":1229.74},0,{"$f":"SUMIF('00 SP'!A:A,'Tab 15'!A27,'00 SP'!J:J)-(G27+E27)","v":502.43},0,{"$f":"SUMIF('00 SP'!A:A,'Tab 15'!A27,'00 SP'!K:K)","v":1229.74},{"$f":"D27+E27+F27+G27-H27","v":502.43000000000006},0,0,null,{"$f":"SUMIF('00 SP'!A:A,'Tab 15'!A27,'00 SP'!L:L)","v":502.43000000000006},0,"OK"]
["ABA180","  Acconti per acquisto di beni e prodotti non sanitari",null,{"$f":"SUMIF('00 SP'!A:A,'Tab 15'!A28,'00 SP'!I:I)","v":0},0,{"$f":"SUMIF('00 SP'!A:A,'Tab 15'!A28,'00 SP'!J:J)-(G28+E28)","v":0},0,{"$f":"SUMIF('00 SP'!A:A,'Tab 15'!A28,'00 SP'!K:K)","v":0},0,0,0,null,{"$f":"SUMIF('00 SP'!A:A,'Tab 15'!A28,'00 SP'!L:L)","v":0},0,"OK"]
[null," RIMANENZE BENI NON SANITARI",null,{"$f":"SUM(D22:D28)","v":510618.16999999993},0,398119.46,0,510618.16999999993,398119.46,0,0]
[]
["Al 31/12/2018 è stato effettuato l'inventario fisico delle giacenze sia presso i magazzini che presso i reparti."]
[]
["RIM01 - Svalutazioni."]
["RIM01 - NO","Nel corso dell'esercizio non sono state effettuate svalutazioni di rimanenze obsolete o a lento rigiro."]
[]
["Altre informazioni relative alle rimanenze"]
["Informazione",null,null,null,null,"Caso presente in azienda?",null,"Se SI, illustrare"]
["RIM02 - Gravami. Sulle rimanenze dell'azienda vi sono gravami quali pegni, patti di riservato dominio, pignoramenti, ecc.?",null,null,null,null,null,"NO"]
["RIM03 - Modifiche di classificazione. Nel corso dell'esercizio vi sono stati rilevanti cambiamenti nella classificazione delle voci?",null,null,null,null,null,"NO"]
["RIM04 - Valore a prezzi di mercato. Vi è una differenza, positiva e significativa, tra il valore delle rimanenze a prezzi di mercato e la loro valutazione a bilancio?",null,null,null,null,null,"NO"]
["RIM05 - Altro. Esistono altre informazioni che si ritiene necessario fornire per soddisfare la regola generale secondo cui \"Se le informazioni richieste da specifiche disposizioni di legge non sono sufficienti a dare una rappresentazione veritiera e corretta, si devono fornire le informazioni complementari necessarie allo scopo\" (art. 2423 cc)?",null,null,null,null,"SI ",null,"Le rimanenze d'esercizio sono state valorizzate secondo il metodo della media ponderata in ossequio a quanto stabilito con d.lgs 118/2011"]

{"sheet":"Tab 16-17","index":18,"n_rows":123,"n_cols":13,"rows_kept":123,"cut":false,"hidden":false,"merged":[[2,3,2,9],[3,2,4,2],[3,3,4,3],[3,5,3,9],[46,3,46,5],[47,5,47,9],[47,3,48,3],[47,2,48,2],[110,2,110,9],[122,2,122,3],[88,2,88,9],[98,2,98,3],[101,2,108,5]]}
[null,null,null,"7.     Crediti"]
[]
[null,null,null,"Tab. 16 – Movimentazioni dei crediti (valore nominale) – I parte"]
[null,null,"CODICE MOD. SP","CREDITI\n(VALORE NOMINALE)",null,"MOVIMENTI DELL'ESERCIZIO"]
[null,null,null,null,null,"Valore\niniziale","Incrementi","Decrementi","Valore finale","di cui per fatt. da emett."]
[null,null,null," CREDITI V/STATO - PARTE CORRENTE",null,{"$f":"F7+F14","v":0},{"$f":"G7+G14","v":50822.1},48520.58,2301.5199999999968,0]
[null,null,null," Crediti v/Stato per spesa corrente e acconti:",null,{"$f":"SUM(F8:F13)","v":0},{"$f":"SUM(G8:G13)","v":50822.1},{"$f":"SUM(H8:H13)","v":48520.58},{"$f":"SUM(I8:I13)","v":2301.5199999999968},{"$f":"SUM(J8:J13)","v":0}]
[{"$f":"C8&\"CR\"","v":"ABA210CR"},{"$f":"C8&\"FE\"","v":"ABA210FE"},"ABA210","  Crediti v/Stato per spesa corrente - Integrazione a norma del D.Lvo 56/2000",null,{"$f":"SUMIF('00 PDC SP'!A:A,'Tab 16-17'!A8,'00 PDC SP'!K:K)+SUMIF('00 PDC SP'!A:A,'Tab 16-17'!B8,'00 PDC SP'!K:K)","v":0},{"$f":"SUMIF('00 PDC SP'!A:A,'Tab 16-17'!A8,'00 PDC SP'!L:L)+SUMIF('00 PDC SP'!A:A,'Tab 16-17'!B8,'00 PDC SP'!L:L)","v":50822.1},{"$f":"SUMIF('00 PDC SP'!A:A,'Tab 16-17'!A8,'00 PDC SP'!M:M)+SUMIF('00 PDC SP'!A:A,'Tab 16-17'!B8,'00 PDC SP'!M:M)","v":48520.58},{"$f":"F8+G8-H8","v":2301.5199999999968},{"$f":"SUMIF('00 PDC SP'!A:A,'Tab 16-17'!B8,'00 PDC SP'!N:N)","v":0}]
[{"$f":"C9&\"CR\"","v":"ABA220CR"},{"$f":"C9&\"FE\"","v":"ABA220FE"},"ABA220","  Crediti v/Stato per spesa corrente - FSN",null,{"$f":"SUMIF('00 PDC SP'!A:A,'Tab 16-17'!A9,'00 PDC SP'!K:K)+SUMIF('00 PDC SP'!A:A,'Tab 16-17'!B9,'00 PDC SP'!K:K)","v":0},{"$f":"SUMIF('00 PDC SP'!A:A,'Tab 16-17'!A9,'00 PDC SP'!L:L)+SUMIF('00 PDC SP'!A:A,'Tab 16-17'!B9,'00 PDC SP'!L:L)","v":0},{"$f":"SUMIF('00 PDC SP'!A:A,'Tab 16-17'!A9,'00 PDC SP'!M:M)+SUMIF('00 PDC SP'!A:A,'Tab 16-17'!B9,'00 PDC SP'!M:M)","v":0},0,{"$f":"SUMIF('00 PDC SP'!A:A,'Tab 16-17'!B9,'00 PDC SP'!N:N)","v":0}]
["ABA230CR","ABA230FE","ABA230","  Crediti v/Stato per mobilità attiva extraregionale",null,{"$f":"SUMIF('00 PDC SP'!A:A,'Tab 16-17'!A10,'00 PDC SP'!K:K)+SUMIF('00 PDC SP'!A:A,'Tab 16-17'!B10,'00 PDC SP'!K:K)","v":0},{"$f":"SUMIF('00 PDC SP'!A:A,'Tab 16-17'!A10,'00 PDC SP'!L:L)+SUMIF('00 PDC SP'!A:A,'Tab 16-17'!B10,'00 PDC SP'!L:L)","v":0},{"$f":"SUMIF('00 PDC SP'!A:A,'Tab 16-17'!A10,'00 PDC SP'!M:M)+SUMIF('00 PDC SP'!A:A,'Tab 16-17'!B10,'00 PDC SP'!M:M)","v":0},0,{"$f":"SUMIF('00 PDC SP'!A:A,'Tab 16-17'!B10,'00 PDC SP'!N:N)","v":0}]
["ABA240CR","ABA240FE","ABA240","  Crediti v/Stato per mobilità attiva internazionale",null,{"$f":"SUMIF('00 PDC SP'!A:A,'Tab 16-17'!A11,'00 PDC SP'!K:K)+SUMIF('00 PDC SP'!A:A,'Tab 16-17'!B11,'00 PDC SP'!K:K)","v":0},{"$f":"SUMIF('00 PDC SP'!A:A,'Tab 16-17'!A11,'00 PDC SP'!L:L)+SUMIF('00 PDC SP'!A:A,'Tab 16-17'!B11,'00 PDC SP'!L:L)","v":0},{"$f":"SUMIF('00 PDC SP'!A:A,'Tab 16-17'!A11,'00 PDC SP'!M:M)+SUMIF('00 PDC SP'!A:A,'Tab 16-17'!B11,'00 PDC SP'!M:M)","v":0},0,{"$f":"SUMIF('00 PDC SP'!A:A,'Tab 16-17'!B11,'00 PDC SP'!N:N)","v":0}]
["ABA250CR","ABA250FE","ABA250","  Crediti v/Stato per acconto quota fabbisogno sanitario regionale standard",null,{"$f":"SUMIF('00 PDC SP'!A:A,'Tab 16-17'!A12,'00 PDC SP'!K:K)+SUMIF('00 PDC SP'!A:A,'Tab 16-17'!B12,'00 PDC SP'!K:K)","v":0},{"$f":"SUMIF('00 PDC SP'!A:A,'Tab 16-17'!A12,'00 PDC SP'!L:L)+SUMIF('00 PDC SP'!A:A,'Tab 16-17'!B12,'00 PDC SP'!L:L)","v":0},{"$f":"SUMIF('00 PDC SP'!A:A,'Tab 16-17'!A12,'00 PDC SP'!M:M)+SUMIF('00 PDC SP'!A:A,'Tab 16-17'!B12,'00 PDC SP'!M:M)","v":0},0,{"$f":"SUMIF('00 PDC SP'!A:A,'Tab 16-17'!B12,'00 PDC SP'!N:N)","v":0}]
["ABA260CR","ABA260FE","ABA260","  Crediti v/Stato per finanziamento sanitario aggiuntivo corrente",null,{"$f":"SUMIF('00 PDC SP'!A:A,'Tab 16-17'!A13,'00 PDC SP'!K:K)+SUMIF('00 PDC SP'!A:A,'Tab 16-17'!B13,'00 PDC SP'!K:K)","v":0},{"$f":"SUMIF('00 PDC SP'!A:A,'Tab 16-17'!A13,'00 PDC SP'!L:L)+SUMIF('00 PDC SP'!A:A,'Tab 16-17'!B13,'00 PDC SP'!L:L)","v":0},{"$f":"SUMIF('00 PDC SP'!A:A,'Tab 16-17'!A13,'00 PDC SP'!M:M)+SUMIF('00 PDC SP'!A:A,'Tab 16-17'!B13,'00 PDC SP'!M:M)","v":0},0,{"$f":"SUMIF('00 PDC SP'!A:A,'Tab 16-17'!B13,'00 PDC SP'!N:N)","v":0}]
[null,null,null," Crediti v/Stato - altro:",null,{"$f":"SUM(F15)","v":0},{"$f":"SUM(G15)","v":0},{"$f":"SUM(H15)","v":0},{"$f":"SUM(I15)","v":0},{"$f":"SUM(J15)","v":0}]
["ABA270CR","ABA270FE","ABA270","  Crediti v/Stato per spesa corrente - altro",null,{"$f":"SUMIF('00 PDC SP'!A:A,'Tab 16-17'!A15,'00 PDC SP'!K:K)+SUMIF('00 PDC SP'!A:A,'Tab 16-17'!B15,'00 PDC SP'!K:K)","v":0},{"$f":"SUMIF('00 PDC SP'!A:A,'Tab 16-17'!A15,'00 PDC SP'!L:L)+SUMIF('00 PDC SP'!A:A,'Tab 16-17'!B15,'00 PDC SP'!L:L)","v":0},{"$f":"SUMIF('00 PDC SP'!A:A,'Tab 16-17'!A15,'00 PDC SP'!M:M)+SUMIF('00 PDC SP'!A:A,'Tab 16-17'!B15,'00 PDC SP'!M:M)","v":0},{"$f":"F15+G15-H15","v":0},{"$f":"SUMIF('00 PDC SP'!A:A,'Tab 16-17'!B15,'00 PDC SP'!N:N)","v":0}]
[null,null,null," CREDITI V/STATO - INVESTIMENTI",null,{"$f":"SUM(F17)","v":0},{"$f":"SUM(G17)","v":0},{"$f":"SUM(H17)","v":0},{"$f":"SUM(I17)","v":0},{"$f":"SUM(J17)","v":0}]
["ABA280CR","ABA280FE","ABA280"," Crediti v/Stato per finanziamenti per investimenti:",null,{"$f":"SUMIF('00 PDC SP'!A:A,'Tab 16-17'!A17,'00 PDC SP'!K:K)+SUMIF('00 PDC SP'!A:A,'Tab 16-17'!B17,'00 PDC SP'!K:K)","v":0},{"$f":"SUMIF('00 PDC SP'!A:A,'Tab 16-17'!A17,'00 PDC SP'!L:L)+SUMIF('00 PDC SP'!A:A,'Tab 16-17'!B17,'00 PDC SP'!L:L)","v":0},{"$f":"SUMIF('00 PDC SP'!A:A,'Tab 16-17'!A17,'00 PDC SP'!M:M)+SUMIF('00 PDC SP'!A:A,'Tab 16-17'!B17,'00 PDC SP'!M:M)","v":0},{"$f":"F17+G17-H17","v":0},{"$f":"SUMIF('00 PDC SP'!A:A,'Tab 16-17'!B17,'00 PDC SP'!N:N)","v":0}]
[null,null,null," CREDITI V/STATO - RICERCA",null,{"$f":"F19+F20+F21+F22","v":4620},{"$f":"G19+G20+G21+G22","v":10300},{"$f":"H19+H20+H21+H22","v":10300},{"$f":"F18+G18-H18","v":4620},{"$f":"J19+J22","v":0}]
["ABA300CR","ABA300FE","ABA300"," Crediti v/Stato per ricerca corrente - Ministero della Salute ",null,{"$f":"SUMIF('00 PDC SP'!A:A,'Tab 16-17'!A19,'00 PDC SP'!K:K)+SUMIF('00 PDC SP'!A:A,'Tab 16-17'!B19,'00 PDC SP'!K:K)","v":0},{"$f":"SUMIF('00 PDC SP'!A:A,'Tab 16-17'!A19,'00 PDC SP'!L:L)+SUMIF('00 PDC SP'!A:A,'Tab 16-17'!B19,'00 PDC SP'!L:L)","v":0},{"$f":"SUMIF('00 PDC SP'!B:B,'Tab 16-17'!B19,'00 PDC SP'!M:M)+SUMIF('00 PDC SP'!B:B,'Tab 16-17'!C19,'00 PDC SP'!M:M)","v":0},0,{"$f":"SUMIF('00 PDC SP'!A:A,'Tab 16-17'!B19,'00 PDC SP'!N:N)","v":0},null,null,"copiate formule rigo inferiore"]
["ABA310CR","ABA310FE","ABA310"," Crediti v/Stato per ricerca finalizzata - Ministero della Salute ",null,{"$f":"SUMIF('00 PDC SP'!A:A,'Tab 16-17'!A20,'00 PDC SP'!K:K)+SUMIF('00 PDC SP'!A:A,'Tab 16-17'!B20,'00 PDC SP'!K:K)","v":4620},{"$f":"SUMIF('00 PDC SP'!A:A,'Tab 16-17'!A20,'00 PDC SP'!L:L)+SUMIF('00 PDC SP'!A:A,'Tab 16-17'!B20,'00 PDC SP'!L:L)","v":10300},{"$f":"SUMIF('00 PDC SP'!A:A,'Tab 16-17'!A20,'00 PDC SP'!M:M)+SUMIF('00 PDC SP'!A:A,'Tab 16-17'!B20,'00 PDC SP'!M:M)","v":10300},4620,{"$f":"SUMIF('00 PDC SP'!A:A,'Tab 16-17'!B20,'00 PDC SP'!N:N)","v":0},null,null,"da controllare"]
["ABA320CR","ABA320FE","ABA320"," Crediti v/Stato per ricerca - altre Amministrazioni centrali ",null,{"$f":"SUMIF('00 PDC SP'!A:A,'Tab 16-17'!A21,'00 PDC SP'!K:K)+SUMIF('00 PDC SP'!A:A,'Tab 16-17'!B21,'00 PDC SP'!K:K)","v":0},{"$f":"SUMIF('00 PDC SP'!A:A,'Tab 16-17'!A21,'00 PDC SP'!L:L)+SUMIF('00 PDC SP'!A:A,'Tab 16-17'!B21,'00 PDC SP'!L:L)","v":0},{"$f":"SUMIF('00 PDC SP'!A:A,'Tab 16-17'!A21,'00 PDC SP'!M:M)+SUMIF('00 PDC SP'!A:A,'Tab 16-17'!B21,'00 PDC SP'!M:M)","v":0},0,{"$f":"SUMIF('00 PDC SP'!A:A,'Tab 16-17'!B21,'00 PDC SP'!N:N)","v":0}]
["ABA330CR","ABA330FE","ABA330"," Crediti v/Stato per ricerca - finanziamenti per investimenti",null,{"$f":"SUMIF('00 PDC SP'!A:A,'Tab 16-17'!A22,'00 PDC SP'!K:K)+SUMIF('00 PDC SP'!A:A,'Tab 16-17'!B22,'00 PDC SP'!K:K)","v":0},{"$f":"SUMIF('00 PDC SP'!A:A,'Tab 16-17'!A22,'00 PDC SP'!L:L)+SUMIF('00 PDC SP'!A:A,'Tab 16-17'!B22,'00 PDC SP'!L:L)","v":0},{"$f":"SUMIF('00 PDC SP'!A:A,'Tab 16-17'!A22,'00 PDC SP'!M:M)+SUMIF('00 PDC SP'!A:A,'Tab 16-17'!B22,'00 PDC SP'!M:M)","v":0},0,{"$f":"SUMIF('00 PDC SP'!A:A,'Tab 16-17'!B22,'00 PDC SP'!N:N)","v":0}]
["ABA340CR","ABA340FE","ABA340"," CREDITI V/PREFETTURE",null,{"$f":"SUMIF('00 PDC SP'!A:A,'Tab 16-17'!A23,'00 PDC SP'!K:K)+SUMIF('00 PDC SP'!A:A,'Tab 16-17'!B23,'00 PDC SP'!K:K)","v":93462.74},{"$f":"SUMIF('00 PDC SP'!A:A,'Tab 16-17'!A23,'00 PDC SP'!L:L)+SUMIF('00 PDC SP'!A:A,'Tab 16-17'!B23,'00 PDC SP'!L:L)","v":93462.74},{"$f":"SUMIF('00 PDC SP'!A:A,'Tab 16-17'!A23,'00 PDC SP'!M:M)+SUMIF('00 PDC SP'!A:A,'Tab 16-17'!B23,'00 PDC SP'!M:M)","v":186925.48},0,{"$f":"SUMIF('00 PDC SP'!A:A,'Tab 16-17'!B23,'00 PDC SP'!N:N)","v":0}]
[null,null,null,"TOTALE CREDITI V/STATO",null,{"$f":"F7+F16+F18+F23","v":98082.74},{"$f":"G7+G14+G16+G18+G23","v":154584.84},{"$f":"H7+H14+H16+H18+H23","v":245746.06},{"$f":"I7+I14+I16+I18+I23","v":6921.5199999999968},{"$f":"J7+J16+J18+J23","v":0}]
[]
[null,null,null," CREDITI V/REGIONE O P.A. PER SPESA CORRENTE",null,{"$f":"F27+F34+F35+F36","v":165166900.75999999},{"$f":"G27+G34+G35+G36","v":1427992811.24},{"$f":"H27+H34+H35+H36","v":1403682648.8600001},{"$f":"I27+I34+I35+I36","v":189477063.14000005},{"$f":"J27+J34+J35+J36","v":0}]
[null,null,null," Crediti v/Regione o P.A. per finanziamento sanitario ordinario corrente:",null,{"$f":"SUM(F28:F33)","v":154782809.73999998},{"$f":"SUM(G28:G33)","v":1425093799.5799999},{"$f":"SUM(H28:H33)","v":1399777852.71},{"$f":"SUM(I28:I33)","v":180098756.61000004},{"$f":"SUM(J28:J33)","v":0}]
[{"$f":"C28&\"CR\"","v":"ABA370CR"},{"$f":"C28&\"FE\"","v":"ABA370FE"},"ABA370","  Crediti v/Regione o P.A. per spesa corrente - IRAP",null,{"$f":"SUMIF('00 PDC SP'!A:A,'Tab 16-17'!A28,'00 PDC SP'!K:K)+SUMIF('00 PDC SP'!A:A,'Tab 16-17'!B28,'00 PDC SP'!K:K)","v":0},{"$f":"SUMIF('00 PDC SP'!A:A,'Tab 16-17'!A28,'00 PDC SP'!L:L)+SUMIF('00 PDC SP'!A:A,'Tab 16-17'!B28,'00 PDC SP'!L:L)","v":0},{"$f":"SUMIF('00 PDC SP'!A:A,'Tab 16-17'!A28,'00 PDC SP'!M:M)+SUMIF('00 PDC SP'!A:A,'Tab 16-17'!B28,'00 PDC SP'!M:M)","v":0},{"$f":"F28+G28-H28","v":0},{"$f":"SUMIF('00 PDC SP'!A:A,'Tab 16-17'!B28,'00 PDC SP'!N:N)","v":0}]
[{"$f":"C29&\"CR\"","v":"ABA380CR"},{"$f":"C29&\"FE\"","v":"ABA380FE"},"ABA380","  Crediti v/Regione o P.A. per spesa corrente - Addizionale IRPEF",null,{"$f":"SUMIF('00 PDC SP'!A:A,'Tab 16-17'!A29,'00 PDC SP'!K:K)+SUMIF('00 PDC SP'!A:A,'Tab 16-17'!B29,'00 PDC SP'!K:K)","v":0},{"$f":"SUMIF('00 PDC SP'!A:A,'Tab 16-17'!A29,'00 PDC SP'!L:L)+SUMIF('00 PDC SP'!A:A,'Tab 16-17'!B29,'00 PDC SP'!L:L)","v":0},{"$f":"SUMIF('00 PDC SP'!A:A,'Tab 16-17'!A29,'00 PDC SP'!M:M)+SUMIF('00 PDC SP'!A:A,'Tab 16-17'!B29,'00 PDC SP'!M:M)","v":0},{"$f":"F29+G29-H29","v":0},{"$f":"SUMIF('00 PDC SP'!A:A,'Tab 16-17'!B29,'00 PDC SP'!N:N)","v":0}]
["ABA390CR","ABA390FE","ABA390","  Crediti v/Regione o P.A. per quota FSR",null,{"$f":"SUMIF('00 PDC SP'!A:A,'Tab 16-17'!A30,'00 PDC SP'!K:K)+SUMIF('00 PDC SP'!A:A,'Tab 16-17'!B30,'00 PDC SP'!K:K)","v":118927566.06999999},{"$f":"SUMIF('00 PDC SP'!A:A,'Tab 16-17'!A30,'00 PDC SP'!L:L)+SUMIF('00 PDC SP'!A:A,'Tab 16-17'!B30,'00 PDC SP'!L:L)","v":699144829.10000002},{"$f":"SUMIF('00 PDC SP'!A:A,'Tab 16-17'!A30,'00 PDC SP'!M:M)+SUMIF('00 PDC SP'!A:A,'Tab 16-17'!B30,'00 PDC SP'!M:M)","v":673828882.24000001},144243512.93000007,{"$f":"SUMIF('00 PDC SP'!A:A,'Tab 16-17'!B30,'00 PDC SP'!N:N)","v":0}]
["ABA400CR","ABA400FE","ABA400","  Crediti v/Regione o P.A. per mobilità attiva intraregionale",null,{"$f":"SUMIF('00 PDC SP'!A:A,'Tab 16-17'!A31,'00 PDC SP'!K:K)+SUMIF('00 PDC SP'!A:A,'Tab 16-17'!B31,'00 PDC SP'!K:K)","v":16849743.379999999},{"$f":"SUMIF('00 PDC SP'!A:A,'Tab 16-17'!A31,'00 PDC SP'!L:L)+SUMIF('00 PDC SP'!A:A,'Tab 16-17'!B31,'00 PDC SP'!L:L)","v":99510381.010000005},{"$f":"SUMIF('00 PDC SP'!A:A,'Tab 16-17'!A31,'00 PDC SP'!M:M)+SUMIF('00 PDC SP'!A:A,'Tab 16-17'!B31,'00 PDC SP'!M:M)","v":99510381},16849743.390000001,{"$f":"SUMIF('00 PDC SP'!A:A,'Tab 16-17'!B31,'00 PDC SP'!N:N)","v":0}]
["ABA410CR","ABA410FE","ABA410","  Crediti v/Regione o P.A. per mobilità attiva extraregionale",null,{"$f":"SUMIF('00 PDC SP'!A:A,'Tab 16-17'!A32,'00 PDC SP'!K:K)+SUMIF('00 PDC SP'!A:A,'Tab 16-17'!B32,'00 PDC SP'!K:K)","v":19005500.289999999},{"$f":"SUMIF('00 PDC SP'!A:A,'Tab 16-17'!A32,'00 PDC SP'!L:L)+SUMIF('00 PDC SP'!A:A,'Tab 16-17'!B32,'00 PDC SP'!L:L)","v":23288119.719999999},{"$f":"SUMIF('00 PDC SP'!A:A,'Tab 16-17'!A32,'00 PDC SP'!M:M)+SUMIF('00 PDC SP'!A:A,'Tab 16-17'!B32,'00 PDC SP'!M:M)","v":23288119.719999999},19005500.289999999,{"$f":"SUMIF('00 PDC SP'!A:A,'Tab 16-17'!B32,'00 PDC SP'!N:N)","v":0}]
["ABA420CR","ABA420FE","ABA420","  Crediti v/Regione o P.A. per acconto quota FSR",null,{"$f":"SUMIF('00 PDC SP'!A:A,'Tab 16-17'!A33,'00 PDC SP'!K:K)+SUMIF('00 PDC SP'!A:A,'Tab 16-17'!B33,'00 PDC SP'!K:K)","v":0},{"$f":"SUMIF('00 PDC SP'!A:A,'Tab 16-17'!A33,'00 PDC SP'!L:L)+SUMIF('00 PDC SP'!A:A,'Tab 16-17'!B33,'00 PDC SP'!L:L)","v":603150469.75},{"$f":"SUMIF('00 PDC SP'!A:A,'Tab 16-17'!A33,'00 PDC SP'!M:M)+SUMIF('00 PDC SP'!A:A,'Tab 16-17'!B33,'00 PDC SP'!M:M)","v":603150469.75},0,{"$f":"SUMIF('00 PDC SP'!A:A,'Tab 16-17'!B33,'00 PDC SP'!N:N)","v":0}]
["ABA430CR","ABA430FE","ABA430"," Crediti v/Regione o P.A. per finanziamento sanitario aggiuntivo corrente LEA",null,{"$f":"SUMIF('00 PDC SP'!A:A,'Tab 16-17'!A34,'00 PDC SP'!K:K)+SUMIF('00 PDC SP'!A:A,'Tab 16-17'!B34,'00 PDC SP'!K:K)","v":10384091.02},{"$f":"SUMIF('00 PDC SP'!A:A,'Tab 16-17'!A34,'00 PDC SP'!L:L)+SUMIF('00 PDC SP'!A:A,'Tab 16-17'!B34,'00 PDC SP'!L:L)","v":2899011.66},{"$f":"SUMIF('00 PDC SP'!A:A,'Tab 16-17'!A34,'00 PDC SP'!M:M)+SUMIF('00 PDC SP'!A:A,'Tab 16-17'!B34,'00 PDC SP'!M:M)","v":3904796.15},9378306.5299999993,{"$f":"SUMIF('00 PDC SP'!A:A,'Tab 16-17'!B34,'00 PDC SP'!N:N)","v":0}]
["ABA440CR","ABA440FE","ABA440"," Crediti v/Regione o P.A. per finanziamento sanitario aggiuntivo corrente extra LEA",null,{"$f":"SUMIF('00 PDC SP'!A:A,'Tab 16-17'!A35,'00 PDC SP'!K:K)+SUMIF('00 PDC SP'!A:A,'Tab 16-17'!B35,'00 PDC SP'!K:K)","v":0},{"$f":"SUMIF('00 PDC SP'!A:A,'Tab 16-17'!A35,'00 PDC SP'!L:L)+SUMIF('00 PDC SP'!A:A,'Tab 16-17'!B35,'00 PDC SP'!L:L)","v":0},{"$f":"SUMIF('00 PDC SP'!A:A,'Tab 16-17'!A35,'00 PDC SP'!M:M)+SUMIF('00 PDC SP'!A:A,'Tab 16-17'!B35,'00 PDC SP'!M:M)","v":0},0,{"$f":"SUMIF('00 PDC SP'!A:A,'Tab 16-17'!B35,'00 PDC SP'!N:N)","v":0}]
["ABA450CR","ABA450FE","ABA450"," Crediti v/Regione o P.A. per spesa corrente - altro",null,{"$f":"SUMIF('00 PDC SP'!A:A,'Tab 16-17'!A36,'00 PDC SP'!K:K)+SUMIF('00 PDC SP'!A:A,'Tab 16-17'!B36,'00 PDC SP'!K:K)","v":0},{"$f":"SUMIF('00 PDC SP'!A:A,'Tab 16-17'!A36,'00 PDC SP'!L:L)+SUMIF('00 PDC SP'!A:A,'Tab 16-17'!B36,'00 PDC SP'!L:L)","v":0},{"$f":"SUMIF('00 PDC SP'!A:A,'Tab 16-17'!A36,'00 PDC SP'!M:M)+SUMIF('00 PDC SP'!A:A,'Tab 16-17'!B36,'00 PDC SP'!M:M)","v":0},0,{"$f":"SUMIF('00 PDC SP'!A:A,'Tab 16-17'!B36,'00 PDC SP'!N:N)","v":0}]
["ABA460CR","ABA460FE","ABA460"," CREDITI V/REGIONE O P.A. PER RICERCA:",null,{"$f":"SUMIF('00 PDC SP'!A:A,'Tab 16-17'!A37,'00 PDC SP'!K:K)+SUMIF('00 PDC SP'!A:A,'Tab 16-17'!B37,'00 PDC SP'!K:K)","v":0},{"$f":"SUMIF('00 PDC SP'!A:A,'Tab 16-17'!A37,'00 PDC SP'!L:L)+SUMIF('00 PDC SP'!A:A,'Tab 16-17'!B37,'00 PDC SP'!L:L)","v":0},{"$f":"SUMIF('00 PDC SP'!A:A,'Tab 16-17'!A37,'00 PDC SP'!M:M)+SUMIF('00 PDC SP'!A:A,'Tab 16-17'!B37,'00 PDC SP'!M:M)","v":0},{"$f":"F37+G37-H37","v":0},{"$f":"SUMIF('00 PDC SP'!A:A,'Tab 16-17'!B37,'00 PDC SP'!N:N)","v":0}]
[null,null,null," CREDITI V/REGIONE O P.A. PER VERSAMENTI A PATRIMONIO NETTO",null,{"$f":"SUM(F39:F41)","v":14302965},{"$f":"SUM(G39:G41)","v":13609624},{"$f":"SUM(H39:H41)","v":0},{"$f":"SUM(I39:I41)","v":27912589},{"$f":"SUM(J39:J41)","v":0}]
[{"$f":"C39&\"CR\"","v":"ABA480CR"},{"$f":"C39&\"FE\"","v":"ABA480FE"},"ABA480","  Crediti v/Regione o P.A. per finanziamenti per investimenti",null,{"$f":"SUMIF('00 PDC SP'!A:A,'Tab 16-17'!A39,'00 PDC SP'!K:K)+SUMIF('00 PDC SP'!A:A,'Tab 16-17'!B39,'00 PDC SP'!K:K)","v":38255},{"$f":"SUMIF('00 PDC SP'!A:A,'Tab 16-17'!A39,'00 PDC SP'!L:L)+SUMIF('00 PDC SP'!A:A,'Tab 16-17'!B39,'00 PDC SP'!L:L)","v":0},{"$f":"SUMIF('00 PDC SP'!A:A,'Tab 16-17'!A39,'00 PDC SP'!M:M)+SUMIF('00 PDC SP'!A:A,'Tab 16-17'!B39,'00 PDC SP'!M:M)","v":0},{"$f":"F39+G39-H39","v":38255},{"$f":"SUMIF('00 PDC SP'!A:A,'Tab 16-17'!B39,'00 PDC SP'!N:N)","v":0}]
["ABA490CR","ABA490FE","ABA490","  Crediti v/Regione o P.A. per incremento fondo dotazione",null,{"$f":"SUMIF('00 PDC SP'!A:A,'Tab 16-17'!A40,'00 PDC SP'!K:K)+SUMIF('00 PDC SP'!A:A,'Tab 16-17'!B40,'00 PDC SP'!K:K)","v":0},{"$f":"SUMIF('00 PDC SP'!A:A,'Tab 16-17'!A40,'00 PDC SP'!L:L)+SUMIF('00 PDC SP'!A:A,'Tab 16-17'!B40,'00 PDC SP'!L:L)","v":0},{"$f":"SUMIF('00 PDC SP'!A:A,'Tab 16-17'!A40,'00 PDC SP'!M:M)+SUMIF('00 PDC SP'!A:A,'Tab 16-17'!B40,'00 PDC SP'!M:M)","v":0},0,{"$f":"SUMIF('00 PDC SP'!A:A,'Tab 16-17'!B40,'00 PDC SP'!N:N)","v":0}]
[null,null,null,"  Crediti v/Regione o P.A. per ripiano perdite:",null,{"$f":"SUM(F42:F44)","v":14264710},{"$f":"SUM(G42:G44)","v":13609624},{"$f":"SUM(H42:H44)","v":0},{"$f":"SUM(I42:I44)","v":27874334},{"$f":"SUM(J42:J44)","v":0}]
[{"$f":"C42&\"CR\"","v":"ABA500CR"},{"$f":"C42&\"FE\"","v":"ABA500FE"},"ABA500","  Crediti v/Regione o P.A. per ripiano perdite",null,{"$f":"SUMIF('00 PDC SP'!A:A,'Tab 16-17'!A42,'00 PDC SP'!K:K)+SUMIF('00 PDC SP'!A:A,'Tab 16-17'!B42,'00 PDC SP'!K:K)","v":14264710},{"$f":"SUMIF('00 PDC SP'!A:A,'Tab 16-17'!A42,'00 PDC SP'!L:L)+SUMIF('00 PDC SP'!A:A,'Tab 16-17'!B42,'00 PDC SP'!L:L)","v":13609624},{"$f":"SUMIF('00 PDC SP'!A:A,'Tab 16-17'!A42,'00 PDC SP'!M:M)+SUMIF('00 PDC SP'!A:A,'Tab 16-17'!B42,'00 PDC SP'!M:M)","v":0},{"$f":"F42+G42-H42","v":27874334},{"$f":"SUMIF('00 PDC SP'!A:A,'Tab 16-17'!B42,'00 PDC SP'!N:N)","v":0}]
["ABA510CR","ABA510FE","ABA510","  Crediti v/Regione per copertura debiti al 31/12/2005",null,{"$f":"SUMIF('00 PDC SP'!A:A,'Tab 16-17'!A43,'00 PDC SP'!K:K)+SUMIF('00 PDC SP'!A:A,'Tab 16-17'!B43,'00 PDC SP'!K:K)","v":0},{"$f":"SUMIF('00 PDC SP'!A:A,'Tab 16-17'!A43,'00 PDC SP'!L:L)+SUMIF('00 PDC SP'!A:A,'Tab 16-17'!B43,'00 PDC SP'!L:L)","v":0},{"$f":"SUMIF('00 PDC SP'!A:A,'Tab 16-17'!A43,'00 PDC SP'!M:M)+SUMIF('00 PDC SP'!A:A,'Tab 16-17'!B43,'00 PDC SP'!M:M)","v":0},0,{"$f":"SUMIF('00 PDC SP'!A:A,'Tab 16-17'!B43,'00 PDC SP'!N:N)","v":0}]
["ABA520CR","ABA520FE","ABA520","Crediti v/Regione o P.A. per ricostituzione risorse da investimenti esercizi precedenti",null,{"$f":"SUMIF('00 PDC SP'!A:A,'Tab 16-17'!A44,'00 PDC SP'!K:K)+SUMIF('00 PDC SP'!A:A,'Tab 16-17'!B44,'00 PDC SP'!K:K)","v":0},{"$f":"SUMIF('00 PDC SP'!A:A,'Tab 16-17'!A44,'00 PDC SP'!L:L)+SUMIF('00 PDC SP'!A:A,'Tab 16-17'!B44,'00 PDC SP'!L:L)","v":0},{"$f":"SUMIF('00 PDC SP'!A:A,'Tab 16-17'!A44,'00 PDC SP'!M:M)+SUMIF('00 PDC SP'!A:A,'Tab 16-17'!B44,'00 PDC SP'!M:M)","v":0},0,{"$f":"SUMIF('00 PDC SP'!A:A,'Tab 16-17'!B44,'00 PDC SP'!N:N)","v":0},null,null,"fondo svalutazione"]
[null,null,null,"TOTALE CREDITI V/REGIONE O PROVINCIA AUTONOMA",null,{"$f":"F26+F37+F38","v":179469865.75999999},{"$f":"G26+G37+G38","v":1441602435.24},{"$f":"H26+H37+H38","v":1403682648.8600001},{"$f":"I26+I37+I38","v":217389652.14000005},{"$f":"J26+J37+J38","v":0},null,null,-3047520.97]
[]
[null,null,null,"Tab. 17 – Movimentazioni dei crediti (valore nominale) – II parte"]
[null,null,"CODICE MOD. SP","CREDITI\n(VALORE NOMINALE)",null,"MOVIMENTI DELL'ESERCIZIO"]
[null,null,null,null,null,"Valore\niniziale","Incrementi","Decrementi","Valore finale","di cui per fatture da emettere"]
[{"$f":"C50&\"CR\"","v":"ABA530CR"},{"$f":"C50&\"FE\"","v":"ABA530FE"},"ABA530"," CREDITI V/COMUNI",null,{"$f":"SUMIF('00 PDC SP'!A:A,'Tab 16-17'!A50,'00 PDC SP'!K:K)+SUMIF('00 PDC SP'!A:A,'Tab 16-17'!B50,'00 PDC SP'!K:K)","v":220328.34999999998},{"$f":"SUMIF('00 PDC SP'!A:A,'Tab 16-17'!A50,'00 PDC SP'!L:L)+SUMIF('00 PDC SP'!A:A,'Tab 16-17'!B50,'00 PDC SP'!L:L)","v":165199.79},{"$f":"SUMIF('00 PDC SP'!A:A,'Tab 16-17'!A50,'00 PDC SP'!M:M)+SUMIF('00 PDC SP'!A:A,'Tab 16-17'!B50,'00 PDC SP'!M:M)","v":148773.66},{"$f":"F50+G50-H50","v":236754.48},{"$f":"SUMIF('00 PDC SP'!A:A,'Tab 16-17'!B50,'00 PDC SP'!N:N)","v":53342.51}]
[null,null,null,"  ……"]
[]
[null,null,null," CREDITI V/AZIENDE SANITARIE PUBBLICHE DELLA REGIONE",null,{"$f":"SUM(F54:F56)","v":4590319.03},{"$f":"SUM(G54:G56)","v":404487.52},{"$f":"SUM(H54:H56)","v":353901.45999999996},{"$f":"SUM(I54:I56)","v":4640905.0900000008},{"$f":"SUM(J54:J56)","v":67800.61},null,null,"fondo svalutazione"]
[{"$f":"C54&\"CR\"","v":"ABA560CR"},{"$f":"C54&\"FE\"","v":"ABA560FE"},"ABA560"," Crediti v/Aziende sanitarie pubbliche della Regione - mobilità in compensazione",null,{"$f":"SUMIF('00 PDC SP'!A:A,'Tab 16-17'!A54,'00 PDC SP'!K:K)+SUMIF('00 PDC SP'!A:A,'Tab 16-17'!B54,'00 PDC SP'!K:K)","v":0},{"$f":"SUMIF('00 PDC SP'!A:A,'Tab 16-17'!A54,'00 PDC SP'!L:L)+SUMIF('00 PDC SP'!A:A,'Tab 16-17'!B54,'00 PDC SP'!L:L)","v":0},{"$f":"SUMIF('00 PDC SP'!A:A,'Tab 16-17'!A54,'00 PDC SP'!M:M)+SUMIF('00 PDC SP'!A:A,'Tab 16-17'!B54,'00 PDC SP'!M:M)","v":0},{"$f":"F54+G54-H54","v":0},{"$f":"SUMIF('00 PDC SP'!A:A,'Tab 16-17'!B54,'00 PDC SP'!N:N)","v":0},null,null,-3259926.7]
["ABA570CR","ABA570FE","ABA570"," Crediti v/Aziende sanitarie pubbliche della Regione - mobilità non in compensazione",null,{"$f":"SUMIF('00 PDC SP'!A:A,'Tab 16-17'!A55,'00 PDC SP'!K:K)+SUMIF('00 PDC SP'!A:A,'Tab 16-17'!B55,'00 PDC SP'!K:K)","v":0},{"$f":"SUMIF('00 PDC SP'!A:A,'Tab 16-17'!A55,'00 PDC SP'!L:L)+SUMIF('00 PDC SP'!A:A,'Tab 16-17'!B55,'00 PDC SP'!L:L)","v":0},{"$f":"SUMIF('00 PDC SP'!A:A,'Tab 16-17'!A55,'00 PDC SP'!M:M)+SUMIF('00 PDC SP'!A:A,'Tab 16-17'!B55,'00 PDC SP'!M:M)","v":0},0,{"$f":"SUMIF('00 PDC SP'!A:A,'Tab 16-17'!B55,'00 PDC SP'!N:N)","v":0}]
["ABA580CR","ABA580FE","ABA580"," Crediti v/Aziende sanitarie pubbliche della Regione - altre\n prestazioni",null,{"$f":"SUMIF('00 PDC SP'!A:A,'Tab 16-17'!A56,'00 PDC SP'!K:K)+SUMIF('00 PDC SP'!A:A,'Tab 16-17'!B56,'00 PDC SP'!K:K)","v":4590319.03},{"$f":"SUMIF('00 PDC SP'!A:A,'Tab 16-17'!A56,'00 PDC SP'!L:L)+SUMIF('00 PDC SP'!A:A,'Tab 16-17'!B56,'00 PDC SP'!L:L)","v":404487.52},{"$f":"SUMIF('00 PDC SP'!A:A,'Tab 16-17'!A56,'00 PDC SP'!M:M)+SUMIF('00 PDC SP'!A:A,'Tab 16-17'!B56,'00 PDC SP'!M:M)","v":353901.45999999996},4640905.0900000008,{"$f":"SUMIF('00 PDC SP'!A:A,'Tab 16-17'!B56,'00 PDC SP'!N:N)","v":67800.61}]
["ABA590CR","ABA590FE","ABA590"," Acconto quota FSR da distribuire",null,{"$f":"SUMIF('00 PDC SP'!A:A,'Tab 16-17'!A57,'00 PDC SP'!K:K)+SUMIF('00 PDC SP'!A:A,'Tab 16-17'!B57,'00 PDC SP'!K:K)","v":0},{"$f":"SUMIF('00 PDC SP'!A:A,'Tab 16-17'!A57,'00 PDC SP'!L:L)+SUMIF('00 PDC SP'!A:A,'Tab 16-17'!B57,'00 PDC SP'!L:L)","v":0},{"$f":"SUMIF('00 PDC SP'!A:A,'Tab 16-17'!A57,'00 PDC SP'!M:M)+SUMIF('00 PDC SP'!A:A,'Tab 16-17'!B57,'00 PDC SP'!M:M)","v":0},{"$f":"F57+G57-H57","v":0},{"$f":"SUMIF('00 PDC SP'!A:A,'Tab 16-17'!B57,'00 PDC SP'!N:N)","v":0}]
["ABA600CR","ABA600FE","ABA600"," CREDITI V/AZIENDE SANITARIE PUBBLICHE FUORI REGIONE",null,{"$f":"SUMIF('00 PDC SP'!A:A,'Tab 16-17'!A58,'00 PDC SP'!K:K)+SUMIF('00 PDC SP'!A:A,'Tab 16-17'!B58,'00 PDC SP'!K:K)","v":214235.54},{"$f":"SUMIF('00 PDC SP'!A:A,'Tab 16-17'!A58,'00 PDC SP'!L:L)+SUMIF('00 PDC SP'!A:A,'Tab 16-17'!B58,'00 PDC SP'!L:L)","v":277676.46999999997},{"$f":"SUMIF('00 PDC SP'!A:A,'Tab 16-17'!A58,'00 PDC SP'!M:M)+SUMIF('00 PDC SP'!A:A,'Tab 16-17'!B58,'00 PDC SP'!M:M)","v":295810.28999999998},196101.72000000003,{"$f":"SUMIF('00 PDC SP'!A:A,'Tab 16-17'!B58,'00 PDC SP'!N:N)","v":38844.47}]
[null,null,null,"TOTALE CREDITI V/AZIENDE SANITARIE PUBBLICHE",null,{"$f":"F53+F57+F58","v":4804554.57},{"$f":"G53+G57+G58","v":682163.99},{"$f":"H53+H57+H58","v":649711.75},{"$f":"I53+I57+I58","v":4837006.8100000005},{"$f":"J53+J57+J58","v":106645.08}]
[]
[null,null,null," CREDITI V/SOCIETA' PARTECIPATE E/O ENTI DIPENDENTI",null,{"$f":"F62+F64+F65","v":5931.31},{"$f":"G62+G64+G65","v":0},{"$f":"H62+H64+H65","v":0},{"$f":"I62+I64+I65","v":5931.31},{"$f":"J62+J64+J65","v":0}]
[{"$f":"C62&\"CR\"","v":"ABA620CR"},{"$f":"C62&\"FE\"","v":"ABA620FE"},"ABA620"," Crediti v/enti regionali:",null,{"$f":"SUMIF('00 PDC SP'!A:A,'Tab 16-17'!A62,'00 PDC SP'!K:K)+SUMIF('00 PDC SP'!A:A,'Tab 16-17'!B62,'00 PDC SP'!K:K)","v":5931.31},{"$f":"SUMIF('00 PDC SP'!A:A,'Tab 16-17'!A62,'00 PDC SP'!L:L)+SUMIF('00 PDC SP'!A:A,'Tab 16-17'!B62,'00 PDC SP'!L:L)","v":0},{"$f":"SUMIF('00 PDC SP'!A:A,'Tab 16-17'!A62,'00 PDC SP'!M:M)+SUMIF('00 PDC SP'!A:A,'Tab 16-17'!B62,'00 PDC SP'!M:M)","v":0},{"$f":"F62+G62-H62","v":5931.31},{"$f":"SUMIF('00 PDC SP'!A:A,'Tab 16-17'!B62,'00 PDC SP'!N:N)","v":0}]
[null,null,null,"Arta",null,5931,0,0,5931]
[{"$f":"C64&\"CR\"","v":"ABA630CR"},{"$f":"C64&\"FE\"","v":"ABA630FE"},"ABA630"," Crediti v/sperimentazioni gestionali:",null,{"$f":"SUMIF('00 PDC SP'!A:A,'Tab 16-17'!A64,'00 PDC SP'!K:K)+SUMIF('00 PDC SP'!A:A,'Tab 16-17'!B64,'00 PDC SP'!K:K)","v":0},{"$f":"SUMIF('00 PDC SP'!A:A,'Tab 16-17'!A64,'00 PDC SP'!L:L)+SUMIF('00 PDC SP'!A:A,'Tab 16-17'!B64,'00 PDC SP'!L:L)","v":0},{"$f":"SUMIF('00 PDC SP'!A:A,'Tab 16-17'!A64,'00 PDC SP'!M:M)+SUMIF('00 PDC SP'!A:A,'Tab 16-17'!B64,'00 PDC SP'!M:M)","v":0},{"$f":"F64+G64-H64","v":0},{"$f":"SUMIF('00 PDC SP'!A:A,'Tab 16-17'!B64,'00 PDC SP'!N:N)","v":0}]
["ABA640CR","ABA640FE","ABA640"," Crediti v/altre partecipate:",null,{"$f":"SUMIF('00 PDC SP'!A:A,'Tab 16-17'!A65,'00 PDC SP'!K:K)+SUMIF('00 PDC SP'!A:A,'Tab 16-17'!B65,'00 PDC SP'!K:K)","v":0},{"$f":"SUMIF('00 PDC SP'!A:A,'Tab 16-17'!A65,'00 PDC SP'!L:L)+SUMIF('00 PDC SP'!A:A,'Tab 16-17'!B65,'00 PDC SP'!L:L)","v":0},{"$f":"SUMIF('00 PDC SP'!A:A,'Tab 16-17'!A65,'00 PDC SP'!M:M)+SUMIF('00 PDC SP'!A:A,'Tab 16-17'!B65,'00 PDC SP'!M:M)","v":0},0,{"$f":"SUMIF('00 PDC SP'!A:A,'Tab 16-17'!B65,'00 PDC SP'!N:N)","v":0}]
[]
[{"$f":"C67&\"CR\"","v":"ABA650CR"},{"$f":"C67&\"FE\"","v":"ABA650FE"},"ABA650"," CREDITI V/ERARIO",null,{"$f":"SUMIF('00 PDC SP'!A:A,'Tab 16-17'!A67,'00 PDC SP'!K:K)+SUMIF('00 PDC SP'!A:A,'Tab 16-17'!B67,'00 PDC SP'!K:K)","v":8209.0400000000009},{"$f":"SUMIF('00 PDC SP'!A:A,'Tab 16-17'!A67,'00 PDC SP'!L:L)+SUMIF('00 PDC SP'!A:A,'Tab 16-17'!B67,'00 PDC SP'!L:L)","v":505567.5},{"$f":"SUMIF('00 PDC SP'!A:A,'Tab 16-17'!A67,'00 PDC SP'!M:M)+SUMIF('00 PDC SP'!A:A,'Tab 16-17'!B67,'00 PDC SP'!M:M)","v":496872},{"$f":"F67+G67-H67","v":16904.539999999979},{"$f":"SUMIF('00 PDC SP'!A:A,'Tab 16-17'!B67,'00 PDC SP'!N:N)","v":0}]
[null,null,null,"  ……"]
[]
[null,null,null," CREDITI V/ALTRI",null,{"$f":"F71+F72+F73+F78+F80","v":6477528.1999999993},{"$f":"G71+G72+G73+G78+G80","v":20355416.399999999},{"$f":"H71+H72+H73+H78+H80","v":20622745.920000002},{"$f":"I71+I72+I73+I78+I80","v":6210198.679999996},{"$f":"J71+J72+J73+J78+J80","v":576092.94999999995},null,null,"fondo svalutazione"]
[{"$f":"C71&\"CR\"","v":"ABA670CR"},{"$f":"C71&\"FE\"","v":"ABA670FE"},"ABA670"," Crediti v/clienti privati",null,{"$f":"SUMIF('00 PDC SP'!A:A,'Tab 16-17'!A71,'00 PDC SP'!K:K)+SUMIF('00 PDC SP'!A:A,'Tab 16-17'!B71,'00 PDC SP'!K:K)","v":4897137.2499999991},{"$f":"SUMIF('00 PDC SP'!A:A,'Tab 16-17'!A71,'00 PDC SP'!L:L)+SUMIF('00 PDC SP'!A:A,'Tab 16-17'!B71,'00 PDC SP'!L:L)","v":19327870},{"$f":"SUMIF('00 PDC SP'!A:A,'Tab 16-17'!A71,'00 PDC SP'!M:M)+SUMIF('00 PDC SP'!A:A,'Tab 16-17'!B71,'00 PDC SP'!M:M)","v":19097757.980000004},{"$f":"F71+G71-H71","v":5127249.2699999958},{"$f":"SUMIF('00 PDC SP'!A:A,'Tab 16-17'!B71,'00 PDC SP'!N:N)","v":576092.94999999995},null,null,-2874726.99]
["ABA680CR","ABA680FE","ABA680"," Crediti v/gestioni liquidatorie",null,{"$f":"SUMIF('00 PDC SP'!A:A,'Tab 16-17'!A72,'00 PDC SP'!K:K)+SUMIF('00 PDC SP'!A:A,'Tab 16-17'!B72,'00 PDC SP'!K:K)","v":0},{"$f":"SUMIF('00 PDC SP'!A:A,'Tab 16-17'!A72,'00 PDC SP'!L:L)+SUMIF('00 PDC SP'!A:A,'Tab 16-17'!B72,'00 PDC SP'!L:L)","v":0},{"$f":"SUMIF('00 PDC SP'!A:A,'Tab 16-17'!A72,'00 PDC SP'!M:M)+SUMIF('00 PDC SP'!A:A,'Tab 16-17'!B72,'00 PDC SP'!M:M)","v":0},{"$f":"F72+G72-H72","v":0},{"$f":"SUMIF('00 PDC SP'!A:A,'Tab 16-17'!B72,'00 PDC SP'!N:N)","v":0}]
["ABA690CR","ABA690FE","ABA690"," Crediti v/altri soggetti pubblici",null,{"$f":"SUMIF('00 PDC SP'!A:A,'Tab 16-17'!A73,'00 PDC SP'!K:K)+SUMIF('00 PDC SP'!A:A,'Tab 16-17'!B73,'00 PDC SP'!K:K)","v":394535.99},{"$f":"SUMIF('00 PDC SP'!A:A,'Tab 16-17'!A73,'00 PDC SP'!L:L)+SUMIF('00 PDC SP'!A:A,'Tab 16-17'!B73,'00 PDC SP'!L:L)","v":288535.49},{"$f":"SUMIF('00 PDC SP'!A:A,'Tab 16-17'!A73,'00 PDC SP'!M:M)+SUMIF('00 PDC SP'!A:A,'Tab 16-17'!B73,'00 PDC SP'!M:M)","v":465524.77},{"$f":"F73+G73-H73","v":217546.70999999996},{"$f":"SUMIF('00 PDC SP'!A:A,'Tab 16-17'!B73,'00 PDC SP'!N:N)","v":0}]
[null,null,null,"Crediti v/altri soggetti pubblici",null,393951,288535,464939,217547]
[null,null,null,"Fatture da emettere v/altri soggetti pubblici",null,585,0,585.44000000000005,0]
[null,null,null,"Note credito da emettere v/altri soggetti pubblici",null,0,0,0,0]
[]
[{"$f":"C78&\"CR\"","v":"ABA700CR"},{"$f":"C78&\"FE\"","v":"ABA700FE"},"ABA700"," Crediti v/altri soggetti pubblici per ricerca",null,{"$f":"SUMIF('00 PDC SP'!A:A,'Tab 16-17'!A78,'00 PDC SP'!K:K)+SUMIF('00 PDC SP'!A:A,'Tab 16-17'!B78,'00 PDC SP'!K:K)","v":0},{"$f":"SUMIF('00 PDC SP'!A:A,'Tab 16-17'!A78,'00 PDC SP'!L:L)+SUMIF('00 PDC SP'!A:A,'Tab 16-17'!B78,'00 PDC SP'!L:L)","v":0},{"$f":"SUMIF('00 PDC SP'!A:A,'Tab 16-17'!A78,'00 PDC SP'!M:M)+SUMIF('00 PDC SP'!A:A,'Tab 16-17'!B78,'00 PDC SP'!M:M)","v":0},{"$f":"F78+G78-H78","v":0},{"$f":"SUMIF('00 PDC SP'!A:A,'Tab 16-17'!B78,'00 PDC SP'!N:N)","v":0}]
[null,null,null,"  ……"]
[{"$f":"C80&\"CR\"","v":"ABA710CR"},{"$f":"C80&\"FE\"","v":"ABA710FE"},"ABA710"," Altri crediti diversi",null,{"$f":"SUMIF('00 PDC SP'!A:A,'Tab 16-17'!A80,'00 PDC SP'!K:K)+SUMIF('00 PDC SP'!A:A,'Tab 16-17'!B80,'00 PDC SP'!K:K)","v":1185854.96},{"$f":"SUMIF('00 PDC SP'!A:A,'Tab 16-17'!A80,'00 PDC SP'!L:L)+SUMIF('00 PDC SP'!A:A,'Tab 16-17'!B80,'00 PDC SP'!L:L)","v":739010.91},{"$f":"SUMIF('00 PDC SP'!A:A,'Tab 16-17'!A80,'00 PDC SP'!M:M)+SUMIF('00 PDC SP'!A:A,'Tab 16-17'!B80,'00 PDC SP'!M:M)","v":1059463.17},{"$f":"F80+G80-H80","v":865402.70000000019},{"$f":"SUMIF('00 PDC SP'!A:A,'Tab 16-17'!B80,'00 PDC SP'!N:N)","v":0},null,null,"fondo svalutazione"]
[null,null,null,"Altri crediti diversi",null,1185855,739010.91,1059463,865402.91000000015,null,null,null,-300000]
[null,null,null,"Fatture da emettere v/altri crediti diversi",null,0,0,0,0]
[]
[]
[]
[]
[]
[]
[null,null,"La voce \"Crediti verso aziende sanitarie pubbliche della Regione - altre prestazioni\" è così composta:"]
[]
[null,null,null,"Tab. 17bis – Dettaglio \"Crediti verso aziende sanitarie pubbliche della Regione - altre prestazioni\""]
[null,null,"Codice Conto","Descrizione",null,{"$f":"\"Saldo al 31/12/\"&'00 PDC SP'!$F$2","v":"Saldo al 31/12/2018"}]
[null,null,"0102021418","Crediti verso ASL  Avezzano Sulmona  L'Aquila",null,490054]
[null,null,"0102021419","Fatture da Emettere V/ASL  Avezzano Sulmona  L'Aquila",null,37721]
[null,null,"0102021420","Crediti verso ASL  Lanciano Vasto Chieti",null,244631]
[null,null,"0102021421","Fatture da Emettere verso ASL  Lanciano Vasto Chieti",null,25919]
[null,null,"0102021424","Crediti verso ASL  di Teramo",null,3838419.77]
[null,null,"0102021425","Fatture da emettere v/ASL Teramo per altre prestazioni",null,4160]
[null,null,"TOTALE",null,null,{"$f":"SUM(F93:F98)","v":4640904.7699999996}]
[]
[]
[null,null,"Il conto \"Crediti verso ASL di Teramo\" accoglie anche le registrazioni di documenti antecedenti alla data di adozione del nuovo Piano dei Conti. Infatti, il nuovo Piano dei Conti declina i crediti verso ASL in base a ciascuna azienda debitrice, a differenza del precedente Piano dei Conti, che prevedeva un conto unico. Si è ritenuto opportuno non riclassificare i crediti artificiosamente da un conto all'altro. Ad ogni buon conto si fa presente che la ripartizione del credito dell'Azienda verso le ASL della Regione è evidenziata nella tabella 24. "]
[]
[]
[]
[]
[]
[]
[]
[]
[null,null,"La voce \"Crediti verso altri\" è così composta:"]
[]
[null,null,null,"Tab. 17-ter – Dettaglio \"Crediti verso altri\""]
[null,null,"Codice Conto","Descrizione",null,{"$f":"\"Saldo al 31/12/\"&'00 PDC SP'!$F$2","v":"Saldo al 31/12/2018"}]
[null,null,"0102022101","Crediti v/clienti privati",null,4535011]
[null,null,"0102022102","Fatture da emettere v/clienti privati",null,608342]
[null,null,"0102022103","Crediti v/utenza per proventi da ticket",null,14200]
[null,null,"0102022109","Crediti v/dipendenti",null,1945]
[null,null,"0205110534","Note credito da emettere v/clienti privati",null,-32249]
[null,null,"0102022301","Crediti v/altri soggetti pubblici",null,217547]
[null,null,"0102022302","Fatture da emettere v/altri soggetti pubblici",null,0]
[null,null,"0102022501","Altri crediti diversi",null,865403]
[null,null,"TOTALE",null,null,{"$f":"SUM(F115:F122)","v":6210199}]

{"sheet":"TAB 17 QUATER","index":19,"n_rows":13,"n_cols":12,"rows_kept":13,"cut":false,"hidden":false,"merged":[[0,1,0,14],[3,3,3,5],[12,1,12,10],[1,2,1,11]]}
[]
[null,null,"  Tab. 17-quater - Dettaglio \"Altri crediti diversi\""]
[]
[null,"Cod. Cliente","Denominazione","Registrazione",null,null,"Data reg.","n. documento","data documento","Descrizione","Importo","Saldo al  31/12/2018"]
[null,953,"UNIVERSITA' G.D'ANNUNZIO DI CHIETI","4",2003,87,"2003-12-31","PROT.INTESA","2003-10-03","ANALISI MOLECOLARE NUTR. INVECCHIAMENTO CARDIOCEREBROVASCOLARI",20140,2014]
[null,5001731,"D'A. P.","4",2005,124,"2005-12-31","NOTA 42 ALA","2005-12-31","SENTENZA N.192/2002 DELLA CORTE DEI CONT",82000,82000]
[null,5001576,"F. L.","4",2005,119,"2005-12-31","NOTA 42 ALA","2005-12-31","SENTENZA N.201/2002 DELLA CORTE DEI CON TI",258228.4,232592.06]
[null,5001215,"F. L.","4",2005,120,"2005-12-31","NOTA 42 ALA","2005-12-31","SENTENZA N.192/2002 DELLA CORTE DEI CON ",82000,532.01]
[null,13874,"M. M. R.","4",2013,12,"2013-06-12","Decr.G.E. 508/11","2011-09-20","Decreto Giudice Esecuzione 508/11       Pignoramento Corte Conti Sent. 184/2011",105745.92,64790.02]
[null,16180,"L. C.","4",2014,883,"2014-12-03","Delibera D.G. 43","2014-01-20","Sentenza Corte Conti n.194/2013         Ord. Giudice Esecuzione n. 587/14 R.G.E.",378720.43,372345.48]
[null,13874,"M. M. R.","4",2014,1184,"2014-12-31","Sent.C.Conti 143","2013-06-05","Sent. Corte Conti 143/13  Atto di precetto",105679.74,105679.74]
[null,2254,"FARMAFACTORING SPA","PN",2018,123999,"2018-12-31",3967,"2019-03-29","Credito verso Farmafactoring per errato pagamento - Somma restituita nel 2019",5449.39,5449.39]
[null,"TOTALE",null,null,null,null,null,null,null,null,null,{"$f":"SUM(L5:L12)","v":865402.70000000007}]

{"sheet":"Dettaglio ABA390 ","index":20,"n_rows":87,"n_cols":7,"rows_kept":87,"cut":false,"hidden":false,"merged":[[1,0,1,6]]}
[]
["Dettaglio  \"Crediti verso Regione per quota FSR\""]
["DESCRIZIONE","TIPOLOGIA DI CREDITO","PROVVEDIMENTI REGIONALI","DATA PROVVEDIMENTI","CREDITO","LIQUIDAZIONE","SALDO"]
["SALDO ABA390 AL 31/12/2017",null,null,null,118927566.06999999,null,{"$f":"E4-F4","v":118927566.06999999}]
["FONDO SVALUTAZIONE ABA390 AL 31/12/2017",null,null,null,-3047520.97,null,-3047520.97]
["ATTRIBUZIONE QUOTA INDISTINTA",null,null,null,544141166.15999997,null,{"$f":"+E6-F6","v":544141166.15999997}]
["ANTICIPAZIONE GENNAIO 2018","ANTICIPAZIONI 2018","DPF012/1","2018-01-11",null,45998756,{"$f":"+E7-F7","v":-45998756}]
["ANTICIPAZIONE FEBBRAIO 2018","ANTICIPAZIONI 2018","DPF012/04","2018-02-16",null,46043133,-46043133]
["ANTICIPAZIONE MARZO 2018","ANTICIPAZIONI 2018","DPF012/08","2018-03-06",null,46043133,-46043133]
["ANTICIPAZIONE APRILE 2018","ANTICIPAZIONI 2018","DPF012/09","2018-04-06",null,46043133,-46043133]
["ANTICIPAZIONE MAGGIO 2018","ANTICIPAZIONI 2018","DPF012/16","2018-05-02",null,46043133,-46043133]
["ANTICIPAZIONE GIUGNO 2018","ANTICIPAZIONI 2018","DPF012/19","2018-05-30",null,46043133,-46043133]
["ANTICIPAZIONE LUGLIO 2018","ANTICIPAZIONI 2018","DPF012/23","2018-07-09",null,46043133,-46043133]
["ANTICIPAZIONE AGOSTO 2018","ANTICIPAZIONI 2018","DPF012/26","2018-08-02",null,46043133,-46043133]
["ANTICIPAZIONE SETTEMBRE 2018","ANTICIPAZIONI 2018","DPF012/28","2018-09-05",null,46043133,-46043133]
["ANTICIPAZIONE OTTOBRE 2018","ANTICIPAZIONI 2018","DPF012/30","2018-10-08",null,52075919,-52075919]
["ANTICIPAZIONE NOVEMBRE 2018","ANTICIPAZIONI 2018","DPF012/33","2018-11-08",null,43858331,-43858331]
["ANTICIPAZIONE DICEMBRE 2018","ANTICIPAZIONI 2018","DPF012/38","2018-12-05",null,45797568,-45797568]
["STORNO ACCONTI EROGATI PER FARMACI IN DPC AGOSTO-DICEMBRE 2018","ANTICIPAZIONI 2018",null,null,null,3647516.27,-3647516.27]
["SOPRAVVENIENZE ATTIVE DA MOBILITÀ 2017","ANTICIPAZIONI 2018",null,null,3032781,null,3032781]
["GIROCONTO MOBILITÀ PASSIVA INTRAREGIONALE DA PUBBLICO","ANTICIPAZIONI 2018",null,null,null,37304725,-37304725]
["GIROCONTO MOBILITÀ PASSIVA INTRAREGIONALE DA PRIVATO","ANTICIPAZIONI 2018",null,null,null,12082856.23,-12082856.23]
["GIROCONTO MOBILITÀ ATTIVA INTRAREGIONALE DA PRIVATO","ANTICIPAZIONI 2018",null,null,46667909,null,46667909]
["GIROCONTO MOBILITÀ ATTIVA INTRAREGIONALE DA PUBBLICO","ANTICIPAZIONI 2018",null,null,52842472,null,52842472]
["GIROCONTO MOBILITÀ ATTIVA EXTRAREGIONALE ","ANTICIPAZIONI 2018",null,null,23288119.719999999,null,23288119.719999999]
["GIROCONTO MOBILITÀ ATTIVA EXTRAREGIONALE ","ANTICIPAZIONI 2018",null,null,null,33463665.77,-33463665.77]
["LOTTA AL TABAGISMO","FUNZIONI REGIONALI 2018","DPF006/1 ","2019-01-21",36426.67,null,36426.67]
["SPESE RELATIVE AGLI ACCORDI INTEGRATIVI DELLA MEDICINA CONVENZIONATA","FUNZIONI REGIONALI 2018","DPF015/68","2018-12-11",1699.91,null,1699.91]
["SPESE RELATIVE AGLI ACCORDI INTEGRATIVI DELLA MEDICINA CONVENZIONATA","FUNZIONI REGIONALI 2018","DPF015/55","2018-10-30",6071.11,6071.11,0]
["L. 219/2005  \"NUOVA DISCIPLINA ATTIVITA' TRASFUSIONALI E PRODUZIONE NAZIONALE EMODERIVATI\"","FUNZIONI REGIONALI 2018","DPF003/55 ","2018-04-18",1097608.3600000001,1097608.3600000001,0]
["PROVVIDENZE A FAVORE DEI NEFROPATICI","FUNZIONI REGIONALI 2018","DPF009/23","2018-06-04",360826.65,128231.14,232595.51]
["PIANO MONITORAGGIO E CONTROLLO VETERINARI TSE","FUNZIONI REGIONALI 2018","DPF011/129 ","2018-09-11",42197.5,42197.5,0]
["BANCA DEL SANGUE PLACENTARE","FUNZIONI REGIONALI 2018","DPF003/157 ","2018-11-22",258000,null,258000]
["PIANO REGIONALE DI PREVENZIONE 2014-2018","FUNZIONI REGIONALI 2018","DPF011/170","2018-11-22",250000,null,250000]
["RILASCIO DEI PATENTINI PER FITOFARMACI","FUNZIONI REGIONALI 2018","DPF011/127 ","2018-09-04",19665.73,19665.73,0]
["PIANO REGIONALE DI PREVENZIONE CAMPAGNA DI VACCINAZIONE ANTINFLUENZALE","FUNZIONI REGIONALI 2018","DPF010/11    DPF010/29     Linee guida","20/02/2018  19/10/2018  19/04/2019",{"$f":"923408.56+48600.45+84995.54","v":1057004.55},{"$f":"923408.56+48600.45","v":972009.01},84995.540000000037]
["PIANO EMATOLOGICO REGIONALE. L.R. 5/1998","FUNZIONI REGIONALI 2018","DPF003/158 ","2018-11-22",528228,null,528228]
["SERVIZIO DI ELISOCCORSO - SISTEMA DI URGENZA ED EMERGENZA SANITARIA “118” REGIONE ABRUZZO","FUNZIONI REGIONALI 2018","DPF017/36","2018-09-17",4669434.9400000004,3469434.94,1200000.0000000005]
[" CORSI DI FORMAZIONE DEFIBRILLAZIONE PRECOCE ","FUNZIONI REGIONALI 2018","DPF017/13\nDPF017/45\nLinee guida","15/03/2018\n20/11/2018\n19/04/2019",{"$f":"15500+42820+14972.5","v":73292.5},{"$f":"15500+42820","v":58320},14972.5]
["ONERI FORMAZIONE MAXIEMERGENZA, GARA TRASPORTI IN ALA FISSA DI CANDIDATI A TRAPIANTO ","FUNZIONI REGIONALI 2018","DPF017/46","2018-11-28",2330565.06,null,2330565.06]
["ECONOMIE 2018 RELATIVE ALLE FUNZIONI REGIONALI","FUNZIONI REGIONALI 2018","DPF012/44",43462,607576.87,null,607576.87]
["PROGETTI OBIETTIVO ANNO 2018","SOMME VINCOLATE 2018","DPF/19","2018-11-27",4605324.66,null,4605324.66]
["PROGETTI OBIETTIVO ANNO 2018","SOMME VINCOLATE 2018","DPF010/32\n","2018-12-06",1848544.63,null,1848544.63]
["ATTIVITA' SANITARIA PENITENZIARIA - ACCONTO 2018","SOMME VINCOLATE 2018","DPF015/19","2019-03-21",725026.74,null,725026.74]
["PREVENZIONE E ASSIST. DETENUTI INTERNATI TOSSICODIPENDENTI - ACCONTO 2018","SOMME VINCOLATE 2018","DPF015/74","2018-12-20",37833.599999999999,null,37833.599999999999]
["RIMBORSO ACQUISTO FARMACI INNOVATIVI","SOMME VINCOLATE 2018","DPF003/16","2019-02-13",3183837.63,null,3183837.63]
["RIMBORSO ACQUISTO FARMACI INNOVATIVI ONCOLOGICI","SOMME VINCOLATE 2018","DPF003/17","2019-02-13",3350445.08,null,3350445.08]
["INFLUENZA AVIARIA","SOMME VINCOLATE 2018","DPF011/170","2018-12-04",13789.5,null,13789.5]
["ULTERIORE ANTICIPAZIONE FSR 2017","QUOTE RESIDUE ANNI PRECEDENTI","DPF012/52 ","2017-12-28",null,9569180.4700000007,-9569180.4700000007]
["LOTTA AL TABAGISMO","FUNZIONI REGIONALI 2016","RA/97361/DPF010","2017-04-11",null,36083,-36083]
["LOTTA AL TABAGISMO somma liquidata in piu","FUNZIONI REGIONALI 2016","RA/97361/DPF010","2017-04-11",325.19,325.19,0]
["LOTTA AL TABAGISMO","FUNZIONI REGIONALI 2017","DPF006/04","2018-03-14",null,36450.35,-36450.35]
["BANCA DEL SANGUE PLACENTARE","FUNZIONI REGIONALI 2017","DPF003/161","2017-12-12",null,258000,-258000]
["ECONOMIE FUNZIONI REGIONALI 2017","FUNZIONI REGIONALI 2017","DPF012/54","2017-12-29",null,771383.39,-771383.39]
["PIANO EMATOLOGICO REGIONALE. L.R. 5/1998","FUNZIONI REGIONALI 2017","DPF003/23","2018-02-19",null,242000,{"$f":"+E55-F55","v":-242000}]
["PIANO EMATOLOGICO REGIONALE. L.R. 5/1998","FUNZIONI REGIONALI 2017","DPF003/34","2018-03-07",null,286228,-286228]
["SERVIZIO DI ELISOCCORSO EMERGENZA SANITARIA","FUNZIONI REGIONALI 2017","DPF017/46","2017-12-11",null,1251796.43,-1251796.43]
["SERVIZIO DI ELISOCCORSO EMERGENZA SANITARIA","FUNZIONI REGIONALI 2017","DPF017/23","2017-06-13",null,{"$f":"560703.92+78768.63","v":639472.55000000005},-639472.55000000005]
["PROMOZIONE DIFFUSIONE DEFIBRILLATORI SEMIAUTOMATICI","FUNZIONI REGIONALI 2015","DPF017/16","2015-11-30",null,4235,-4235]
["DEFIBRILLAZIONE PRECOCE - COMPETENZE ISTRUTTORI 2° SEMESTRE 2017","FUNZIONI REGIONALI 2017","DPF017/07","2018-02-21",null,17280,-17280]
["SERVIZIO DI ELISOCCORSO EMERGENZA SANITARIA","FUNZIONI REGIONALI 2014","DPF017/34","2018-08-17",609826.12,609826.12,0]
["TSE 2017","FUNZIONI REGIONALI 2017","DPF011/191","2017-12-11",null,45275.22,-45275.22]
["PIANO REGIONALE DI PREVENZIONE - SALDO SCREENING ONCOLOGICI E VACCINAZIONI","FUNZIONI REGIONALI 2017","DPF010/22","2017-11-02",null,473306.59,-473306.59]
["PROVVIDENZE  FAVORE DEI NEFROPATICI E SERVIZI DI DIALISI","FUNZIONI REGIONALI 2017","DPF009/17\n","04/08/2017\n",null,230819.18,-230819.18]
["PREVENZIONE E ASSIST. DETENUTI TOSSICODIPENDENTI - ACCONTO 80% 2017","FSN VINCOLATO 2017","DPF015/01","2018-01-04",37833.599999999999,37833.599999999999,0]
["PREVENZIONE E ASSIST. DETENUTI TOSSICODIPENDENTI - SALDO 2017","FSN VINCOLATO 2017","DPF015/63","2018-11-30",9458.4,null,9458.4]
["TRATTAMENTO DOMICILIARE MALATI DI AIDS","FSN VINCOLATO 2012","DPF010/07","2018-02-06",106866.86,106866.86,0]
["LOTTA CONTRO AIDS - 24^ CORSO FORMAZIONE PERSONALE MALATTIE INFETTIVE","FSN VINCOLATO ","DPF004/02","2018-04-05",56899.99,56899.99,0]
["ATTIVITA' SANITARIA PENITENZIARIA SALDO 2015","FSN VINCOLATO 2015","DPF015/02","2018-01-09",214122.7,214122.7,0]
["ATTIVITA' SANITARIA PENITENZIARIA SALDO 2016","FSN VINCOLATO 2016","DPF015/03","2018-01-09",152386.59,152386.59,0]
["ATTIVITA' SANITARIA PENITENZIARIA 2017","FSN VINCOLATO 2017","DPF015/66","2018-12-05",912430.92,null,912430.92]
["PREVENZ.TARDIVA E AVANZATA INFEZIONE HIV-PIANO REG.PREVENZIONE 2014-2018 AZIONE 2 PROGR.12","FSN VINCOLATO ","DPF010/16","2018-03-09",320000,320000,{"$f":"+E72-F72","v":0}]
["SCREENING NEONATALE PER DIAGNOSI PRECOCE MALATTIE METABOLICHE EREDITARIE","FSN VINCOLATO ","DPF010/14","2018-02-28",127428.88,127428.88,0]
["EMERSIONE LAVORATORI STRANIERI IRREGOLARI ANNO 2013","FSN VINCOLATO 2013","DPF015/44","2018-09-04",433204.73,433204.73,0]
["EMERSIONE LAVORATORI STRANIERI IRREGOLARI ANNO 2012","FSN VINCOLATO 2012","DPF015/45","2018-09-11",184962.39,184962.39,0]
["EXTRACOMUNITARI IRREGOLARI ACCONTO FSN 2017","FSN VINCOLATO 2017","DPF015/51","2018-10-04",127091.97,127091.97,0]
["ACCORDI INTEGRATIVI DELLA MEDICINA CONVENZIONATA  - RESIDUI 2016-2017","FSN VINCOLATO ","DPF015/47","2018-09-21",1624,1624,0]
["FONDO ESCLUSIVITA' DIRIGENTI RUOLO SANITARIO L.448/98 ANNI 2013-2014-2015-2016","FSN VINCOLATO ","DPF004/04","2018-09-11",774519.17,774519.17,0]
["OBIETTIVI DI PIANO 2015","FSN VINCOLATO 2015","RA/72944/DPF012","2016-04-06",null,240651,-240651]
["OBIETTIVI DI PIANO 2016","FSN VINCOLATO 2016","RA/97361/DPF010","2017-04-11",null,414351.77,-414351.77]
["RIMBORSO FARMACI INNOVATIVI ONCOLOGICI 2017","FSN VINCOLATO 2017","DPF003/179","2017-12-29",null,3950444.04,-3950444.04]
["RIMBORSO FARMACI INNOVATIVI 2017","FSN VINCOLATO 2017","DPF003/43","2018-04-06",null,3846894,-3846894]
["SALDO ABA390 AL 31/12/2018",null,null,null,null,null,{"$f":"SUM(G4:G82)","v":141195991.93999994}]
[null,null,null,null,null,null,3047520.97]
[]
[]
[null,null,null,null,null,null,{"$f":"SUM(G83:G84)","v":144243512.90999994}]

{"sheet":"Dettaglio ABA430","index":21,"n_rows":24,"n_cols":7,"rows_kept":24,"cut":false,"hidden":false,"merged":[[1,0,1,6]]}
[]
["Dettaglio  \"Crediti verso Regione per finanziamento sanitario aggiuntivo corrente LEA\""]
["DESCRIZIONE","TIPOLOGIA DI CREDITO","PROVVEDIMENTI REGIONALI","DATA PROVV","CREDITO","LIQUIDAZIONE","SALDO"]
["SALDO ABA430 AL 31/12/2017",null,null,null,10384091,null,{"$f":"+E4-F4","v":10384091}]
["PIANO MONITORAGGIO PER RICERCA DIOSSINE IN ALIMENTI ORIGINE ANIMALE","SOMME VINCOLATE EXTRAFONDO","DPF011/08","2018-01-24",4078,4078,{"$f":"E5-F5","v":0}]
["CONSULTORI FAMILIARI ANNO 2018","SOMME VINCOLATE EXTRAFONDO","DPF015/34","2018-05-30",85050.79,85050.79,{"$f":"E6-F6","v":0}]
["RICOLLOCAMENTO PERSONALE ESACRI  II SEMESTRE 2017","SOMME VINCOLATE EXTRAFONDO","DPF004/03","2018-05-09",153912.94,153912.94,0]
["D.LGS.194/2008 MIGLIORAMENTO SISTEMA INFORMATIVO VETERINARIO","SOMME VINCOLATE EXTRAFONDO","DPF011/178","2018-12-13",14143.05,null,14143.05]
["PROTEZIONE SOGGETTI MALATI DI CELIACHIA   L.123/2015  ANNI 2015 E 2016","SOMME VINCOLATE EXTRAFONDO","DPF009/72","2018-12-05",26127.97,null,26127.97]
["PAYBACK  2015","PAYBACK","DPF003/120","2016-11-15",null,224690.82,-224690.82]
["PAYBACK SPECIALITA' MEDICINALI VARIE","PAYBACK","DPF003/159","2017-12-07",null,7523.1,-7523.1]
["PAYBACK  1 SEMESTRE 2016 1,83%","PAYBACK","DPF003/158","2017-12-07",null,3902.66,-3902.66]
["PAYBACK  2 SEMESTRE  2016  1,83%","PAYBACK","DPF003/157","2017-12-07",null,523381.49,-523381.49]
["PAYBACK SPECIALITA' MEDICINALI VARIE","PAYBACK","DPF003/155","2017-12-07",null,67037.820000000007,-67037.820000000007]
["PAYBACK 2015-2016-2017  DET. AIFA 1525/2015","PAYBACK","DPF003/154","2017-12-07",null,470558.25,-470558.25]
["PAYBACK 1 SEMESTRE  2017 1,83%","PAYBACK","DPF003/13","2018-02-08",null,620591.31999999995,-620591.31999999995]
["PAYBACK 5%   2017","PAYBACK","DPF003/12","2018-02-08",null,836659.62,-836659.62]
["PAYBACK SPECIALITA' MEDICINALI VARIE","PAYBACK","DPF003/21","2018-02-19",null,315041.23,-315041.23]
["PAYBACK  1 SEMESTRE 2017  1,83%","PAYBACK","DPF003/101","2018-08-08",82973.679999999993,82973.679999999993,0]
["PAYBACK  2 SEMESTRE 2017  1,83%","PAYBACK","DPF003/148","2018-10-30",509394.43,509394.43,0]
["PAY BACK SPECIALITA' MEDICINALI VARIE DET. AIFA del 29.09.2006","PAYBACK","DPF003/199","2018-12-20",837700.76,null,837700.76]
["PAYBACK  1 SEMESTRE 2018  1,83%","PAYBACK","DPF003/11","2019-02-11",555865.38,null,555865.38]
["PAYBACK 5%   2018","PAYBACK","DPF003/12","2019-02-11",629764.66,null,629764.66]
["SALDO ABA430 AL 31/12/2018",null,null,null,null,null,{"$f":"SUM(G4:G23)","v":9378306.5100000016}]

{"sheet":"Dettaglio ABA480 ","index":22,"n_rows":4,"n_cols":2,"rows_kept":4,"cut":false,"hidden":false,"merged":[[0,0,0,1]]}
["ABA480 \"Crediti v/Regione o Provincia Autonoma per finanziamenti per investimenti\""]
[null,"IMPORTO"]
["SALDO ABA480 al 31/12/2017",38255]
["SALDO ABA480 al 31/12/2018",38255]

{"sheet":"Dettaglio ABA500 ","index":23,"n_rows":5,"n_cols":9,"rows_kept":5,"cut":false,"hidden":false,"merged":[[0,0,0,8]]}
["Dettaglio  \"Crediti v/Regione per ripiano perdite\""]
["TIPOLOGIA DI CREDITO","PROVVEDIMENTI REGIONALI","DATA ","NUM. MANDATO","DATA MANDATO","CAPITOLO","CREDITO","LIQUIDAZIONE","SALDO"]
["SALDO ABA500 AL 31/12/2017",null,null,null,null,null,null,null,14264710]
["Assegnazione risorse finanziarie a titolo di copertura perdita di esercizio 2017","RA 0122860/ DPF012  (linee guida redazione bilanci delle Asl Regionali  al 31/12/2018)","2019-04-19",null,null,null,13609624,null,13609624]
["SALDO ABA500 al 31/12/2018",null,null,null,null,null,null,null,{"$f":"SUM(I3:I4)","v":27874334}]

{"sheet":"Tab 18-19","index":24,"n_rows":99,"n_cols":8,"rows_kept":99,"cut":false,"hidden":false,"merged":[[102,1,103,7],[51,4,51,6],[52,4,52,6],[53,4,53,6],[54,2,54,6],[46,2,46,7],[47,4,47,6],[48,4,48,6],[49,4,49,6],[50,4,50,6]]}
[null,null,"Tab. 18 – Movimentazioni del fondo svalutazione crediti – I parte"]
[null,"CODICE MOD. SP","FONDO SVALUTAZIONE CREDITI",null,"Fondo svalutazione iniziale","Accantonamenti","Utilizzi","Fondo svalutazione finale"]
[null,null," CREDITI V/STATO - PARTE CORRENTE",null,{"$f":"E4+E11","v":0},{"$f":"F4+F11","v":0},0,0]
[null,null," Crediti v/Stato per spesa corrente e acconti:",null,{"$f":"E5+E6+E7+E8+E9+E10","v":0},{"$f":"F5+F6+F7+F8+F9+F10","v":0},0,0]
[{"$f":"B5&\"FS\"","v":"ABA210FS"},"ABA210","  Crediti v/Stato per spesa corrente - Integrazione a norma del D.Lvo 56/2000",null,{"$f":"SUMIF('00 PDC SP'!$A:$A,'Tab 18-19'!$A5,'00 PDC SP'!K:K)","v":0},{"$f":"SUMIF('00 PDC SP'!$A:$A,'Tab 18-19'!$A5,'00 PDC SP'!L:L)","v":0},{"$f":"SUMIF('00 PDC SP'!$A:$A,'Tab 18-19'!$A5,'00 PDC SP'!M:M)","v":0},{"$f":"E5+F5-G5","v":0}]
["ABA220FS","ABA220","  Crediti v/Stato per spesa corrente - FSN",null,{"$f":"SUMIF('00 PDC SP'!$A:$A,'Tab 18-19'!$A6,'00 PDC SP'!K:K)","v":0},{"$f":"SUMIF('00 PDC SP'!$A:$A,'Tab 18-19'!$A6,'00 PDC SP'!L:L)","v":0},{"$f":"SUMIF('00 PDC SP'!$A:$A,'Tab 18-19'!$A6,'00 PDC SP'!M:M)","v":0},0]
["ABA230FS","ABA230","  Crediti v/Stato per mobilità attiva extraregionale",null,{"$f":"SUMIF('00 PDC SP'!$A:$A,'Tab 18-19'!$A7,'00 PDC SP'!K:K)","v":0},{"$f":"SUMIF('00 PDC SP'!$A:$A,'Tab 18-19'!$A7,'00 PDC SP'!L:L)","v":0},{"$f":"SUMIF('00 PDC SP'!$A:$A,'Tab 18-19'!$A7,'00 PDC SP'!M:M)","v":0},0]
["ABA240FS","ABA240","  Crediti v/Stato per mobilità attiva internazionale",null,{"$f":"SUMIF('00 PDC SP'!$A:$A,'Tab 18-19'!$A8,'00 PDC SP'!K:K)","v":0},{"$f":"SUMIF('00 PDC SP'!$A:$A,'Tab 18-19'!$A8,'00 PDC SP'!L:L)","v":0},{"$f":"SUMIF('00 PDC SP'!$A:$A,'Tab 18-19'!$A8,'00 PDC SP'!M:M)","v":0},0]
["ABA250FS","ABA250","  Crediti v/Stato per acconto quota fabbisogno sanitario regionale standard",null,{"$f":"SUMIF('00 PDC SP'!$A:$A,'Tab 18-19'!$A9,'00 PDC SP'!K:K)","v":0},{"$f":"SUMIF('00 PDC SP'!$A:$A,'Tab 18-19'!$A9,'00 PDC SP'!L:L)","v":0},{"$f":"SUMIF('00 PDC SP'!$A:$A,'Tab 18-19'!$A9,'00 PDC SP'!M:M)","v":0},0]
["ABA260FS","ABA260","  Crediti v/Stato per finanziamento sanitario aggiuntivo corrente",null,{"$f":"SUMIF('00 PDC SP'!$A:$A,'Tab 18-19'!$A10,'00 PDC SP'!K:K)","v":0},{"$f":"SUMIF('00 PDC SP'!$A:$A,'Tab 18-19'!$A10,'00 PDC SP'!L:L)","v":0},{"$f":"SUMIF('00 PDC SP'!$A:$A,'Tab 18-19'!$A10,'00 PDC SP'!M:M)","v":0},0]
[null,null," Crediti v/Stato - altro:",null,{"$f":"E12","v":0},{"$f":"F12","v":0},{"$f":"G12","v":0},{"$f":"H12","v":0}]
[{"$f":"B12&\"FS\"","v":"ABA270FS"},"ABA270","  Crediti v/Stato per spesa corrente - altro",null,{"$f":"SUMIF('00 PDC SP'!$A:$A,'Tab 18-19'!$A12,'00 PDC SP'!K:K)","v":0},{"$f":"SUMIF('00 PDC SP'!$A:$A,'Tab 18-19'!$A12,'00 PDC SP'!L:L)","v":0},{"$f":"SUMIF('00 PDC SP'!$A:$A,'Tab 18-19'!$A12,'00 PDC SP'!M:M)","v":0},{"$f":"E12+F12-G12","v":0}]
[null,null," CREDITI V/STATO - INVESTIMENTI",null,{"$f":"E14","v":0},{"$f":"F14","v":0},{"$f":"G14","v":0},{"$f":"H14","v":0}]
[{"$f":"B14&\"FS\"","v":"ABA280FS"},"ABA280"," Crediti v/Stato per finanziamenti per investimenti:",null,{"$f":"SUMIF('00 PDC SP'!$A:$A,'Tab 18-19'!$A14,'00 PDC SP'!K:K)","v":0},{"$f":"SUMIF('00 PDC SP'!$A:$A,'Tab 18-19'!$A14,'00 PDC SP'!L:L)","v":0},{"$f":"SUMIF('00 PDC SP'!$A:$A,'Tab 18-19'!$A14,'00 PDC SP'!M:M)","v":0},{"$f":"E14+F14-G14","v":0}]
[null,null,"  ……"]
[null,null," CREDITI V/STATO - RICERCA",null,{"$f":"E17+E20","v":0},{"$f":"F17+F20","v":0},{"$f":"G17+G20","v":0},{"$f":"H17+H20","v":0}]
[{"$f":"B17&\"FS\"","v":"ABA300FS"},"ABA300"," Crediti v/Stato per ricerca corrente - Ministero della Salute ",null,{"$f":"SUMIF('00 PDC SP'!$A:$A,'Tab 18-19'!$A17,'00 PDC SP'!K:K)","v":0},{"$f":"SUMIF('00 PDC SP'!$A:$A,'Tab 18-19'!$A17,'00 PDC SP'!L:L)","v":0},{"$f":"SUMIF('00 PDC SP'!$A:$A,'Tab 18-19'!$A17,'00 PDC SP'!M:M)","v":0},{"$f":"E17+F17-G17","v":0}]
[{"$f":"B18&\"FS\"","v":"ABA310FS"},"ABA310"," Crediti v/Stato per ricerca finalizzata - Ministero della Salute ",null,{"$f":"SUMIF('00 PDC SP'!$A:$A,'Tab 18-19'!$A18,'00 PDC SP'!K:K)","v":0},{"$f":"SUMIF('00 PDC SP'!$A:$A,'Tab 18-19'!$A18,'00 PDC SP'!L:L)","v":0},{"$f":"SUMIF('00 PDC SP'!$A:$A,'Tab 18-19'!$A18,'00 PDC SP'!M:M)","v":0},0]
[{"$f":"B19&\"FS\"","v":"ABA320FS"},"ABA320"," Crediti v/Stato per ricerca - altre Amministrazioni centrali ",null,{"$f":"SUMIF('00 PDC SP'!$A:$A,'Tab 18-19'!$A19,'00 PDC SP'!K:K)","v":0},{"$f":"SUMIF('00 PDC SP'!$A:$A,'Tab 18-19'!$A19,'00 PDC SP'!L:L)","v":0},{"$f":"SUMIF('00 PDC SP'!$A:$A,'Tab 18-19'!$A19,'00 PDC SP'!M:M)","v":0},0]
[{"$f":"B20&\"FS\"","v":"ABA330FS"},"ABA330"," Crediti v/Stato per ricerca - finanziamenti per investimenti",null,{"$f":"SUMIF('00 PDC SP'!$A:$A,'Tab 18-19'!$A20,'00 PDC SP'!K:K)","v":0},{"$f":"SUMIF('00 PDC SP'!$A:$A,'Tab 18-19'!$A20,'00 PDC SP'!L:L)","v":0},{"$f":"SUMIF('00 PDC SP'!$A:$A,'Tab 18-19'!$A20,'00 PDC SP'!M:M)","v":0},0]
[{"$f":"B21&\"FS\"","v":"ABA340FS"},"ABA340"," CREDITI V/PREFETTURE",null,{"$f":"SUMIF('00 PDC SP'!$A:$A,'Tab 18-19'!$A21,'00 PDC SP'!K:K)","v":0},{"$f":"SUMIF('00 PDC SP'!$A:$A,'Tab 18-19'!$A21,'00 PDC SP'!L:L)","v":0},{"$f":"SUMIF('00 PDC SP'!$A:$A,'Tab 18-19'!$A21,'00 PDC SP'!M:M)","v":0},0]
[null,null,"TOTALE CREDITI V/STATO",null,{"$f":"E21+E16+E13+E3","v":0},{"$f":"F21+F16+F13+F3","v":0},{"$f":"G21+G16+G13+G3","v":0},{"$f":"H21+H16+H13+H3","v":0}]
[]
[null,null," CREDITI V/REGIONE O P.A. PER SPESA CORRENTE",null,{"$f":"E25+E32+E33+E34","v":-3047520.97},{"$f":"F25+F32+F33+F34","v":0},{"$f":"G25+G32+G33+G34","v":0},{"$f":"H25+H32+H33+H34","v":-3047520.97}]
[null,null," Crediti v/Regione o P.A. per finanziamento sanitario ordinario corrente:",null,{"$f":"E26+E27+E28+E29+E30+E31","v":-3047520.97},{"$f":"F26+F27+F28+F29+F30+F31","v":0},{"$f":"G26+G27+G28+G29+G30+G31","v":0},{"$f":"H26+H27+H28+H29+H30+H31","v":-3047520.97}]
[{"$f":"B26&\"FS\"","v":"ABA370FS"},"ABA370","  Crediti v/Regione o P.A. per spesa corrente - IRAP",null,{"$f":"SUMIF('00 PDC SP'!$A:$A,'Tab 18-19'!$A26,'00 PDC SP'!K:K)","v":0},{"$f":"SUMIF('00 PDC SP'!$A:$A,'Tab 18-19'!$A26,'00 PDC SP'!L:L)","v":0},{"$f":"SUMIF('00 PDC SP'!$A:$A,'Tab 18-19'!$A26,'00 PDC SP'!M:M)","v":0},{"$f":"E26+F26-G26","v":0}]
["ABA380FS","ABA380","  Crediti v/Regione o P.A. per spesa corrente - Addizionale IRPEF",null,{"$f":"SUMIF('00 PDC SP'!$A:$A,'Tab 18-19'!$A27,'00 PDC SP'!K:K)","v":0},{"$f":"SUMIF('00 PDC SP'!$A:$A,'Tab 18-19'!$A27,'00 PDC SP'!L:L)","v":0},{"$f":"SUMIF('00 PDC SP'!$A:$A,'Tab 18-19'!$A27,'00 PDC SP'!M:M)","v":0},0]
["ABA390FS","ABA390","  Crediti v/Regione o P.A. per quota FSR",null,{"$f":"SUMIF('00 PDC SP'!$A:$A,'Tab 18-19'!$A28,'00 PDC SP'!K:K)","v":-3047520.97},{"$f":"SUMIF('00 PDC SP'!$A:$A,'Tab 18-19'!$A28,'00 PDC SP'!L:L)","v":0},{"$f":"SUMIF('00 PDC SP'!$A:$A,'Tab 18-19'!$A28,'00 PDC SP'!M:M)","v":0},-3047520.97]
["ABA400FS","ABA400","  Crediti v/Regione o P.A. per mobilità attiva intraregionale",null,{"$f":"SUMIF('00 PDC SP'!$A:$A,'Tab 18-19'!$A29,'00 PDC SP'!K:K)","v":0},{"$f":"SUMIF('00 PDC SP'!$A:$A,'Tab 18-19'!$A29,'00 PDC SP'!L:L)","v":0},{"$f":"SUMIF('00 PDC SP'!$A:$A,'Tab 18-19'!$A29,'00 PDC SP'!M:M)","v":0},0]
["ABA410FS","ABA410","  Crediti v/Regione o P.A. per mobilità attiva extraregionale",null,{"$f":"SUMIF('00 PDC SP'!$A:$A,'Tab 18-19'!$A30,'00 PDC SP'!K:K)","v":0},{"$f":"SUMIF('00 PDC SP'!$A:$A,'Tab 18-19'!$A30,'00 PDC SP'!L:L)","v":0},{"$f":"SUMIF('00 PDC SP'!$A:$A,'Tab 18-19'!$A30,'00 PDC SP'!M:M)","v":0},0]
["ABA420FS","ABA420","  Crediti v/Regione o P.A. per acconto quota FSR",null,{"$f":"SUMIF('00 PDC SP'!$A:$A,'Tab 18-19'!$A31,'00 PDC SP'!K:K)","v":0},{"$f":"SUMIF('00 PDC SP'!$A:$A,'Tab 18-19'!$A31,'00 PDC SP'!L:L)","v":0},{"$f":"SUMIF('00 PDC SP'!$A:$A,'Tab 18-19'!$A31,'00 PDC SP'!M:M)","v":0},0]
["ABA430FS","ABA430"," Crediti v/Regione o P.A. per finanziamento sanitario aggiuntivo corrente LEA",null,{"$f":"SUMIF('00 PDC SP'!$A:$A,'Tab 18-19'!$A32,'00 PDC SP'!K:K)","v":0},{"$f":"SUMIF('00 PDC SP'!$A:$A,'Tab 18-19'!$A32,'00 PDC SP'!L:L)","v":0},{"$f":"SUMIF('00 PDC SP'!$A:$A,'Tab 18-19'!$A32,'00 PDC SP'!M:M)","v":0},0]
["ABA440FS","ABA440"," Crediti v/Regione o P.A. per finanziamento sanitario aggiuntivo corrente extra LEA",null,{"$f":"SUMIF('00 PDC SP'!$A:$A,'Tab 18-19'!$A33,'00 PDC SP'!K:K)","v":0},{"$f":"SUMIF('00 PDC SP'!$A:$A,'Tab 18-19'!$A33,'00 PDC SP'!L:L)","v":0},{"$f":"SUMIF('00 PDC SP'!$A:$A,'Tab 18-19'!$A33,'00 PDC SP'!M:M)","v":0},0]
["ABA450FS","ABA450"," Crediti v/Regione o P.A. per spesa corrente - altro",null,{"$f":"SUMIF('00 PDC SP'!$A:$A,'Tab 18-19'!$A34,'00 PDC SP'!K:K)","v":0},{"$f":"SUMIF('00 PDC SP'!$A:$A,'Tab 18-19'!$A34,'00 PDC SP'!L:L)","v":0},{"$f":"SUMIF('00 PDC SP'!$A:$A,'Tab 18-19'!$A34,'00 PDC SP'!M:M)","v":0},0]
["ABA460FS","ABA460"," CREDITI V/REGIONE O P.A. PER RICERCA:",null,{"$f":"SUMIF('00 PDC SP'!$A:$A,'Tab 18-19'!$A35,'00 PDC SP'!K:K)","v":0},{"$f":"SUMIF('00 PDC SP'!$A:$A,'Tab 18-19'!$A35,'00 PDC SP'!L:L)","v":0},{"$f":"SUMIF('00 PDC SP'!$A:$A,'Tab 18-19'!$A35,'00 PDC SP'!M:M)","v":0},{"$f":"E35+F35-G35","v":0}]
[null,null,"  ……"]
[null,null," CREDITI V/REGIONE O P.A. PER VERSAMENTI A PATRIMONIO NETTO",null,{"$f":"E38+E39+E40","v":0},{"$f":"F38+F39+F40","v":0},0,0]
[{"$f":"B38&\"FS\"","v":"ABA480FS"},"ABA480","  Crediti v/Regione o P.A. per finanziamenti per investimenti",null,{"$f":"SUMIF('00 PDC SP'!$A:$A,'Tab 18-19'!$A38,'00 PDC SP'!K:K)","v":0},{"$f":"SUMIF('00 PDC SP'!$A:$A,'Tab 18-19'!$A38,'00 PDC SP'!L:L)","v":0},{"$f":"SUMIF('00 PDC SP'!$A:$A,'Tab 18-19'!$A38,'00 PDC SP'!M:M)","v":0},{"$f":"E38+F38-G38","v":0}]
[{"$f":"B39&\"FS\"","v":"ABA490FS"},"ABA490","  Crediti v/Regione o P.A. per incremento fondo dotazione",null,{"$f":"SUMIF('00 PDC SP'!$A:$A,'Tab 18-19'!$A39,'00 PDC SP'!K:K)","v":0},{"$f":"SUMIF('00 PDC SP'!$A:$A,'Tab 18-19'!$A39,'00 PDC SP'!L:L)","v":0},{"$f":"SUMIF('00 PDC SP'!$A:$A,'Tab 18-19'!$A39,'00 PDC SP'!M:M)","v":0},0]
[null,null,"  Crediti v/Regione o P.A. per ripiano perdite:",null,{"$f":"E41+E42+E43","v":0},{"$f":"F41+F42+F43","v":0},0,{"$f":"H41+H42+H43","v":0}]
[{"$f":"B41&\"FS\"","v":"ABA500FS"},"ABA500","  Crediti v/Regione o P.A. per ripiano perdite",null,{"$f":"SUMIF('00 PDC SP'!$A:$A,'Tab 18-19'!$A41,'00 PDC SP'!K:K)","v":0},{"$f":"SUMIF('00 PDC SP'!$A:$A,'Tab 18-19'!$A41,'00 PDC SP'!L:L)","v":0},{"$f":"SUMIF('00 PDC SP'!$A:$A,'Tab 18-19'!$A41,'00 PDC SP'!M:M)","v":0},{"$f":"E41+F41-G41","v":0}]
[{"$f":"B42&\"FS\"","v":"ABA510FS"},"ABA510","  Crediti v/Regione per copertura debiti al 31/12/2005",null,{"$f":"SUMIF('00 PDC SP'!$A:$A,'Tab 18-19'!$A42,'00 PDC SP'!K:K)","v":0},{"$f":"SUMIF('00 PDC SP'!$A:$A,'Tab 18-19'!$A42,'00 PDC SP'!L:L)","v":0},{"$f":"SUMIF('00 PDC SP'!$A:$A,'Tab 18-19'!$A42,'00 PDC SP'!M:M)","v":0},0]
[{"$f":"B43&\"FS\"","v":"ABA520FS"},"ABA520","Crediti v/Regione o P.A. per ricostituzione risorse da investimenti esercizi precedenti",null,{"$f":"SUMIF('00 PDC SP'!$A:$A,'Tab 18-19'!$A43,'00 PDC SP'!K:K)","v":0},{"$f":"SUMIF('00 PDC SP'!$A:$A,'Tab 18-19'!$A43,'00 PDC SP'!L:L)","v":0},{"$f":"SUMIF('00 PDC SP'!$A:$A,'Tab 18-19'!$A43,'00 PDC SP'!M:M)","v":0},0]
[null,null,"TOTALE CREDITI V/REGIONE O PROVINCIA AUTONOMA",null,{"$f":"E37+E35+E24","v":-3047520.97},{"$f":"F37+F35+F24","v":0},{"$f":"G37+G35+G24","v":0},{"$f":"H37+H35+H24","v":-3047520.97}]
[]
[null,null,"Tab. 18 bis – Dettaglio del Fondo svalutazione crediti verso Regione per quota FSR"]
[null,null,"FONDO SVALUTAZIONE CREDITI VERSO REGIONE"]
[null,null,"Note",null,"Descrizione",null,null,"Importo"]
[null,null,"Prot. 20954/6/2423 del 17/10/1997",null,"Interventi a favore della famiglia anno 1997",null,null,20959.34]
[null,null,"DEL G.R.A. n.640 del 31/03/1999",null,"Tutela della fauna minore",null,null,{"$f":"1910.89+2066","v":3976.8900000000003}]
[null,null,"Prot. N 1612 del 14/05/2002 Serv.Interv.Socio-Assistenziali",null,"Interventi a favore della famiglia anno 2001",null,null,5422.8]
[null,null,"Spesa Farmaci erogati per malattie rare",null,"Nota a firma del Responsabile della Farmacia ospedaliera",null,null,1145345.71]
[null,null,"Spesa Farmaci erogati per malattie rare Anni 2002-2004",null,"Nota a firma del Responsabile della Farmacia ospedaliera",null,null,1508304.98]
[null,null,"Nota R.A.n.8804/02",null,"Residuo FSR 2001 ",null,null,363511.25]
[null,null,"TOTALE",null,null,null,null,{"$f":"SUM(H49:H54)","v":3047520.9699999997}]
[]
[null,null,"Tab. 19 – Movimentazioni del fondo svalutazione crediti – II parte"]
[null,"CODICE MOD. SP","FONDO SVALUTAZIONE CREDITI",null,"Fondo svalutazione iniziale","Accantonamenti","Utilizzi","Fondo svalutazione finale"]
[{"$f":"B59&\"FS\"","v":"ABA530FS"},"ABA530"," CREDITI V/COMUNI",null,{"$f":"SUMIF('00 PDC SP'!$A:$A,'Tab 18-19'!$A59,'00 PDC SP'!K:K)","v":0},{"$f":"SUMIF('00 PDC SP'!$A:$A,'Tab 18-19'!$A59,'00 PDC SP'!L:L)","v":0},{"$f":"SUMIF('00 PDC SP'!$A:$A,'Tab 18-19'!$A59,'00 PDC SP'!M:M)","v":0},{"$f":"E59+F59-G59","v":0}]
[null,null,"  ……"]
[null,null,"  ……"]
[]
[null,null," CREDITI V/AZIENDE SANITARIE PUBBLICHE DELLA REGIONE",null,{"$f":"E64+E65+E66","v":-3259926.7},{"$f":"F64+F65+F66","v":0},{"$f":"G64+G65+G66","v":0},{"$f":"H64+H65+H66","v":-3259926.7}]
[{"$f":"B64&\"FS\"","v":"ABA560FS"},"ABA560"," Crediti v/Aziende sanitarie pubbliche della Regione - mobilità\n in compensazione",null,{"$f":"SUMIF('00 PDC SP'!$A:$A,'Tab 18-19'!$A64,'00 PDC SP'!K:K)","v":0},{"$f":"SUMIF('00 PDC SP'!$A:$A,'Tab 18-19'!$A64,'00 PDC SP'!L:L)","v":0},{"$f":"SUMIF('00 PDC SP'!$A:$A,'Tab 18-19'!$A64,'00 PDC SP'!M:M)","v":0},{"$f":"E64+F64-G64","v":0}]
[{"$f":"B65&\"FS\"","v":"ABA570FS"},"ABA570"," Crediti v/Aziende sanitarie pubbliche della Regione - mobilità\n non in compensazione",null,{"$f":"SUMIF('00 PDC SP'!$A:$A,'Tab 18-19'!$A65,'00 PDC SP'!K:K)","v":0},{"$f":"SUMIF('00 PDC SP'!$A:$A,'Tab 18-19'!$A65,'00 PDC SP'!L:L)","v":0},{"$f":"SUMIF('00 PDC SP'!$A:$A,'Tab 18-19'!$A65,'00 PDC SP'!M:M)","v":0},{"$f":"E65+F65-G65","v":0}]
[{"$f":"B66&\"FS\"","v":"ABA580FS"},"ABA580"," Crediti v/Aziende sanitarie pubbliche della Regione - altre\n prestazioni",null,{"$f":"SUMIF('00 PDC SP'!$A:$A,'Tab 18-19'!$A66,'00 PDC SP'!K:K)","v":-3259926.7},{"$f":"SUMIF('00 PDC SP'!$A:$A,'Tab 18-19'!$A66,'00 PDC SP'!L:L)","v":0},{"$f":"SUMIF('00 PDC SP'!$A:$A,'Tab 18-19'!$A66,'00 PDC SP'!M:M)","v":0},-3259926.7]
[{"$f":"B67&\"FS\"","v":"ABA590FS"},"ABA590"," Acconto quota FSR da distribuire",null,{"$f":"SUMIF('00 PDC SP'!$A:$A,'Tab 18-19'!$A67,'00 PDC SP'!K:K)","v":0},{"$f":"SUMIF('00 PDC SP'!$A:$A,'Tab 18-19'!$A67,'00 PDC SP'!L:L)","v":0},{"$f":"SUMIF('00 PDC SP'!$A:$A,'Tab 18-19'!$A67,'00 PDC SP'!M:M)","v":0},0]
[{"$f":"B68&\"FS\"","v":"ABA600FS"},"ABA600"," CREDITI V/AZIENDE SANITARIE PUBBLICHE FUORI REGIONE",null,{"$f":"SUMIF('00 PDC SP'!$A:$A,'Tab 18-19'!$A68,'00 PDC SP'!K:K)","v":0},{"$f":"SUMIF('00 PDC SP'!$A:$A,'Tab 18-19'!$A68,'00 PDC SP'!L:L)","v":0},{"$f":"SUMIF('00 PDC SP'!$A:$A,'Tab 18-19'!$A68,'00 PDC SP'!M:M)","v":0},0]
[null,null,"TOTALE CREDITI V/AZIENDE SANITARIE PUBBLICHE",null,{"$f":"E63+E67+E68","v":-3259926.7},{"$f":"F63+F67+F68","v":0},{"$f":"G63+G67+G68","v":0},{"$f":"H63+H67+H68","v":-3259926.7}]
[]
[null,null," CREDITI V/SOCIETA' PARTECIPATE E/O ENTI DIPENDENTI",null,{"$f":"E72+E75+E78","v":0},{"$f":"F72+F75+F78","v":0},{"$f":"G72+G75+G78","v":0},{"$f":"H72+H75+H78","v":0}]
[{"$f":"B72&\"FS\"","v":"ABA620FS"},"ABA620"," Crediti v/enti regionali:",null,{"$f":"SUMIF('00 PDC SP'!$A:$A,'Tab 18-19'!$A72,'00 PDC SP'!K:K)","v":0},{"$f":"SUMIF('00 PDC SP'!$A:$A,'Tab 18-19'!$A72,'00 PDC SP'!L:L)","v":0},{"$f":"SUMIF('00 PDC SP'!$A:$A,'Tab 18-19'!$A72,'00 PDC SP'!M:M)","v":0},{"$f":"E72+F72-G72","v":0}]
[null,null,"  ……"]
[null,null,"  ……"]
[{"$f":"B75&\"FS\"","v":"ABA630FS"},"ABA630"," Crediti v/sperimentazioni gestionali:",null,{"$f":"SUMIF('00 PDC SP'!$A:$A,'Tab 18-19'!$A75,'00 PDC SP'!K:K)","v":0},{"$f":"SUMIF('00 PDC SP'!$A:$A,'Tab 18-19'!$A75,'00 PDC SP'!L:L)","v":0},{"$f":"SUMIF('00 PDC SP'!$A:$A,'Tab 18-19'!$A75,'00 PDC SP'!M:M)","v":0},{"$f":"E75+F75-G75","v":0}]
[null,null,"  ……"]
[null,null,"  ……"]
[{"$f":"B78&\"FS\"","v":"ABA640FS"},"ABA640"," Crediti v/altre partecipate:",null,{"$f":"SUMIF('00 PDC SP'!$A:$A,'Tab 18-19'!$A78,'00 PDC SP'!K:K)","v":0},{"$f":"SUMIF('00 PDC SP'!$A:$A,'Tab 18-19'!$A78,'00 PDC SP'!L:L)","v":0},{"$f":"SUMIF('00 PDC SP'!$A:$A,'Tab 18-19'!$A78,'00 PDC SP'!M:M)","v":0},{"$f":"E78+F78-G78","v":0}]
[null,null,"  ……"]
[null,null,"  ……"]
[]
[{"$f":"B82&\"FS\"","v":"ABA650FS"},"ABA650"," CREDITI V/ERARIO",null,{"$f":"SUMIF('00 PDC SP'!$A:$A,'Tab 18-19'!$A82,'00 PDC SP'!K:K)","v":0},{"$f":"SUMIF('00 PDC SP'!$A:$A,'Tab 18-19'!$A82,'00 PDC SP'!L:L)","v":0},{"$f":"SUMIF('00 PDC SP'!$A:$A,'Tab 18-19'!$A82,'00 PDC SP'!M:M)","v":0},{"$f":"E82+F82-G82","v":0}]
[null,null,"  ……"]
[null,null,"  ……"]
[]
[null,null," CREDITI V/ALTRI",null,{"$f":"E87+E88+E91+E94+E97","v":-3174726.99},{"$f":"F87+F88+F91+F94+F97","v":0},{"$f":"G87+G88+G91+G94+G97","v":0},{"$f":"H87+H88+H91+H94+H97","v":-3174726.99}]
[{"$f":"B87&\"FS\"","v":"ABA670FS"},"ABA670"," Crediti v/clienti privati",null,{"$f":"SUMIF('00 PDC SP'!$A:$A,'Tab 18-19'!$A87,'00 PDC SP'!K:K)","v":-2874726.99},{"$f":"SUMIF('00 PDC SP'!$A:$A,'Tab 18-19'!$A87,'00 PDC SP'!L:L)","v":0},{"$f":"SUMIF('00 PDC SP'!$A:$A,'Tab 18-19'!$A87,'00 PDC SP'!M:M)","v":0},{"$f":"E87+F87-G87","v":-2874726.99}]
[{"$f":"B88&\"FS\"","v":"ABA680FS"},"ABA680"," Crediti v/gestioni liquidatorie",null,{"$f":"SUMIF('00 PDC SP'!$A:$A,'Tab 18-19'!$A88,'00 PDC SP'!K:K)","v":0},{"$f":"SUMIF('00 PDC SP'!$A:$A,'Tab 18-19'!$A88,'00 PDC SP'!L:L)","v":0},{"$f":"SUMIF('00 PDC SP'!$A:$A,'Tab 18-19'!$A88,'00 PDC SP'!M:M)","v":0},0]
[null,null,"  ……"]
[null,null,"  ……"]
[{"$f":"B91&\"FS\"","v":"ABA690FS"},"ABA690"," Crediti v/altri soggetti pubblici",null,{"$f":"SUMIF('00 PDC SP'!$A:$A,'Tab 18-19'!$A91,'00 PDC SP'!K:K)","v":0},{"$f":"SUMIF('00 PDC SP'!$A:$A,'Tab 18-19'!$A91,'00 PDC SP'!L:L)","v":0},{"$f":"SUMIF('00 PDC SP'!$A:$A,'Tab 18-19'!$A91,'00 PDC SP'!M:M)","v":0},{"$f":"E91+F91-G91","v":0}]
[null,null,"  ……"]
[null,null,"  ……"]
[{"$f":"B94&\"FS\"","v":"ABA700FS"},"ABA700"," Crediti v/altri soggetti pubblici per ricerca",null,{"$f":"SUMIF('00 PDC SP'!$A:$A,'Tab 18-19'!$A94,'00 PDC SP'!K:K)","v":0},{"$f":"SUMIF('00 PDC SP'!$A:$A,'Tab 18-19'!$A94,'00 PDC SP'!L:L)","v":0},{"$f":"SUMIF('00 PDC SP'!$A:$A,'Tab 18-19'!$A94,'00 PDC SP'!M:M)","v":0},{"$f":"E94+F94-G94","v":0}]
[null,null,"  ……"]
[null,null,"  ……"]
[{"$f":"B97&\"FS\"","v":"ABA710FS"},"ABA710"," Altri crediti diversi",null,{"$f":"SUMIF('00 PDC SP'!$A:$A,'Tab 18-19'!$A97,'00 PDC SP'!K:K)","v":-300000},{"$f":"SUMIF('00 PDC SP'!$A:$A,'Tab 18-19'!$A97,'00 PDC SP'!L:L)","v":0},{"$f":"SUMIF('00 PDC SP'!$A:$A,'Tab 18-19'!$A97,'00 PDC SP'!M:M)","v":0},{"$f":"E97+F97-G97","v":-300000}]
[null,null,"  ……"]
[null,null,"  ……"]

{"sheet":"Tab. 20-21 ","index":25,"n_rows":115,"n_cols":20,"rows_kept":115,"cut":false,"hidden":false,"merged":[[51,2,52,2],[51,3,52,3],[51,5,51,13],[109,2,109,9],[0,3,0,13],[1,2,2,2],[1,3,2,3],[1,5,1,13],[49,2,49,13]]}
[null,null,null,"Tab. 20 – Valore nominale dei crediti distinti per anno di formazione – I parte"]
[null,null,"CODICE MOD. SP","CREDITI",null,"VALORE NOMINALE DEI CREDITI AL 31/12/2017 PER ANNO DI FORMAZIONE"]
[null,null,null,null,null,{"$f":"\"Anno \"&'00 PDC SP'!$F$2-8 &\" e precedenti\"","v":"Anno 2010 e precedenti"},{"$f":"\"Anno \"&'00 PDC SP'!$F$2-7","v":"Anno 2011"},{"$f":"\"Anno \"&'00 PDC SP'!$F$2-6","v":"Anno 2012"},{"$f":"\"Anno \"&'00 PDC SP'!$F$2-5","v":"Anno 2013"},{"$f":"\"Anno \"&'00 PDC SP'!$F$2-4","v":"Anno 2014"},{"$f":"\"Anno \"&'00 PDC SP'!$F$2-3","v":"Anno 2015"},{"$f":"\"Anno \"&'00 PDC SP'!$F$2-2","v":"Anno 2016"},{"$f":"\"Anno \"&'00 PDC SP'!$F$2-1","v":"Anno 2017"},{"$f":"\"Anno \"&'00 PDC SP'!$F$2","v":"Anno 2018"},null,"Valore SP","Diff","Ctrl"]
[null,null,null," CREDITI V/STATO - PARTE CORRENTE",null,{"$f":"F5+F12","v":0},0,0,0,0,0,0,{"$f":"M5+M12","v":0},{"$f":"N5+N12","v":2302},null,{"$f":"P5+P12","v":2301.5199999999968}]
[null,null,null," Crediti v/Stato per spesa corrente e acconti:",null,{"$f":"F6+F7+F8+F9+F10+F11","v":0},0,0,0,0,0,0,{"$f":"M6+M7+M8+M9+M10+M11","v":0},{"$f":"N6+N7+N8+N9+N10+N11","v":2302},null,{"$f":"P6+P7+P8+P9+P10+P11","v":2301.5199999999968}]
[{"$f":"C6&\"CR\"","v":"ABA210CR"},{"$f":"C6&\"FE\"","v":"ABA210FE"},"ABA210","  Crediti v/Stato per spesa corrente - Integrazione a norma del D.Lvo 56/2000",null,0,0,0,0,0,0,0,0,2302,null,{"$f":"SUMIF('00 PDC SP'!A:A,'Tab. 20-21 '!A6,'00 PDC SP'!N:N)+SUMIF('00 PDC SP'!A:A,'Tab. 20-21 '!B6,'00 PDC SP'!N:N)","v":2301.5199999999968},{"$f":"F6+G6+H6+I6+J6+K6+L6+M6+N6-P6","v":0.48000000000320142},{"$f":"IF(Q6=0,\"OK\",\"CTRL\")","v":"CTRL"}]
["ABA220CR",{"$f":"C7&\"FE\"","v":"ABA220FE"},"ABA220","  Crediti v/Stato per spesa corrente - FSN",null,0,0,0,0,0,0,0,0,0,null,{"$f":"SUMIF('00 PDC SP'!A:A,'Tab. 20-21 '!A7,'00 PDC SP'!N:N)+SUMIF('00 PDC SP'!A:A,'Tab. 20-21 '!B7,'00 PDC SP'!N:N)","v":0},0,"OK"]
["ABA230CR",{"$f":"C8&\"FE\"","v":"ABA230FE"},"ABA230","  Crediti v/Stato per mobilità attiva extraregionale",null,0,0,0,0,0,0,0,0,0,null,{"$f":"SUMIF('00 PDC SP'!A:A,'Tab. 20-21 '!A8,'00 PDC SP'!N:N)+SUMIF('00 PDC SP'!A:A,'Tab. 20-21 '!B8,'00 PDC SP'!N:N)","v":0},0,"OK"]
["ABA240CR",{"$f":"C9&\"FE\"","v":"ABA240FE"},"ABA240","  Crediti v/Stato per mobilità attiva internazionale",null,0,0,0,0,0,0,0,0,0,null,{"$f":"SUMIF('00 PDC SP'!A:A,'Tab. 20-21 '!A9,'00 PDC SP'!N:N)+SUMIF('00 PDC SP'!A:A,'Tab. 20-21 '!B9,'00 PDC SP'!N:N)","v":0},0,"OK"]
["ABA250CR",null,"ABA250","  Crediti v/Stato per acconto quota fabbisogno sanitario regionale standard",null,0,0,0,0,0,0,0,0,0,null,{"$f":"SUMIF('00 PDC SP'!A:A,'Tab. 20-21 '!A10,'00 PDC SP'!N:N)","v":0},0,"OK"]
["ABA260CR",null,"ABA260","  Crediti v/Stato per finanziamento sanitario aggiuntivo corrente",null,0,0,0,0,0,0,0,0,0,null,{"$f":"SUMIF('00 PDC SP'!A:A,'Tab. 20-21 '!A11,'00 PDC SP'!N:N)","v":0},0,{"$f":"IF(Q11=0,\"OK\",\"CTRL\")","v":"OK"}]
[null,null,null," Crediti v/Stato - altro:",null,{"$f":"F13","v":0},{"$f":"G13","v":0},{"$f":"H13","v":0},0,0,0,0,0,0,null,null,0]
[{"$f":"C13&\"CR\"","v":"ABA270CR"},null,"ABA270","  Crediti v/Stato per spesa corrente - altro",null,0,null,0,0,0,0,0,0,0,null,{"$f":"SUMIF('00 PDC SP'!A:A,'Tab. 20-21 '!A13,'00 PDC SP'!N:N)","v":0},0,{"$f":"IF(Q13=0,\"OK\",\"CTRL\")","v":"OK"}]
[null,null,null," CREDITI V/STATO - INVESTIMENTI",null,{"$f":"F15","v":0},{"$f":"G15","v":0},{"$f":"H15","v":0},0,0,0,0,0,0,null,null,0]
[{"$f":"C15&\"CR\"","v":"ABA280CR"},null,"ABA280"," Crediti v/Stato per finanziamenti per investimenti:",null,0,null,0,0,0,0,0,0,0,null,{"$f":"SUMIF('00 PDC SP'!A:A,'Tab. 20-21 '!A15,'00 PDC SP'!N:N)","v":0},0,{"$f":"IF(Q15=0,\"OK\",\"CTRL\")","v":"OK"}]
[null,null,null,"  ……",null,null,null,null,null,null,null,null,null,null,null,null,0]
[null,null,null," CREDITI V/STATO - RICERCA",null,{"$f":"F18+F19+F20+F22","v":0},{"$f":"G18+G19+G20+G22","v":0},{"$f":"H18+H19+H20+H22","v":0},0,0,0,4620,{"$f":"M18+M19+M20","v":0},0,null,{"$f":"P18+P19+P20","v":4620},0]
[{"$f":"C18&\"CR\"","v":"ABA300CR"},null,"ABA300"," Crediti v/Stato per ricerca corrente - Ministero della Salute ",null,0,null,0,0,0,0,0,0,0,null,{"$f":"SUMIF('00 PDC SP'!A:A,'Tab. 20-21 '!A18,'00 PDC SP'!N:N)","v":0},0,{"$f":"IF(Q18=0,\"OK\",\"CTRL\")","v":"OK"}]
[{"$f":"C19&\"CR\"","v":"ABA310CR"},null,"ABA310"," Crediti v/Stato per ricerca finalizzata - Ministero della Salute ",null,0,null,0,0,0,0,4620,null,0,null,{"$f":"SUMIF('00 PDC SP'!A:A,'Tab. 20-21 '!A19,'00 PDC SP'!N:N)","v":4620},0,"OK"]
[{"$f":"C20&\"CR\"","v":"ABA320CR"},null,"ABA320"," Crediti v/Stato per ricerca - altre Amministrazioni centrali ",null,0,null,0,0,0,0,0,0,0,null,{"$f":"SUMIF('00 PDC SP'!A:A,'Tab. 20-21 '!A20,'00 PDC SP'!N:N)","v":0},0,"OK"]
[{"$f":"C21&\"CR\"","v":"ABA330CR"},null,"ABA330"," Crediti v/Stato per ricerca - finanziamenti per investimenti",null,0,null,0,0,0,0,0,0,0,null,{"$f":"SUMIF('00 PDC SP'!A:A,'Tab. 20-21 '!A21,'00 PDC SP'!N:N)","v":0},0,"OK"]
[{"$f":"C22&\"CR\"","v":"ABA340CR"},null,"ABA340"," CREDITI V/PREFETTURE",null,0,null,0,0,0,0,0,0,0,null,{"$f":"SUMIF('00 PDC SP'!A:A,'Tab. 20-21 '!A22,'00 PDC SP'!N:N)","v":0},0,"OK"]
[null,null,null,"TOTALE CREDITI V/STATO",null,{"$f":"F17+F4","v":0},null,{"$f":"H17+H4","v":0},0,0,0,4620,{"$f":"M17+M4+M22","v":0},2302,null,{"$f":"P17+P4+P22","v":6921.5199999999968}]
[]
[null,null,null," CREDITI V/REGIONE O P.A. PER SPESA CORRENTE",null,{"$f":"F26+F39","v":24433552.990000002},{"$f":"G26+G39","v":31625},{"$f":"H26+H39","v":2900235.09},2579167,40480592.780000001,9183583.0099999998,38400289,21774618,49693399.830000006,null,{"$f":"P26+P39","v":189477063.14000008},{"$f":"F25+G25+H25+I25+J25+K25+L25+M25+N25-P25","v":-0.44000005722045898}]
[null,null,null," Crediti v/Regione o P.A. per finanziamento sanitario ordinario corrente:",null,{"$f":"F29+F33+F34+F35+F36+F37+F38","v":24433552.990000002},{"$f":"G29+G33+G34+G35+G36+G37+G38","v":31625},{"$f":"H29+H33+H34+H35+H36+H37+H38","v":2900235.09},{"$f":"I29+I33+I34+I35+I36+I37+I38","v":2579167},{"$f":"J29+J33+J34+J35+J36+J37+J38","v":40480592.780000001},{"$f":"K29+K33+K34+K35+K36+K37+K38","v":9183583.0099999998},38400289,21774618,49693399.830000006,null,{"$f":"P29+P33+P34+P35+P36+P37+P38","v":189477063.14000008},{"$f":"F26+G26+H26+I26+J26+K26+L26+M26+N26-P26","v":-0.44000005722045898}]
[{"$f":"C27&\"CR\"","v":"ABA370CR"},{"$f":"C27&\"FE\"","v":"ABA370FE"},"ABA370","  Crediti v/Regione o P.A. per spesa corrente - IRAP",null,0,null,0,0,0,0,0,null,0,null,{"$f":"SUMIF('00 PDC SP'!A:A,'Tab. 20-21 '!A27,'00 PDC SP'!N:N)+SUMIF('00 PDC SP'!A:A,'Tab. 20-21 '!B27,'00 PDC SP'!N:N)","v":0},{"$f":"F27+G27+H27+I27+J27+K27+L27+M27+N27-P27","v":0},{"$f":"IF(Q27=0,\"OK\",\"CTRL\")","v":"OK"}]
[{"$f":"C28&\"CR\"","v":"ABA380CR"},{"$f":"C28&\"FE\"","v":"ABA380FE"},"ABA380","  Crediti v/Regione o P.A. per spesa corrente - Addizionale IRPEF",null,0,null,0,0,0,0,0,null,0,null,{"$f":"SUMIF('00 PDC SP'!A:A,'Tab. 20-21 '!A28,'00 PDC SP'!N:N)+SUMIF('00 PDC SP'!A:A,'Tab. 20-21 '!B28,'00 PDC SP'!N:N)","v":0},0,"OK"]
[{"$f":"C29&\"CR\"","v":"ABA390CR"},{"$f":"C29&\"FE\"","v":"ABA390FE"},"ABA390","  Crediti v/Regione :",null,{"$f":"SUM(F30:F32)","v":3228479},{"$f":"SUM(G30:G32)","v":31625},2900235.09,{"$f":"SUM(I30:I32)","v":2518345},27087262.490000002,1929700.3,37143449.609999999,21774618,47629797.830000006,null,{"$f":"SUMIF('00 PDC SP'!A:A,'Tab. 20-21 '!A29,'00 PDC SP'!N:N)+SUMIF('00 PDC SP'!A:A,'Tab. 20-21 '!B29,'00 PDC SP'!N:N)","v":144243512.93000007},null,"OK"]
[null,null,null,"          di cui crediti per FS indistinto",null,542280,31625,0,0,24798148,0,33490778,14756490,32943106.670000002,null,null,null,"OK"]
[null,null,null,"          di cui crediti per FS vincolato",null,0,0,2895370,2518345,2289114.4900000002,1929700.3,3652671.61,7018128,{"$f":"13751012.34+13789.5","v":13764801.84},null,null,null,"OK"]
[null,null,null,"          di cui crediti per extrafondo vincolato",null,2686199,0,4865.09,0,null,null,null,null,921889.32,null,null,null,"OK"]
[{"$f":"C33&\"CR\"","v":"ABA400CR"},{"$f":"C33&\"FE\"","v":"ABA400FE"},"ABA400","  Crediti v/Regione o P.A. per mobilità attiva intraregionale",null,15592903.99,0,0,0,0,0,{"$f":"1343946.39-87107","v":1256839.3899999999},null,0,null,{"$f":"SUMIF('00 PDC SP'!A:A,'Tab. 20-21 '!A33,'00 PDC SP'!N:N)+SUMIF('00 PDC SP'!A:A,'Tab. 20-21 '!B33,'00 PDC SP'!N:N)","v":16849743.390000008},-1.0000009089708328E-2,"CTRL"]
["ABA410CR","ABA410FE","ABA410","  Crediti v/Regione o P.A. per mobilità attiva extraregionale",null,{"$f":"6298767-392985-357247-136991+200626","v":5612170},0,0,0,13393330.289999999,0,0,null,0,null,{"$f":"SUMIF('00 PDC SP'!A:A,'Tab. 20-21 '!A34,'00 PDC SP'!N:N)+SUMIF('00 PDC SP'!A:A,'Tab. 20-21 '!B34,'00 PDC SP'!N:N)","v":19005500.289999999},0,"OK"]
["ABA420CR","ABA420FE","ABA420","Crediti v/Regione o P.A. per acconto quota FSR",null,0,0,0,0,0,0,0,0,0,null,{"$f":"SUMIF('00 PDC SP'!A:A,'Tab. 20-21 '!A35,'00 PDC SP'!N:N)+SUMIF('00 PDC SP'!A:A,'Tab. 20-21 '!B35,'00 PDC SP'!N:N)","v":0},{"$f":"F35+G35+H35+I35+J35+K35+L35+M35+N35-P35","v":0},"OK"]
["ABA430CR","ABA430FE","ABA430"," Crediti v/Regione o P.A. per finanziamento sanitario aggiuntivo corrente LEA",null,0,0,0,60822,0,7253882.71,0,0,{"$f":"2077391-13789","v":2063602},null,{"$f":"SUMIF('00 PDC SP'!A:A,'Tab. 20-21 '!A36,'00 PDC SP'!N:N)+SUMIF('00 PDC SP'!A:A,'Tab. 20-21 '!B36,'00 PDC SP'!N:N)","v":9378306.5299999993},0.18000000156462193,{"$f":"IF(Q36=0,\"OK\",\"CTRL\")","v":"CTRL"}]
["ABA440CR","ABA440FE","ABA440"," Crediti v/Regione o P.A. per finanziamento sanitario aggiuntivo corrente extra LEA",null,0,0,0,0,0,0,0,null,0,null,{"$f":"SUMIF('00 PDC SP'!A:A,'Tab. 20-21 '!A37,'00 PDC SP'!N:N)+SUMIF('00 PDC SP'!A:A,'Tab. 20-21 '!B37,'00 PDC SP'!N:N)","v":0},0,"OK"]
["ABA450CR","ABA450FE","ABA450"," Crediti v/Regione o P.A. per spesa corrente - altro",null,0,0,0,0,0,0,0,null,0,null,{"$f":"SUMIF('00 PDC SP'!A:A,'Tab. 20-21 '!A38,'00 PDC SP'!N:N)+SUMIF('00 PDC SP'!A:A,'Tab. 20-21 '!B38,'00 PDC SP'!N:N)","v":0},0,"OK"]
["ABA460CR","ABA460FE","ABA460"," CREDITI V/REGIONE O P.A. PER RICERCA:",null,0,0,0,0,0,0,0,null,0,null,{"$f":"SUMIF('00 PDC SP'!A:A,'Tab. 20-21 '!A39,'00 PDC SP'!N:N)+SUMIF('00 PDC SP'!A:A,'Tab. 20-21 '!B39,'00 PDC SP'!N:N)","v":0},0,"OK"]
[null,null,null,"  ……",null,null,null,null,null,null,null,null,null,null,null,null,0]
[null,null,null," CREDITI V/REGIONE O P.A. PER VERSAMENTI A PATRIMONIO NETTO",null,{"$f":"F42+F43+F44","v":38255},{"$f":"G42+G43+G44","v":0},{"$f":"H42+H43+H44","v":0},0,0,0,0,14264710,13609624,null,27912589,0]
[{"$f":"C42&\"CR\"","v":"ABA480CR"},{"$f":"C42&\"FE\"","v":"ABA480FE"},"ABA480","  Crediti v/Regione o P.A. per finanziamenti per investimenti",null,38255,0,0,0,0,0,0,null,0,null,{"$f":"SUMIF('00 PDC SP'!A:A,'Tab. 20-21 '!A42,'00 PDC SP'!N:N)+SUMIF('00 PDC SP'!A:A,'Tab. 20-21 '!B42,'00 PDC SP'!N:N)","v":38255},0,{"$f":"IF(Q42=0,\"OK\",\"CTRL\")","v":"OK"}]
[{"$f":"C43&\"CR\"","v":"ABA490CR"},{"$f":"C43&\"FE\"","v":"ABA490FE"},"ABA490","  Crediti v/Regione o P.A. per incremento fondo dotazione",null,0,0,0,0,0,0,0,null,0,null,{"$f":"SUMIF('00 PDC SP'!A:A,'Tab. 20-21 '!A43,'00 PDC SP'!N:N)+SUMIF('00 PDC SP'!A:A,'Tab. 20-21 '!B43,'00 PDC SP'!N:N)","v":0},0,"OK"]
[null,null,null,"  Crediti v/Regione o P.A. per ripiano perdite:",null,{"$f":"F45+F46+F47","v":0},{"$f":"G45+G46+G47","v":0},{"$f":"H45+H46+H47","v":0},0,0,0,0,14264710,13609624,null,27874334,0]
[{"$f":"C45&\"CR\"","v":"ABA500CR"},{"$f":"C45&\"FE\"","v":"ABA500FE"},"ABA500","  Crediti v/Regione o P.A. per ripiano perdite",null,0,0,0,0,0,0,0,14264710,13609624,null,{"$f":"SUMIF('00 PDC SP'!A:A,'Tab. 20-21 '!A45,'00 PDC SP'!N:N)+SUMIF('00 PDC SP'!A:A,'Tab. 20-21 '!B45,'00 PDC SP'!N:N)","v":27874334},0,{"$f":"IF(Q45=0,\"OK\",\"CTRL\")","v":"OK"}]
[{"$f":"C46&\"CR\"","v":"ABA510CR"},{"$f":"C46&\"FE\"","v":"ABA510FE"},"ABA510","  Crediti v/Regione per copertura debiti al 31/12/2005",null,0,0,0,0,0,0,0,null,0,null,{"$f":"SUMIF('00 PDC SP'!A:A,'Tab. 20-21 '!A46,'00 PDC SP'!N:N)+SUMIF('00 PDC SP'!A:A,'Tab. 20-21 '!B46,'00 PDC SP'!N:N)","v":0},0,"OK"]
[{"$f":"C47&\"CR\"","v":"ABA520CR"},{"$f":"C47&\"FE\"","v":"ABA520FE"},"ABA520","Crediti v/Regione o P.A. per ricostituzione risorse da investimenti esercizi precedenti",null,0,0,0,0,0,0,0,null,0,null,{"$f":"SUMIF('00 PDC SP'!A:A,'Tab. 20-21 '!A47,'00 PDC SP'!N:N)+SUMIF('00 PDC SP'!A:A,'Tab. 20-21 '!B47,'00 PDC SP'!N:N)","v":0},0,"OK"]
[null,null,null,"TOTALE CREDITI V/REGIONE O PROVINCIA AUTONOMA",null,{"$f":"F41+F25","v":24471807.990000002},{"$f":"G41+G25","v":31625},2900235.09,2579167,40480592.780000001,9183583.0099999998,38400289,36039328,63303023.830000006,null,{"$f":"P41+P25","v":217389652.14000008},{"$f":"F48+G48+H48+I48+J48+K48+L48+M48+N48-P48","v":-0.44000005722045898}]
[]
[]
[null,null,null,"Tab. 21 – Valore nominale dei crediti distinti per anno di formazione – II parte"]
[null,null,"CODICE MOD. SP","CREDITI",null,"VALORE NOMINALE DEI CREDITI AL 31/12/2018 PER ANNO DI FORMAZIONEFORMAZIONE\""]
[null,null,null,null,null,{"$f":"\"Anno \"&'00 PDC SP'!$F$2-8 &\" e precedenti\"","v":"Anno 2010 e precedenti"},{"$f":"\"Anno \"&'00 PDC SP'!$F$2-7","v":"Anno 2011"},{"$f":"\"Anno \"&'00 PDC SP'!$F$2-6","v":"Anno 2012"},{"$f":"\"Anno \"&'00 PDC SP'!$F$2-5","v":"Anno 2013"},{"$f":"\"Anno \"&'00 PDC SP'!$F$2-4","v":"Anno 2014"},{"$f":"\"Anno \"&'00 PDC SP'!$F$2-3","v":"Anno 2015"},{"$f":"\"Anno \"&'00 PDC SP'!$F$2-2","v":"Anno 2016"},{"$f":"\"Anno \"&'00 PDC SP'!$F$2-1","v":"Anno 2017"},{"$f":"\"Anno \"&'00 PDC SP'!$F$2","v":"Anno 2018"},null,"Valore SP","Diff","Ctrl"]
[{"$f":"C54&\"CR\"","v":"ABA530CR"},{"$f":"C54&\"FE\"","v":"ABA530FE"},"ABA530"," CREDITI V/COMUNI",null,{"$f":"34018.2+5505.16","v":39523.360000000001},0,0,0,0,76,31437,735,{"$f":"148556.45+16427","v":164983.45000000001},null,{"$f":"SUMIF('00 PDC SP'!A:A,'Tab. 20-21 '!A54,'00 PDC SP'!N:N)+SUMIF('00 PDC SP'!A:A,'Tab. 20-21 '!B54,'00 PDC SP'!N:N)","v":236754.47999999998},{"$f":"F54+G54+H54+I54+J54+K54+L54+M54+N54-P54","v":0.33000000001629815},{"$f":"IF(Q54=0,\"OK\",\"CTRL\")","v":"CTRL"}]
[null,null,null,"  ……"]
[]
[null,null,null," CREDITI V/AZIENDE SANITARIE PUBBLICHE DELLA REGIONE",null,{"$f":"F58+F59+F60+F61","v":3576799.61},{"$f":"G58+G59+G60+G61","v":106920.53},{"$f":"H58+H59+H60+H61","v":53938},16196.31,49224.2,281636.15999999997,200027.9,null,217952.61,null,4640905.0900000008]
[{"$f":"C58&\"CR\"","v":"ABA560CR"},{"$f":"C58&\"FE\"","v":"ABA560FE"},"ABA560"," Crediti v/Aziende sanitarie pubbliche della Regione - mobilità in compensazione",null,0,0,0,0,0,0,0,null,0,null,{"$f":"SUMIF('00 PDC SP'!A:A,'Tab. 20-21 '!A58,'00 PDC SP'!N:N)+SUMIF('00 PDC SP'!A:A,'Tab. 20-21 '!B58,'00 PDC SP'!N:N)","v":0},{"$f":"F58+G58+H58+I58+J58+K58+L58+M58+N58-P58","v":0},{"$f":"IF(Q58=0,\"OK\",\"CTRL\")","v":"OK"}]
[{"$f":"C59&\"CR\"","v":"ABA570CR"},{"$f":"C59&\"FE\"","v":"ABA570FE"},"ABA570"," Crediti v/Aziende sanitarie pubbliche della Regione - mobilità non in compensazione",null,0,0,0,0,0,0,0,null,0,null,{"$f":"SUMIF('00 PDC SP'!A:A,'Tab. 20-21 '!A59,'00 PDC SP'!N:N)+SUMIF('00 PDC SP'!A:A,'Tab. 20-21 '!B59,'00 PDC SP'!N:N)","v":0},0,"OK"]
[{"$f":"C60&\"CR\"","v":"ABA580CR"},{"$f":"C60&\"FE\"","v":"ABA580FE"},"ABA580"," Crediti v/Aziende sanitarie pubbliche della Regione - altre\n prestazioni",null,3576799.61,106920.53,53938,16196.31,49224.2,281636.15999999997,200027.9,138210.12,{"$f":"67800.61+82351+67801","v":217952.61},null,{"$f":"SUMIF('00 PDC SP'!A:A,'Tab. 20-21 '!A60,'00 PDC SP'!N:N)+SUMIF('00 PDC SP'!A:A,'Tab. 20-21 '!B60,'00 PDC SP'!N:N)","v":4640905.0900000008},0.34999999962747097,"CTRL",null,{"$f":"P60-S60","v":4640905.0900000008}]
[{"$f":"C61&\"CR\"","v":"ABA590CR"},{"$f":"C61&\"FE\"","v":"ABA590FE"},"ABA590"," Acconto quota FSR da distribuire",null,0,0,0,0,0,0,0,null,0,null,{"$f":"SUMIF('00 PDC SP'!A:A,'Tab. 20-21 '!A61,'00 PDC SP'!N:N)+SUMIF('00 PDC SP'!A:A,'Tab. 20-21 '!B61,'00 PDC SP'!N:N)","v":0},0,"OK"]
[{"$f":"C62&\"CR\"","v":"ABA600CR"},{"$f":"C62&\"FE\"","v":"ABA600FE"},"ABA600"," CREDITI V/AZIENDE SANITARIE PUBBLICHE FUORI REGIONE",null,53330,0,2659,81,30,0,127,57212,{"$f":"100796-37816-28671+48354","v":82663},null,{"$f":"SUMIF('00 PDC SP'!A:A,'Tab. 20-21 '!A62,'00 PDC SP'!N:N)+SUMIF('00 PDC SP'!A:A,'Tab. 20-21 '!B62,'00 PDC SP'!N:N)","v":196101.72000000003},0.27999999996973202,"CTRL"]
[null,null,null,"TOTALE CREDITI V/AZIENDE SANITARIE PUBBLICHE",null,{"$f":"SUM(F60:F62)","v":3630129.61},{"$f":"SUM(G60:G62)","v":106920.53},{"$f":"SUM(H60:H62)","v":56597},16277.31,49254.2,281636.15999999997,200154.9,195422.12,300615.61,null,{"$f":"SUM(P60:P62)","v":4837006.8100000005}]
[]
[null,null,null," CREDITI V/SOCIETA' PARTECIPATE E/O ENTI DIPENDENTI",null,{"$f":"F66+F69+F72","v":0},{"$f":"G66+G69+G72","v":0},0,0,0,5931.31,0,null,0]
[{"$f":"C66&\"CR\"","v":"ABA620CR"},{"$f":"C66&\"FE\"","v":"ABA620FE"},"ABA620"," Crediti v/enti regionali:",null,0,0,0,0,0,5931.31,0,null,0,null,{"$f":"SUMIF('00 PDC SP'!A:A,'Tab. 20-21 '!A66,'00 PDC SP'!N:N)+SUMIF('00 PDC SP'!A:A,'Tab. 20-21 '!B66,'00 PDC SP'!N:N)","v":5931.31},{"$f":"F66+G66+H66+I66+J66+K66+L66+M66+N66-P66","v":0},{"$f":"IF(Q66=0,\"OK\",\"CTRL\")","v":"OK"}]
[null,null,null,"Crediti verso ARPA",null,0,0,0,0,0,5931.31,0,null,0]
[null,null,null,"  ……"]
[{"$f":"C69&\"CR\"","v":"ABA630CR"},{"$f":"C69&\"FE\"","v":"ABA630FE"},"ABA630"," Crediti v/sperimentazioni gestionali:",null,0,0,0,0,0,0,0,null,0,null,{"$f":"SUMIF('00 PDC SP'!A:A,'Tab. 20-21 '!A69,'00 PDC SP'!N:N)+SUMIF('00 PDC SP'!A:A,'Tab. 20-21 '!B69,'00 PDC SP'!N:N)","v":0},{"$f":"F69+G69+H69+I69+J69+K69+L69+M69+N69-P69","v":0},{"$f":"IF(Q69=0,\"OK\",\"CTRL\")","v":"OK"}]
[null,null,null,"  ……"]
[null,null,null,"  ……"]
[{"$f":"C72&\"CR\"","v":"ABA640CR"},{"$f":"C72&\"FE\"","v":"ABA640FE"},"ABA640"," Crediti v/altre partecipate:",null,0,0,0,0,0,0,0,null,0,null,{"$f":"SUMIF('00 PDC SP'!A:A,'Tab. 20-21 '!A72,'00 PDC SP'!N:N)+SUMIF('00 PDC SP'!A:A,'Tab. 20-21 '!B72,'00 PDC SP'!N:N)","v":0},{"$f":"F72+G72+H72+I72+J72+K72+L72+M72+N72-P72","v":0},{"$f":"IF(Q72=0,\"OK\",\"CTRL\")","v":"OK"}]
[null,null,null,"  ……"]
[null,null,null,"  ……"]
[]
[{"$f":"C76&\"CR\"","v":"ABA650CR"},{"$f":"C76&\"FE\"","v":"ABA650FE"},"ABA650"," CREDITI V/ERARIO",null,{"$f":"F77+F78+F81+F79+F80","v":0},0,0,0,0,1295,0,189,{"$f":"N77+N78+N81+N79+N80","v":15421},null,{"$f":"SUMIF('00 PDC SP'!A:A,'Tab. 20-21 '!A76,'00 PDC SP'!N:N)+SUMIF('00 PDC SP'!A:A,'Tab. 20-21 '!B76,'00 PDC SP'!N:N)","v":16904.54},{"$f":"F76+G76+H76+I76+J76+K76+L76+M76+N76-P76","v":0.45999999999912689},{"$f":"IF(Q76=0,\"OK\",\"CTRL\")","v":"CTRL"}]
[null,null,null,"Crediti verso IVA",null,0,0,0,0,0,1295,0,189,0]
[null,null,null,"Crediti verso IRES",null,0,0,0,0,0,0,0,0,0]
[null,null,null,"Altri crediti verso Erario",null,0,0,0,0,0,0,0,0,0]
[null,null,null,"Erario c/Iva per acconti versati",null,0,0,0,0,0,0,0,0,15421]
[null,null,null,"Crediti per erario conto ritenute",null,0,0,0,0,0,0,0,0,0]
[]
[null,null,null," CREDITI V/ALTRI",null,{"$f":"F84+F91+F93+F99+F100","v":1738805},{"$f":"G84+G91+G93+G99+G100","v":116575},191006.92,144563.48000000001,319269.28000000003,730508.22,487851,375247,{"$f":"N84+N91+N93+N99+N100","v":2106373},null,{"$f":"P84+P91+P93+P99+P100","v":6210198.6799999997}]
[{"$f":"C84&\"CR\"","v":"ABA670CR"},{"$f":"C84&\"FE\"","v":"ABA670FE"},"ABA670"," Crediti v/clienti privati",null,{"$f":"SUM(F85:F90)","v":1353066},116575,185266,143953,234617,318140,487851,375247,{"$f":"SUM(N85:N90)","v":1912534},null,{"$f":"SUMIF('00 PDC SP'!A:A,'Tab. 20-21 '!A84,'00 PDC SP'!N:N)+SUMIF('00 PDC SP'!A:A,'Tab. 20-21 '!B84,'00 PDC SP'!N:N)","v":5127249.2699999996},{"$f":"F84+G84+H84+I84+J84+K84+L84+M84+N84-P84","v":-0.26999999955296516},{"$f":"IF(Q84=0,\"OK\",\"CTRL\")","v":"CTRL"}]
[null,null,null," Crediti v/clienti privati ",null,1353066,116575,185266,143953,234617,318140,487851,375247,1320296]
[null,null,null,"Crediti v/utenza per proventi da ticket",null,0,0,0,0,0,0,0,null,14200]
[null,null,null,"Fatture da emettere v/clienti privati",null,0,0,0,0,0,0,0,null,608342]
[null,null,null," Crediti v/ dipendenti",null,0,0,0,0,0,0,0,null,1945]
[null,null,null,"Acconti verso altri fornitori",null,null,null,null,null,null,null,null,null,0]
[null,null,null,"Note credito da emettere v/clienti privati",null,0,0,0,0,0,0,0,null,-32249]
[{"$f":"C91&\"CR\"","v":"ABA680CR"},{"$f":"C91&\"FE\"","v":"ABA680FE"},"ABA680"," Crediti v/gestioni liquidatorie",null,0,0,0,0,0,0,0,null,0,null,{"$f":"SUMIF('00 PDC SP'!A:A,'Tab. 20-21 '!A91,'00 PDC SP'!N:N)+SUMIF('00 PDC SP'!A:A,'Tab. 20-21 '!B91,'00 PDC SP'!N:N)","v":0},{"$f":"F91+G91+H91+I91+J91+K91+L91+M91+N91-P91","v":0},{"$f":"IF(Q91=0,\"OK\",\"CTRL\")","v":"OK"}]
[null,null,null,"  ……"]
[{"$f":"C93&\"CR\"","v":"ABA690CR"},{"$f":"C93&\"FE\"","v":"ABA690FE"},"ABA690"," Crediti v/altri soggetti pubblici",null,{"$f":"F94+F95+F96+F97","v":9782},0,5740.92,610.48,15994.78,0,0,0,{"$f":"N94+N95+N96+N97+N98","v":185419},null,{"$f":"SUMIF('00 PDC SP'!A:A,'Tab. 20-21 '!A93,'00 PDC SP'!N:N)+N97","v":217546.71000000002},{"$f":"F93+G93+H93+I93+J93+K93+L93+M93+N93-P93","v":0.46999999997206032},{"$f":"IF(Q93=0,\"OK\",\"CTRL\")","v":"CTRL"}]
[null,null,null,"Crediti verso Enti Previdenziali per servizi resi",null,0,0,0,0,0,0,0,null,0]
[null,null,null,"Crediti verso Amministrazioni del settore Statale",null,0,0,0,0,0,0,0,null,0]
[null,null,null,"Crediti Verso altri enti Pubblici",null,{"$f":"4082+5700","v":9782},0,5740.92,610.48,15994.78,0,0,0,{"$f":"288535-103116","v":185419}]
[null,null,null,"Fatture da emettere v/altri soggetti Pubblici",null,0,0,0,0,0,0,0,null,0]
[null,null,null,"Note credito da emettere v/altri soggetti pubblici",null,0,0,0,0,0,0,0,null,0]
[{"$f":"C99&\"CR\"","v":"ABA700CR"},{"$f":"C99&\"FE\"","v":"ABA700FE"},"ABA700"," Crediti v/altri soggetti pubblici per ricerca",null,0,0,0,0,0,0,0,null,0,null,{"$f":"SUMIF('00 PDC SP'!A:A,'Tab. 20-21 '!A99,'00 PDC SP'!N:N)","v":0},{"$f":"F99+G99+H99+I99+J99+K99+L99+M99+N99-P99","v":0},{"$f":"IF(Q99=0,\"OK\",\"CTRL\")","v":"OK"}]
[{"$f":"C100&\"CR\"","v":"ABA710CR"},{"$f":"C100&\"FE\"","v":"ABA710FE"},"ABA710"," Altri crediti diversi",null,{"$f":"F101+F102+F103","v":375957},{"$f":"G101+G102+G103","v":0},{"$f":"H101+H102+H103","v":0},0,68657.5,412368.22,0,0,8420,null,{"$f":"SUMIF('00 PDC SP'!A:A,'Tab. 20-21 '!A100,'00 PDC SP'!N:N)","v":865402.70000000019},1.9999999785795808E-2,"CTRL"]
[null,null,null,"Crediti verso Enti Previdenziali per contributi",null,0,0,0,0,0,0,0,null,0]
[null,null,null,"Altri crediti diversi",null,375957,0,0,0,68657.5,{"$f":"478025.22-65657","v":412368.22},0,0,8420]
[null,null,null,"Fatture da emettere v/Altri crediti diversi",null,0,0,0,0,0,0,0,null,0]
[]
[]
[]
[]
[]
[]
[null,null,"Nella tabella sottostante si dà rappresentazione della variazione dei CREDITI   con separata evidenza delle differenze, rispetto allo Stato Patrimoniale 2017   dei crediti di formazione anno 2018 ."]
[]
[null,null,"Voce di SP","descrizione",null,"saldo al 31/12/2017","incassi effettuati al 31/12/2018","svalutazione crediti ","crediti di formazione 2018 aperti al 31/12/2018","saldo al 31/12/2018"]
[null,null,"ABA670","Crediti verso privati al lordo del fondo svalutazione crediti",null,4897,{"$f":"F113-J113+I113","v":1683},null,1913,5127]
[null,null,"ABA670","Fondo svalutazione crediti",null,-2875,0,null,0,{"$f":"F114-G114+H114+I114","v":-2875}]
[null,null,"ABA670","VALORE NETTO",null,{"$f":"SUM(F113:F114)","v":2022},{"$f":"SUM(G113:G114)","v":1683},0,1913,2252,null,null,null,null,null,null,"CANCELLATA RIGA BILANCIO 2015"]

{"sheet":"Tab 22-23-24","index":26,"n_rows":101,"n_cols":10,"rows_kept":101,"cut":false,"hidden":false,"merged":[[2,1,2,5],[96,1,96,5],[3,0,4,0],[3,1,4,1],[3,3,3,5],[48,1,48,3],[49,0,50,0],[49,1,50,1],[49,3,49,5],[88,1,88,5]]}
[]
[]
[null,"Tab. 22 – Valore netto dei crediti per anno di scadenza – I parte"]
["CODICE MOD. SP","CREDITI",null,{"$f":"\"VALORE NETTO DEI CREDITI AL 31/12/\" &'00 PDC SP'!$F$2& \" PER SCADENZA\"","v":"VALORE NETTO DEI CREDITI AL 31/12/2018 PER SCADENZA"}]
[null,null,null,"Entro\n12 mesi","Tra 1 e 5 anni","Oltre\n5 anni",null,"Valore SP","Diff","Ctrl"]
[null," CREDITI V/STATO - PARTE CORRENTE",null,{"$f":"D7+D14+D16","v":2301.52},{"$f":"E7+E14+E16","v":0},0,null,2301.5199999999968]
[null," Crediti v/Stato per spesa corrente e acconti:",null,{"$f":"SUM(D8:D13)","v":2301.52},{"$f":"SUM(E8:E13)","v":0},0,null,2301.5199999999968]
["ABA210","  Crediti v/Stato per spesa corrente - Integrazione a norma del D.Lvo 56/2000",null,2301.52,0,0,null,{"$f":"SUMIF('00 SP'!A:A,'Tab 22-23-24'!A8,'00 SP'!L:L)","v":2301.5199999999968},{"$f":"(D8+E8+F8)-H8","v":0},{"$f":"IF(I8=0,\"OK\",\"CTRL\")","v":"OK"}]
["ABA220","  Crediti v/Stato per spesa corrente - FSN",null,0,0,0,null,{"$f":"SUMIF('00 SP'!A:A,'Tab 22-23-24'!A9,'00 SP'!L:L)","v":0},0,"OK"]
["ABA230","  Crediti v/Stato per mobilità attiva extraregionale",null,0,0,0,null,{"$f":"SUMIF('00 SP'!A:A,'Tab 22-23-24'!A10,'00 SP'!L:L)","v":0},0,"OK"]
["ABA240","  Crediti v/Stato per mobilità attiva internazionale",null,0,0,0,null,{"$f":"SUMIF('00 SP'!A:A,'Tab 22-23-24'!A11,'00 SP'!L:L)","v":0},0,"OK"]
["ABA250","  Crediti v/Stato per acconto quota fabbisogno sanitario regionale standard",null,0,0,0,null,{"$f":"SUMIF('00 SP'!A:A,'Tab 22-23-24'!A12,'00 SP'!L:L)","v":0},0,"OK"]
["ABA260","  Crediti v/Stato per finanziamento sanitario aggiuntivo corrente",null,0,0,0,null,{"$f":"SUMIF('00 SP'!A:A,'Tab 22-23-24'!A13,'00 SP'!L:L)","v":0},0,"OK"]
[null," Crediti v/Stato - altro:",null,{"$f":"D15","v":0},{"$f":"E15","v":0},0,null,0]
["ABA270","  Crediti v/Stato per spesa corrente - altro",null,0,0,0,null,{"$f":"SUMIF('00 SP'!A:A,'Tab 22-23-24'!A15,'00 SP'!L:L)","v":0},{"$f":"(D15+E15+F15)-H15","v":0},{"$f":"IF(I15=0,\"OK\",\"CTRL\")","v":"OK"}]
[null," CREDITI V/STATO - INVESTIMENTI",null,{"$f":"D17","v":0},{"$f":"E17","v":0},0,null,0]
["ABA280"," Crediti v/Stato per finanziamenti per investimenti:",null,0,0,0,null,{"$f":"SUMIF('00 SP'!A:A,'Tab 22-23-24'!A17,'00 SP'!L:L)","v":0},{"$f":"(D17+E17+F17)-H17","v":0},{"$f":"IF(I17=0,\"OK\",\"CTRL\")","v":"OK"}]
[null,"  ……"]
[null," CREDITI V/STATO - RICERCA",null,{"$f":"D20+D21+D22+D23","v":4620},{"$f":"E20+E21+E22+E23","v":0},0,null,4620]
["ABA300"," Crediti v/Stato per ricerca corrente - Ministero della Salute ",null,0,0,0,null,{"$f":"SUMIF('00 SP'!A:A,'Tab 22-23-24'!A20,'00 SP'!L:L)","v":0},{"$f":"(D20+E20+F20)-H20","v":0},{"$f":"IF(I20=0,\"OK\",\"CTRL\")","v":"OK"}]
["ABA310"," Crediti v/Stato per ricerca finalizzata - Ministero della Salute ",null,4620,0,0,null,{"$f":"SUMIF('00 SP'!A:A,'Tab 22-23-24'!A21,'00 SP'!L:L)","v":4620},0,"OK"]
["ABA320"," Crediti v/Stato per ricerca - altre Amministrazioni centrali ",null,0,0,0,null,{"$f":"SUMIF('00 SP'!A:A,'Tab 22-23-24'!A22,'00 SP'!L:L)","v":0},0,"OK"]
["ABA330"," Crediti v/Stato per ricerca - finanziamenti per investimenti",null,0,0,0,null,{"$f":"SUMIF('00 SP'!A:A,'Tab 22-23-24'!A23,'00 SP'!L:L)","v":0},0,"OK"]
["ABA340"," CREDITI V/PREFETTURE",null,0,0,0,null,{"$f":"SUMIF('00 SP'!A:A,'Tab 22-23-24'!A24,'00 SP'!L:L)","v":0},0,"OK"]
[null,"TOTALE CREDITI V/STATO",null,{"$f":"D6+D19+D24","v":6921.52},{"$f":"E6+E19+E24","v":0},0,null,6921.5199999999968]
[]
[null," CREDITI V/REGIONE O P.A. PER SPESA CORRENTE",null,{"$f":"D28+D38","v":186429542.17000002},{"$f":"E28+E38","v":0},0,null,186429542.17000008]
[null," Crediti v/Regione o P.A. per finanziamento sanitario ordinario corrente:",null,{"$f":"SUM(D31:D37)","v":186429542.17000002},{"$f":"SUM(E31:E37)","v":0},0,null,186429542.17000008]
["ABA370","  Crediti v/Regione o P.A. per spesa corrente - IRAP",null,0,0,0,null,{"$f":"SUMIF('00 SP'!A:A,'Tab 22-23-24'!A29,'00 SP'!L:L)","v":0},{"$f":"(D29+E29+F29)-H29","v":0},{"$f":"IF(I29=0,\"OK\",\"CTRL\")","v":"OK"}]
["ABA380","  Crediti v/Regione o P.A. per spesa corrente - Addizionale IRPEF",null,0,0,0,null,{"$f":"SUMIF('00 SP'!A:A,'Tab 22-23-24'!A30,'00 SP'!L:L)","v":0},0,"OK"]
["ABA390","  Crediti v/Regione o P.A. per quota FSR",null,141195991.96000001,0,0,null,{"$f":"SUMIF('00 SP'!A:A,'Tab 22-23-24'!A31,'00 SP'!L:L)","v":141195991.96000007},0,"OK"]
["ABA400","  Crediti v/Regione o P.A. per mobilità attiva intraregionale",null,{"$f":"16849743.39","v":16849743.390000001},0,0,null,{"$f":"SUMIF('00 SP'!A:A,'Tab 22-23-24'!A32,'00 SP'!L:L)","v":16849743.390000008},0,"OK"]
["ABA410","  Crediti v/Regione o P.A. per mobilità attiva extraregionale",null,19005500.289999999,0,0,null,{"$f":"SUMIF('00 SP'!A:A,'Tab 22-23-24'!A33,'00 SP'!L:L)","v":19005500.289999999},0,"OK"]
["ABA420","  Crediti v/Regione o P.A. per acconto quota FSR",null,0,0,0,null,{"$f":"SUMIF('00 SP'!A:A,'Tab 22-23-24'!A34,'00 SP'!L:L)","v":0},0,"OK"]
["ABA430"," Crediti v/Regione o P.A. per finanziamento sanitario aggiuntivo corrente LEA",null,9378306.5299999993,0,0,null,{"$f":"SUMIF('00 SP'!A:A,'Tab 22-23-24'!A35,'00 SP'!L:L)","v":9378306.5299999993},0,"OK"]
["ABA440"," Crediti v/Regione o P.A. per finanziamento sanitario aggiuntivo corrente extra LEA",null,0,0,0,null,{"$f":"SUMIF('00 SP'!A:A,'Tab 22-23-24'!A36,'00 SP'!L:L)","v":0},0,"OK"]
["ABA450"," Crediti v/Regione o P.A. per spesa corrente - altro",null,0,0,0,null,{"$f":"SUMIF('00 SP'!A:A,'Tab 22-23-24'!A37,'00 SP'!L:L)","v":0},0,"OK"]
["ABA460"," CREDITI V/REGIONE O P.A. PER RICERCA:",null,0,0,0,null,{"$f":"SUMIF('00 SP'!A:A,'Tab 22-23-24'!A38,'00 SP'!L:L)","v":0},0,"OK"]
[null,"  ……"]
[null," CREDITI V/REGIONE O P.A. PER VERSAMENTI A PATRIMONIO NETTO",null,{"$f":"D41+D42","v":38255},{"$f":"E41+E42","v":0},0,null,38255]
["ABA480","  Crediti v/Regione o P.A. per finanziamenti per investimenti",null,38255,0,0,null,{"$f":"SUMIF('00 SP'!A:A,'Tab 22-23-24'!A41,'00 SP'!L:L)","v":38255},{"$f":"(D41+E41+F41)-H41","v":0},{"$f":"IF(I41=0,\"OK\",\"CTRL\")","v":"OK"}]
["ABA490","  Crediti v/Regione o P.A. per incremento fondo dotazione",null,0,0,0,null,{"$f":"SUMIF('00 SP'!A:A,'Tab 22-23-24'!A42,'00 SP'!L:L)","v":0},0,"OK"]
[null,"  Crediti v/Regione o P.A. per ripiano perdite:",null,{"$f":"D44+D45+D46","v":27874334},{"$f":"E44+E45+E46","v":0},0,null,27874334]
["ABA500","  Crediti v/Regione o P.A. per ripiano perdite",null,27874334,0,0,null,{"$f":"SUMIF('00 SP'!A:A,'Tab 22-23-24'!A44,'00 SP'!L:L)","v":27874334},{"$f":"(D44+E44+F44)-H44","v":0},{"$f":"IF(I44=0,\"OK\",\"CTRL\")","v":"OK"}]
["ABA510","  Crediti v/Regione per copertura debiti al 31/12/2005",null,0,0,0,null,{"$f":"SUMIF('00 SP'!A:A,'Tab 22-23-24'!A45,'00 SP'!L:L)","v":0},0,"OK"]
["ABA520","Crediti v/Regione o P.A. per ricostituzione risorse da investimenti esercizi precedenti",null,0,0,0,null,{"$f":"SUMIF('00 SP'!A:A,'Tab 22-23-24'!A46,'00 SP'!L:L)","v":0},0,"OK"]
[null,"TOTALE CREDITI V/REGIONE O PROVINCIA AUTONOMA",null,{"$f":"D27+D40+D43","v":214342131.17000002},{"$f":"E27+E40+E43","v":0},0,null,214342131.17000008]
[]
[null,"Tab. 23 – Valore netto dei crediti per anno di scadenza – II parte"]
["CODICE MOD. SP","CREDITI",null,{"$f":"\"VALORE NETTO DEI CREDITI AL 31/12/\" &'00 PDC SP'!$F$2& \" PER SCADENZA\"","v":"VALORE NETTO DEI CREDITI AL 31/12/2018 PER SCADENZA"}]
[null,null,null,"Entro\n12 mesi","Tra 1 e 5 anni","Oltre\n5 anni",null,"Valore SP","Diff","Ctrl"]
["ABA530"," CREDITI V/COMUNI",null,236754.48,0,0,null,{"$f":"SUMIF('00 SP'!A:A,'Tab 22-23-24'!A52,'00 SP'!L:L)","v":236754.47999999998},{"$f":"(D52+E52+F52)-H52","v":0},{"$f":"IF(I52=0,\"OK\",\"CTRL\")","v":"OK"}]
[null,"  ……"]
[]
[null," CREDITI V/AZIENDE SANITARIE PUBBLICHE DELLA REGIONE",null,{"$f":"D56+D57+D58+D59","v":1380978.39},{"$f":"E56+E57+E58+E59","v":0},0,null,1380978.3899999997]
["ABA560"," Crediti v/Aziende sanitarie pubbliche della Regione - mobilità in compensazione",null,0,0,0,null,{"$f":"SUMIF('00 SP'!A:A,'Tab 22-23-24'!A56,'00 SP'!L:L)","v":0},{"$f":"(D56+E56+F56)-H56","v":0},{"$f":"IF(I56=0,\"OK\",\"CTRL\")","v":"OK"}]
["ABA570"," Crediti v/Aziende sanitarie pubbliche della Regione - mobilità non in compensazione",null,0,0,0,null,{"$f":"SUMIF('00 SP'!A:A,'Tab 22-23-24'!A57,'00 SP'!L:L)","v":0},0,"OK"]
["ABA580"," Crediti v/Aziende sanitarie pubbliche della Regione - altre\n prestazioni",null,1380978.39,0,0,null,{"$f":"SUMIF('00 SP'!A:A,'Tab 22-23-24'!A58,'00 SP'!L:L)","v":1380978.3899999997},0,"OK"]
["ABA590"," Acconto quota FSR da distribuire",null,0,0,0,null,{"$f":"SUMIF('00 SP'!A:A,'Tab 22-23-24'!A59,'00 SP'!L:L)","v":0},0,"OK"]
["ABA600"," CREDITI V/AZIENDE SANITARIE PUBBLICHE FUORI REGIONE",null,196101.72,0,0,null,{"$f":"SUMIF('00 SP'!A:A,'Tab 22-23-24'!A60,'00 SP'!L:L)","v":196101.72000000003},0,"OK"]
[null,"TOTALE CREDITI V/AZIENDE SANITARIE PUBBLICHE",null,{"$f":"D55+D60","v":1577080.1099999999},{"$f":"E55+E60","v":0},0,null,1577080.1099999996]
[]
[null," CREDITI V/SOCIETA' PARTECIPATE E/O ENTI DIPENDENTI",null,{"$f":"D64+D66+D68","v":5931.31},{"$f":"E64+E66+E68","v":0},0,null,5931.31]
["ABA620"," Crediti v/enti regionali:",null,5931.31,0,0,null,{"$f":"SUMIF('00 SP'!A:A,'Tab 22-23-24'!A64,'00 SP'!L:L)","v":5931.31},{"$f":"(D64+E64+F64)-H64","v":0},{"$f":"IF(I64=0,\"OK\",\"CTRL\")","v":"OK"}]
[null,"  ……"]
["ABA630"," Crediti v/sperimentazioni gestionali:",null,0,0,0,null,{"$f":"SUMIF('00 SP'!A:A,'Tab 22-23-24'!A66,'00 SP'!L:L)","v":0},{"$f":"(D66+E66+F66)-H66","v":0},{"$f":"IF(I66=0,\"OK\",\"CTRL\")","v":"OK"}]
[null,"  ……"]
["ABA640"," Crediti v/altre partecipate:",null,0,0,0,null,{"$f":"SUMIF('00 SP'!A:A,'Tab 22-23-24'!A68,'00 SP'!L:L)","v":0},{"$f":"(D68+E68+F68)-H68","v":0},{"$f":"IF(I68=0,\"OK\",\"CTRL\")","v":"OK"}]
[null,"  ……"]
[]
["ABA650"," CREDITI V/ERARIO",null,16904.54,0,0,null,{"$f":"SUMIF('00 SP'!A:A,'Tab 22-23-24'!A71,'00 SP'!L:L)","v":16904.54},{"$f":"(D71+E71+F71)-H71","v":0},{"$f":"IF(I71=0,\"OK\",\"CTRL\")","v":"OK"}]
[null,"  ……"]
[]
[null," CREDITI V/ALTRI",null,{"$f":"D75+D76+D79+D82+D85","v":3035471.6899999995},{"$f":"E75+E76+E79+E82+E85","v":0},0,null,3035471.689999999]
["ABA670"," Crediti v/clienti privati",null,2252522.2799999998,0,0,null,{"$f":"SUMIF('00 SP'!A:A,'Tab 22-23-24'!A75,'00 SP'!L:L)","v":2252522.2799999989},{"$f":"(D75+E75+F75)-H75","v":0},{"$f":"IF(I75=0,\"OK\",\"CTRL\")","v":"OK"}]
["ABA680"," Crediti v/gestioni liquidatorie",null,0,0,0,null,{"$f":"SUMIF('00 SP'!A:A,'Tab 22-23-24'!A76,'00 SP'!L:L)","v":0},{"$f":"(D76+E76+F76)-H76","v":0},{"$f":"IF(I76=0,\"OK\",\"CTRL\")","v":"OK"}]
[null,"  ……"]
[null,"  ……"]
["ABA690"," Crediti v/altri soggetti pubblici",null,217546.71,0,0,null,{"$f":"SUMIF('00 SP'!A:A,'Tab 22-23-24'!A79,'00 SP'!L:L)","v":217546.71000000002},{"$f":"(D79+E79+F79)-H79","v":0},{"$f":"IF(I79=0,\"OK\",\"CTRL\")","v":"OK"}]
[null,"  ……"]
[null,"  ……"]
["ABA700"," Crediti v/altri soggetti pubblici per ricerca",null,0,0,0,null,{"$f":"SUMIF('00 SP'!A:A,'Tab 22-23-24'!A82,'00 SP'!L:L)","v":0},{"$f":"(D82+E82+F82)-H82","v":0},{"$f":"IF(I82=0,\"OK\",\"CTRL\")","v":"OK"}]
[null,"  ……"]
[null,"  ……"]
["ABA710"," Altri crediti diversi",null,565402.69999999995,0,0,null,{"$f":"SUMIF('00 SP'!A:A,'Tab 22-23-24'!A85,'00 SP'!L:L)","v":565402.70000000019},{"$f":"(D85+E85+F85)-H85","v":0},{"$f":"IF(I85=0,\"OK\",\"CTRL\")","v":"OK"}]
[null,"  ……"]
[null,"  ……"]
[]
[null,"Nell'esercizio 2018, come di consueto, si è proceduto all'analisi dei crediti verso privati ancora aperti  al 31/12/2018 . In particolare sono stati  presi in esame i crediti risalenti al 2016 e precedenti, come da Regolamento approvato con Delibera del Direttore Generale n. 590 del 23.06.2016,  al fine di verificarne la sussistenza. In particolare si è constatato che tra i crediti v / clienti privati permangono situazioni creditore verso società sottoposte a procedure fallimentari quali Villa Pini nei confronti della quale vantiamo un credito di €/000 608 e la CO.RI.MA s.r.l il cui credito insoluto ammonta ad €/000 364. Ciò nonostante si ritiene che, a tutto il 31/12/2018, il  fondo svalutazione credi v/ clienti privati , di € /000 2.875 sia sufficientemente capiente anche in relazione ai crediti 2018 e precedenti  già riscossi alla data di adozione del presente atto  per  circa €/000 1.200"]
[]
[]
[]
[]
[]
[]
[]
[null,"Tab. 24 – Dettaglio crediti intraregionali per mobilità (in compensazione e non) e per altre prestazioni"]
[null,"DETTAGLIO CREDITI INTRAREGIONALI\nPER SINGOLA AZIENDA",null,"Mobilità in compens.","Mobilità non in compens.","Altre prestazioni"]
[null,"Asl 201- Avezzano Sulmona L'Aquila",null,null,null,2183488.63]
[null,"Asl 202- Lanciano Vasto Chieti",null,null,null,2316521.65]
[null,"Asl 204-Teramo",null,null,null,140894.81]

{"sheet":"Partite infragruppo ","index":27,"n_rows":196,"n_cols":10,"rows_kept":196,"cut":false,"hidden":false,"merged":[[191,2,191,4],[192,2,192,4],[193,2,193,4],[194,2,194,4],[195,2,195,4],[196,2,196,4],[165,0,165,9],[166,0,166,9],[167,0,167,9],[168,0,168,9],[181,0,181,9],[185,0,185,5],[146,6,146,9],[147,0,147,1],[147,6,147,9],[155,0,155,6],[156,0,156,6],[157,0,157,6],[143,0,143,9],[144,0,145,0],[144,1,145,1],[144,2,145,2],[144,3,145,3],[144,4,145,4],[144,5,145,5],[144,6,145,9],[113,0,113,9],[130,0,130,9],[132,0,132,9],[135,0,135,6],[136,0,136,6],[137,0,137,6],[107,0,107,9],[108,0,108,9],[109,0,109,9],[110,0,110,9],[111,0,111,9],[112,0,112,9],[100,6,100,9],[101,0,101,1],[101,6,101,9],[104,0,104,9],[105,0,105,9],[106,0,106,9],[97,0,97,9],[98,0,99,0],[98,1,99,1],[98,2,99,2],[98,3,99,3],[98,4,99,4],[98,5,99,5],[98,6,99,9],[84,6,84,9],[85,0,85,1],[85,6,85,9],[90,0,90,6],[91,0,91,6],[92,0,92,6],[78,6,78,9],[79,6,79,9],[80,6,80,9],[81,6,81,9],[82,6,82,9],[83,6,83,9],[66,0,66,6],[75,0,75,9],[76,0,77,0],[76,1,77,1],[76,2,77,2],[76,3,77,3],[76,4,77,4],[76,5,77,5],[76,6,77,9],[45,0,45,9],[46,0,46,9],[48,0,48,9],[59,0,59,7],[64,0,64,6],[65,0,65,6],[38,0,38,9],[39,0,39,9],[40,0,40,9],[41,0,41,9],[43,0,43,9],[44,0,44,9],[29,6,30,9],[31,6,31,9],[32,6,32,9],[33,0,33,1],[33,6,33,9],[37,0,37,9],[21,0,21,6],[22,0,22,6],[23,0,23,6],[28,0,28,9],[29,0,30,0],[29,1,30,1],[29,2,30,2],[29,3,30,3],[29,4,30,4],[29,5,30,5],[12,5,13,5],[12,6,13,9],[14,6,14,9],[15,6,15,9],[16,0,16,1],[16,6,16,9],[0,0,0,9],[5,0,5,6],[6,0,6,6],[7,0,7,6],[11,0,11,9],[12,0,13,0],[12,1,13,1],[12,2,13,2],[12,3,13,3],[12,4,13,4]]}
["CREDITI E DEBITI VS ASL AVEZZANO-SULMONA-L'AQUILA"]
[]
["Di seguito si evidenzia il disallineamento tra i crediti della ASL di Pescara vs la ASL Avezzano-Sulmona-L'Aquila ed i loro debiti nei nostri confronti: "]
[]
[null,null,null,null,null,null,null,"Valore nominale","Fondo svalutazione crediti","Valore netto"]
["Crediti ASL Pescara verso ASL Avezzano-Sulmona L'Aquila ",null,null,null,null,null,null,2183488.63,-1381339.1,{"$f":"H6+I6","v":802149.5299999998}]
["Debiti ASL Avezzano-Sulmona-L'Aquila verso ASL Pescara *",null,null,null,null,null,null,835416.37,0,{"$f":"H7+I7","v":835416.37}]
["Disallineamento",null,null,null,null,null,null,{"$f":"H6-H7","v":1348072.2599999998},{"$f":"SUM(I6:I7)","v":-1381339.1},{"$f":"J6-J7","v":-33266.8400000002}]
[]
["*","Dato comunicato dalla ASL 301 con e-mail del 09/04/2019."]
[]
["Crediti v/ASL 301 per altre prestazioni - Importo disallineamento infragruppo"]
["Riferimento documento","Anno di competenza","Importo residuo al 31/12/2016","Credito prescritto","Documento disponibile/riproducibile (SI/NO)","Importo fondo rischi","Motivazione disallineamento"]
[]
["2-2002-724",1999,1348072.26,"NO","Da verificare",-1348072.26,"Partita non presente nell'E/C della ASL debitrice"]
["2-2002-725",1999,null,null,null,-33266.839999999997,"Fondo rischi accantonato da ASL Pescara relativamente alla fattura 2-2002-725 di € 33.267, presente anche nell'E/C della ASL 301. "]
["Totale disallineamento",null,{"$f":"SUM(C15:C16)","v":1348072.26},null,null,{"$f":"SUM(F15:F16)","v":-1381339.1},{"$f":"C17+F17","v":-33266.840000000084}]
[]
["Di seguito si evidenzia il disallineamento tra i debiti della ASL di Pescara vs la ASL Avezzano-Sulmona-L'Aquila ed i loro crediti nei nostri confronti: "]
[]
[null,null,null,null,null,null,null,"Valore nominale","Fondo svalutazione crediti","Valore netto"]
["Debiti ASL Pescara verso ASL Avezzano-Sulmona L'Aquila ",null,null,null,null,null,null,502090.1,0,{"$f":"H22-I22","v":502090.1}]
["Crediti ASL Avezzano-Sulmona-L'Aquila verso ASL Pescara *",null,null,null,null,null,null,652822.1,0,{"$f":"H23-I23","v":652822.1}]
["Disallineamento",null,null,null,null,null,null,{"$f":"H22-H23","v":-150732},{"$f":"SUM(I22:I23)","v":0},{"$f":"J22-J23","v":-150732}]
[]
["*","Dato comunicato dalla ASL 301 con e-mail del 09/04/2019."]
[]
[]
["Debiti v/ASL 302 per altre prestazioni - Importo disallineamento infragruppo"]
["Riferimento documento","Anno di competenza","Importo residuo al 31/12/2017","Debito  prescritto","Documento disponibile/riproducibile (SI/NO)","Importo fondo rischi","Motivazione disallineamento"]
[]
[" Fattura n. reg. 1-2019-11811, inerente l'attività di screening di competenza dell'esercizio 2017",2017,-150752,"NO",null,null,"La partita è stata registrata dalla ASL di Pescara nel 2019 come sopravvenienza passiva e da ASL L'Aquila come fattura da emettere al 31/12/2018."]
["Bolli",null,20]
["Totale disallineamento",null,{"$f":"SUM(C32:C33)","v":-150732},null,null,{"$f":"SUM(F32)","v":0},{"$f":"C34-F34","v":-150732}]
[]
[]
[]
["In occasione della chiusura del bilancio, è stata effettuata l'attività di riconciliazione dei saldi creditori e debitori infragruppo. "]
["All'esito di tale attività, si è provveduto, laddove possibile, secondo le indicazioni fornite dalla Regione nelle Linee Guida alla redazione del Bilancio di eserizio 2018, ad eliminare i disallinementi tra i saldi."]
["Al 31/12/2018 permane un disallinemanto tra il credito della ASL di Pescara vs la ASL di Avezzano Sulmona-L'Aquila ed il loro debito nei nostri confronti. Le partite che formano il disallineamento ancora presente al 31/12/2018 sono: "]
["- la fattura registrazione n. 2-2002-724 di €/000 1.348, risalente all'esercizio 1999, emessa nei confronti della ex ASL di Avezzano-Sulmona, per la quale è stato ripetutamente sollecitato il pagamento alla ASL di Avezzano-Sulmona-L'Aquila. Tale fattura non è presente nella contabilità della ASL debitrice e a fronte del rischio di inesigibilità della stessa, la ASL di Pescara ha accantonato un fondo rischi di pari importo; "]
["- fondo rischi di €/000 33, accantonato a fronte della fattura 2-2002-725, anch'essa risalente all'esercizio 1999. Tale fattura, a differenza della precedente, è presente nella contabilità della ASL debitrice, ma ad oggi, nonostante numerosi solleciti effettuati nel corso degli anni, non è ancora stata pagata. A fronte del rischio di inesigibilità della stessa, la ASL di Pescara ha accantonato un fondo rischi di pari importo. "]
[]
["In merito alle azioni che la ASL di Pescara intende intraprendere nel corso del 2019 per eliminare detto disallineamento, si fa presente quanto segue. "]
["In relazione al documento n. 2-2002-724, non presente nella contabilità della ASL debitrice,  la ASL di Pescara intende portare a compimento la verifica della disponibilità/riproducibilità del documento, attraverso un'attenta ricognizione da parte degli uffici competenti che hanno emesso la fattura, e procedere nuovamente all'invio del documento alla ASL debitrice, affinchè quest'ultima provveda a registrare la fattura nella sua contabilità e ad effettuare il pagamento a nostro favore."]
["Per quanto riguarda il documento n. 2-2002-725, esso è presente nella contabilità della ASL debitrice, ma ad oggi non è ancora stato pagato. L'azienda intende sollecitare nuovamente il pagamento"]
[" alla ASL di Avezzano Sulmona L'Aquila."]
[]
["In riferimento all'attività di riconciliazione tra il debito della ASL di Pescara vs la ASL di Avezzano Sulmona-L'Aquila ed il loro credito nei nostri confronti, al 31/12/2017 c'è un disallinemento di € 150.732,"]
["dovuto in particolare alla fattura n. reg. 1-2019-11811, inerente l'attività di screening di competenza dell'esercizio 2017, registrata dalla ASL di Pescara nel 2019 come sopravvenienza passiva "]
["e da ASL L'Aquila come fattura da emettere al 31/12/2018 ."]
[]
[]
[]
[]
[]
[]
[]
[]
["CREDITI E DEBITI VS ASL LANCIANO-VASTO-CHIETI"]
[]
["Di seguito si evidenzia il disallineamento tra i crediti della ASL di Pescara vs la ASL Lanciano-Vasto-Chieti  ed i loro debiti nei nostri confronti:  "]
[]
[null,null,null,null,null,null,null,"Valore nominale","Fondo svalutazione crediti","Valore netto"]
["Crediti ASL Pescara verso ASL Lanciano-Vasto-Chieti",null,null,null,null,null,null,2316521.65,-1878587.6,{"$f":"H65+I65","v":437934.04999999981}]
["Debiti ASL Lanciano-Vasto-Chieti verso ASL Pescara *",null,null,null,null,null,null,1101965.8799999999,0,{"$f":"H66+I66","v":1101965.8799999999}]
["Disallineamento",null,null,null,null,null,null,{"$f":"H65-H66","v":1214555.77},-1878587.6,{"$f":"J65-J66","v":-664031.83000000007}]
[]
["*","Dato comunicato dalla ASL 302 con e-mail del 16/04/2019."]
[]
[]
[]
[]
[]
[]
["Crediti v/ASL 302 per altre prestazioni - Importo disallineamento infragruppo"]
["Riferimento documento","Anno di competenza","Importo residuo al 31/12/2018","Credito prescritto","Documento disponibile/riproducibile (SI/NO)","Importo fondo rischi","Motivazione disallineamento"]
[]
["2-2002-722",1999,null,null,null,-661638.73,"Fondo rischi accantonato da ASL Pescara relativamente alla fattura 2-2002-722 di € 661.638,73, presente anche nell'E/C della ASL 302. "]
["2-2002-723",1999,1216948.8700000001,"NO","Da verificare",-1216948.8700000001,"Partita non presente nell'E/C della ASL debitrice"]
["4-2018-775",2011,290.27,null,"SI",null,"Partita chiusa dalla ASL 302, in quanto pagata. Essa risulta ancora aperta nella contabilità della ASL di Pescara."]
["FT-2015-4615",2015,-171.77,null,null,null,"Iva, dalla ASL di Pescara stornata dall'importo del credito a chiusura del debito v/Erario (meccanismo dello Split Payment). "]
["FT-2019-481",2014,-1267.2,null,null,null,"Iva, dalla ASL di Pescara stornata dall'importo del credito a chiusura del debito v/Erario (meccanismo dello Split Payment). "]
["FT-2019-691",2014,-1214.4000000000001,null,null,null,"Iva, dalla ASL di Pescara stornata dall'importo del credito a chiusura del debito v/Erario (meccanismo dello Split Payment). "]
[null,2017,-30,null,null,null,"Disallineamento dovuto ai bolli sulle fatture da emettere al 31/12/2018"]
["Totale disallineamento",null,{"$f":"SUM(C79:C85)","v":1214555.7700000003},null,null,{"$f":"SUM(F79:F85)","v":-1878587.6},{"$f":"C86+F86","v":-664031.82999999984}]
[]
["Di seguito si evidenzia il disallineamento tra i debiti della ASL di Pescara vs la ASL Lanciano-Vasto-Chieti ed i loro crediti nei nostri confronti: "]
[]
[null,null,null,null,null,null,null,"Valore nominale","Fondo svalutazione crediti","Valore netto"]
["Debiti ASL Pescara verso ASL Lanciano-Vasto-Chieti",null,null,null,null,null,null,228041.33,0,{"$f":"H91-I91","v":228041.33}]
["Crediti ASL Lanciano-Vasto-Chieti verso ASL Pescara *",null,null,null,null,null,null,228074.7,0,{"$f":"H92-I92","v":228074.7}]
["Disallineamento",null,null,null,null,null,null,{"$f":"H91-H92","v":-33.370000000024447},{"$f":"SUM(I91:I92)","v":0},{"$f":"J91-J92","v":-33.370000000024447}]
[]
["*","Dato comunicato dalla ASL 302 con e-mail del 16/04/2019."]
[]
[]
["Debiti v/ASL 302 per altre prestazioni - Importo disallineamento infragruppo"]
["Riferimento documento","Anno di competenza","Importo residuo al 31/12/2016","Debito  prescritto","Documento disponibile/riproducibile (SI/NO)","Importo fondo rischi","Motivazione disallineamento"]
[]
["Rimborso spese di registrazione sentenza (Determina n. 25/AGL del 30/01/2017 della ASL di Lanciano Vasto Chieti) ",2016,-33.369999999999997,"NO",null,null,"La partita sarà registrata nella contabilità della ASL di Pescara nell'esercizio 2019. "]
["Totale disallineamento",null,{"$f":"SUM(C101:C101)","v":-33.369999999999997},null,null,{"$f":"SUM(F101)","v":0},{"$f":"C102-F102","v":-33.369999999999997}]
[]
[]
["In occasione della chiusura del bilancio, è stata effettuata l'attività di riconciliazione dei saldi creditori e debitori infragruppo. "]
["All'esito di tale attività, si è provveduto, laddove possibile, secondo le indicazioni fornite dalla Regione nelle Linee Guida alla redazione del Bilancio di eserizio 2018, ad eliminare i disallinementi tra i saldi."]
["Al 31/12/2018 permane un disallineamento tra il credito della ASL di Pescara vs la ASL di Lanciano-Vasto-Chieti ed il loro debito nei nostri confronti. Le principali partite che formano il disallineamento ancora presente al 31/12/2018 sono: "]
["- la fattura con registrazione n. 2-2002-723 di €/000 1.217, risalente all'esercizio 1999, emessa nei confronti della ex ASL di Chieti, per la quale è stato ripetutamente sollecitato il pagamento. Tale fattura, inizialmente presente nella contabilità della ASL debitrice, attualmente non compare più tra i debiti della ASL di Chieti. A fronte del rischio di inesigibilità della fattura, la ASL di Pescara ha accantonato un fondo rischi di pari importo; "]
["- fondo rischi accantonato a fronte della fattura 2-2002-722, anch'essa risalente all'esercizio 1999. Tale fattura, a differenza della precedente, è presente nella contabilità della ASL debitrice, ma ad oggi, nonostante numerosi solleciti effettuati nel corso degli anni, non è ancora stata pagata. A fronte del rischio di inesigibilità della stessa, la ASL di Pescara ha accantonato un fondo rischi di pari importo. "]
["- Rimborso fatture 2011, relative ad accertamenti medico legali dipendenti malattia di €/unità 290. La partita risulta chiusa dalla ASL di Lanciano-Vasto-Chieti in qunto pagata, mentre risulta ancora aperta nella contabilità della ASL di Pescara. Il disallineamento sarà eliminato nel 2019, a seguito delle opportune verifiche.  "]
["- Iva su ns fatture, per un importo complessivo di €/unità 2.653, che secondo il meccanismo dello Split Payment è stata stornata dall'importo del credito a chiusura del debito v/erario per iva. Lo storno dell'Iva viene invece effettuato dalla ASL debitrice al momento del pagamento della fattura. Pertanto, il disallinemento in questione si annullerà al momento del pagamento della fattura da parte della ASL di Lanciano-Vasto-Chieti."]
["In merito alle azioni che la ASL di Pescara intende intraprendere nel corso del 2018 per eliminare detto disallineamento, si fa presente quanto segue. "]
["In relazione al documento n. 2-2002-723, non più presente nella contabilità della ASL debitrice,  la ASL di Pescara intende completare la raccolta della documentazione comprovante il credito nei confronti della ASL di Lanciano-Vasto Chieti, portando a compimento la ricognizione, da parte degli uffici competenti che hanno emesso la fattura, e procedere all'invio della suddetta documentazione alla ASL debitrice, affinchè quest'ultima provveda a registrare nuovamente la fattura nella sua contabilità e ad effettuare il pagamento a nostro favore."]
["Per quanto riguarda il documento n. 2-2002-722, esso è presente nella contabilità della ASL debitrice, ma ad oggi non è ancora stato pagato. L'azienda intende sollecitare  nuovamente il pagamento"]
[" da parte della ASL di Lanciano-Vasto-Chieti."]
[]
["In riferimento all'attività di riconciliazione svolta tra il debito della ASL di Pescara vs la ASL di Lanciano Vasto Chieti ed il loro credito nei nostri confronti, al 31/12/2018 c'è un disallinemento di importo "]
["pari ad €/unità -33, che si riferisce al rimborso dovuto dalla ASL di Pescara delle spese di registrazione di una sentenza. La ASL di Lanciano-Vasto-Chieti ha rilevato il credito verso la ASL di Pescara "]
["nel 2016, ma la ASL di Pescara non ha ancora registrato tale partita nella sua contabilità, in quanto non è ancora stato adottato il relativo provvedimento di liquidazione da parte dell'Ufficio Legale aziendale.    "]
["Essa sarà registrata nella contabilità della ASL di Pescara nell'esercizio 2019."]
[]
[]
[]
[]
[]
[]
[]
[]
[]
[]
["CREDITI E DEBITI VS ASL TERAMO"]
[]
["Di seguito si evidenzia il disallineamento tra i crediti della ASL di Pescara vs la ASL di Teramo ed i loro debiti nei nostri confronti:  "]
[]
[null,null,null,null,null,null,null,"Valore nominale","Fondo svalutazione crediti","Valore netto"]
["Crediti ASL Pescara verso ASL Teramo ",null,null,null,null,null,null,140894.81,0,{"$f":"H136+I136","v":140894.81}]
["Debiti ASL Teramo verso ASL Pescara *",null,null,null,null,null,null,138801.81,0,{"$f":"H137+I137","v":138801.81}]
["Disallineamento",null,null,null,null,null,null,{"$f":"H136-H137","v":2093},{"$f":"SUM(I136:I137)","v":0},{"$f":"J136-J137","v":2093}]
[]
["*","Dato comunicato dalla ASL 304 con e-mail del 10/04/2019."]
[]
[]
[]
["Crediti v/ASL 304 per altre prestazioni - Importo disallineamento infragruppo"]
["Riferimento documento","Anno di competenza","Importo residuo al 31/12/2018","Credito prescritto","Documento disponibile/riproducibile (SI/NO)","Importo fondo rischi","Motivazione disallineamento"]
[]
["FT-2017-3932",2017,2093,"NO","SI",0,"La ASL di Teramo ha rilevato una Nota di credito da ricevere a storno della fattura indicata. Tale partita non è presente nella contabilità della ASL di Pescara in quanto la struttura competente  (DSB di Città Sant'Angelo), alla data di redazione del Bilancio di esercizio al 31/12/2018, non ha emesso la nota di credito, essendo la pratica ancora in corso di definizione.   "]
["Totale disallineamento",null,{"$f":"SUM(C147:C147)","v":2093},null,null,{"$f":"SUM(F147:F147)","v":0},{"$f":"C148+F148","v":2093}]
[]
[]
[]
[]
["Di seguito si evidenzia il disallineamento tra i debiti della ASL di Pescara vs la ASL di Teramo ed i loro crediti nei nostri confronti: "]
[]
[null,null,null,null,null,null,null,"Valore nominale","Fondo svalutazione crediti","Valore netto"]
["Debiti ASL Pescara verso ASL Teramo ",null,null,null,null,null,null,1935488.18,0,{"$f":"H156-I156","v":1935488.18}]
["Crediti ASL Teramo verso ASL Pescara *",null,null,null,null,null,null,1935487.28,0,{"$f":"H157-I157","v":1935487.28}]
["Disallineamento",null,null,null,null,null,null,{"$f":"H156-H157","v":0.89999999990686774},{"$f":"SUM(I156:I157)","v":0},{"$f":"J156-J157","v":0.89999999990686774}]
[]
["*","Dato comunicato dalla ASL 304 con e-mail del 10/04/2019."]
[]
["La differenza è dovuta ad arrotondamenti."]
[]
[]
[]
["In occasione della chiusura del bilancio, è stata effettuata l'attività di riconciliazione dei saldi creditori e debitori infragruppo. "]
["All'esito di tale attività, si è provveduto, laddove possibile, secondo le indicazioni fornite dalla Regione nelle Linee Guida alla redazione del Bilancio di eserizio 2018, ad eliminare i disallinementi tra i saldi."]
["Al 31/12/2018 esiste una differenza tra il credito della ASL di Pescara vs la ASL di Teramo ed il debito di quest'ultima verso la ASL di Pescara di € 2.093. Tale differenza è data dalla Nota di credito da ricevere"]
["rilevata dalla ASL di Teramo a storno della Fattura n. FT-2017-3932. La ASL di Pescara non ha rilevato nella sua contabilità una nota di credito da emettere, in quanto la pratica è ancora in corso di definizione.   "]
[]
["In riferimento all'attività di riconciliazione tra il debito della ASL di Pescara vs la ASL di Teramo ed il loro credito nei nostri confronti, al 31/12/2018 c'è un disallinemento di importo non  significativo"]
[" (€/unità 0,90) dovuto ad arrotondamenti."]
[]
[]
[]
[]
[]
[]
[]
[]
[]
["POSTE STRAORDINARIE INFRAGRUPPO"]
[]
[]
["I disallineamenti rilevati al 31/12/2017, in occasione dell'attività di riconciliazione, non hanno determinato rilevazioni di poste straordinarie infragruppo nel corso dell'esercizio 2018."]
[]
["Tuttavia, nel corso dell'esercizio 2018 sono state rilevate nelle poste straordinarie infragruppo le fatture emesse/ricevute nel 2018, dopo la data di predisposizione del bilancio di esercizio al  "]
["31/12/2017, di competenza di esercizi precedenti."]
[]
["Si riportano di seguito i saldi delle poste straordinarie infragruppo, movimentate nel 2018, suddivise per AA.SS.LL.:"]
[]
["Voce di CE","Voce di conto","Descrizione",null,null,"ASL Avezzano-Sulmona-L'Aquila","ASL Lanciano-Vasto-Chieti","ASL Teramo","TOTALE"]
["EA0060","0601020202","Altre sopravvenienze attive v/Aziende sanitarie pubbliche della Regione ",null,null,17377.8,2677.22,1219.46,{"$f":"SUM(F193:H193)","v":21274.48}]
["EA0160","0601020301","Insussistenze attive v/Aziende sanitarie pubbliche della Regione",null,null,0,0,0,{"$f":"SUM(F194:H194)","v":0}]
["EA0340","1001020302","Altre sopravvenienze passive v/Aziende sanitarie pubbliche della Regione ",null,null,8342.66,17443.03,97083.82,{"$f":"SUM(F195:H195)","v":122869.51000000001}]
["EA0470",1001020401,"Insussistenze passive v/Aziende sanitarie pubbliche della Regione",null,null,0,0,0,{"$f":"SUM(F196:H196)","v":0}]

{"sheet":"Tab 25","index":28,"n_rows":24,"n_cols":16,"rows_kept":24,"cut":false,"hidden":false,"merged":[[17,1,17,3],[19,0,19,3],[10,3,10,5],[1,3,1,5],[2,3,2,5],[3,3,3,5],[4,3,4,5],[5,3,5,5],[6,3,6,5],[7,3,7,5],[8,3,8,5],[9,3,9,5],[0,1,0,11],[11,3,11,5],[12,3,12,5],[13,3,13,5],[14,3,14,5],[20,5,20,11],[21,5,21,11],[22,5,22,11],[23,5,23,11],[20,0,20,2],[21,0,21,2],[22,0,22,2],[23,0,23,2],[20,3,20,4]]}
[null,"Tab. 25 – Dettagli crediti per incrementi di patrimonio netto"]
["CODICE MOD. SP","DETTAGLIO CREDITI PER INCREMENTI DI PATRIMONIO NETTO DELIBERATI",null,"Delibera n°/anno",null,null,"Importo delibera","Riscosso negli esercizi precedenti (-)","Consistenza iniziale","Importo nuove deliberazioni","Riscossioni/compensazioni\n(-)","Consistenza finale",null,"Valore SP","Diff","Ctrl"]
["ABA280","  Crediti v/Stato per finanziamenti per investimenti",null,null,null,null,null,null,0,null,null,0,null,{"$f":"SUMIF('00 SP'!A:A,'Tab 25'!A3,'00 SP'!L:L)","v":0},{"$f":"L3-N3","v":0},{"$f":"IF(O3=0,\"OK\",\"CTRL\")","v":"OK"}]
[null,"     Inserire dettaglio"]
["ABA480"," Crediti v/Regione o Provincia Autonoma per finanziamenti per investimenti",null,null,null,null,{"$f":"G6+G7","v":38255},{"$f":"+H7+H6","v":0},38255,{"$f":"+J7+J6","v":0},0,38255,null,{"$f":"SUMIF('00 SP'!A:A,'Tab 25'!A5,'00 SP'!L:L)","v":38255},{"$f":"L5-N5","v":0},{"$f":"IF(O5=0,\"OK\",\"CTRL\")","v":"OK"}]
[null,"Potenz. Attrez. San. Servizio Prevenzione e Ig. Amb.",null,"Consiglio Regionale n.128/43 del 23/12/89",null,null,27719,0,{"$f":"G6","v":27719},0,0,{"$f":"I6+J6-K6","v":27719}]
[null,"Acq telefoni cell. Servizio guardia medica ",null,"Del. Consiliare 68/10 del 27/04/1993",null,null,10536,0,10536,0,0,{"$f":"I7+J7-K7","v":10536}]
["ABA490"," Crediti v/Regione o Provincia Autonoma per incremento fondo dotazione",null,null,null,null,0,null,0,null,null,{"$f":"I8+J8-K8","v":0},null,{"$f":"SUMIF('00 SP'!A:A,'Tab 25'!A8,'00 SP'!L:L)","v":0},{"$f":"L8-N8","v":0},{"$f":"IF(O8=0,\"OK\",\"CTRL\")","v":"OK"}]
[null,"     Inserire dettaglio",null,null,null,null,null,null,null,null,null,0]
["ABA500"," Crediti v/Regione o Provincia Autonoma per ripiano perdite esercizio 2017",null,"DPF012/14  DEL 13/04/2018 e nota n.RA0122860/PDF12 del 19/ 04/2019 ",null,null,27874334,null,14264710,{"$f":"13609624","v":13609624},0,27874334,null,{"$f":"SUMIF('00 SP'!A:A,'Tab 25'!A10,'00 SP'!L:L)","v":27874334},{"$f":"L10-N10","v":0},{"$f":"IF(O10=0,\"OK\",\"CTRL\")","v":"OK"}]
[]
["ABA510"," Crediti v/Regione per copertura debiti al 31/12/2005",null,null,null,null,0,null,0,null,null,0,null,{"$f":"SUMIF('00 SP'!A:A,'Tab 25'!A12,'00 SP'!L:L)","v":0},{"$f":"L12-N12","v":0},{"$f":"IF(O12=0,\"OK\",\"CTRL\")","v":"OK"}]
[null,"     Inserire dettaglio"]
["ABA520","  Crediti v/Regione o Provincia Autonoma per ricostituzione risorse da investimenti esercizi precedenti",null,null,null,null,0,null,0,null,null,0,null,{"$f":"SUMIF('00 SP'!A:A,'Tab 25'!A14,'00 SP'!L:L)","v":0},{"$f":"L14-N14","v":0},{"$f":"IF(O14=0,\"OK\",\"CTRL\")","v":"OK"}]
[null,"     Inserire dettaglio"]
[]
["CRED01 - Svalutazione crediti iscritti nell'attivo circolante."]
["CRED01 - NO","non sono state effettuate svalutazione di crediti inseriti nell'attivo circolante"]
[]
["Altre informazioni relative ai crediti."]
["Informazione",null,null,"Caso presente in azienda?",null,"Se sì, illustrare"]
["CRED02 - Gravami. Sui crediti dell'azienda vi sono gravami quali pignoramenti, ecc.?",null,null,null,"NO"]
["CRED03 - Cartolarizzazioni. L'azienda ha in atto operazioni di cartolarizzazione dei crediti?",null,null,null,"NO"]
["CRED04 - Altro. Esistono altre informazioni che si ritiene necessario fornire per soddisfare la regola generale secondo cui \"Se le informazioni richieste da specifiche disposizioni di legge non sono sufficienti a dare una rappresentazione veritiera e corretta, si devono fornire le informazioni complementari necessarie allo scopo\" (art. 2423 cc)?",null,null,null,"NO"]

{"sheet":"Tab 26-27-28","index":29,"n_rows":41,"n_cols":19,"rows_kept":41,"cut":false,"hidden":false,"merged":[[3,14,4,14],[5,2,7,2],[0,2,0,8],[3,2,4,2],[3,3,4,3],[3,5,4,5],[3,6,3,8],[3,9,3,13],[23,9,23,13],[23,14,24,14],[37,2,37,3],[37,4,37,5],[23,2,24,2],[23,3,24,3],[23,5,24,5],[23,6,23,8],[25,2,30,2],[34,2,34,8],[36,2,36,3],[36,4,36,6],[36,7,36,14],[37,7,37,14],[38,7,38,14],[39,7,39,14],[40,7,40,14],[40,2,40,3],[40,4,40,5],[38,2,38,3],[38,4,38,5],[39,2,39,3],[39,4,39,5]]}
[null,null,"8.     Attività finanziarie che non costituiscono immobilizzazioni"]
[]
[null,null,null,"Tab. 26 – Movimentazioni delle attività finanziarie che non costituiscono immobilizzazioni"]
[null,null,"CODICE MOD. SP","ATTIVITA' FINANZIARIE CHE NON COSTITUISCONO IMMOBILIZZAZIONI",null,"Costo\nstorico","ESERCIZI PRECEDENTI",null,null,"MOVIMENTI DELL'ESERCIZIO",null,null,null,null,"Valore\nnetto"]
[null,null,null,null,null,null,"Rivalut.","Svalut.","Valore\niniziale","Giroconti e Riclassificaz. (+/-)","Rivalut. (+)","Svalut. (-)","Acquisiz. ","Cessioni (valore netto)",null,null,"Valore SP","Diff","Ctrl"]
["ABA730CN","ABA730","ABA730"," Partecipazioni in imprese controllate",null,{"$f":"SUMIF('00 PDC SP'!$A:$A,'Tab 26-27-28'!$A6,'00 PDC SP'!H:H)","v":0},{"$f":"SUMIF('00 PDC SP'!$A:$A,'Tab 26-27-28'!$A6,'00 PDC SP'!I:I)","v":0},{"$f":"SUMIF('00 PDC SP'!$A:$A,'Tab 26-27-28'!$A6,'00 PDC SP'!J:J)","v":0},{"$f":"F6+G6-H6","v":0},0,0,0,{"$f":"SUMIF('00 PDC SP'!$A:$A,'Tab 26-27-28'!$A6,'00 PDC SP'!L:L)-(J6+K6+L6)","v":0},{"$f":"SUMIF('00 PDC SP'!$A:$A,'Tab 26-27-28'!$A6,'00 PDC SP'!M:M)","v":0},{"$f":"I6+J6+K6-L6+M6-N6","v":0},null,{"$f":"SUMIF('00 SP'!A:A,'Tab 26-27-28'!B6,'00 SP'!L:L)","v":0},{"$f":"(O6+O7+O8)-Q6","v":0},{"$f":"IF(R6=0,\"OK\",\"CTRL\")","v":"OK"}]
["ABA730CL",null,null," Partecipazioni in imprese collegate",null,{"$f":"SUMIF('00 PDC SP'!$A:$A,'Tab 26-27-28'!$A7,'00 PDC SP'!H:H)","v":0},{"$f":"SUMIF('00 PDC SP'!$A:$A,'Tab 26-27-28'!$A7,'00 PDC SP'!I:I)","v":0},{"$f":"SUMIF('00 PDC SP'!$A:$A,'Tab 26-27-28'!$A7,'00 PDC SP'!J:J)","v":0},{"$f":"F7+G7-H7","v":0},0,0,0,{"$f":"SUMIF('00 PDC SP'!$A:$A,'Tab 26-27-28'!$A7,'00 PDC SP'!L:L)-(J7+K7+L7)","v":0},{"$f":"SUMIF('00 PDC SP'!$A:$A,'Tab 26-27-28'!$A7,'00 PDC SP'!M:M)-L7","v":0},{"$f":"I7+J7+K7-L7+M7-N7","v":0}]
["ABA730AI",null,null," Partecipazioni in altre imprese",null,{"$f":"SUMIF('00 PDC SP'!$A:$A,'Tab 26-27-28'!$A8,'00 PDC SP'!H:H)","v":0},{"$f":"SUMIF('00 PDC SP'!$A:$A,'Tab 26-27-28'!$A8,'00 PDC SP'!I:I)","v":0},{"$f":"SUMIF('00 PDC SP'!$A:$A,'Tab 26-27-28'!$A8,'00 PDC SP'!J:J)","v":0},{"$f":"F8+G8-H8","v":0},0,0,0,{"$f":"SUMIF('00 PDC SP'!$A:$A,'Tab 26-27-28'!$A8,'00 PDC SP'!L:L)-(J8+K8+L8)","v":0},{"$f":"SUMIF('00 PDC SP'!$A:$A,'Tab 26-27-28'!$A8,'00 PDC SP'!M:M)-L8","v":0},{"$f":"I8+J8+K8-L8+M8-N8","v":0}]
["ABA740","ABA740","ABA740"," Altri titoli che non costituiscono immobilizzazioni",null,{"$f":"SUMIF('00 PDC SP'!$A:$A,'Tab 26-27-28'!$A9,'00 PDC SP'!H:H)","v":0},{"$f":"SUMIF('00 PDC SP'!$A:$A,'Tab 26-27-28'!$A9,'00 PDC SP'!I:I)","v":0},{"$f":"SUMIF('00 PDC SP'!$A:$A,'Tab 26-27-28'!$A9,'00 PDC SP'!J:J)","v":0},0,0,0,0,{"$f":"SUMIF('00 PDC SP'!$A:$A,'Tab 26-27-28'!$A9,'00 PDC SP'!L:L)-(J9+K9+L9)","v":0},{"$f":"SUMIF('00 PDC SP'!$A:$A,'Tab 26-27-28'!$A9,'00 PDC SP'!M:M)-L9","v":0},{"$f":"I9+J9+K9-L9+M9-N9","v":0},null,{"$f":"SUMIF('00 SP'!A:A,'Tab 26-27-28'!B9,'00 SP'!L:L)","v":0},{"$f":"(O9+O10+O11)-Q9","v":0},{"$f":"IF(R9=0,\"OK\",\"CTRL\")","v":"OK"}]
[null,null,null,"TOTALE ATTIVITA' FINANZIARIE CHE NON COSTITUISCONO IMMOBILIZZAZIONI",null,{"$f":"SUM(F6:F9)","v":0},0,0,0,0,0,0,0,0,0]
[]
[]
[null,null,null,"Tab. 27 – Elenco e informativa delle partecipazioni che non costituiscono immobilizzazioni"]
[null,null,null,"ELENCO PARTECIPAZIONI CHE NON COSTITUISCONO IMMOBILIZZAZIONI",null,"Sede","Forma\ngiuridica","Capitale","% capitale pubblico","Patrimonio netto incluso riserve","Totale\nAttivo","Risultato di esercizio","% di possesso","Valore attribuito a bilancio"]
[null,null,null," Partecipazioni in imprese controllate:"]
[null,null,null,"   …"]
[null,null,null," Partecipazioni in imprese collegate:"]
[null,null,null,"   …"]
[null,null,null," Partecipazioni in altre imprese:"]
[null,null,null,"   …"]
[]
[]
[null,null,null,"Tab. 28 – Dettagli e movimentazioni delle attività finanziarie che non costituiscono immobilizzazioni"]
[null,null,"CODICE MOD. SP","DETTAGLIO ATTIVITA' FINANZIARIE CHE NON COSTITUISCONO IMMOBILIZZAZIONI",null,"Costo\nstorico","ESERCIZI PRECEDENTI",null,null,"MOVIMENTI DELL'ESERCIZIO",null,null,null,null,"Valore\nfinale"]
[null,null,null,null,null,null,"Rivalut.","Svalut.","Valore iniziale","Giroconti e Riclassific.","Rivalut.","Svalut.","Acquisiz.","Cessioni (valore netto)"]
[null,null,"ABA730"," Partecipazioni in imprese controllate:"]
[null,null,null,"   …"]
[null,null,null," Partecipazioni in imprese collegate:"]
[null,null,null,"   …"]
[null,null,null," Partecipazioni in altre imprese:"]
[null,null,null,"   …"]
[null,null,"ABA740","Altri titoli (diversi dalle partecipazioni)"]
[null,null,null,"   …"]
[]
[null,null,"Altre informazioni relative alle attività finanziarie che non costituiscono immobilizzazioni."]
[]
[null,null,"Informazione",null,"Caso presente in azienda?",null,null,"Se sì, illustrare"]
[null,null,"AF01 - Gravami. Sulle attività finanziarie che non costituiscono immobilizzazioni vi sono gravami quali pegni, pignoramenti, ecc.?"]
[null,null,"AF02 - Contenzioso con iscrizione in bilancio. Sulle attività finanziarie che non costituiscono immobilizzazioni iscritte in bilancio sono in corso contenziosi con altre aziende sanitarie, con altri enti pubblici o con enti privati?"]
[null,null,"AF03 - Contenzioso senza iscrizione in bilancio. Esistono attività finanziarie che non costituiscono immobilizzazioni non iscritte nello stato patrimoniale perché non riconosciute come proprietà dell'azienda in seguito a contenziosi in corso con altre aziende sanitarie, con altri enti pubblici o con soggetti privati?"]
[null,null,"AF04 - Altro. Esistono altre informazioni che si ritiene necessario fornire per soddisfare la regola generale secondo cui \"Se le informazioni richieste da specifiche disposizioni di legge non sono sufficienti a dare una rappresentazione veritiera e corretta, si devono fornire le informazioni complementari necessarie allo scopo\" (art. 2423 cc)?"]

{"sheet":"Tab 29-30-31","index":30,"n_rows":46,"n_cols":15,"rows_kept":46,"cut":false,"hidden":false,"merged":[[0,0,0,6],[16,7,16,10],[17,7,17,10],[18,7,18,10],[21,0,21,4],[4,0,5,0],[4,1,5,1],[4,3,5,3],[4,4,4,5],[4,6,5,6],[3,1,3,6],[23,1,23,6],[44,0,44,4],[44,5,44,6],[45,0,45,4],[13,1,13,7],[15,0,15,3],[16,0,16,4],[16,5,16,6],[17,0,17,4],[18,0,18,4],[44,7,44,10],[45,7,45,10]]}
["9.     Disponibilità liquide"]
[]
[]
[null,"Tab. 29 – Movimentazioni delle disponibilità liquide"]
["CODICE MOD. SP","DISPONIBILITA' LIQUIDE",null,"Valore\niniziale","MOVIMENTI DELL'ESERCIZIO",null,"Valore\nfinale"]
[null,null,null,null,"Incrementi","Decrementi",null,null,null,null,null,null,"Valore SP","Diff","Ctrl"]
["ABA760","  Cassa",null,{"$f":"SUMIF('00 SP'!$A:$A,'Tab 29-30-31'!$A7,'00 SP'!I:I)","v":20000},{"$f":"SUMIF('00 SP'!$A:$A,'Tab 29-30-31'!$A7,'00 SP'!J:J)","v":52671.15},{"$f":"SUMIF('00 SP'!$A:$A,'Tab 29-30-31'!$A7,'00 SP'!K:K)","v":52671.15},{"$f":"D7+E7-F7","v":19999.999999999993},null,null,null,null,null,{"$f":"SUMIF('00 SP'!A:A,'Tab 29-30-31'!A7,'00 SP'!L:L)","v":20000},{"$f":"G7-M7","v":0},{"$f":"IF(N7=0,\"OK\",\"CTRL\")","v":"OK"}]
["ABA770","  Istituto Tesoriere",null,{"$f":"SUMIF('00 SP'!$A:$A,'Tab 29-30-31'!$A8,'00 SP'!I:I)","v":69558966.349999994},{"$f":"SUMIF('00 SP'!$A:$A,'Tab 29-30-31'!$A8,'00 SP'!J:J)","v":625609944.79999995},{"$f":"SUMIF('00 SP'!$A:$A,'Tab 29-30-31'!$A8,'00 SP'!K:K)","v":648972836.83000004},{"$f":"D8+E8-F8","v":46196074.319999933},null,null,null,null,null,{"$f":"SUMIF('00 SP'!A:A,'Tab 29-30-31'!A8,'00 SP'!L:L)","v":46196074.319999933},{"$f":"G8-M8","v":0},{"$f":"IF(N8=0,\"OK\",\"CTRL\")","v":"OK"}]
["ABA780","  Tesoreria Unica",null,{"$f":"SUMIF('00 SP'!$A:$A,'Tab 29-30-31'!$A9,'00 SP'!I:I)","v":0},{"$f":"SUMIF('00 SP'!$A:$A,'Tab 29-30-31'!$A9,'00 SP'!J:J)","v":0},{"$f":"SUMIF('00 SP'!$A:$A,'Tab 29-30-31'!$A9,'00 SP'!K:K)","v":0},0,null,null,null,null,null,{"$f":"SUMIF('00 SP'!A:A,'Tab 29-30-31'!A9,'00 SP'!L:L)","v":0},{"$f":"G9-M9","v":0},{"$f":"IF(N9=0,\"OK\",\"CTRL\")","v":"OK"}]
["ABA790","  Conto corrente postale",null,{"$f":"SUMIF('00 SP'!$A:$A,'Tab 29-30-31'!$A10,'00 SP'!I:I)","v":3227616.17},{"$f":"SUMIF('00 SP'!$A:$A,'Tab 29-30-31'!$A10,'00 SP'!J:J)","v":1458253.24},{"$f":"SUMIF('00 SP'!$A:$A,'Tab 29-30-31'!$A10,'00 SP'!K:K)","v":3393835},1292034.4100000001,null,null,null,null,null,{"$f":"SUMIF('00 SP'!A:A,'Tab 29-30-31'!A10,'00 SP'!L:L)","v":1292034.4100000001},{"$f":"G10-M10","v":0},{"$f":"IF(N10=0,\"OK\",\"CTRL\")","v":"OK"}]
[]
[]
["DL01 - Fondi vincolati."]
["DL01 - no"]
[]
["Altre informazioni relative alle disponibilità liquide"]
["Informazione",null,null,null,null,"Caso presente in azienda?",null,"Se sì, illustrare"]
["DL02 - Gravami. Sulle disponibilità liquide  dell'azienda vi sono gravami quali pignoramenti, ecc.?",null,null,null,null,null,"NO"]
["DL03 - Altro. Esistono altre informazioni che si ritiene necessario fornire per soddisfare la regola generale secondo cui \"Se le informazioni richieste da specifiche disposizioni di legge non sono sufficienti a dare una rappresentazione veritiera e corretta, si devono fornire le informazioni complementari necessarie allo scopo\" (art. 2423 cc)?",null,null,null,null,null,"no"]
[null,null,null,null,null,null,null,". "]
[]
["10.     Ratei e risconti attivi"]
[]
[null,"Tab. 30 – Ratei attivi – Dettaglio a livello di ricavo (codice CE)"]
["CODICE MOD. CE","RATEI ATTIVI",null,"Importo","di cui\noltre 12 mesi"]
[null,"DETTAGLIO A LIVELLO DI CODICE DI RICAVO CE"]
[null,"…"]
[null,"…"]
[]
[]
[]
[]
[]
[null,"Tab. 31 – Risconti attivi – Dettaglio a livello di costo (codice CE)"]
["CODICE MOD. CE","RISCONTI ATTIVI",null,"Importo","di cui\noltre 12 mesi"]
[null,"DETTAGLIO A LIVELLO DI CODICE DI COSTO CE",null,{"$f":"D37+D38+D42","v":10534}]
["BA1690","B.2.B.1.11.A)  Premi di assicurazione - R.C. Professionale ",null,0]
["BA1700","B.2.B.1.11.B)  Premi di assicurazione - Altri premi assicurativi",null,0]
[null,"per rischi su immobili",null,0]
[null,"RC automezzi",null,0]
[null,"altri premi di assicurazione",null,0]
["BA2000","B.4.A) Fitti passivi",null,10534]
[]
[]
["Informazione",null,null,null,null,"Caso presente in azienda?",null,"Se sì, illustrare"]
["RR01 - Altro. Esistono altre informazioni che si ritiene necessario fornire per soddisfare la regola generale secondo cui \"Se le informazioni richieste da specifiche disposizioni di legge non sono sufficienti a dare una rappresentazione veritiera e corretta, si devono fornire le informazioni complementari necessarie allo scopo\" (art. 2423 cc)?",null,null,null,null,null,"NO"]

{"sheet":"Tab 32","index":31,"n_rows":38,"n_cols":17,"rows_kept":38,"cut":false,"hidden":false,"merged":[[4,10,4,12],[1,0,1,4],[4,0,5,0],[4,1,5,1],[4,3,5,3],[4,4,4,8],[3,1,3,12]]}
[]
["11. Patrimonio netto"]
[]
[null,"Tab. 32 – Consistenza, movimentazioni e utilizzazioni delle poste di patrimonio netto"]
["CODICE MOD. SP","PATRIMONIO NETTO",null,"Consistenza iniziale","MOVIMENTI DELL'ESERCIZIO",null,null,null,null,null,"RIEPILOGO DELLE UTILIZZAZIONI EFFETTUATE NEI TRE PRECEDENTI ESERCIZI"]
[null,null,null,null,"Giroconti e Riclassifiche","Assegnazioni nel corso dell'esercizio","Utilizzi per sterilizzazioni nel corso dell'esercizio","Altre variazioni\n(+/-)","Risultato di esercizio\n(+/-)","Consistenza finale","Copertura perdite","Sterilizzazioni","Altre\nmotivazioni",null,"Valore SP","Diff","Ctrl"]
["PAA000"," FONDO DI DOTAZIONE",null,{"$f":"SUMIF('00 SP'!$A:$A,'Tab 32'!$A7,'00 SP'!I:I)","v":0},0,{"$f":"SUMIF('00 SP'!$A:$A,'Tab 32'!$A7,'00 SP'!J:J)","v":0},0,{"$f":"SUMIF('00 SP'!$A:$A,'Tab 32'!$A7,'00 SP'!$K:$K)-G7+E7","v":0},{"$f":"E7+F7-(G7+H7)","v":0},{"$f":"D7+I7","v":0},0,0,0,null,{"$f":"SUMIF('00 SP'!A:A,'Tab 32'!A7,'00 SP'!L:L)","v":0},{"$f":"J7-O7","v":0},{"$f":"IF(P7=0,\"OK\",\"CTRL\")","v":"OK"}]
["PAA010"," FINANZIAMENTI PER INVESTIMENTI:",null,{"$f":"D9+D10+D14+D15+D16","v":119162770.05000001},{"$f":"E9+E10+E14+E15+E16","v":0},{"$f":"F9+F10+F14+F15+F16","v":6486693.4499999993},{"$f":"G9+G10+G14+G15+G16","v":10436920.65},0.24000000045634806,-3950227.4400000004,115212542.61000001,{"$f":"K9+K10+K14+K15+K16","v":0},{"$f":"L9+L10+L14+L15+L16","v":10436920.65},{"$f":"M9+M10+M14+M15+M16","v":0},null,{"$f":"SUMIF('00 SP'!A:A,'Tab 32'!A8,'00 SP'!L:L)","v":115212542.61},{"$f":"J8-O8","v":0},{"$f":"IF(P8=0,\"OK\",\"CTRL\")","v":"OK"}]
["PAA020","   Finanziamenti per beni di prima dotazione",null,{"$f":"SUMIF('00 SP'!$A:$A,'Tab 32'!$A9,'00 SP'!I:I)","v":63708881.740000002},0,{"$f":"SUMIF('00 SP'!$A:$A,'Tab 32'!$A9,'00 SP'!J:J)-E9","v":0},3577467.65,{"$f":"SUMIF('00 SP'!$A:$A,'Tab 32'!$A9,'00 SP'!$K:$K)-G9+E9","v":0.28000000026077032},{"$f":"E9+F9-(G9+H9)","v":-3577467.93},{"$f":"D9+I9","v":60131413.810000002},0,{"$f":"G9","v":3577467.65},0,null,{"$f":"SUMIF('00 SP'!A:A,'Tab 32'!A9,'00 SP'!L:L)","v":60131413.810000002},0,"OK"]
["PAA030","   Finanziamenti da Stato per investimenti",null,{"$f":"SUM(D11:D13)","v":0},0,{"$f":"SUMIF('00 SP'!$A:$A,'Tab 32'!$A10,'00 SP'!J:J)","v":0},0,0,0,0,0,0,0,null,{"$f":"SUMIF('00 SP'!A:A,'Tab 32'!A10,'00 SP'!L:L)","v":0},0,"OK"]
["PAA040","       Finanziamenti da Stato per investimenti - ex art. 20 legge 67/88",null,{"$f":"SUMIF('00 SP'!$A:$A,'Tab 32'!$A11,'00 SP'!I:I)","v":0},0,{"$f":"SUMIF('00 SP'!$A:$A,'Tab 32'!$A11,'00 SP'!J:J)","v":0},0,{"$f":"SUMIF('00 SP'!$A:$A,'Tab 32'!$A11,'00 SP'!$K:$K)-G11+E11","v":0},{"$f":"E11+F11-(G11+H11)","v":0},0,0,0,0,null,{"$f":"SUMIF('00 SP'!A:A,'Tab 32'!A11,'00 SP'!L:L)","v":0},0,"OK"]
["PAA050","       Finanziamenti da Stato per investimenti - ricerca",null,{"$f":"SUMIF('00 SP'!$A:$A,'Tab 32'!$A12,'00 SP'!I:I)","v":0},0,{"$f":"SUMIF('00 SP'!$A:$A,'Tab 32'!$A12,'00 SP'!J:J)","v":0},0,{"$f":"SUMIF('00 SP'!$A:$A,'Tab 32'!$A12,'00 SP'!$K:$K)-G12+E12","v":0},{"$f":"E12+F12-(G12+H12)","v":0},0,0,0,0,null,{"$f":"SUMIF('00 SP'!A:A,'Tab 32'!A12,'00 SP'!L:L)","v":0},0,"OK"]
["PAA060","       Finanziamenti da Stato per investimenti - altro",null,{"$f":"SUMIF('00 SP'!$A:$A,'Tab 32'!$A13,'00 SP'!I:I)","v":0},0,{"$f":"SUMIF('00 SP'!$A:$A,'Tab 32'!$A13,'00 SP'!J:J)","v":0},0,{"$f":"SUMIF('00 SP'!$A:$A,'Tab 32'!$A13,'00 SP'!$K:$K)-G13+E13","v":0},0,0,0,0,0,null,{"$f":"SUMIF('00 SP'!A:A,'Tab 32'!A13,'00 SP'!L:L)","v":0},0,"OK"]
["PAA070","   Finanziamenti da Regione per investimenti",null,{"$f":"SUMIF('00 SP'!$A:$A,'Tab 32'!$A14,'00 SP'!I:I)","v":37556665.460000001},0,{"$f":"SUMIF('00 SP'!$A:$A,'Tab 32'!$A14,'00 SP'!J:J)","v":2138846.64},{"$f":"830816+843430","v":1674246},{"$f":"SUMIF('00 SP'!$A:$A,'Tab 32'!$A14,'00 SP'!$K:$K)-G14+E14","v":-0.32000000006519258},464600.9600000002,{"$f":"D14+I14","v":38021266.420000002},0,{"$f":"G14","v":1674246},0,null,{"$f":"SUMIF('00 SP'!A:A,'Tab 32'!A14,'00 SP'!L:L)","v":38021266.420000002},0,"OK"]
["PAA080","   Finanziamenti da altri soggetti pubblici per investimenti",null,{"$f":"SUMIF('00 SP'!$A:$A,'Tab 32'!$A15,'00 SP'!I:I)","v":0},0,{"$f":"SUMIF('00 SP'!$A:$A,'Tab 32'!$A15,'00 SP'!J:J)","v":0},0,{"$f":"SUMIF('00 SP'!$A:$A,'Tab 32'!$A15,'00 SP'!$K:$K)-G15+E15","v":0},0,0,0,0,0,null,{"$f":"SUMIF('00 SP'!A:A,'Tab 32'!A15,'00 SP'!L:L)","v":0},0,"OK"]
["PAA090","   Finanziamenti per investimenti da rettifica contributi in conto esercizio",null,{"$f":"SUMIF('00 SP'!$A:$A,'Tab 32'!$A16,'00 SP'!I:I)","v":17897222.850000001},0,{"$f":"SUMIF('00 SP'!$A:$A,'Tab 32'!$A16,'00 SP'!J:J)","v":4347846.8099999996},5185207,{"$f":"SUMIF('00 SP'!$A:$A,'Tab 32'!$A16,'00 SP'!$K:$K)-G16+E16","v":0.28000000026077032},-837360.47000000067,17059862.380000003,0,{"$f":"G16","v":5185207},0,null,{"$f":"SUMIF('00 SP'!A:A,'Tab 32'!A16,'00 SP'!L:L)","v":17059862.379999999},0,"OK"]
["PAA100"," RISERVE DA DONAZIONI E LASCITI VINCOLATI AD INVESTIMENTI",null,{"$f":"SUMIF('00 SP'!$A:$A,'Tab 32'!$A17,'00 SP'!I:I)","v":201195.25},0,{"$f":"SUMIF('00 SP'!$A:$A,'Tab 32'!$A17,'00 SP'!J:J)","v":114032.88},54754,{"$f":"SUMIF('00 SP'!$A:$A,'Tab 32'!$A17,'00 SP'!$K:$K)-G17+E17","v":2.9999999998835847E-2},59278.850000000006,{"$f":"D17+I17","v":260474.1},0,{"$f":"G17","v":54754},0,null,{"$f":"SUMIF('00 SP'!A:A,'Tab 32'!A17,'00 SP'!L:L)","v":260474.1},0,"OK"]
["PAA110"," ALTRE RISERVE:",null,{"$f":"SUM(D19:D23)","v":2730000},0,0,0,0,0,2730000,0,0,0,null,{"$f":"SUMIF('00 SP'!A:A,'Tab 32'!A18,'00 SP'!L:L)","v":2730000},0,"OK"]
["PAA120","   Riserve da rivalutazioni",null,{"$f":"SUMIF('00 SP'!$A:$A,'Tab 32'!$A19,'00 SP'!I:I)","v":0},0,{"$f":"SUMIF('00 SP'!$A:$A,'Tab 32'!$A19,'00 SP'!J:J)","v":0},0,{"$f":"SUMIF('00 SP'!$A:$A,'Tab 32'!$A19,'00 SP'!$K:$K)-G19+E19","v":0},{"$f":"E19+F19-(G19+H19)","v":0},0,0,0,0,null,{"$f":"SUMIF('00 SP'!A:A,'Tab 32'!A19,'00 SP'!L:L)","v":0},0,"OK"]
["PAA130","   Riserve da plusvalenze da reinvestire",null,{"$f":"SUMIF('00 SP'!$A:$A,'Tab 32'!$A20,'00 SP'!I:I)","v":0},0,{"$f":"SUMIF('00 SP'!$A:$A,'Tab 32'!$A20,'00 SP'!J:J)","v":0},0,{"$f":"SUMIF('00 SP'!$A:$A,'Tab 32'!$A20,'00 SP'!$K:$K)-G20+E20","v":0},0,0,0,0,0,null,{"$f":"SUMIF('00 SP'!A:A,'Tab 32'!A20,'00 SP'!L:L)","v":0},0,"OK"]
["PAA140","   Contributi da reinvestire",null,{"$f":"SUMIF('00 SP'!$A:$A,'Tab 32'!$A21,'00 SP'!I:I)","v":0},0,{"$f":"SUMIF('00 SP'!$A:$A,'Tab 32'!$A21,'00 SP'!J:J)","v":0},0,{"$f":"SUMIF('00 SP'!$A:$A,'Tab 32'!$A21,'00 SP'!$K:$K)-G21+E21","v":0},0,0,0,0,0,null,{"$f":"SUMIF('00 SP'!A:A,'Tab 32'!A21,'00 SP'!L:L)","v":0},0,"OK"]
["PAA150","   Riserve da utili di esercizio destinati ad investimenti",null,{"$f":"SUMIF('00 SP'!$A:$A,'Tab 32'!$A22,'00 SP'!I:I)","v":0},0,{"$f":"SUMIF('00 SP'!$A:$A,'Tab 32'!$A22,'00 SP'!J:J)","v":0},0,{"$f":"SUMIF('00 SP'!$A:$A,'Tab 32'!$A22,'00 SP'!$K:$K)-G22+E22","v":0},0,0,0,0,0,null,{"$f":"SUMIF('00 SP'!A:A,'Tab 32'!A22,'00 SP'!L:L)","v":0},0,"OK"]
["PAA160","   Riserve diverse",null,{"$f":"SUMIF('00 SP'!$A:$A,'Tab 32'!$A23,'00 SP'!I:I)","v":2730000},0,{"$f":"SUMIF('00 SP'!$A:$A,'Tab 32'!$A23,'00 SP'!J:J)","v":0},0,{"$f":"SUMIF('00 SP'!$A:$A,'Tab 32'!$A23,'00 SP'!$K:$K)-G23+E23","v":0},0,2730000,0,0,0,null,{"$f":"SUMIF('00 SP'!A:A,'Tab 32'!A23,'00 SP'!L:L)","v":2730000},0,"OK"]
["PAA170"," CONTRIBUTI PER RIPIANO PERDITE:",null,{"$f":"D25+D26+D27","v":14264710},0,13609624,0,0,{"$f":"E24+F24-(G24+H24)","v":13609624},{"$f":"D24+I24","v":27874334},0,0,0,null,{"$f":"SUMIF('00 SP'!A:A,'Tab 32'!A24,'00 SP'!L:L)","v":27874334},0,"OK"]
["PAA180","   Contributi per copertura debiti al 31/12/2005",null,{"$f":"SUMIF('00 SP'!$A:$A,'Tab 32'!$A25,'00 SP'!I:I)","v":0},0,{"$f":"SUMIF('00 SP'!$A:$A,'Tab 32'!$A25,'00 SP'!J:J)","v":0},0,{"$f":"SUMIF('00 SP'!$A:$A,'Tab 32'!$A25,'00 SP'!$K:$K)-G25+E25","v":0},0,0,0,0,0,null,{"$f":"SUMIF('00 SP'!A:A,'Tab 32'!A25,'00 SP'!L:L)","v":0},0,"OK"]
["PAA190","   Contributi per ricostituzione risorse da investimenti esercizi precedenti",null,{"$f":"SUMIF('00 SP'!$A:$A,'Tab 32'!$A26,'00 SP'!I:I)","v":0},0,{"$f":"SUMIF('00 SP'!$A:$A,'Tab 32'!$A26,'00 SP'!J:J)","v":0},0,{"$f":"SUMIF('00 SP'!$A:$A,'Tab 32'!$A26,'00 SP'!$K:$K)-G26+E26","v":0},0,0,0,0,0,null,{"$f":"SUMIF('00 SP'!A:A,'Tab 32'!A26,'00 SP'!L:L)","v":0},0,"OK"]
["PAA200","   Altro",null,{"$f":"SUMIF('00 SP'!$A:$A,'Tab 32'!$A27,'00 SP'!I:I)","v":14264710},null,{"$f":"SUMIF('00 SP'!$A:$A,'Tab 32'!$A27,'00 SP'!J:J)","v":13609624},0,{"$f":"SUMIF('00 SP'!$A:$A,'Tab 32'!$A27,'00 SP'!$K:$K)-G27+E27","v":0},13609624,27874334,0,0,0,null,{"$f":"SUMIF('00 SP'!A:A,'Tab 32'!A27,'00 SP'!L:L)","v":27874334},0,"OK"]
["PAA210"," UTILI (PERDITE) PORTATI A NUOVO",null,{"$f":"SUMIF('00 SP'!$A:$A,'Tab 32'!$A28,'00 SP'!I:I)","v":-14264709.560000001},0,{"$f":"SUMIF('00 SP'!$A:$A,'Tab 32'!$A28,'00 SP'!J:J)","v":0},0,{"$f":"SUMIF('00 SP'!$A:$A,'Tab 32'!$A28,'00 SP'!$K:$K)-G28+E28","v":13609624.26},-13609624.26,{"$f":"D28+I28","v":-27874333.82},0,0,0,null,{"$f":"SUMIF('00 SP'!A:A,'Tab 32'!A28,'00 SP'!L:L)","v":-27874333.82},0,"OK"]
["PAA220"," UTILE (PERDITA) D'ESERCIZIO",null,{"$f":"SUMIF('00 SP'!$A:$A,'Tab 32'!$A29,'00 SP'!I:I)","v":-13609624.26},0,{"$f":"SUMIF('00 SP'!$A:$A,'Tab 32'!$A29,'00 SP'!J:J)","v":13611301.6},0,{"$f":"SUMIF('00 SP'!$A:$A,'Tab 32'!$A29,'00 SP'!$K:$K)-G29+E29","v":0},{"$f":"E29+F29-(G29+H29)","v":13611301.6},{"$f":"D29+I29","v":1677.339999999851},0,0,0,null,{"$f":"SUMIF('00 SP'!A:A,'Tab 32'!A29,'00 SP'!L:L)","v":1677.34},-1.48929757415317E-10,"CTRL"]
[null,"TOTALE PATRIMONIO NETTO",null,{"$f":"D7+D8+D17+D18+D24+D28+D29","v":108484341.48},0,{"$f":"F7+F8+F17+F18+F24+F28+F29","v":33821651.93},{"$f":"G7+G8+G17+G18+G24+G28+G29","v":10491674.65},13609624.529999999,9720352.75,{"$f":"J7+J8+J17+J18+J24+J28+J29","v":118204694.23000002},0,10491674.65,0]
[]
[]
[null,"riconciliazione con le tabelle 1 , 5 con tab 32"]
[]
["tab 1","sterilizzazione beni immateriali",null,160939]
["tab 5","sterilizzazione beni materiali",null,10330736]
["tab 32","totale sterilizzazione patrimonio netto",null,{"$f":"SUM(D35:D36)","v":10491675}]
[null,null,null,{"$f":"L30","v":10491674.65}]

{"sheet":"Acquisti con fdi propri ","index":32,"n_rows":100,"n_cols":5,"rows_kept":100,"cut":false,"hidden":false,"merged":[[0,0,0,4],[2,0,2,4],[13,0,13,4],[25,0,25,4],[38,0,38,4],[77,0,77,4],[98,0,98,1],[64,0,64,4],[97,0,97,1],[51,0,51,4],[96,0,96,1],[90,0,90,4],[91,0,91,1],[92,0,92,1],[93,0,93,1],[94,0,94,1],[95,0,95,1]]}
["BENI ACQUISTATI CON CONTRIBUTI IN C/ESERCIZIO: DETTAGLIO AMMORTAMENTI E STERILIZZAZIONI"]
[]
["ACQUISTI 2012"]
["Conto","Descrizione","Costo Acquisto","Ammortamento 2018","Sterilizzazione 2018"]
[101010602,"Licenze d'uso software",25593.31,0,0]
[101020301,"Fabbricati strumentali (indisponibili)",227232.72,6817,{"$f":"D6","v":6817}]
[101020404,"Macchinari generici",545059.68000000005,58384,58384]
[101020502,"Attrezzature generiche",1133334,0,0]
[101020601,"Mobili e arredi",358557,44819,44819]
[101020703,"Altri mezzi di trasporto",55387.89,0,0]
[101020903,"Computer e macchinari elettronici",2032218,0,0]
[101020904,"Altri beni materiali",31624.91,0,0]
["Totale","Beni acquistati nell'esercizio 2012",{"$f":"SUM(C5:C12)","v":4409007.51},{"$f":"SUM(D5:D12)","v":110020},{"$f":"SUM(E5:E12)","v":110020}]
["ACQUISTI 2013"]
["Conto","Descrizione","Costo Acquisto","Ammortamento 2018","Sterilizzazione 2018"]
[101010602,"Licenze d'uso software",224284,33168,{"$f":"D16","v":33168}]
[101020301,"Fabbricati strumentali (indisponibili)",138663.92000000001,4160,{"$f":"D17","v":4160}]
[101020404,"Macchinari generici",419470.7,52620,52620]
[101020502,"Attrezzature generiche",2570017,327083,327083]
[101020601,"Mobili e arredi",357679,44711,44711]
[101020703,"Altri mezzi di trasporto",178564.08,0,0]
[101020903,"Computer e macchinari elettronici",294092,40117,40117]
[101020904,"Altri beni materiali",17385.939999999999,2790,2790]
["Totale","Beni acquistati nell'esercizio 2013",{"$f":"SUM(C16:C23)","v":4200156.6400000006},{"$f":"SUM(D16:D23)","v":504649},{"$f":"SUM(E16:E23)","v":504649}]
[]
["ACQUISTI 2014"]
["Conto","Descrizione","Costo Acquisto","Ammortamento 2018","Sterilizzazione 2018"]
[101010602,"Licenze d'uso software",183732.84,{"$f":"32300.91+4445.8","v":36746.71},{"$f":"D28","v":36746.71}]
[101020301,"Fabbricati strumentali (indisponibili)",579825.56999999995,17395,17395]
[101020404,"Macchinari generici",313763.59000000003,39803,39803]
[101020502,"Attrezzature generiche",3343535.6,665967,665967]
[101020601,"Mobili e arredi",455893.4,57097.36,57097.36]
[101020703,"Altri mezzi di trasporto",46142.3,8849,8849]
[101020903,"Computer e macchinari elettronici",247970.49,49595,49595]
[101020904,"Altri beni materiali",7241.73,1448,1448]
["Totale","Beni acquistati nell'esercizio 2014",{"$f":"SUM(C28:C35)","v":5178105.5200000005},{"$f":"SUM(D28:D35)","v":876901.07},{"$f":"SUM(E28:E35)","v":876901.07}]
[]
[]
["ACQUISTI 2015"]
["Conto","Descrizione","Costo Acquisto","Ammortamento 2018","Sterilizzazione 2018"]
[101010602,"Licenze d'uso software",79588,15917,{"$f":"D41","v":15917}]
[101020301,"Fabbricati strumentali (indisponibili)",0,0,0]
[101020404,"Macchinari generici",89338,12723,12723]
[101020502,"Attrezzature generiche",3612525,717756,717756]
[101020601,"Mobili e arredi",430481,53836,53836]
[101020703,"Altri mezzi di trasporto",53135,13283.76,13283.76]
[101020903,"Computer e macchinari elettronici",363436,72686,72686]
[101020904,"Altri beni materiali",23623,4725,4725]
["Totale","Beni acquistati nell'esercizio 2015",{"$f":"SUM(C41:C48)","v":4652126},{"$f":"SUM(D41:D48)","v":890926.76},{"$f":"SUM(E41:E48)","v":890926.76}]
[]
[]
["ACQUISTI 2016"]
["Conto","Descrizione","Costo Acquisto","Ammortamento 2018","Sterilizzazione 2018"]
[101010602,"Licenze d'uso software",161547.51999999999,32310,{"$f":"D54","v":32310}]
[101020301,"Fabbricati strumentali (indisponibili)",0,0,0]
[101020404,"Macchinari generici",174746.44,22170,22170]
[101020502,"Attrezzature generiche",6429856,1285971,1285971]
[101020601,"Mobili e arredi",344744.41,43095,43095]
[101020703,"Altri mezzi di trasporto",144301.6,36075,36075]
[101020903,"Computer e macchinari elettronici",74042,14808,14808]
[101020904,"Altri beni materiali",3261.87,646,646]
["Totale","Beni acquistati nell'esercizio 2016",{"$f":"SUM(C54:C61)","v":7332499.8399999999},{"$f":"SUM(D54:D61)","v":1435075},{"$f":"SUM(E54:E61)","v":1435075}]
[]
[]
["ACQUISTI 2017"]
["Conto","Descrizione","Costo Acquisto","Ammortamento 2018","Sterilizzazione 2018"]
[101010602,"Licenze d'uso software",191469,38293.71,{"$f":"D67","v":38293.71}]
[101020301,"Fabbricati strumentali (indisponibili)",0,0,{"$f":"D68","v":0}]
[101020404,"Macchinari generici",218527,27316,27316]
[101020502,"Attrezzature generiche",5494273,1098720,1098720]
[101020601,"Mobili e arredi",215123,26892,26892]
[101020703,"Altri mezzi di trasporto",123030,30757.43,30757.43]
[101020903,"Computer e macchinari elettronici",261895,52379,52379]
[101020904,"Altri beni materiali",2001,388.28,388.28]
["Totale","Beni acquistati nell'esercizio 2017",{"$f":"SUM(C67:C74)","v":6506318},{"$f":"SUM(D67:D74)","v":1274746.42},1274746.42]
[]
[]
["ACQUISTI 2018"]
["Conto","Descrizione","Costo Acquisto","Ammortamento 2018","Sterilizzazione 2018"]
[101010602,"Licenze d'uso software",17608.53,192,{"$f":"D80","v":192}]
[101020301,"Fabbricati strumentali (indisponibili)",2087230,171.56,{"$f":"D81","v":171.56}]
[101020404,"Macchinari generici",293547,100,100]
[101020502,"Attrezzature generiche",1701547.92,84025.76,84025.76]
[101020601,"Mobili e arredi",204748,7927.82,7927.82]
[101020703,"Altri mezzi di trasporto",0,0,0]
[101020903,"Computer e macchinari elettronici",40910,276,276]
[101020904,"Altri beni materiali",2254,196,196]
["Totale","Beni acquistati nell'esercizio 2017",{"$f":"SUM(C80:C87)","v":4347845.4499999993},{"$f":"SUM(D80:D87)","v":92889.139999999985},92889.139999999985]
[]
[]
["RIEPILOGO"]
["Descrizione",null,"Costo di Acquisto","Ammortamento 2018","Sterilizzazione 2018"]
["Beni acquistati nel 2012 con contributi in c/esercizio",null,{"$f":"C13","v":4409007.51},{"$f":"D13","v":110020},110020]
["Beni acquistati nel 2013 con contributi in c/esercizio",null,{"$f":"C24","v":4200156.6400000006},{"$f":"D24","v":504649},504649]
["Beni acquistati nel 2014 con contributi in c/esercizio",null,{"$f":"C36","v":5178105.5200000005},{"$f":"D36","v":876901.07},876901.07]
["Beni acquistati nel 2015 con contributi in c/esercizio",null,{"$f":"C49","v":4652126},{"$f":"D49","v":890926.76},890926.76]
["Beni acquistati nel 2016 con contributi in c/esercizio",null,{"$f":"C62","v":7332499.8399999999},{"$f":"D62","v":1435075},1435075]
["Beni acquistati nel 2017 con contributi in c/esercizio",null,{"$f":"C75","v":6506318},{"$f":"D75","v":1274746.42},1274746.42]
["Beni acquistati nel 2018 con contributi in c/esercizio",null,{"$f":"C88","v":4347845.4499999993},{"$f":"D88","v":92889.139999999985},92889.139999999985]
["TOTALE AMMORTAMENTI E STERILIZZAZIONI",null,{"$f":"SUM(C93:C99)","v":36626058.960000001},{"$f":"SUM(D93:D99)","v":5185207.3899999997},{"$f":"SUM(E93:E99)","v":5185207.3899999997}]

{"sheet":"Tab 33","index":33,"n_rows":39,"n_cols":15,"rows_kept":39,"cut":false,"hidden":false,"merged":[[4,8,4,14],[2,1,2,6],[4,0,5,0],[4,1,5,1],[4,3,4,6],[4,7,5,7]]}
[]
[]
[null,"Tab. 33 – Dettaglio finanziamenti per investimenti (ultimi 3 esercizi)"]
[]
["CODICE MOD. SP","DETTAGLIO FINANZIAMENTI PER INVESTIMENTI RICEVUTI\nNEGLI ULTIMI TRE ESERCIZI",null,"INFORMAZIONI",null,null,null,"Consistenza all'inizio dell'esercizio 2018","MOVIMENTI DELL'ESERCIZIO"]
[null,null,null,"Vincolato o indistinto","Esercizio di  assegnazione","Estremi del provvedimento","Destinazione (tipologia di beni acquisiti)",null,"Giroconti e Riclassifiche","Assegnazioni nel corso dell'esercizio","Utilizzo a fronte di sterilizzazioni nel corso dell'esercizio","Altre variazioni\n(+/-)","Consistenza al 31 12 2018\nfinale","di cui\nriscossi","di cui\ninvestiti"]
["PAA020","  Per beni di prima dotazione:",null,null,null,null,null,63708881,null,null,-3577468,null,{"$f":"H7+I7+J7+K7+L7","v":60131413},60131413,60131413]
[null,"    ... assegnati in data antecedente al 1/1/x-2"]
[null,"    ... assegnati in data antecedente al 1/1/x-2"]
[null,"    ... assegnati a partire dall'1/1/2010 (dettagliare)"]
[]
["PAA030","  Da Stato:"]
[null,"    ... assegnati in data antecedente al 1/1/2009"]
[null,"    ... assegnati a partire dall'1/1/2009 (dettagliare)"]
[]
["PAA070","  Da Regione:"]
[null,"    ... assegnati in data antecedente al 1/1/2009",null,null,null,null,null,{"$f":"H20+H21","v":37556665},0,{"$f":"J21","v":2138846},{"$f":"K20+K21","v":-1674245},null,{"$f":"H17+I17+J17+K17+L17","v":38021266},{"$f":"M17","v":38021266},{"$f":"N17","v":38021266}]
[null,"    ... assegnati a partire dall'1/1/2009(dettagliare)"]
[]
[null,"art 20 L.67/80",null,null,null,null,null,15639961,null,null,-843430,null,{"$f":"H20+J20+K20","v":14796531}]
[21296703," c/capitale e P.O.",null,null,null,null,null,21916704,null,2138846,-830815,null,{"$f":"H21+J21+K21","v":23224735}]
[null,"P.O.",null,null,null,null,null,null,null,null,null,null,{"$f":"H22+I22","v":0}]
[null,"  utilizzo  risconti passivi di  progetti obiettivo regionali ",null,null,2010,"DGR 655 del 31/08/10"," LP8 Tutela maternità",null,null,75640]
[null,"  utilizzo  risconti passivi di  progetti obiettivo regionali ",null,null,2013," DG20/26 del 20/10/2014","Piano regionale prevenzione",null,null,599020]
[null,"  utilizzo  risconti passivi di  progetti obiettivo regionali ",null,null,2014," DGR 812 del 29/09/2015","LP5 Gestione cronicità",null,null,819544]
[null,"  utilizzo  risconti passivi di  progetti obiettivo regionali in fabbricati in costruzione",null,null,2009," DGR 246 del 22/05/2009","UTAP",null,null,188345.57]
[null,"  utilizzo  risconti passivi di  progetti obiettivo regionali in fabbricati in costruzione",null,null,2012," DGR 8 del 14/01/2013","LP1 CURE PRIMARIE",null,null,306453.26]
[null,"  utilizzo  risconti passivi di  progetti obiettivo regionali in fabbricati in costruzione",null,null,2014," DGR 812 del 29/09/2015","LP1 ASSISTENZA PRIMARIA ",null,null,149843.70000000001]
["PAA080","  Da altri soggetti pubblici:",null,null,null,null,null,null,null,null,null,null,{"$f":"H29+J29+K29+L29","v":0}]
[null,"    ... assegnati in data antecedente al 1/1/x-2"]
[null,"    ... assegnati a partire dall'1/1/x-2 (dettagliare)"]
["PAA090","  Per investimenti da rettifica contributi in conto esercizio:",null,null,null,null,null,{"$f":"SUM(H33:H39)","v":17897223},{"$f":"SUM(I33:I39)","v":0},4347846,{"$f":"SUM(K33:K39)","v":-5185206.76},{"$f":"SUM(L33:L39)","v":0},{"$f":"H32+I32+J32+K32+L32","v":17059862.240000002},{"$f":"M32","v":17059862.240000002},{"$f":"N32","v":17059862.240000002}]
[null,"    ... assegnati in data antecedente al 1/1/2013",null,null,null,null,null,494409,null,null,-110019.44,null,{"$f":"H33+I33+J33+K33+L33","v":384389.56}]
[null,"    ... assegnati a partire dall'1/1/2013",null,null,null,null,null,890296,null,null,-504648.44,0,{"$f":"H34+I34+J34+K34+L34","v":385647.56}]
[null,"    ... assegnati a partire dall'1/1/2014",null,null,null,null,null,2343404,null,null,-876901,null,1466503]
[null,"    ... assegnati a partire dall'1/1/2015",null,null,null,null,null,2528801,null,null,-890927.44,null,1637873.56]
[null,"    ... assegnati a partire dall'1/1/2016",null,null,null,null,null,5557743,null,null,-1435075.44,null,4122667.56]
[null,"    ... assegnati a partire dall'1/1/2017",null,null,null,null,null,6082570,null,null,-1274746,null,4807824]
[null,"    ... assegnati a partire dall'1/1/2018",null,null,null,null,null,0,null,4347846,-92889,0,4254957]

{"sheet":"Tab 34-35 ","index":34,"n_rows":87,"n_cols":7,"rows_kept":87,"cut":false,"hidden":false,"merged":[[81,0,81,1],[82,0,82,1],[83,0,83,1],[85,0,85,1],[80,0,80,1],[70,0,70,1],[71,0,71,1],[72,0,72,1],[73,0,73,1],[74,0,74,1],[75,0,75,1],[76,0,76,1],[77,0,77,1],[78,0,78,1],[79,0,79,1],[67,0,67,1],[68,0,68,1],[69,0,69,1],[61,0,61,1],[62,0,62,1],[63,0,63,1],[64,0,64,1],[65,0,65,1],[66,0,66,1],[60,0,60,1],[44,2,44,3],[45,2,45,3],[46,2,46,3],[47,0,47,1],[47,2,47,3],[52,1,52,6],[55,0,55,1],[56,0,56,1],[57,0,57,1],[58,0,58,1],[59,0,59,1],[34,0,35,6],[38,2,38,3],[39,2,39,3],[40,2,40,3],[41,2,41,3],[24,0,24,7],[25,0,25,6],[26,0,26,7],[29,0,29,7],[32,0,32,1],[43,2,43,3],[84,0,84,1],[1,1,1,6],[2,1,3,1],[2,3,2,5],[2,6,3,6],[10,1,10,6],[11,1,12,1],[11,3,11,5],[11,6,12,6],[19,0,19,7],[20,0,20,7],[21,0,21,6],[22,0,22,6],[42,2,42,3],[23,0,23,6]]}
[]
[null,"Tab. 34 – Dettaglio riserve da plusvalenze da reinvestire "]
[null,"DETTAGLIO RISERVE DA PLUSVALENZE DA REINVESTIRE",null,"ESERCIZI PRECEDENTI",null,null,"Valore finale"]
[null,null,null,"Valore\nal 31/12/2015 e precedenti","Valore\nal 31/12/2016","Valore\nal 31/12/2017\n(Valore iniziale)"]
[null,"Valore iniziale"]
[null,"Incrementi"]
[null,"Utilizzi"]
[null,"Valore finale"]
[]
[]
[null,"Tab. 35 – Dettaglio contributi da reinvestire "]
[null,"DETTAGLIO CONTRIBUTI DA REINVESTIRE",null,"ESERCIZI PRECEDENTI",null,null,"Valore finale"]
[null,null,null,"Valore\nal 31/12/2015 e precedenti","Valore\nal 31/12/2016","Valore\nal 31/12/2017\n(Valore iniziale)"]
[null,"Valore iniziale"]
[null,"Incrementi"]
[null,"Utilizzi"]
[null,"Valore finale"]
[]
[]
["Le cause di variazione del patrimonio netto sono di seguito elencate: "]
[" -  La colonna \"Assegnazioni nel corso dell'esercizio\" accoglie le seguenti movimentazioni:    "]
["a)  l'importo €/000 6.487  rappresenta l'importo complessivo dei diversi finanziamenti utilizzati nel corso dell'esercizio per l'acquisto di beni strumentali. Nello specifico:  1) la somma di €/000 2.139 è relativa all' utilizzo di risorse da Progetti Obiettivo ed  €/000 4.348 è relativa all'utilizzo di  risorse proprie ( FSR ) i cui dettagli sono riportati nelle tabelle dedicate;"]
[" b)  l'importo di €/000 114 rappresenta l' incremento di patrimonio netto a seguito dell'utilizzo di risorse derivati  da donazioni intervenute nel corso dell'esercizio 2018    il cui dettaglio è riportato nella tabella dedicata; "]
["c) l'incremento di €/000 13.610 è relativo al contributo per ripiano perdite esercizio 2018 assegnato con determinazione DPF012/37 del 03/07/2019."]
[" -  La colonna \"Utilizzi per sterilizzazioni nel corso dell'esercizio\" accoglie le sterilizzazione di quote di ammortamento di competenza dell'esercizio 2018. L'importo complessivo di dette sterilizzazioni  è pari ad € /000 10.492 come si può desumere anche dalle Tabelle 2 e 5, in base alle quali detto importo risulta così determinato: €/000  161+ 10.331 in applicazione dell'intesa del 6/08/2013  concernente la casistica applicativa del Titolo II del D.lgs 118/2011, Documento n.1 \" la sterilizzazione degli ammortamenti\"."]
[" -  La colonna \"Altre Variazioni\" accoglie le rettifica  della voce PAA210 \" perdita portata a nuovo \" relativo al risultato d'esercizio 2017 e l'utile d'esercizio  2018 di € /000 2"]
["  -   La colonna \"Risultato d'esercizio +/-\" accoglie la  movimentazione delle voci che compongono il Patrimonio Netto  nell'esercizio 2018"]
[]
[]
["Il dettaglio degli incrementi della voce \"Finanziamenti per investimenti\" è il seguente:"]
[]
["Estremi provvedim.","Descrizione",null," Importo "]
["TOTALE",null,null,0]
[]
["L'utilizzo della voce \"Riserve da donazioni lasciti vincolati e investimenti\" è rappresentato dalla sterilizzazione degli ammortamenti 2018 dei cespiti donati. Il dettaglio delle sterilizzazioni è il seguente:"]
[]
[]
[]
["Voce di conto","Descrizione","Importo sterilizzazione"]
["0101010602","Licenze d'uso software",0]
["0101020404","Macchinari generici",2636]
["0101020502","Attrezzature generiche",32927]
["0101020601","Mobili e arredi",14603]
["01010207","ambulanze ed altri mezzi di Trasporto ",615]
["0101020903","Computer e macchinari elettronici",940]
["0101020904","Altri beni materiali",3033]
[]
["TOTALE STERILIZZAZIONI 2018 CESPITI DONATI",null,{"$f":"SUM(C40:C47)","v":54754}]
[]
[]
["PN01 - Donazioni e lasciti vincolati ad investimenti"]
[]
["PN01 - SI","Nell'esercizio 2018 sono state rilevate le seguenti  donazioni e lasciti vincolati ad investimenti:"]
[]
[]
["Descrizione",null,null,"Estremi Provvedimento","Importo","Tipologia Bene","Voce di PN"]
["Lampade da visita inv. 87388 87389",null,null,"DEL. 443/2018",732,"Attrezzature generiche","0101020502"]
["Cyclette Inv. 87542",null,null,"DEL.722/2018",335,"Attrezzature generiche","0101020502"]
["Immobilizzatore Inv. 87543","Delibera 320/2015 donazione  proiettore inv. 80558 da  AGBE per Dipart.Medicina Trasfusionale",null,"DEL.526/2018",552,"Attrezzature generiche","0101020502"]
["Cyclette Inv. 87705 87706","Delibera 341/2015 donazione  arredi  inv. 78199/78296  da  ADRICESTA  per Chirurgia Pediatrica",null,"DEL.174/2018",334,"Attrezzature generiche","0101020502"]
["Cyclette Inv. 87707 87708","Delibera 341/2015 donazione  arredi  inv. 78199/78296  da  ADRICESTA  per Chirurgia Pediatrica",null,"DEL.165/2018",86,"Attrezzature generiche","0101020502"]
["Deambulatore inv. 87712","Delibera  1180/2015 donazione  computer compaq  n. inv. 80570  da AGBE  per  U.O. Oncoematologia Pediatrica",null,"DEL.164/2018",1258,"Attrezzature generiche","0101020502"]
["Lampada Draeger Inv. 87713","Delibera  1404/2015 donazione Sistema ECG Galileo Be Light 22   da  Società Italiana Malattie Infettive e Tropicali   per U.O.C Malattie Infettive  ( in attesa di collaudo)",null,"DEL.338/2018",732,"Attrezzature generiche","0101020502"]
["Attrezz.varie oculistica Inv. 87715",null,null," DEL 294/2018",846,"Attrezzature generiche","0101020502"]
["Lavagne inv. 86631 86632 86633",null,null," DEL 339/2018",414,"Mobili Arredi","0101020601"]
["Sedia trasp.paziente inv. 86634",null,null," DEL 337/2018",146,"Mobili Arredi","0101020601"]
["Aste portaflebo-lettino fornomicroonde inv. Dal 87378 al 87385",null,null," DEL 590/2018",611,"Mobili Arredi","0101020601"]
["Lavatrice- microonde frigorifero inv. Dal 87537 al 87539",null,null," DEL 374/2018",728,"Mobili Arredi","0101020601"]
["Frigorifero inv. 87540","Delibera  349/2015 donazione  4 climatizzatori  n. inv. 80615/80618  da  Assoc. ASNEI e Gruppo Esperienza Angelini Fater  per U.O.C. Nefrologia e Dialisi",null,"DEL.705/2018",303,"Mobili Arredi","0101020601"]
["Poltrona inv. 87541","Delibera  349/2015 donazione  4 climatizzatori  n. inv. 80615/80618  da  Assoc. ASNEI e Gruppo Esperienza Angelini Fater  per U.O.C. Nefrologia e Dialisi",null,"DEL.522/2018",2129,"Mobili Arredi","0101020601"]
["Lettino inv.87544",null,null,"DEL.356/2018",235,"Mobili Arredi","0101020601"]
["Carrozzella inv. 88363  88364",null,null,"DEL.1345/2018",2000,"Mobili Arredi","0101020601"]
["Ambulanza  inv. 87391",null,null,"DEL.1157/2018",73346,"Ambulanza","0101020702"]
["Fia tPanda 4X4 inv. 87704",null,null,"DEL. 326/2018",19851,"Automezzi","0101020703"]
["Lettore DVD inv. 86628",null,null,"DEL.340/2018",98,"Computer","0101020703"]
["Stampante INV. 86629",null,null,"DEL.155/2018",142,"Computer","0101020903"]
["Stampante inv. 87384",null,null,"DEL. 590/2018",90,"Computer","0101020903"]
["Mobilix Digital Touch inv.87714",null,null,"DEL. 294/2018",285,"Computer","0101020903"]
["n.10 televisori inv. dal.n.86617 al 86626",null,null,"DEL.237/2018",990,"Altri beni","0101020904"]
["Televisore inv. 86627",null,null,"DEL-340/2018",634,"Altri beni","0101020904"]
["Televisore inv. 86630",null,null,"DEL. 357/2018",180,"Altri beni","0101020904"]
["Televisore inv. 87386-87387",null,null,"DEL.521/2018",298,"Altri beni","0101020904"]
["Televisore inv. 87390",null,null,"DEL.375/2018",416,"Altri beni","0101020904"]
["Playstation inv. 87709",null,null,"DEL.166/2018",395,"Altri beni","0101020904"]
["Televisore inv. 87710   87711",null,null,"DEL. 167/2018",285,"Altri beni","0101020904"]
["altre donazioni ",null,null,null,5582]
[null,"TOTALE GENERALE",null,null,{"$f":"SUM(E57:E86)","v":114033}]

{"sheet":"35-bis Dettaglio cespiti PO ","index":35,"n_rows":19,"n_cols":5,"rows_kept":19,"cut":false,"hidden":false,"merged":[[0,0,0,4]]}
["Tab. 35 bis - DETTAGLIO CESPITI ACQUISTATI CON FONDI PROGETTI OBIETTIVO 2018"]
[]
["Cod. Cespite","Data Carico","Provenienza Progetto","Descrizione"," Costo di acquisto"]
[87448,"2018-11-27","Prog.Ob. Ril.naz. anno 2013 Piano regionale prevenzione DG20/26 del 20/10/2014","ECOGRAFO SAMSUNG MOD.RS85A",84180]
[87450,"2018-11-27","Prog.Ob. Ril.naz. anno 2013 Piano regionale prevenzione DG20/26 del 20/10/2014","ECOGRAFO SAMSUNG MOD.RS85A",84180]
[87451,"2018-11-27","Prog.Ob. Ril.naz. anno 2013 Piano regionale prevenzione DG20/26 del 20/10/2014","ECOGRAFO SAMSUNG MOD.RS85A",84180]
[87983,"2018-12-31","Prog.Ob. Ril.naz. anno 2013 Piano regionale prevenzione DG20/26 del 20/10/2014","ECOGRAFO SIEMENS ACUSON S1000",48800]
[87984,"2018-12-31","Prog.Ob. Ril.naz. anno 2013 Piano regionale prevenzione DG20/26 del 20/10/2014","ECOGRAFO SIEMENS ACUSON S1000",48800]
[87985,"2018-12-31","Prog.Ob. Ril.naz. anno 2013 Piano regionale prevenzione DG20/26 del 20/10/2014","ECOGRAFO SIEMENS ACUSON S1000",48800]
[87986,"2018-12-31","Prog.Ob. Ril.naz. anno 2013 Piano regionale prevenzione DG20/26 del 20/10/2014","ECOGRAFO SIEMENS ACUSON S1000",48800]
[87988,"2018-12-31","Prog.Ob. Ril.naz. anno 2013 Piano regionale prevenzione DG20/26 del 20/10/2014","ECOGRAFO SIEMENS ACUSON S2000 HELX EVOLUTION WITH TOUCH CONTROL SYSTEM",151280]
[88340,"2018-12-31","Prog.Ob. Ril.naz. anno 2010  LP8 Tutela maternità  DGR 655 31.08.10","ECOCARDIOGRAFO SIEMENS SC2000",75640]
["diversi","diverse","Prog.Ob. Ril.naz. anno 2014 LP5 Gestione cronicità DGR 812 del 29/09/2015","ATTREZZATURE GENERICHE",79263.19]
["diversi","diverse","Prog.Ob. Ril.naz. anno 2014 LP5 Gestione cronicità DGR 812 del 29/09/2015","SOFTWARE",113589.03]
["diversi","diverse","Prog.Ob. Ril.naz. anno 2014 LP5 Gestione cronicità DGR 812 del 29/09/2015","IMPIANTI",302687.21999999997]
["diversi","diverse","Prog.Ob. Ril.naz. anno 2014 LP5 Gestione cronicità DGR 812 del 29/09/2015","ARREDI",121265.78]
["diversi","diverse","Prog.Ob. Ril.naz. anno 2014 LP5 Gestione cronicità DGR 812 del 29/09/2015","COMPUTER",193967.09]
["diversi","diverse","Prog.Ob. Ril.naz. anno 2014 LP5 Gestione cronicità DGR 812 del 29/09/2015","ALTRI BENI",8771.7999999999993]
[null,null,"TOTALE 2018",null,{"$f":"SUM(E4:E18)","v":1494204.11}]

{"sheet":"Tab 35 ter- quater","index":36,"n_rows":27,"n_cols":7,"rows_kept":27,"cut":false,"hidden":false,"merged":[[0,0,0,11],[21,1,21,11],[14,1,14,4],[13,1,13,4],[25,0,25,3],[25,4,25,5],[26,0,26,3],[2,0,2,8],[3,0,3,5],[4,1,4,3],[5,1,5,3],[7,1,7,3],[11,0,11,8],[12,0,12,5],[15,1,15,4],[6,1,6,3]]}
["Nella tabella sottostante si riporta il dettaglio della voce contributi per ripiano perdite con l'indicazione dei provvedimenti regionali."]
[]
[" Tab. 35 ter - Dettaglio voce \"Contributi per ripiano perdite\""]
["CONTRIBUTI RIPIANO PERDITE al 31/12/2018     v.d.c.  '0201050301"]
["Anno","Riferimento atto regionale",null,null,"Descrizione","Importo Ripiano Perdite"]
[2017,"DPF012/14 DEL 13 APRILE 2018",null,null,"copertura perdite 2016",14264710]
[2018,"DPF012/14 DEL 19 APRILE 2019",null,null,"copertura perdite 2017",13609624]
[null,null,null,null,"TOTALE RIPIANI PERDITE",{"$f":"SUM(F6:F7)","v":27874334}]
[]
["Nella tabella sottostante  si riporta il dettaglio delle perdite portate a nuovo ."]
[]
[" Tab. 35 quater - Dettaglio voce \" Perdite portate a nuovo distinti per anno di formazione\""]
["CONTRIBUTI RIPIANO PERDITE al 31/12/2018      v.d.c.  '0201060102"]
["Anno","Descrizione",null,null,null,"Importo Ripiano Perdite"]
[2017,"perdite d'esercizio 2016",null,null,null,14264710]
[2018,"perdite d'esercizio 2017",null,null,null,13609624]
[null,"TOTALE PERDITE  D'ESERCIZIO PORTATI A NUOVO",null,null,null,{"$f":"SUM(F15:F16)","v":27874334}]
[]
[]
["PN02 - Fondo di dotazione"]
[]
["PN01 - NO","Il Fondo di dotazione non ha subito variazioni nel corso del 2018."]
[]
["Altre informazioni relative al patrimonio netto"]
[]
["Informazione",null,null,null,"Caso presente in azienda?",null,"Se sì, illustrare"]
["PN03 - Altro. Esistono altre informazioni che si ritiene necessario fornire per soddisfare la regola generale secondo cui \"Se le informazioni richieste da specifiche disposizioni di legge non sono sufficienti a dare una rappresentazione veritiera e corretta, si devono fornire le informazioni complementari necessarie allo scopo\" (art. 2423 cc)?",null,null,null,"NO"]

{"sheet":"Tab 36 ","index":37,"n_rows":51,"n_cols":12,"rows_kept":51,"cut":false,"hidden":false,"merged":[[0,0,0,5],[2,1,2,7],[3,0,4,0],[3,1,4,1],[3,2,4,2],[3,3,4,3],[3,4,4,4],[3,5,4,5],[3,6,4,6],[3,7,4,7]]}
["12.     Fondi per rischi e oneri"]
[]
[null,"Tab. 36 – Consistenza e movimentazioni dei fondi rischi e oneri"]
["CODICE MOD. SP","FONDO RISCHI E ONERI","Consistenza iniziale","Acc.to\ndell'esercizio","Altri incrementi /decrementi","Riclassifiche\ndell'esercizio","Utilizzi","Valore\nfinale"]
[null,null,null,null,null,null,null,null,null,"Valore SP","Diff","Ctrl"]
["PBA000","FONDI PER IMPOSTE, ANCHE DIFFERITE",{"$f":"SUMIF('00 SP'!$A:$A,'Tab 36 '!$A6,'00 SP'!I:I)","v":0},{"$f":"SUMIF('00 SP'!$A:$A,'Tab 36 '!$A6,'00 SP'!J:J)-(E6+F6)","v":0},0,0,{"$f":"SUMIF('00 SP'!$A:$A,'Tab 36 '!$A6,'00 SP'!K:K)","v":0},{"$f":"C6+D6+E6+F6-G6","v":0},null,{"$f":"SUMIF('00 SP'!A:A,'Tab 36 '!A6,'00 SP'!L:L)","v":0},{"$f":"H6-J6","v":0},{"$f":"IF(K6=0,\"OK\",\"CTRL\")","v":"OK"}]
["PBA010","FONDI PER RISCHI:",{"$f":"SUM(C8:C12)","v":46340058.510000005},{"$f":"SUM(D8:D12)","v":3927713.96},{"$f":"SUM(E8:E12)","v":0},{"$f":"SUM(F8:F12)","v":0},{"$f":"SUM(G8:G12)","v":10442430.949999999},{"$f":"C7+D7+E7+F7-G7","v":39825341.520000011},null,{"$f":"SUMIF('00 SP'!A:A,'Tab 36 '!A7,'00 SP'!L:L)","v":39825341.520000003},{"$f":"H7-J7","v":0},{"$f":"IF(K7=0,\"OK\",\"CTRL\")","v":"OK"}]
["PBA020","  Fondo rischi per cause civili e oneri processuali",{"$f":"SUMIF('00 SP'!$A:$A,'Tab 36 '!$A8,'00 SP'!I:I)","v":16265222},{"$f":"SUMIF('00 SP'!$A:$A,'Tab 36 '!$A8,'00 SP'!J:J)-(E8+F8)","v":1357811.38},0,0,{"$f":"SUMIF('00 SP'!$A:$A,'Tab 36 '!$A8,'00 SP'!K:K)","v":6579085.1600000001},11043948.219999999,null,{"$f":"SUMIF('00 SP'!A:A,'Tab 36 '!A8,'00 SP'!L:L)","v":11043948.219999999},0,"OK"]
["PBA030","  Fondo rischi per contenzioso personale dipendente",{"$f":"SUMIF('00 SP'!$A:$A,'Tab 36 '!$A9,'00 SP'!I:I)","v":1250000},{"$f":"SUMIF('00 SP'!$A:$A,'Tab 36 '!$A9,'00 SP'!J:J)-(E9+F9)","v":0},0,0,{"$f":"SUMIF('00 SP'!$A:$A,'Tab 36 '!$A9,'00 SP'!K:K)","v":254237.67},995762.33,null,{"$f":"SUMIF('00 SP'!A:A,'Tab 36 '!A9,'00 SP'!L:L)","v":995762.33},0,"OK"]
["PBA040","  Fondo rischi connessi all'acquisto di prestazioni sanitarie da privato",{"$f":"SUMIF('00 SP'!$A:$A,'Tab 36 '!$A10,'00 SP'!I:I)","v":23324836.510000002},{"$f":"SUMIF('00 SP'!$A:$A,'Tab 36 '!$A10,'00 SP'!J:J)-(E10+F10)","v":272176.8},0,0,{"$f":"SUMIF('00 SP'!$A:$A,'Tab 36 '!$A10,'00 SP'!K:K)","v":1311382.44},22285630.870000001,null,{"$f":"SUMIF('00 SP'!A:A,'Tab 36 '!A10,'00 SP'!L:L)","v":22285630.870000001},0,"OK"]
["PBA050","  Fondo rischi per copertura diretta dei rischi (autoassicurazione)",{"$f":"SUMIF('00 SP'!$A:$A,'Tab 36 '!$A11,'00 SP'!I:I)","v":5500000},{"$f":"SUMIF('00 SP'!$A:$A,'Tab 36 '!$A11,'00 SP'!J:J)-(E11+F11)","v":2297725.7799999998},0,0,{"$f":"SUMIF('00 SP'!$A:$A,'Tab 36 '!$A11,'00 SP'!K:K)","v":2297725.6800000002},5500000.0999999996,null,{"$f":"SUMIF('00 SP'!A:A,'Tab 36 '!A11,'00 SP'!L:L)","v":5500000.0999999996},0,"OK"]
["PBA060","  Altri fondi rischi",{"$f":"SUMIF('00 SP'!$A:$A,'Tab 36 '!$A12,'00 SP'!I:I)","v":0},{"$f":"SUMIF('00 SP'!$A:$A,'Tab 36 '!$A12,'00 SP'!J:J)-(E12+F12)","v":0},0,0,{"$f":"SUMIF('00 SP'!$A:$A,'Tab 36 '!$A12,'00 SP'!K:K)","v":0},0,null,{"$f":"SUMIF('00 SP'!A:A,'Tab 36 '!A12,'00 SP'!L:L)","v":0},0,"OK"]
["PBA070","FONDI DA DISTRIBUIRE:",{"$f":"SUM(C14:C20)","v":0},{"$f":"SUM(D14:D20)","v":0},0,0,0,0,null,{"$f":"SUMIF('00 SP'!A:A,'Tab 36 '!A13,'00 SP'!L:L)","v":0},0,"OK"]
["PBA080","  FSR indistinto da distribuire",{"$f":"SUMIF('00 SP'!$A:$A,'Tab 36 '!$A14,'00 SP'!I:I)","v":0},{"$f":"SUMIF('00 SP'!$A:$A,'Tab 36 '!$A14,'00 SP'!J:J)-(E14+F14)","v":0},0,0,{"$f":"SUMIF('00 SP'!$A:$A,'Tab 36 '!$A14,'00 SP'!K:K)","v":0},{"$f":"C14+D14+E14+F14-G14","v":0},null,{"$f":"SUMIF('00 SP'!A:A,'Tab 36 '!A14,'00 SP'!L:L)","v":0},0,"OK"]
["PBA090","  FSR vincolato da distribuire",{"$f":"SUMIF('00 SP'!$A:$A,'Tab 36 '!$A15,'00 SP'!I:I)","v":0},{"$f":"SUMIF('00 SP'!$A:$A,'Tab 36 '!$A15,'00 SP'!J:J)-(E15+F15)","v":0},0,0,{"$f":"SUMIF('00 SP'!$A:$A,'Tab 36 '!$A15,'00 SP'!K:K)","v":0},0,null,{"$f":"SUMIF('00 SP'!A:A,'Tab 36 '!A15,'00 SP'!L:L)","v":0},0,"OK"]
["PBA100","  Fondo per ripiano disavanzi pregressi",{"$f":"SUMIF('00 SP'!$A:$A,'Tab 36 '!$A16,'00 SP'!I:I)","v":0},{"$f":"SUMIF('00 SP'!$A:$A,'Tab 36 '!$A16,'00 SP'!J:J)-(E16+F16)","v":0},0,0,{"$f":"SUMIF('00 SP'!$A:$A,'Tab 36 '!$A16,'00 SP'!K:K)","v":0},0,null,{"$f":"SUMIF('00 SP'!A:A,'Tab 36 '!A16,'00 SP'!L:L)","v":0},0,"OK"]
["PBA110","  Fondo finanziamento sanitario aggiuntivo corrente LEA",{"$f":"SUMIF('00 SP'!$A:$A,'Tab 36 '!$A17,'00 SP'!I:I)","v":0},{"$f":"SUMIF('00 SP'!$A:$A,'Tab 36 '!$A17,'00 SP'!J:J)-(E17+F17)","v":0},0,0,{"$f":"SUMIF('00 SP'!$A:$A,'Tab 36 '!$A17,'00 SP'!K:K)","v":0},0,null,{"$f":"SUMIF('00 SP'!A:A,'Tab 36 '!A17,'00 SP'!L:L)","v":0},0,"OK"]
["PBA120","  Fondo finanziamento sanitario aggiuntivo corrente extra LEA",{"$f":"SUMIF('00 SP'!$A:$A,'Tab 36 '!$A18,'00 SP'!I:I)","v":0},{"$f":"SUMIF('00 SP'!$A:$A,'Tab 36 '!$A18,'00 SP'!J:J)-(E18+F18)","v":0},null,0,{"$f":"SUMIF('00 SP'!$A:$A,'Tab 36 '!$A18,'00 SP'!K:K)","v":0},0,null,{"$f":"SUMIF('00 SP'!A:A,'Tab 36 '!A18,'00 SP'!L:L)","v":0},0,"OK"]
["PBA130","  Fondo finanziamento per ricerca",{"$f":"SUMIF('00 SP'!$A:$A,'Tab 36 '!$A19,'00 SP'!I:I)","v":0},{"$f":"SUMIF('00 SP'!$A:$A,'Tab 36 '!$A19,'00 SP'!J:J)-(E19+F19)","v":0},0,0,{"$f":"SUMIF('00 SP'!$A:$A,'Tab 36 '!$A19,'00 SP'!K:K)","v":0},0,null,{"$f":"SUMIF('00 SP'!A:A,'Tab 36 '!A19,'00 SP'!L:L)","v":0},0,"OK"]
["PBA140","  Fondo finanziamento per investimenti",{"$f":"SUMIF('00 SP'!$A:$A,'Tab 36 '!$A20,'00 SP'!I:I)","v":0},{"$f":"SUMIF('00 SP'!$A:$A,'Tab 36 '!$A20,'00 SP'!J:J)-(E20+F20)","v":0},0,0,{"$f":"SUMIF('00 SP'!$A:$A,'Tab 36 '!$A20,'00 SP'!K:K)","v":0},0,null,{"$f":"SUMIF('00 SP'!A:A,'Tab 36 '!A20,'00 SP'!L:L)","v":0},0,"OK"]
["PBA150","QUOTE INUTILIZZATE CONTRIBUTI:",{"$f":"C22+C34+C36+C37","v":32869065.669999998},{"$f":"D22+D34+D36+D37","v":7269835.4900000002},{"$f":"E22+E34+E36+E37","v":0},{"$f":"F22+F34+F36+F37","v":0},{"$f":"G22+G34+G36+G37","v":7199516.7300000014},{"$f":"C21+D21+E21+F21-G21","v":32939384.429999996},null,{"$f":"SUMIF('00 SP'!A:A,'Tab 36 '!A21,'00 SP'!L:L)","v":32939384.43},0,"OK"]
["PBA160","  Quote inutilizzate contributi da Regione o Prov. Aut. per quota F.S. vincolato",{"$f":"SUMIF('00 SP'!$A:$A,'Tab 36 '!$A22,'00 SP'!I:I)","v":32730609.77},{"$f":"SUMIF('00 SP'!$A:$A,'Tab 36 '!$A22,'00 SP'!J:J)","v":7216729.6299999999},{"$f":"SUM(E23:E33)","v":0},{"$f":"SUM(F23:F33)","v":0},{"$f":"G23+G24+G25+G26+G27+G28+G29+G30+G33","v":7199516.7300000014},{"$f":"C22+D22+E22+F22-G22","v":32747822.669999998},null,{"$f":"SUMIF('00 SP'!A:A,'Tab 36 '!A22,'00 SP'!L:L)","v":32747822.669999998},{"$f":"H22-J22","v":0},{"$f":"IF(K22=0,\"OK\",\"CTRL\")","v":"OK"}]
[null,"Fondo Obiettivi di Piano 2009",776706.62,0,0,null,202540.9,{"$f":"C23+D23+E23+F23-G23","v":574165.72}]
[null,"Fondo Obiettivi di Piano 2010",274553.25,0,0,null,113685.18,{"$f":"C24+D24+E24+F24-G24","v":160868.07}]
[null,"Fondo Obiettivi di Piano 2011",642691.03,0,0,null,64462.43,578228.6]
[null,"Fondo Obiettivi di Piano 2012",2931811.72,0,0,null,385326.73,2546484.9900000002]
[null,"Fondo Obiettivi di Piano 2013",6735500.9199999999,0,0,null,3892574.24,2842926.6799999997]
[null,"Fondo Obiettivi di Piano 2014",6818806.04,0,0,null,1979051.49,4839754.55]
[null,"Fondo Obiettivi di Piano 2015",3290040.99,0,0,null,88638.65,3201402.3400000003]
[null,"Fondo Obiettivi di Piano 2016",4021566.65,0,0,null,252432.11,3769134.54]
[null,"Fondo Obiettivi di Piano 2017",7018127.5499999998,null,0,0,0,7018127.5499999998]
[null,"Fondo Obiettivi di Piano 2018",null,7216729.6299999999,null,null,null,{"$f":"C32+D32+E32+F32-G32","v":7216729.6299999999}]
[null,"Quote inutilizzate contributi per gioco d'azzardo patologico (GAP) L.190/14",220805,0,0,null,220805,0]
["PBA170","  Quote inutilizzate contributi vincolati da soggetti pubblici (extra fondo) ",{"$f":"19650.76+118805.14","v":138455.9},53105.86,0,0,0,{"$f":"C34+D34+E34+F34-G34","v":191561.76},null,{"$f":"SUMIF('00 SP'!A:A,'Tab 36 '!A34,'00 SP'!L:L)","v":191561.76},{"$f":"H34-J34","v":0},{"$f":"IF(K34=0,\"OK\",\"CTRL\")","v":"OK"}]
[null,"  Quote inutilizzate contributi vincolati extra fondo",0,0,0,0,0,{"$f":"C35+D35+E35+F35-G35","v":0}]
["PBA180","  Quote inutilizzate contributi per ricerca",{"$f":"SUMIF('00 SP'!$A:$A,'Tab 36 '!$A36,'00 SP'!I:I)","v":0},{"$f":"SUMIF('00 SP'!$A:$A,'Tab 36 '!$A36,'00 SP'!J:J)-(E36+F36)","v":0},0,0,{"$f":"SUMIF('00 SP'!$A:$A,'Tab 36 '!$A36,'00 SP'!K:K)","v":0},0,null,{"$f":"SUMIF('00 SP'!A:A,'Tab 36 '!A36,'00 SP'!L:L)","v":0},{"$f":"H36-J36","v":0},{"$f":"IF(K36=0,\"OK\",\"CTRL\")","v":"OK"}]
["PBA190","  Quote inutilizzate contributi vincolati da privati",{"$f":"SUMIF('00 SP'!$A:$A,'Tab 36 '!$A37,'00 SP'!I:I)","v":0},{"$f":"SUMIF('00 SP'!$A:$A,'Tab 36 '!$A37,'00 SP'!J:J)-(E37+F37)","v":0},0,0,{"$f":"SUMIF('00 SP'!$A:$A,'Tab 36 '!$A37,'00 SP'!K:K)","v":0},0,null,{"$f":"SUMIF('00 SP'!A:A,'Tab 36 '!A37,'00 SP'!L:L)","v":0},0,"OK"]
["PBA200","ALTRI FONDI PER ONERI E SPESE:",{"$f":"SUM(C39:C43)","v":6543449.1500000004},{"$f":"SUM(D39:D43)","v":6766826.5},108793,0,3349537.1900000004,10069531.460000001,null,{"$f":"SUMIF('00 SP'!A:A,'Tab 36 '!A38,'00 SP'!L:L)","v":10069531.460000001},0,"OK"]
["PBA210","  Fondi integrativi pensione",0,0,0,0,0,{"$f":"C39+D39+E39+F39-G39","v":0},null,{"$f":"SUMIF('00 SP'!A:A,'Tab 36 '!A39,'00 SP'!L:L)","v":0},0,"OK"]
["PBA230","  Fondo rinnovi contrattuali personale dipendente",2516697,{"$f":"SUMIF('00 SP'!$A:$A,'Tab 36 '!$A40,'00 SP'!J:J)-(E40+F40)","v":2658672},0,0,{"$f":"SUMIF('00 SP'!$A:$A,'Tab 36 '!$A40,'00 SP'!K:K)","v":1421530.85},3753838.15,null,{"$f":"SUMIF('00 SP'!A:A,'Tab 36 '!A40,'00 SP'!L:L)","v":3753838.15},0,"OK"]
["PBA240","  Fondo rinnovi convenzioni MMG - PLS - MCA",3807702.15,{"$f":"SUMIF('00 SP'!$A:$A,'Tab 36 '!$A41,'00 SP'!J:J)-(E41+F41)","v":1507157},0,0,{"$f":"SUMIF('00 SP'!$A:$A,'Tab 36 '!$A41,'00 SP'!K:K)","v":1600163.8400000001},{"$f":"C41+D41+E41+F41-G41","v":3714695.3100000005},null,{"$f":"SUMIF('00 SP'!A:A,'Tab 36 '!A41,'00 SP'!L:L)","v":3714695.3100000005},0,"OK"]
["PBA250","  Fondo rinnovi convenzioni Medici SUMAI",219050,{"$f":"SUMIF('00 SP'!$A:$A,'Tab 36 '!$A42,'00 SP'!J:J)-(E42+F42)","v":200997.5},108793,0,{"$f":"SUMIF('00 SP'!$A:$A,'Tab 36 '!$A42,'00 SP'!K:K)","v":327842.5},200998,null,{"$f":"SUMIF('00 SP'!A:A,'Tab 36 '!A42,'00 SP'!L:L)","v":200998},0,"OK"]
["PBA260","  Altri fondi per oneri e spese",0,{"$f":"SUMIF('00 SP'!$A:$A,'Tab 36 '!$A43,'00 SP'!J:J)-(E43+F43)","v":2400000},0,0,{"$f":"SUMIF('00 SP'!$A:$A,'Tab 36 '!$A43,'00 SP'!K:K)","v":0},2400000,null,{"$f":"SUMIF('00 SP'!A:A,'Tab 36 '!A43,'00 SP'!L:L)","v":2400000},0,"OK"]
[null,"TOTALE FONDI RISCHI E ONERI",{"$f":"C6+C7+C21+C38","v":85752573.330000013},17964375.949999999,108793,0,20991484.870000001,82834257.409999996]
[]
[null,"Riconciliazione tabelle 36 - 72 "]
[]
["TAB 36","TOTALE ACCANTONAMENTI A FONDI RISCHI E ONERI",null,{"$f":"D44","v":17964375.949999999}]
["BA2760","ACCANTONAMENTO AL FONDO PER PREMIO DI OPEROSITA' SUMAI ",null,264664,"SI RINVIA A TAB.41"]
["BA2890","ACCANTONAMENTO AL FONDO SVALUTAZIONE CREDITI"]
["TAB 72","TOTALE  ACCANTONAMENTI 2018",null,{"$f":"SUM(D48:D50)","v":18229039.949999999}]

{"sheet":"Tab 37-38-39-40 ","index":38,"n_rows":181,"n_cols":14,"rows_kept":181,"cut":false,"hidden":false,"merged":[[185,0,185,1],[188,3,189,9],[190,3,191,9],[171,3,172,9],[173,3,173,9],[175,3,175,9],[176,3,176,9],[178,3,178,9],[180,0,180,1],[153,3,153,9],[155,3,156,9],[159,3,160,9],[162,3,163,9],[165,3,166,9],[168,3,169,9],[134,0,146,0],[134,1,139,1],[134,2,139,2],[140,1,145,1],[140,2,145,2],[152,3,152,9],[130,3,131,8],[130,12,133,12],[132,1,133,1],[132,2,133,2],[132,3,133,3],[132,4,132,7],[115,0,127,0],[115,1,120,1],[115,2,120,2],[121,1,126,1],[121,2,126,2],[130,0,133,0],[130,1,131,2],[110,0,110,5],[111,0,114,0],[111,1,112,2],[111,3,112,8],[111,12,114,12],[113,1,114,1],[113,2,114,2],[113,3,114,3],[113,4,113,7],[59,1,66,1],[59,2,66,2],[59,12,66,12],[90,0,108,0],[90,1,95,1],[90,2,95,2],[90,12,95,12],[96,1,101,1],[96,2,101,2],[96,12,101,12],[102,1,107,1],[102,2,107,2],[102,12,107,12],[13,2,18,2],[13,12,18,12],[19,1,24,1],[19,2,24,2],[19,12,24,12],[45,12,50,12],[86,0,89,0],[86,1,87,2],[86,3,87,8],[86,12,89,12],[88,1,89,1],[88,2,89,2],[88,3,89,3],[88,4,88,7],[67,1,73,1],[67,2,73,2],[67,12,73,12],[74,1,82,1],[74,2,82,2],[74,12,82,12],[45,0,83,0],[51,1,58,1],[51,2,58,2],[51,12,58,12],[37,1,44,1],[37,2,44,2],[37,12,44,12],[45,1,50,1],[45,2,50,2],[3,0,6,0],[3,1,4,2],[3,3,4,10],[3,12,6,12],[5,1,6,1],[5,2,6,2],[5,3,6,3],[5,4,5,7],[25,1,30,1],[25,2,30,2],[25,12,30,12],[7,0,44,0],[31,1,36,1],[31,2,36,2],[31,12,36,12],[7,1,12,1],[7,2,12,2],[7,12,12,12],[13,1,18,1]]}
[]
["Tab. 37 – Dettaglio movimentazioni quota inutilizzata contributi da Regione o P.A. per quota F.S.R. vincolato"]
[]
["DETTAGLIO QUOTE INUTILIZZATE CONTRIBUTI","ASSEGNAZIONE INIZIALE CONTRIBUTO",null,"UTILIZZI / COSTI",null,null,null,null,null,null,null,null,"FONDO AL 31/12/2018"]
[]
[null,"Esercizio","Importo\ncontributo","Tipologia","Importo"]
[null,null,null,null,"Esercizio\n2011  e precedenti","Esercizio\n2012","Esercizio\n2013","Esercizio \n2014","Esercizio \n2015","Esercizio \n2016","Esercizio \n2017","Esercizio \n2018"]
[" Quote inutilizzate contributi da Regione o Prov. Aut.\nper quota FSR vincolato",2018,7216729.6299999999,"B.1) Acquisti di beni",null,null,null,null,null,null,null,null,{"$f":"C8-L13","v":7216729.6299999999}]
[null,null,null,"B.2) Acquisti di servizi sanitari"]
[null,null,null,"B.3) Acquisti di servizi non sanitari"]
[null,null,null,"B.6) Costi del personale"]
[null,null,null,"Altri costi (dettagliare)"]
[null,null,null,"Totale  ",{"$f":"SUM(E8:E12)","v":0},0,0,0,0,0,{"$f":"SUM(K8:K12)","v":0},{"$f":"SUM(L8:L12)","v":0}]
[null,2017,220805,"B.1) Acquisti di beni",null,null,null,null,null,null,null,null,{"$f":"C14-K19-L19","v":0}]
[null,null,null,"B.2) Acquisti di servizi sanitari",null,null,null,null,null,null,null,220805]
[null,null,null,"B.3) Acquisti di servizi non sanitari"]
[null,null,null,"B.6) Costi del personale"]
[null,null,null,"Altri costi (dettagliare)"]
[null,null,null,"Totale  ",{"$f":"SUM(E14:E18)","v":0},0,0,0,0,0,0,220805]
[null,2017,7018127.5499999998,"B.1) Acquisti di beni",null,null,null,null,null,null,null,null,{"$f":"C20-K25-L25","v":7018127.5499999998}]
[null,null,null,"B.2) Acquisti di servizi sanitari"]
[null,null,null,"B.3) Acquisti di servizi non sanitari"]
[null,null,null,"B.6) Costi del personale"]
[null,null,null,"Altri costi (dettagliare)"]
[null,null,null,"Totale  ",{"$f":"SUM(E20:E24)","v":0},0,0,0,0,0,0,0]
[null,2016,4021566.65,"B.1) Acquisti di beni",null,null,null,null,null,null,null,null,{"$f":"C26-E31-F31-G31-H31-I31-J31-K31-L31","v":3769134.54}]
[null,null,null,"B.2) Acquisti di servizi sanitari",null,null,null,null,null,null,null,204181.7]
[null,null,null,"B.3) Acquisti di servizi non sanitari"]
[null,null,null,"B.6) Costi del personale",null,null,null,null,null,null,null,48250.41]
[null,null,null,"Altri costi (dettagliare)"]
[null,null,null,"Totale  ",{"$f":"SUM(E26:E30)","v":0},0,0,0,0,0,0,{"$f":"SUM(L26:L30)","v":252432.11000000002}]
[null,2015,3816133,"B.1) Acquisti di beni",null,null,null,null,null,null,null,null,{"$f":"C32-E37-F37-G37-H37-I37-J37-K37-L37","v":3201402.2600000002}]
[null,null,null,"B.2) Acquisti di servizi sanitari",null,null,null,null,null,216602.75,33397.25]
[null,null,null,"B.3) Acquisti di servizi non sanitari"]
[null,null,null,"B.6) Costi del personale",null,null,null,null,null,null,27679.5,88638.65]
[null,null,null,"Riduzione assegnazione finanziamento DGR 178 del 22/03/2016 ",null,null,null,null,null,248412.59]
[null,null,null,"Totale  ",{"$f":"SUM(E32:E36)","v":0},0,0,{"$f":"SUM(H32:H36)","v":0},0,{"$f":"SUM(J32:J36)","v":465015.33999999997},{"$f":"SUM(K32:K36)","v":61076.75},{"$f":"SUM(L32:L36)","v":88638.65}]
[null,2014,9057264,"B.1) Acquisti di beni",null,null,null,null,null,null,null,null,{"$f":"C38-E45-F45-G45-H45-I45-J45-K45-L45","v":4839754.51}]
[null,null,null,"B.2) Acquisti di servizi sanitari",null,null,null,null,null,null,null,{"$f":"72422.49+198961.99+130817.31","v":402201.79}]
[null,null,null,"B.3) Acquisti di servizi non sanitari",null,null,null,null,null,null,210000]
[null,null,null,"B.6) Costi del personale",null,null,null,null,null,25320,726395,661551.46]
[null,null,null,"Opere in corso ",null,null,null,null,null,null,null,149843.70000000001]
[null,null,null,"Attrezzature",null,null,null,null,null,null,null,765454.54]
[null,null,null,"Riduzione assegnazione finanziamento DPF009/7 del 20/11/2015",null,null,null,null,1276743]
[null,null,null,"Totale  ",0,{"$f":"SUM(F38:F44)","v":0},{"$f":"SUM(G38:G44)","v":0},0,{"$f":"SUM(I38:I44)","v":1276743},{"$f":"SUM(J38:J44)","v":25320},{"$f":"SUM(K38:K44)","v":936395},{"$f":"SUM(L38:L44)","v":1979051.49}]
[" Quote inutilizzate contributi da Regione o Prov. Aut.\nper quota FSR vincolato",2013,8441774.7100000009,"B.1) Acquisti di beni",null,null,null,null,null,null,null,null,{"$f":"C46-E51-F51-G51-H51-I51-J51-K51-L51","v":2842926.6800000016}]
[null,null,null,"B.2) Acquisti di servizi sanitari",null,null,null,31051,319043,126177.68,500000,{"$f":"183249.07+1630441.75","v":1813690.82}]
[null,null,null,"B.3) Acquisti di servizi non sanitari"]
[null,null,null,"B.6) Costi del personale",null,null,47292,null,89702,299379.38,186128.79,{"$f":"1232517.14+183042.65","v":1415559.7899999998}]
[null,null,null,"Attrezzature",null,null,null,null,null,67240,40260,663323.56999999995]
[null,null,null,"Totale  ",{"$f":"SUM(E46:E50)","v":0},{"$f":"SUM(F46:F50)","v":0},47292,31051,408745,{"$f":"SUM(J46:J50)","v":492797.06},{"$f":"SUM(K46:K50)","v":726388.79},{"$f":"SUM(L46:L50)","v":3892574.1799999997}]
[null,2012,9651234,"B.1) Acquisti di beni",null,null,null,null,9168,null,552135,null,{"$f":"C52-E59-F59-G59-H59-I59-J59-K59-L59","v":2546485.0700000003}]
[null,null,null,"B.2) Acquisti di servizi sanitari",null,390333,174958,843513,440815,596829.68000000005,1386942.78,26357.599999999999]
[null,null,null,"B.3) Acquisti di servizi non sanitari",null,null,null,5545,null,5000,0]
[null,null,null,"B.6) Costi del personale",null,null,null,{"$f":"798196","v":798196},{"$f":"163153","v":163153},207304.78,837280.83,52515.87]
[null,null,null,"Attrezzature",null,null,null,null,null,55000,64893.13]
[null,null,null,"Opere in corso ",null,null,null,null,null,null,null,306453.26]
[null,null,null,"giroconto anno 2009 per errata  imputazione ",null,null,null,null,null,null,188355]
[null,null,null,"Totale  ",{"$f":"SUM(E52:E56)","v":0},390333,174958,1647254,613136,864134.46000000008,{"$f":"SUM(K52:K58)","v":3029606.7399999998},{"$f":"SUM(L52:L58)","v":385326.73}]
[null,2011,8438245,"B.1) Acquisti di beni",null,null,71017,88062,null,null,null,null,{"$f":"C60-E67-F67-G67-H67-I67-J67-K67-L67","v":578228.93000000028}]
[null,null,null,"B.2) Acquisti di servizi sanitari",443730,331770,{"$f":"968181","v":968181},117987,null,62945.2,null,53802.92]
[null,null,null,"B.3) Acquisti di servizi non sanitari",null,{"$f":"60000+2795.68","v":62795.68},null,53000]
[null,null,null,"B.6) Costi del personale",55810,519843,676530,{"$f":"227749","v":227749},191190,216466.67,195749.09,10659.51]
[null,null,null,"Attrezzature",null,null,28884,null,{"$f":"14544-900","v":13644}]
[null,null,null,"Riduzione assegnazione finanziamento DPF009/2 del 16/09/2015",null,null,null,null,35000]
[null,null,null,"DCA  40/2016 del 23/04/2016",null,null,null,null,3435200]
[null,null,null,"Totale  ",{"$f":"SUM(E60:E64)","v":499540},{"$f":"SUM(F60:F64)","v":914408.67999999993},{"$f":"SUM(G60:G64)","v":1744612},{"$f":"SUM(H60:H64)","v":486798},{"$f":"SUM(I60:I66)","v":3675034},{"$f":"SUM(J60:J66)","v":279411.87},{"$f":"SUM(K60:K66)","v":195749.09},{"$f":"SUM(L60:L66)","v":64462.43}]
[null,2010,8676763,"B.1) Acquisti di beni",null,255519.96,101182,26533,null,null,7052,null,{"$f":"C68-E74-F74-G74-H74-I74-J74-K74-L74","v":160867.65999999997}]
[null,null,null,"B.2) Acquisti di servizi sanitari",{"$f":"1064008+441876+12510","v":1518394},{"$f":"283143+216948+2971+144589.07","v":647651.07000000007},111238,41738,236959]
[null,null,null,"B.3) Acquisti di servizi non sanitari",null,124831.13,102651,46924,28782,116.92]
[null,null,null,"B.6) Costi del personale",384800,{"$f":"424870+108917.38","v":533787.38},262120,529455,70254,176406.11,33361.07,48259.18]
[null,null,null,"Attrezzature",null,30268,45674,null,null,null,null,65426]
[null,null,null,"DCA  40/2016 del 23/04/2016",null,null,null,null,3069413,null,17099.52]
[null,null,null,"Totale  ",{"$f":"SUM(E68:E73)","v":1903194},1592057.54,622865,644650,3405408,176523.03,57512.59,113685.18]
[null,2009,7623471,"B.1) Acquisti di beni",390090,64944,null,2928,null,null,null,null,{"$f":"C75-E83-F83-G83-H83-I83-J83-K83-L83","v":574166.1}]
[null,null,null,"B.2) Acquisti di servizi sanitari",2144240,304540,39333,145591,74270,188355]
[null,null,null,"B.3) Acquisti di servizi non sanitari",174975,65211,null,null,null,null,null,14195.33]
[null,null,null,"B.6) Costi del personale",1151491,326236,70362,244978,58290,247020]
[null,null,null,"Attrezzature",34304,17037]
[null,null,null,"Opere in corso ",null,null,null,null,null,null,null,188345.57]
[null,null,null,"DCA  40/2016 del 23/04/2016",null,null,null,null,1290924]
[null,null,null,"giroconto anno 2012 per errata  imputazione ",null,null,null,null,null,null,-188355]
[null,null,null,"Totale  ",{"$f":"SUM(E75:E81)","v":3895100},777968,109695,393497,1423484,435375,{"$f":"SUM(K75:K82)","v":-188355},{"$f":"SUM(L75:L82)","v":202540.9}]
[null,"TOTALE ",{"$f":"C75+C68+C60+C52+C46+C38+C32+C26","v":59726451.359999999},"TOTALE ",{"$f":"E59+E67+E74+E83","v":6297834},{"$f":"F59+F67+F74+F83","v":3674767.2199999997},{"$f":"G59+G67+G74+G83+G51","v":2699422},{"$f":"H59+H67+H74+H83+H51","v":3203250},{"$f":"I59+I67+I74+I83+I51+I45","v":10802550},{"$f":"J59+J67+J74+J83+J51+J45+J37","v":2738576.76},{"$f":"K59+K67+K74+K83+K51+K45+K37+K31+K25","v":4818373.959999999},{"$f":"L59+L67+L74+L83+L51+L45+L37+L31+L25+L19+L13","v":7199516.6700000009},{"$f":"SUM(M8:M83)","v":32747822.930000003},"quadrare con tabella 36"]
[]
["Tab. 38 – Dettaglio movimentazioni quota inutilizzata contributi vincolati da soggetti pubblici (extrafondo)"]
["DETTAGLIO QUOTE INUTILIZZATE CONTRIBUTI","ASSEGNAZIONE INIZIALE CONTRIBUTO",null,"UTILIZZI / COSTI",null,null,null,null,null,null,null,null,"FONDO AL 31/12/2018"]
[]
[null,"Esercizio","Importo\ncontributo","Tipologia","Importo"]
[null,null,null,null,"Esercizio\n2011 e precedenti","Esercizio\n2012","Esercizio\n2013","Esercizio \n2014","Esercizio \n2015","Esercizio \n2016","Esercizio \n2017","Esercizio \n2018"]
[" Quote inutilizzate contributi vincolati da soggetti pubblici\n(extra fondo)",2018,53105.86,"B.1) Acquisti di beni",null,null,null,null,null,null,null,null,{"$f":"C91-K96-L96","v":53105.86}]
[null,null,null,"B.2) Acquisti di servizi sanitari"]
[null,null,null,"B.3) Acquisti di servizi non sanitari"]
[null,null,null,"B.6) Costi del personale"]
[null,null,null,"Altri costi (dettagliare)"]
[null,null,null,"Totale  ",null,null,null,null,null,null,{"$f":"SUM(K91:K95)","v":0},{"$f":"SUM(L91:L95)","v":0}]
[null,2017,50302.400000000001,"B.1) Acquisti di beni",null,null,null,null,null,null,null,null,{"$f":"C97-K102-L102","v":50302.400000000001}]
[null,null,null,"B.2) Acquisti di servizi sanitari"]
[null,null,null,"B.3) Acquisti di servizi non sanitari"]
[null,null,null,"B.6) Costi del personale"]
[null,null,null,"Altri costi (dettagliare)"]
[null,null,null,"Totale  ",null,null,null,null,null,null,{"$f":"SUM(K97:K101)","v":0},{"$f":"SUM(L97:L101)","v":0}]
[null,2016,{"$f":"92452.46+88153.5","v":180605.96000000002},"B.1) Acquisti di beni",null,null,null,null,null,null,11215,null,{"$f":"C103-K108-L108","v":88153.960000000021}]
[null,null,null,"B.2) Acquisti di servizi sanitari",null,null,null,null,null,null,0]
[null,null,null,"B.3) Acquisti di servizi non sanitari",null,null,null,null,null,null,7500]
[null,null,null,"B.6) Costi del personale",null,null,null,null,null,null,73737]
[null,null,null,"Altri costi (dettagliare)",null,null,null,null,null,null,0]
[null,null,null,"Totale  ",{"$f":"SUM(E103:E107)","v":0},0,0,0,0,0,{"$f":"SUM(K103:K107)","v":92452},{"$f":"SUM(L103:L107)","v":0}]
[null,"TOTALE ",null,"TOTALE ",null,null,"=",{"$f":"H102+H108","v":0},0,0,{"$f":"K102+K108+K96","v":92452},{"$f":"L96+L102+L108","v":0},{"$f":"SUM(M91:M108)","v":191562.22000000003},"quadrare con tabella 36"]
[]
["Tab. 39 – Dettaglio movimentazioni quota inutilizzata contributi per ricerca"]
["DETTAGLIO QUOTE INUTILIZZATE CONTRIBUTI","ASSEGNAZIONE INIZIALE CONTRIBUTO",null,"UTILIZZI / COSTI",null,null,null,null,null,null,null,null,"FONDO AL 31/12/2018"]
[]
[null,"Esercizio","Importo\ncontributo","Tipologia","Importo"]
[null,null,null,null,"Esercizio\n2011 e precedenti","Esercizio\n2012","Esercizio\n2013","Esercizio\n2014","Esercizio \n2015","Esercizio \n2016","Esercizio \n2017","Esercizio \n2018"]
[" Quote inutilizzate contributi \nper ricerca","<indicare esercizio\ndi assegnazione>",null,"B.1) Acquisti di beni"]
[null,null,null,"B.2) Acquisti di servizi sanitari"]
[null,null,null,"B.3) Acquisti di servizi non sanitari"]
[null,null,null,"B.6) Costi del personale"]
[null,null,null,"Altri costi (dettagliare)"]
[null,null,null,"Totale  "]
[null,"<indicare esercizio\ndi assegnazione>",null,"B.1) Acquisti di beni"]
[null,null,null,"B.2) Acquisti di servizi sanitari"]
[null,null,null,"B.3) Acquisti di servizi non sanitari"]
[null,null,null,"B.6) Costi del personale"]
[null,null,null,"Altri costi (dettagliare)"]
[null,null,null,"Totale  "]
[null,"TOTALE ",null,"TOTALE ",null,null,null,null,null,null,null,null,null,"quadrare con tabella 36"]
[]
["Tab. 40 – Dettaglio movimentazioni quota inutilizzata contributi vincolati da privati"]
["DETTAGLIO QUOTE INUTILIZZATE CONTRIBUTI","ASSEGNAZIONE INIZIALE CONTRIBUTO",null,"UTILIZZI / COSTI",null,null,null,null,null,null,null,null,"FONDO AL 31/12/2018"]
[]
[null,"Esercizio","Importo\ncontributo","Tipologia","Importo"]
[null,null,null,null,"Esercizio\n2011 e precedenti","Esercizio\n2012","Esercizio\n2013","Esercizio\n2014","Esercizio\n2015","Esercizio \n2016","Esercizio \n2017","Esercizio \n2018"]
[" Quote inutilizzate contributi vincolati \nda privati","<indicare esercizio\ndi assegnazione>",null,"B.1) Acquisti di beni"]
[null,null,null,"B.2) Acquisti di servizi sanitari"]
[null,null,null,"B.3) Acquisti di servizi non sanitari"]
[null,null,null,"B.6) Costi del personale"]
[null,null,null,"Altri costi (dettagliare)"]
[null,null,null,"Totale  "]
[null,"<indicare esercizio\ndi assegnazione>",null,"B.1) Acquisti di beni"]
[null,null,null,"B.2) Acquisti di servizi sanitari"]
[null,null,null,"B.3) Acquisti di servizi non sanitari"]
[null,null,null,"B.6) Costi del personale"]
[null,null,null,"Altri costi (dettagliare)"]
[null,null,null,"Totale  "]
[null,"TOTALE ",null,"TOTALE ",null,null,null,null,null,null,null,null,null,"quadrare con tabella 36"]
[]
[]
[]
["RICONCILIAZIONE TRA TABELLE 37 E 38 E VOCE A3 DEL CONTO ECONOMICO:"]
[]
["Utilizzi 2018 da TABELLA 37 ",null,{"$f":"L84","v":7199516.6700000009},"Utilizzo fondi per quote inutilizzate di contributi esercizi precedenti da Regione per quota FSR vincolato TAB 37  "]
["Utilizzi 2018 da TABELLA  38",null,{"$f":"L109","v":0},"Utilizzo fondi per quote inutilizzate di contributi esercizi precedenti da regione per quota FSR vincolato TAB  38"]
[]
[null,null,{"$f":"433204.73+184962.39","v":618167.12},"Contributi emersione lavoratori stranieri irregolari D.Lgs. 109/2012 anni 2012-2013, liquidati con DPF015/44 del 4/09/2018 (€ 433.205) e DPF015/45 del 11/09/2018 (€ 184.962), registrati direttamente come ricavo a "]
[]
[null,null,null,"Conto Economico"]
[]
[null,null,774519.17,"Contributo fondo esclusività dirigenti ruolo sanitario anni 2013-2014-2015-2016 liquidato con DPF004/04 del 11/09/2018 e registrato direttamente come ricavo a Conto Economico"]
[]
[]
[null,null,106866.86,"Contributo trattamento domiciliare malati AIDS FSN 2012 liquidato con DPF010/07 del 06/02/2018 e registrato direttamente come ricavo a Conto Economico"]
[]
[]
[null,null,56899.99,"Contributo lotta contro AIDS 24^ corso formazione personale malattie infettive, liquidato con DPF004/02 del 05/04/2018 e registrato direttamente come ricavo a Conto Economico"]
[]
[]
[null,null,127428.88,"Contributo screening neonatale per la diagnosi precoce di malattie metaboliche ereditarie, liquidato con DPF010/14 del 28/02/2018 e registrato direttamente come ricavo a Conto Economico"]
[]
[]
[null,null,{"$f":"214122.7+152386.59+912430.92","v":1278940.21},"Contributi Sanità Penitenziaria saldi anni 2015-2016  e anno 2017, liquidati con DPF015/02 del 09/01/2018 (€ 214.123), DPF015/03 del 09/01/2018 (€ 152.387) e DPF015/06 del 05/12/2018 (€ 912.431)  e registrati"]
[]
[null,null,null,"direttamente come ricavi a Conto Economico"]
[]
[null,null,{"$f":"37833.6+9458.4","v":47292},"Contributi per prevenzione ed assistenza ai detenuti tossicodipendenti anno 2017,  liquidati con DPF015/01 del 04/01/2018 (€ 37.834) e DPF015/63 del 30/11/2018 (€ 9.458)  e registrati direttamente come ricavo a Conto Economico"]
[null,null,null,"Conto Economico"]
[]
[null,null,-2138846.64,"Storno per imputazione a patrimonio netto di cespiti acquistati nel 2018 ed opere edili  con fondi progetto obiettivo."]
[]
["TOTALE GENERALE",null,{"$f":"SUM(C153:C179)","v":8070784.2600000016},"Voce A3 del Conto Economico"]

{"sheet":"Dettaglio prog 2011 e retro","index":39,"n_rows":19,"n_cols":6,"rows_kept":19,"cut":false,"hidden":false,"merged":[[1,0,1,5],[8,3,9,3]]}
[]
["Dettagli saldi Progetti 2011 e retro  al 31/12/2018"]
["Anno","Delibera Regionale","Delibera Direttore Generale",null,"Descrizione ","saldi al 31/12/2018"]
[2009,"DGR 246 22/05/2009",null,"020304011304","F.do Obiettivi di Piano 2009:"]
[null,null,null,null," UTAP",{"$f":"736000-202540.9","v":533459.1}]
[null,null,null,null,"Amministratore sostegno",40706.94]
[null,null,null,null,"Totale  ",{"$f":"SUM(F5:F6)","v":574166.04}]
[2010,"DGR 655 31/08/2010","DG 244 25/02/2011","020304011301","F.do Obiettivi di Piano 2010:"]
[null,null,null,"LP2 NON AUTOSUFFICIENZA","2d)  Amministratore sostegno",30000]
[null,null,null,null,"2g)  Ass. malati demenza Alzheimer",868]
[null,null,null,"LP5  BIOBANCHE","Biobanche sangue cordonale",{"$f":"178259-113685.18","v":64573.820000000007}]
[null,null,null,"LP8  TUTELA MATERNITA'","Progr.continuità assitenziale territorio-ospedale per mamma e bambino",65426.11]
[null,null,null,null,"Totale  ",{"$f":"SUM(F9:F12)","v":160867.93}]
[2011,"DGR 412 15/06/2011","DG 738 30/05/2011","020304011302","F.do Obiettivi di Piano 2011:"]
[null,null,null,null,"Ass. malati demenza Alzheimer",120000]
[null,null,null,"LP5  BIOBANCHE","Biobanche sangue cordonale",{"$f":"518837-64462.43","v":454374.57}]
[null,null,"DG 80 29/01/2016","LP9  MALATTIE RARE","Malattie rare",3855]
[null,null,null,null,"Totale  ",{"$f":"SUM(F15:F17)","v":578229.57000000007}]
[null,null,null,null,"TOTALE GENERALE",{"$f":"F7+F13+F18","v":1313263.54}]

{"sheet":"Criteri Fondi Rischi","index":40,"n_rows":11,"n_cols":5,"rows_kept":11,"cut":false,"hidden":false,"merged":[[7,1,7,3],[10,1,10,3],[10,4,10,7],[8,1,8,3],[8,4,8,7],[7,4,7,7],[9,1,9,3],[9,4,9,7],[0,0,0,7],[4,4,4,7],[6,4,6,7],[4,1,4,3],[5,1,5,3],[2,4,2,7],[2,1,2,3],[3,1,3,3],[3,4,3,7],[5,4,5,7],[6,1,6,3]]}
["Nella seguente tabella sono illustrati i criteri utilizzati per la determinazione dell'entità dei fondi, nonché gli estremi dei verbali del Collegio Sindacale."]
[]
["Fondo","Criteri di determinazione",null,null,"Estremi del verbale del Collegio Sindacale"]
["PBA020","Il fondo rischi su cause legali in corso è la risultanza delle somme stanziate a fronte della stima effettuata dall’Ufficio Affari Legali per passività potenziali connesse al contenzioso giudiziario in corso al 31/12/2018, nota prot.  n. 0010844/19 del 29/01/2019"]
["PBA030","Il fondo rischi contenzioso personale dipendente è  la risultanza delle somme stanziate a fronte della stima effettuata dall’Ufficio Affari Legali per passività potenziali connesse al contenzioso giudiziario in corso al 31/12/2018, nota prot. n. 0010844/19 del 29/01/2019"]
["PBA040","Nella voce “Fondi rischi connessi all'acquisto di prestazioni sanitarie da privato” sono stati iscritti gli importi delle note credito da ricevere su prestazioni fatturate fino al 31/12/2018  per extrabudget e per decurtazioni a seguito degli esiti delle verifiche ispettive  effettuate dai N.O.C  non ancora pervenute. Nel 2018 il fondo rischi è stato ridotto di €/000 1.311  a seguito della definizione di conteziosi extra giudiziali - per prestazioni riabilitative ex art 26 biennio 2013 e 2014  Fondazione Papa Paolo VI. Mentre l'incremento  di €/000 272  rappresenta l'accantonamento 2018  per compensare passività potenziale a fronte del rischio  per il mancato ricevimento delle richieste note credito  da parte del servizio competente con nota n 0045208/2019 del 09/04/2019, ed iscritte nel bilancio 2018  per extra budget  2018 su prestazioni Psico-geriatiche in RSA. L'accantonamento al \"Fondo rischi connessi all’acquisto di prestazioni sanitarie da privato\" rilevato nel 2018 è pari al 100% delle note di credito da ricevere iscritte al 31/12/2018."]
["PBA050","Il fondo rischi per oneri derivanti dalla liquidazione di franchigie assicurative si riferisce alle  passività potenziali derivanti dalla liquidazione di franchigie previste nel contratto di polizza di rct/o essendo esso giunto alla conclusione della triennale vigenza contrattuale. Trattasi di somme anticipate dalla Compagnia Assicuratrice  nelle varie annualità di polizza il cui rimborso viene chiesto successivamente alla contraente azienda. Va precisato che l'Ufficio Legale con nota n. 0010844/19 del 29/01/2019  ha stimato la consistenza del fondo di €/000 5.500. "]
["PBA160","La voce \"Quote inutilizzate di contributi da Regione o Provincia Autonoma per Quota di FSR vincolato, accoglie le somme erogate a tale titolo dal 2012 al 2018 non ancora utilizzate, come meglio dettagliate nella tabella 37. "]
["PBA170","La voce \"Quote inutilizzate di contributi  vincolati da soggetti pubblici (extra Fondo), accoglie le somme erogate a tale titolo dal 2012 al 2018  non ancora utilizzate, come meglio dettagliate nella tabella 38. "]
["PBA240","La voce \"Fondi rinnovi contrattuali\" accoglie l'accantonamento effettuato per far fronte agli oneri derivanti dai futuri rinnovi contrattuali a valere sull'esercizio 2018, come indicato dalla Regione nelle linee guida al Bilancio d'Esercizio 2018  trasmesse con nota n. RA/0122860/DPF012  del 21/04/2019."]
["PBA240"," Il \"Fondo rinnovi convenzioni MMG-PLS-MCA” accoglie le somme non ancora erogate dall’Azienda a titolo di rinnovi contrattuali  a valere sul 2018, secondo i criteri dettati nelle linee guida regionali per la redazione dei Bilanci al 31/12/2018 delle ASL Abruzzesi  trasmesse con nota n. RA/0122860/DPF012  del 21/04/2019."]

{"sheet":"dettaglio acca F Contrattuali ","index":41,"n_rows":21,"n_cols":12,"rows_kept":21,"cut":false,"hidden":false,"merged":[[4,0,4,8],[3,0,3,8],[7,0,12,0],[8,6,11,6],[8,7,11,7],[8,8,11,8],[19,9,20,9],[19,10,20,10],[20,0,20,1],[7,9,12,9],[7,10,12,10],[16,0,16,1],[17,0,18,0],[17,9,18,9],[17,10,18,10]]}
[]
[]
["In relazione al Fondo rinnovi contrattuali personale dipendente , si fornisce di seguito il prospetto di dettaglio:"]
[]
["ACCANTONAMENTO  CONSUNTIVO 2018"]
[]
["Codice SP FONDO","conto di coge","Codice CE","Descrizione","  Consuntivo 2015","Accantonamento  del 3,48%","valore aggregato per codice CE acc","Codice CE accantonamento","Descrizione","Codice SP FONDO","V/C SP"]
["PBA230","0715040401","BA2110","Costo personale dirigente medico",69522650,{"$f":"E8*3.48/100-1","v":2419387.2200000002},{"$f":"F8","v":2419387.2200000002},"BA2860","Accantonamento rinnovi contrattuali : dirigenza medica","PBA230","0203050201"]
[null,"0715040501","BA2150","Costo personale dirigente non medico",5146822,{"$f":"E9*3.48/100","v":179109.4056},{"$f":"F9+F10+F11+F12","v":239284.66080000001},"BA2870","Accantonamento rinnovi contrattuali : dirigenza non medica"]
[null,"0715040502","BA2240","Costo personale dirigente ruolo professionale",418139,14551.2372]
[null,"0715040503","BA2330","Costo personale dirigente ruolo tecnico",492897,17152.815600000002]
[null,"0715040504","BA2420","Costo personale dirigente ruolo amministrativo",818138,28471.202399999998]
[null,null,null,"totale",{"$f":"SUM(E8:E12)","v":76398646},{"$f":"SUM(F8:F12)","v":2658671.8807999999},{"$f":"SUM(G8:G12)","v":2658671.8808000004}]
[]
[]
["In relazione al Fondo rinnovi convenzioni MMG - PLS - MCA, si fornisce di seguito il prospetto di dettaglio:"]
["Voce",null,"CE consuntivo 2010","quota da accantonare pari a 0,75%","CE consuntivo 2015","Base di calcolo accantonamento  b+c*1,09%","calcolo incremento  del 3,48%","totale da accantonare ","V/C  CE"," Accantonamento voci CE","voce di S.P.","V/C  CE"]
["BA0420",null,"a","b","c","('d=b+c)","e=d*3,48%","f= b+e",null,"BA2840","PBA240"]
[null,"Spese per assistenza MMG",35268675,{"$f":"C19*0.75/100","v":264515.0625},35443596,{"$f":"D19+E19","v":35708111.0625},{"$f":"F19*3.48/100","v":1242642.2649749999},{"$f":"D19+G19","v":1507157.3274749999},"0715040201",null,null,"0203050301"]
["BA0570","Medici Sumai",3878582.33,{"$f":"C20*0.75/100","v":29089.367474999999},4910803,{"$f":"D20+E20","v":4939892.3674750002},{"$f":"F20*3.48/100","v":171908.25438813001},{"$f":"D20+G20","v":200997.62186313001},"0715040301","BA2850","PBA250","0203050401"]
["Totale",null,{"$f":"SUM(C19:C20)","v":39147257.329999998},{"$f":"SUM(D19:D20)","v":293604.42997499998},40354399,40648003.429975003,{"$f":"F21*3.48/100","v":1414550.51936313},{"$f":"D21+G21","v":1708154.94933813}]

{"sheet":"Altre Info","index":42,"n_rows":10,"n_cols":5,"rows_kept":10,"cut":false,"hidden":false,"merged":[[6,0,6,1],[5,2,5,3],[5,0,5,1],[8,4,8,7],[9,4,9,7],[5,4,5,7],[6,4,6,7],[7,4,7,7],[8,0,8,1],[9,0,9,1],[7,0,7,1]]}
[]
[]
["Altre informazioni relative a fondi rischi e oneri"]
[]
[]
["Informazione",null,"Caso presente in azienda?",null,"Se sì, illustrare"]
["FR01. Con riferimento ai rischi per i quali è stato costituito un fondo, esiste la possibilità di subire perdite addizionali rispetto agli ammontari stanziati?",null,null,"NO"]
["FR02. Esistono rischi probabili, a fronte dei quali non è stato costituito un apposito fondo per l'impossibilità di formulare stime attendibili?",null,null,"NO"]
["FR03. Esistono rischi (né generici, né remoti) a fronte dei quali non è stato costituito un apposito fondo perché solo possibili, anzichè probabili? Da tali rischi potrebbero scaturire perdite significative?",null,null,"NO"]
["FR04 - Altro. Esistono altre informazioni che si ritiene necessario fornire per soddisfare la regola generale secondo cui \"Se le informazioni richieste da specifiche disposizioni di legge non sono sufficienti a dare una rappresentazione veritiera e corretta, si devono fornire le informazioni complementari necessarie allo scopo\" (art. 2423 cc)?",null,null,"NO"]

{"sheet":"Tab 41","index":43,"n_rows":16,"n_cols":13,"rows_kept":16,"cut":false,"hidden":false,"merged":[[10,1,10,8],[15,0,15,3],[0,0,0,7],[2,1,2,8],[3,0,4,0],[3,1,4,1],[3,3,4,3],[3,4,4,4],[3,5,4,5],[3,6,4,6],[14,0,14,3],[14,4,14,5],[15,6,15,8],[14,6,14,8],[11,1,11,8]]}
["13.     Trattamento di fine rapporto"]
[]
[null,"Tab. 41 – Consistenza e movimentazioni del Trattamento di Fine Rapporto "]
["CODICE MOD. SP","TRATTAMENTO DI FINE RAPPORTO",null,"Consistenza iniziale","Accantonamento","Utilizzi\ndell'esercizio","Valore finale"]
[null,null,null,null,null,null,null,null,null,null,"Valore SP","Diff","Ctrl"]
["PCA000","  Fondo per premi operosità medici SUMAI",null,{"$f":"SUMIF('00 SP'!$A:$A,'Tab 41'!$A6,'00 SP'!I:I)","v":2201092.41},{"$f":"SUMIF('00 SP'!$A:$A,'Tab 41'!$A6,'00 SP'!J:J)","v":264664.11},{"$f":"SUMIF('00 SP'!$A:$A,'Tab 41'!$A6,'00 SP'!K:K)","v":197944.41},{"$f":"D6+E6-F6","v":2267812.11},null,null,null,{"$f":"SUMIF('00 SP'!A:A,'Tab 41'!A6,'00 SP'!L:L)","v":2267812.11},{"$f":"G6-K6","v":0},{"$f":"IF(L6=0,\"OK\",\"CTRL\")","v":"OK"}]
["PCA010","  Fondo per trattamento di fine rapporto dipendente",null,{"$f":"SUMIF('00 SP'!$A:$A,'Tab 41'!$A7,'00 SP'!I:I)","v":0},{"$f":"SUMIF('00 SP'!$A:$A,'Tab 41'!$A7,'00 SP'!J:J)","v":0},{"$f":"SUMIF('00 SP'!$A:$A,'Tab 41'!$A7,'00 SP'!K:K)","v":0},{"$f":"D7+E7-F7","v":0},null,null,null,{"$f":"SUMIF('00 SP'!A:A,'Tab 41'!A7,'00 SP'!L:L)","v":0},{"$f":"G7-K7","v":0},{"$f":"IF(L7=0,\"OK\",\"CTRL\")","v":"OK"}]
[null,"  TOTALE TRATTAMENTO DI FINE RAPPORTO",null,{"$f":"SUM(D6:D7)","v":2201092.41},{"$f":"SUM(E6:E7)","v":264664.11},{"$f":"SUM(F6:F7)","v":197944.41},{"$f":"SUM(G6:G7)","v":2267812.11}]
[]
[]
["Fondo","Criteri di determinazione"]
["PCA100","L'accantonamento al fondo per premi operosità SUMAI, come meglio esplicitato dal servizio UOSD Trattamento Economico del personale dipendente e convenzionato con Determinazione n.103/TEP del 10 aprile 2019 allegata al presente Bilancio, è stato calcolato sulla media delle retribuzioni corrisposte nell'anno 2018 ai Medici Specialisti SUMAI Convenzionati Interni. Il Fondo SUMAI 2018 è stato utilizzato per €/000 198."]
[]
["Altre informazioni relative a trattamento di fine rapporto"]
["Informazione",null,null,null,"Caso presente in azienda?",null,"Se sì, illustrare"]
["TR01 - Altro. Esistono altre informazioni che si ritiene necessario fornire per soddisfare la regola generale secondo cui \"Se le informazioni richieste da specifiche disposizioni di legge non sono sufficienti a dare una rappresentazione veritiera e corretta, si devono fornire le informazioni complementari necessarie allo scopo\" (art. 2423 cc)?",null,null,null,null,"NO"]

{"sheet":"Tab 42","index":44,"n_rows":62,"n_cols":14,"rows_kept":62,"cut":false,"hidden":false,"merged":[[2,2,2,9],[3,1,4,1],[3,2,4,2],[3,4,4,4],[3,5,3,6],[3,7,4,7],[3,8,4,8],[3,9,4,9]]}
[null,"14.     Debiti"]
[]
[null,null,"Tab. 42 – Consistenza e movimentazioni dei debiti "]
[null,"CODICE MOD. SP","DEBITI",null,"Valore\niniziale","MOVIMENTI DELL'ESERCIZIO",null,"Valore finale","di cui per fatture / N.C da ricevere","di cui per acquisti di beni iscritti tra le immobilizz."]
[null,null,null,null,null,"Incrementi","Decrementi",null,null,null,null,"Valore SP","Diff","Ctrl"]
[{"$f":"B6&\"FR\"","v":"PDA000FR"},"PDA000"," MUTUI PASSIVI",null,{"$f":"SUMIF('00 SP'!$A:$A,'Tab 42'!$B6,'00 SP'!I:I)","v":0},{"$f":"SUMIF('00 SP'!$A:$A,'Tab 42'!$B6,'00 SP'!J:J)","v":0},{"$f":"SUMIF('00 SP'!$A:$A,'Tab 42'!$B6,'00 SP'!K:K)","v":0},{"$f":"E6+F6-G6","v":0},{"$f":"SUMIF('00 PDC SP'!A:A,'Tab 42'!A6,'00 PDC SP'!N:N)","v":0},0,null,{"$f":"SUMIF('00 SP'!A:A,'Tab 42'!B6,'00 SP'!L:L)","v":0},{"$f":"H6-L6","v":0},{"$f":"IF(M6=0,\"OK\",\"CTRL\")","v":"OK"}]
[]
[null,null," DEBITI V/STATO",null,{"$f":"SUM(E9:E13)","v":0},{"$f":"SUM(F9:F13)","v":0},0,0,0,0]
[{"$f":"B9&\"FR\"","v":"PDA020FR"},"PDA020"," Debiti v/Stato per mobilità passiva extraregionale",null,{"$f":"SUMIF('00 SP'!$A:$A,'Tab 42'!$B9,'00 SP'!I:I)","v":0},{"$f":"SUMIF('00 SP'!$A:$A,'Tab 42'!$B9,'00 SP'!J:J)","v":0},{"$f":"SUMIF('00 SP'!$A:$A,'Tab 42'!$B9,'00 SP'!K:K)","v":0},{"$f":"E9+F9-G9","v":0},{"$f":"SUMIF('00 PDC SP'!A:A,'Tab 42'!A9,'00 PDC SP'!N:N)","v":0},0,null,{"$f":"SUMIF('00 SP'!A:A,'Tab 42'!B9,'00 SP'!L:L)","v":0},{"$f":"H9-L9","v":0},{"$f":"IF(M9=0,\"OK\",\"CTRL\")","v":"OK"}]
["PDA030FR","PDA030"," Debiti v/Stato per mobilità passiva internazionale",null,{"$f":"SUMIF('00 SP'!$A:$A,'Tab 42'!$B10,'00 SP'!I:I)","v":0},{"$f":"SUMIF('00 SP'!$A:$A,'Tab 42'!$B10,'00 SP'!J:J)","v":0},{"$f":"SUMIF('00 SP'!$A:$A,'Tab 42'!$B10,'00 SP'!K:K)","v":0},{"$f":"E10+F10-G10","v":0},{"$f":"SUMIF('00 PDC SP'!A:A,'Tab 42'!A10,'00 PDC SP'!N:N)","v":0},0,null,{"$f":"SUMIF('00 SP'!A:A,'Tab 42'!B10,'00 SP'!L:L)","v":0},0,"OK"]
["PDA040FR","PDA040"," Acconto quota FSR v/Stato",null,{"$f":"SUMIF('00 SP'!$A:$A,'Tab 42'!$B11,'00 SP'!I:I)","v":0},{"$f":"SUMIF('00 SP'!$A:$A,'Tab 42'!$B11,'00 SP'!J:J)","v":0},{"$f":"SUMIF('00 SP'!$A:$A,'Tab 42'!$B11,'00 SP'!K:K)","v":0},0,{"$f":"SUMIF('00 PDC SP'!A:A,'Tab 42'!A11,'00 PDC SP'!N:N)","v":0},0,null,{"$f":"SUMIF('00 SP'!A:A,'Tab 42'!B11,'00 SP'!L:L)","v":0},0,"OK"]
["PDA050FR","PDA050"," Debiti v/Stato per restituzione finanziamenti - per ricerca:",null,{"$f":"SUMIF('00 SP'!$A:$A,'Tab 42'!$B12,'00 SP'!I:I)","v":0},{"$f":"SUMIF('00 SP'!$A:$A,'Tab 42'!$B12,'00 SP'!J:J)","v":0},{"$f":"SUMIF('00 SP'!$A:$A,'Tab 42'!$B12,'00 SP'!K:K)","v":0},0,{"$f":"SUMIF('00 PDC SP'!A:A,'Tab 42'!A12,'00 PDC SP'!N:N)","v":0},0,null,{"$f":"SUMIF('00 SP'!A:A,'Tab 42'!B12,'00 SP'!L:L)","v":0},0,"OK"]
["PDA060FR","PDA060"," Altri debiti v/Stato",null,{"$f":"SUMIF('00 SP'!$A:$A,'Tab 42'!$B13,'00 SP'!I:I)","v":0},{"$f":"SUMIF('00 SP'!$A:$A,'Tab 42'!$B13,'00 SP'!J:J)","v":0},{"$f":"SUMIF('00 SP'!$A:$A,'Tab 42'!$B13,'00 SP'!K:K)","v":0},0,{"$f":"SUMIF('00 PDC SP'!A:A,'Tab 42'!A13,'00 PDC SP'!N:N)","v":0},0,null,{"$f":"SUMIF('00 SP'!A:A,'Tab 42'!B13,'00 SP'!L:L)","v":0},0,"OK"]
[]
[null,null," DEBITI V/REGIONE O PROVINCIA AUTONOMA",null,{"$f":"SUM(E16:E20)","v":30296203.669999998},{"$f":"SUM(F16:F20)","v":664380815.47000003},664380815.47000003,30296203.670000006,0,0]
[{"$f":"B16&\"FR\"","v":"PDA080FR"},"PDA080"," Debiti v/Regione o Provincia Autonoma per finanziamenti",null,{"$f":"SUMIF('00 SP'!$A:$A,'Tab 42'!$B16,'00 SP'!I:I)","v":0},{"$f":"SUMIF('00 SP'!$A:$A,'Tab 42'!$B16,'00 SP'!J:J)","v":0},{"$f":"SUMIF('00 SP'!$A:$A,'Tab 42'!$B16,'00 SP'!K:K)","v":0},{"$f":"E16+F16-G16","v":0},{"$f":"SUMIF('00 PDC SP'!A:A,'Tab 42'!A16,'00 PDC SP'!N:N)","v":0},0,null,{"$f":"SUMIF('00 SP'!A:A,'Tab 42'!B16,'00 SP'!L:L)","v":0},{"$f":"H16-L16","v":0},{"$f":"IF(M16=0,\"OK\",\"CTRL\")","v":"OK"}]
["PDA090FR","PDA090"," Debiti v/Regione o Provincia Autonoma per mobilità passiva intraregionale",null,{"$f":"SUMIF('00 SP'!$A:$A,'Tab 42'!$B17,'00 SP'!I:I)","v":20765655.579999998},{"$f":"SUMIF('00 SP'!$A:$A,'Tab 42'!$B17,'00 SP'!J:J)","v":49387581.229999997},{"$f":"SUMIF('00 SP'!$A:$A,'Tab 42'!$B17,'00 SP'!K:K)","v":49387581.229999997},20765655.580000006,{"$f":"SUMIF('00 PDC SP'!A:A,'Tab 42'!A17,'00 PDC SP'!N:N)","v":0},0,null,{"$f":"SUMIF('00 SP'!A:A,'Tab 42'!B17,'00 SP'!L:L)","v":20765655.580000006},0,"OK"]
["PDA100FR","PDA100"," Debiti v/Regione o Provincia Autonoma per mobilità passiva extraregionale",null,{"$f":"SUMIF('00 SP'!$A:$A,'Tab 42'!$B18,'00 SP'!I:I)","v":9530548.0899999999},{"$f":"SUMIF('00 SP'!$A:$A,'Tab 42'!$B18,'00 SP'!J:J)","v":33463665.77},{"$f":"SUMIF('00 SP'!$A:$A,'Tab 42'!$B18,'00 SP'!K:K)","v":33463665.77},9530548.0899999999,{"$f":"SUMIF('00 PDC SP'!A:A,'Tab 42'!A18,'00 PDC SP'!N:N)","v":0},0,null,{"$f":"SUMIF('00 SP'!A:A,'Tab 42'!B18,'00 SP'!L:L)","v":9530548.0899999999},0,"OK"]
["PDA110FR","PDA110"," Acconto quota FSR da Regione o Provincia Autonoma",null,{"$f":"SUMIF('00 SP'!$A:$A,'Tab 42'!$B19,'00 SP'!I:I)","v":0},{"$f":"SUMIF('00 SP'!$A:$A,'Tab 42'!$B19,'00 SP'!J:J)","v":581529568.47000003},{"$f":"SUMIF('00 SP'!$A:$A,'Tab 42'!$B19,'00 SP'!K:K)","v":581529568.47000003},0,{"$f":"SUMIF('00 PDC SP'!A:A,'Tab 42'!A19,'00 PDC SP'!N:N)","v":0},0,null,{"$f":"SUMIF('00 SP'!A:A,'Tab 42'!B19,'00 SP'!L:L)","v":0},0,"OK"]
["PDA120FR","PDA120"," Altri debiti v/Regione o Provincia Autonoma",null,{"$f":"SUMIF('00 SP'!$A:$A,'Tab 42'!$B20,'00 SP'!I:I)","v":0},{"$f":"SUMIF('00 SP'!$A:$A,'Tab 42'!$B20,'00 SP'!J:J)","v":0},{"$f":"SUMIF('00 SP'!$A:$A,'Tab 42'!$B20,'00 SP'!K:K)","v":0},0,{"$f":"SUMIF('00 PDC SP'!A:A,'Tab 42'!A20,'00 PDC SP'!N:N)","v":0},0,null,{"$f":"SUMIF('00 SP'!A:A,'Tab 42'!B20,'00 SP'!L:L)","v":0},0,"OK"]
[]
[{"$f":"B22&\"FR\"","v":"PDA130FR"},"PDA130"," DEBITI V/COMUNI:",null,{"$f":"SUMIF('00 SP'!$A:$A,'Tab 42'!$B22,'00 SP'!I:I)","v":150000},{"$f":"SUMIF('00 SP'!$A:$A,'Tab 42'!$B22,'00 SP'!J:J)","v":0},{"$f":"SUMIF('00 SP'!$A:$A,'Tab 42'!$B22,'00 SP'!K:K)","v":0},{"$f":"E22+F22-G22","v":150000},{"$f":"SUMIF('00 PDC SP'!A:A,'Tab 42'!A22,'00 PDC SP'!N:N)","v":0},0,null,{"$f":"SUMIF('00 SP'!A:A,'Tab 42'!B22,'00 SP'!L:L)","v":150000},{"$f":"H22-L22","v":0},"OK"]
[]
[null,null," DEBITI V/AZIENDE SANITARIE PUBBLICHE DELLA REGIONE",null,{"$f":"SUM(E25:E30)","v":2389762.08},{"$f":"SUM(F25:F30)","v":679354.5},403497.63,2665618.9500000002,-273419.81,0]
[{"$f":"B25&\"FR\"","v":"PDA160FR"},"PDA160"," Debiti v/Aziende sanitarie pubbliche della Regione - per quota FSR",null,{"$f":"SUMIF('00 SP'!$A:$A,'Tab 42'!$B25,'00 SP'!I:I)","v":0},{"$f":"SUMIF('00 SP'!$A:$A,'Tab 42'!$B25,'00 SP'!J:J)","v":0},{"$f":"SUMIF('00 SP'!$A:$A,'Tab 42'!$B25,'00 SP'!K:K)","v":0},{"$f":"E25+F25-G25","v":0},{"$f":"SUMIF('00 PDC SP'!A:A,'Tab 42'!A25,'00 PDC SP'!N:N)","v":0},0,null,{"$f":"SUMIF('00 SP'!A:A,'Tab 42'!B25,'00 SP'!L:L)","v":0},{"$f":"H25-L25","v":0},{"$f":"IF(M25=0,\"OK\",\"CTRL\")","v":"OK"}]
["PDA170FR","PDA170"," Debiti v/Aziende sanitarie pubbliche della Regione - finanziamento sanitario aggiuntivo corrente LEA",null,{"$f":"SUMIF('00 SP'!$A:$A,'Tab 42'!$B26,'00 SP'!I:I)","v":0},{"$f":"SUMIF('00 SP'!$A:$A,'Tab 42'!$B26,'00 SP'!J:J)","v":0},{"$f":"SUMIF('00 SP'!$A:$A,'Tab 42'!$B26,'00 SP'!K:K)","v":0},0,{"$f":"SUMIF('00 PDC SP'!A:A,'Tab 42'!A26,'00 PDC SP'!N:N)","v":0},0,null,{"$f":"SUMIF('00 SP'!A:A,'Tab 42'!B26,'00 SP'!L:L)","v":0},0,"OK"]
["PDA180FR","PDA180"," Debiti v/Aziende sanitarie pubbliche della Regione - finanziamento sanitario aggiuntivo corrente extra LEA",null,{"$f":"SUMIF('00 SP'!$A:$A,'Tab 42'!$B27,'00 SP'!I:I)","v":0},{"$f":"SUMIF('00 SP'!$A:$A,'Tab 42'!$B27,'00 SP'!J:J)","v":0},{"$f":"SUMIF('00 SP'!$A:$A,'Tab 42'!$B27,'00 SP'!K:K)","v":0},0,{"$f":"SUMIF('00 PDC SP'!A:A,'Tab 42'!A27,'00 PDC SP'!N:N)","v":0},0,null,{"$f":"SUMIF('00 SP'!A:A,'Tab 42'!B27,'00 SP'!L:L)","v":0},0,"OK"]
["PDA190FR","PDA190"," Debiti v/Aziende sanitarie pubbliche della Regione - mobilità\n in compensazione",null,{"$f":"SUMIF('00 SP'!$A:$A,'Tab 42'!$B28,'00 SP'!I:I)","v":0},{"$f":"SUMIF('00 SP'!$A:$A,'Tab 42'!$B28,'00 SP'!J:J)","v":0},{"$f":"SUMIF('00 SP'!$A:$A,'Tab 42'!$B28,'00 SP'!K:K)","v":0},0,{"$f":"SUMIF('00 PDC SP'!A:A,'Tab 42'!A28,'00 PDC SP'!N:N)","v":0},0,null,{"$f":"SUMIF('00 SP'!A:A,'Tab 42'!B28,'00 SP'!L:L)","v":0},0,"OK"]
["PDA200FR","PDA200"," Debiti v/Aziende sanitarie pubbliche della Regione - mobilità\n non in compensazione",null,{"$f":"SUMIF('00 SP'!$A:$A,'Tab 42'!$B29,'00 SP'!I:I)","v":0},{"$f":"SUMIF('00 SP'!$A:$A,'Tab 42'!$B29,'00 SP'!J:J)","v":0},{"$f":"SUMIF('00 SP'!$A:$A,'Tab 42'!$B29,'00 SP'!K:K)","v":0},0,{"$f":"SUMIF('00 PDC SP'!A:A,'Tab 42'!A29,'00 PDC SP'!N:N)","v":0},0,null,{"$f":"SUMIF('00 SP'!A:A,'Tab 42'!B29,'00 SP'!L:L)","v":0},0,"OK"]
["PDA210FR","PDA210"," Debiti v/Aziende sanitarie pubbliche della Regione - altre\n prestazioni",null,{"$f":"SUMIF('00 SP'!$A:$A,'Tab 42'!$B30,'00 SP'!I:I)","v":2389762.08},{"$f":"SUMIF('00 SP'!$A:$A,'Tab 42'!$B30,'00 SP'!J:J)","v":679354.5},{"$f":"SUMIF('00 SP'!$A:$A,'Tab 42'!$B30,'00 SP'!K:K)","v":403497.63},2665618.9500000002,{"$f":"SUMIF('00 PDC SP'!A:A,'Tab 42'!A30,'00 PDC SP'!N:N)","v":-273419.81},0,null,{"$f":"SUMIF('00 SP'!A:A,'Tab 42'!B30,'00 SP'!L:L)","v":2665618.9500000002},0,"OK"]
["PDA220FR","PDA220"," Debiti v/Aziende Sanitarie pubbliche fuori Regione",null,{"$f":"SUMIF('00 SP'!$A:$A,'Tab 42'!$B31,'00 SP'!I:I)","v":201025.89999999997},{"$f":"SUMIF('00 SP'!$A:$A,'Tab 42'!$B31,'00 SP'!J:J)","v":295271},{"$f":"SUMIF('00 SP'!$A:$A,'Tab 42'!$B31,'00 SP'!K:K)","v":297181.31},{"$f":"E31+F31-G31","v":199115.58999999997},{"$f":"SUMIF('00 PDC SP'!A:A,'Tab 42'!A31,'00 PDC SP'!N:N)","v":-67967.929999999993},0,null,{"$f":"SUMIF('00 SP'!A:A,'Tab 42'!B31,'00 SP'!L:L)","v":199115.59},0,"OK"]
["PDA230FR","PDA230"," Debiti v/Aziende sanitarie pubbliche della Regione per versamenti\n c/patrimonio netto",null,{"$f":"SUMIF('00 SP'!$A:$A,'Tab 42'!$B32,'00 SP'!I:I)","v":0},{"$f":"SUMIF('00 SP'!$A:$A,'Tab 42'!$B32,'00 SP'!J:J)","v":0},{"$f":"SUMIF('00 SP'!$A:$A,'Tab 42'!$B32,'00 SP'!K:K)","v":0},{"$f":"E32+F32-G32","v":0},{"$f":"SUMIF('00 PDC SP'!A:A,'Tab 42'!A32,'00 PDC SP'!N:N)","v":0},0,null,{"$f":"SUMIF('00 SP'!A:A,'Tab 42'!B32,'00 SP'!L:L)","v":0},0,"OK"]
[null,null," TOTALE DEBITI V/AZIENDE SANITARIE PUBBLICHE",null,{"$f":"E24+E31+E32","v":2590787.98},{"$f":"F24+F31+F32","v":974625.5},700678.94,2864734.54,-341387.74,0]
[]
[null,null," DEBITI V/SOCIETA' PARTECIPATE E/O ENTI DIPENDENTI",null,{"$f":"SUM(E36:E38)","v":0},{"$f":"SUM(F36:F38)","v":0},0,0,0,0]
[{"$f":"B36&\"FR\"","v":"PDA250FR"},"PDA250"," Debiti v/enti regionali:",null,{"$f":"SUMIF('00 SP'!$A:$A,'Tab 42'!$B36,'00 SP'!I:I)","v":0},{"$f":"SUMIF('00 SP'!$A:$A,'Tab 42'!$B36,'00 SP'!J:J)","v":0},{"$f":"SUMIF('00 SP'!$A:$A,'Tab 42'!$B36,'00 SP'!K:K)","v":0},{"$f":"E36+F36-G36","v":0},{"$f":"SUMIF('00 PDC SP'!A:A,'Tab 42'!A36,'00 PDC SP'!N:N)","v":0},0,null,{"$f":"SUMIF('00 SP'!A:A,'Tab 42'!B36,'00 SP'!L:L)","v":0},{"$f":"H36-L36","v":0},{"$f":"IF(M36=0,\"OK\",\"CTRL\")","v":"OK"}]
["PDA260FR","PDA260"," Debiti v/sperimentazioni gestionali:",null,{"$f":"SUMIF('00 SP'!$A:$A,'Tab 42'!$B37,'00 SP'!I:I)","v":0},{"$f":"SUMIF('00 SP'!$A:$A,'Tab 42'!$B37,'00 SP'!J:J)","v":0},{"$f":"SUMIF('00 SP'!$A:$A,'Tab 42'!$B37,'00 SP'!K:K)","v":0},0,{"$f":"SUMIF('00 PDC SP'!A:A,'Tab 42'!A37,'00 PDC SP'!N:N)","v":0},0,null,{"$f":"SUMIF('00 SP'!A:A,'Tab 42'!B37,'00 SP'!L:L)","v":0},0,"OK"]
["PDA270FR","PDA270"," Debiti v/altre partecipate:",null,{"$f":"SUMIF('00 SP'!$A:$A,'Tab 42'!$B38,'00 SP'!I:I)","v":0},{"$f":"SUMIF('00 SP'!$A:$A,'Tab 42'!$B38,'00 SP'!J:J)","v":0},{"$f":"SUMIF('00 SP'!$A:$A,'Tab 42'!$B38,'00 SP'!K:K)","v":0},0,{"$f":"SUMIF('00 PDC SP'!A:A,'Tab 42'!A38,'00 PDC SP'!N:N)","v":0},0,null,{"$f":"SUMIF('00 SP'!A:A,'Tab 42'!B38,'00 SP'!L:L)","v":0},0,"OK"]
[]
[{"$f":"B40&\"FR\"","v":"PDA280FR"},"PDA280"," DEBITI V/FORNITORI:",null,{"$f":"SUM(E41:E42)","v":125745023.86999997},{"$f":"SUM(F41:F42)","v":536635603.63},534893371.63999999,127487255.85999992,3972575.9399999976,2235859.77]
["PDA290FR","PDA290","Debiti verso erogatori (privati accreditati e convenzionati) di prestazioni sanitarie",null,{"$f":"SUMIF('00 SP'!$A:$A,'Tab 42'!$B41,'00 SP'!I:I)","v":73910641.299999982},{"$f":"SUMIF('00 SP'!$A:$A,'Tab 42'!$B41,'00 SP'!J:J)","v":206227882.84000003},{"$f":"SUMIF('00 SP'!$A:$A,'Tab 42'!$B41,'00 SP'!K:K)","v":200801539.90000001},{"$f":"E41+F41-G41","v":79336984.23999998},{"$f":"SUMIF('00 PDC SP'!A:A,'Tab 42'!A41,'00 PDC SP'!N:N)","v":17060167.409999996},0,null,{"$f":"SUMIF('00 SP'!A:A,'Tab 42'!B41,'00 SP'!L:L)","v":79336984.239999995},{"$f":"H41-L41","v":0},{"$f":"IF(M41=0,\"OK\",\"CTRL\")","v":"OK"}]
["PDA300FR","PDA300","Debiti verso altri fornitori",null,{"$f":"SUMIF('00 SP'!$A:$A,'Tab 42'!$B42,'00 SP'!I:I)","v":51834382.57},{"$f":"SUMIF('00 SP'!$A:$A,'Tab 42'!$B42,'00 SP'!J:J)","v":330407720.78999996},{"$f":"SUMIF('00 SP'!$A:$A,'Tab 42'!$B42,'00 SP'!K:K)","v":334091831.74000001},48150271.619999945,{"$f":"SUMIF('00 PDC SP'!A:A,'Tab 42'!A42,'00 PDC SP'!N:N)","v":-13087591.469999999},2235859.77,null,{"$f":"SUMIF('00 SP'!A:A,'Tab 42'!B42,'00 SP'!L:L)","v":48150271.619999968},0,"OK"]
[]
[{"$f":"B44&\"FR\"","v":"PDA310FR"},"PDA310"," DEBITI V/ISTITUTO TESORIERE",null,{"$f":"SUMIF('00 SP'!$A:$A,'Tab 42'!$B44,'00 SP'!I:I)","v":0},{"$f":"SUMIF('00 SP'!$A:$A,'Tab 42'!$B44,'00 SP'!J:J)","v":0},{"$f":"SUMIF('00 SP'!$A:$A,'Tab 42'!$B44,'00 SP'!K:K)","v":0},{"$f":"E44+F44-G44","v":0},{"$f":"SUMIF('00 PDC SP'!A:A,'Tab 42'!A44,'00 PDC SP'!N:N)","v":0},0,null,{"$f":"SUMIF('00 SP'!A:A,'Tab 42'!B44,'00 SP'!L:L)","v":0},{"$f":"H44-L44","v":0},{"$f":"IF(M44=0,\"OK\",\"CTRL\")","v":"OK"}]
[]
[{"$f":"B46&\"FR\"","v":"PDA320FR"},"PDA320"," DEBITI TRIBUTARI: di cui ",null,{"$f":"SUMIF('00 SP'!$A:$A,'Tab 42'!$B46,'00 SP'!I:I)","v":3075022.27},{"$f":"SUMIF('00 SP'!$A:$A,'Tab 42'!$B46,'00 SP'!J:J)","v":81770826.739999995},{"$f":"SUMIF('00 SP'!$A:$A,'Tab 42'!$B46,'00 SP'!K:K)","v":80709847.110000014},{"$f":"E46+F46-G46","v":4136001.8999999762},{"$f":"SUMIF('00 PDC SP'!A:A,'Tab 42'!A46,'00 PDC SP'!N:N)","v":0},0,null,{"$f":"SUMIF('00 SP'!A:A,'Tab 42'!B46,'00 SP'!L:L)","v":4136001.8999999939},{"$f":"H46-L46","v":-1.7695128917694092E-8},{"$f":"IF(M46=0,\"OK\",\"CTRL\")","v":"CTRL"}]
[null,"020509010405","Debiti IVA SPLIT PAYMENT",null,1567546.27,26456299.23,25384285.68,{"$f":"E47+F47-G47","v":2639559.8200000003},0,0]
[]
[{"$f":"B49&\"FR\"","v":"PDA330FR"},"PDA330"," DEBITI V/ISTITUTI PREVIDENZIALI, ASSISTENZIALI E SICUREZZA SOCIALE:",null,{"$f":"SUMIF('00 SP'!$A:$A,'Tab 42'!$B49,'00 SP'!I:I)","v":1518530.61},{"$f":"SUMIF('00 SP'!$A:$A,'Tab 42'!$B49,'00 SP'!J:J)","v":61881373.919999994},{"$f":"SUMIF('00 SP'!$A:$A,'Tab 42'!$B49,'00 SP'!K:K)","v":61879449.490000002},{"$f":"E49+F49-G49","v":1520455.0399999917},{"$f":"SUMIF('00 PDC SP'!A:A,'Tab 42'!A49,'00 PDC SP'!N:N)","v":0},0,null,{"$f":"SUMIF('00 SP'!A:A,'Tab 42'!B49,'00 SP'!L:L)","v":1520455.0399999938},{"$f":"H49-L49","v":-2.0954757928848267E-9},{"$f":"IF(M49=0,\"OK\",\"CTRL\")","v":"CTRL"}]
[]
[{"$f":"B51&\"FR\"","v":"PDA340FR"},"PDA340"," DEBITI V/ALTRI:",null,{"$f":"SUM(E52:E55)","v":14758213.719999999},{"$f":"SUM(F52:F55)","v":107083465.03999999},105166951.67999999,16674727.079999987,{"$f":"SUM(I52:I55)","v":-414677.93},0,null,{"$f":"SUMIF('00 SP'!A:A,'Tab 42'!B51,'00 SP'!L:L)","v":16674727.079999998},{"$f":"H51-L51","v":0},{"$f":"IF(M51=0,\"OK\",\"CTRL\")","v":"OK"}]
["PDA350FR","PDA350"," Debiti v/altri finanziatori",null,{"$f":"SUMIF('00 SP'!$A:$A,'Tab 42'!$B52,'00 SP'!I:I)","v":0},{"$f":"SUMIF('00 SP'!$A:$A,'Tab 42'!$B52,'00 SP'!J:J)","v":0},{"$f":"SUMIF('00 SP'!$A:$A,'Tab 42'!$B52,'00 SP'!K:K)","v":0},{"$f":"E52+F52-G52","v":0},{"$f":"SUMIF('00 PDC SP'!A:A,'Tab 42'!A52,'00 PDC SP'!N:N)","v":0},0,null,{"$f":"SUMIF('00 SP'!A:A,'Tab 42'!B52,'00 SP'!L:L)","v":0},0,"OK"]
["PDA360FR","PDA360"," Debiti v/dipendenti",null,{"$f":"SUMIF('00 SP'!$A:$A,'Tab 42'!$B53,'00 SP'!I:I)","v":13855245.439999999},{"$f":"SUMIF('00 SP'!$A:$A,'Tab 42'!$B53,'00 SP'!J:J)","v":98561758.25999999},{"$f":"SUMIF('00 SP'!$A:$A,'Tab 42'!$B53,'00 SP'!K:K)","v":96905871.109999999},15511132.589999989,{"$f":"SUMIF('00 PDC SP'!A:A,'Tab 42'!A53,'00 PDC SP'!N:N)","v":0},0,null,{"$f":"SUMIF('00 SP'!A:A,'Tab 42'!B53,'00 SP'!L:L)","v":15511132.589999998},0,"OK"]
["PDA370FR","PDA370"," Debiti v/gestioni liquidatorie",null,{"$f":"SUMIF('00 SP'!$A:$A,'Tab 42'!$B54,'00 SP'!I:I)","v":0},{"$f":"SUMIF('00 SP'!$A:$A,'Tab 42'!$B54,'00 SP'!J:J)","v":0},{"$f":"SUMIF('00 SP'!$A:$A,'Tab 42'!$B54,'00 SP'!K:K)","v":0},0,{"$f":"SUMIF('00 PDC SP'!A:A,'Tab 42'!A54,'00 PDC SP'!N:N)","v":0},0,null,{"$f":"SUMIF('00 SP'!A:A,'Tab 42'!B54,'00 SP'!L:L)","v":0},0,"OK"]
["PDA380FR","PDA380"," Altri debiti diversi:",null,{"$f":"SUMIF('00 SP'!$A:$A,'Tab 42'!$B55,'00 SP'!I:I)","v":902968.28},{"$f":"SUMIF('00 SP'!$A:$A,'Tab 42'!$B55,'00 SP'!J:J)","v":8521706.7799999993},{"$f":"SUMIF('00 SP'!$A:$A,'Tab 42'!$B55,'00 SP'!K:K)","v":8261080.5699999994},{"$f":"E55+F55-G55","v":1163594.4899999993},{"$f":"SUMIF('00 PDC SP'!A:A,'Tab 42'!A55,'00 PDC SP'!N:N)","v":-414677.93},0,null,{"$f":"SUMIF('00 SP'!A:A,'Tab 42'!B55,'00 SP'!L:L)","v":1163594.4899999993},0,"OK"]
[null,"0205110402","Debiti verso organi direttivi ed istituzionali",null,2017.73,218364.24,219978.17,{"$f":"E56+F56-G56","v":403.79999999998836}]
[null,"0205110403","Debiti verso assistiti",null,248681,1931514,1937335,{"$f":"E57+F57-G57","v":242860}]
[null,"0205110404","Altri debiti diversi",null,{"$f":"288703.33+2073.7+33535.03","v":324312.06000000006},{"$f":"4796811.18+473037.69+32012.89","v":5301861.76},{"$f":"4724496.49+401440.96+32012.89+1","v":5157951.34},{"$f":"E58+F58-G58","v":468222.48000000045}]
[null,"0205110406","Debiti verso personale tirocinante e borsisti",null,727,500132,500859,0]
[null,"0205110407","Debiti verso altro personale esterno",null,10379.200000000001,155157.35999999999,128106.84,37429.72]
[null,"0205110409","Fatture da ricevere altri debiti diversi",null,321864.53999999998,416963.94,321864.53999999998,416963.94]
[null,"0102022641","note credito da ricevere",null,-5013.58,-2286.0100000000002,-5013.58,{"$f":"E62+F62-G62","v":-2286.0100000000002}]

{"sheet":"Tab 43","index":45,"n_rows":108,"n_cols":20,"rows_kept":108,"cut":false,"hidden":false,"merged":[[41,1,41,10],[22,1,22,2],[23,1,23,2],[24,1,24,2],[26,1,26,2],[25,1,25,2],[34,1,34,2],[35,0,35,2],[32,1,32,2],[27,1,27,2],[28,1,28,2],[29,1,29,2],[30,1,30,2],[33,1,33,2],[31,1,31,2],[2,1,2,2],[3,1,3,2],[4,1,4,2],[5,1,5,2],[6,1,6,2],[7,1,7,2],[9,1,9,2],[10,0,10,2],[21,1,21,2],[12,0,19,3],[8,1,8,2],[102,0,102,10],[100,0,100,10],[42,0,43,0],[42,1,43,1],[42,2,42,10],[104,3,104,4],[104,5,104,6],[105,3,105,4],[105,5,105,6],[107,0,111,10]]}
["Di seguito si riporta il dettaglio della composizione della voce \"Debiti verso aziende sanitarie pubbliche della Regione - altre prestazioni\":"]
[]
["Codice Conto","Descrizione",null,"Saldo al 31/12/2018"]
["0205050607","Debiti verso ASL di Teramo per altre prestazioni",null,{"$f":"1575339.84+492726.44","v":2068066.28}]
["0205050608","Fatture da ricevere verso ASL di Teramo per altre prestazioni",null,26706]
["0205050601","Debiti verso ASL di Avezzano Sulmona L'Aquila per altre prestazioni",null,259294.56]
["0205050602","Fatture da ricevere  ASL di Avezzano Sulmona L'Aquila per altre prestazioni",null,236845.56]
["0205050603","Debiti verso ASL di Lanciano Vasto Chieti per altre prestazioni",null,64838.32]
["0205050604","Fatture da ricevere verso ASL di Lanciano Vasto Chieti per altre prestazioni",null,9926]
["0205050608","Note credito da ricevere v/ASL Lanciano Vasto Chieti per altre prestazioni",null,-58]
["TOTALE",null,null,{"$f":"SUM(D4:D10)","v":2665618.7199999997}]
[]
["Il conto \"Debiti verso ASL di Teramo\" accoglie anche le registrazioni di documenti antecedenti alla data di adozione del nuovo Piano dei Conti. Infatti, il nuovo Piano dei Conti declina i debiti verso ASL in base a ciascuna azienda creditrice, a differenza del precedente Piano dei Conti, che prevedeva un conto unico. Si è ritenuto opportuno non riclassificare i debiti artificiosamente da un conto all'altro. Ad ogni buon conto, si fa presente che la ripartizione del debito dell'Azienda verso le ASL della Regione è evidenziata nella tabella 46. "]
[]
[]
[]
[]
[]
[]
[]
[]
["Codice Conto","Descrizione",null,"Saldo al 31/12/2018"]
["0205110203","Debiti verso personale retribuzioni esercizi precedenti",null,719924.78]
["0205110204","Debiti verso il personale dipendente per fondi aziendali esercizi precedenti",null,12642412.800000001]
["0205110206","Altri Debiti verso il personale dipendente per ferie maturate e non godute",null,150615.76]
["0205110207","Altri debiti verso il personale dipendente ",null,{"$f":"1853203.11+144976.14","v":1998179.25}]
["0205110302","Debiti verso Organi Direttivi e Istituzionali",null,403.8]
["0205110403","Debiti verso assistiti",null,242859.56]
["020511040401","Altri debiti diversi",null,361018.02]
["020511040404","Depositi cauzionali",null,2073.6999999999998]
["020511040405","Fondo Perseo",null,105131.76]
["0205110406","Debiti verso  personale tirocinanti e borsisti",null,0]
["0205110407","Debiti verso altro personale esterno",null,37429.72]
["0205110409","Fatture da ricevere altri debiti diversi",null,416963.94]
["0102022641","note credito da ricevere",null,-2286]
["TOTALE",null,null,{"$f":"SUM(D23:D35)","v":16674727.09}]
[]
[]
[]
[]
[]
[null,"Tab. 43 – Dettaglio dei debiti per anno di formazione"]
["CODICE MOD. SP","DEBITI",{"$f":"\"VALORE DEI DEBITI AL 31/12/\" &'00 PDC SP'!$F$2& \" PER ANNO DI FORMAZIONE\"","v":"VALORE DEI DEBITI AL 31/12/2018 PER ANNO DI FORMAZIONE"}]
[null,null,{"$f":"\"Anno \"&'00 PDC SP'!$F$2-8 &\" e precedenti\"","v":"Anno 2010 e precedenti"},{"$f":"\"Anno \"&'00 PDC SP'!$F$2-7","v":"Anno 2011"},{"$f":"\"Anno \"&'00 PDC SP'!$F$2-6","v":"Anno 2012"},{"$f":"\"Anno \"&'00 PDC SP'!$F$2-5","v":"Anno 2013"},{"$f":"\"Anno \"&'00 PDC SP'!$F$2-4","v":"Anno 2014"},{"$f":"\"Anno \"&'00 PDC SP'!$F$2-3","v":"Anno 2015"},{"$f":"\"Anno \"&'00 PDC SP'!$F$2-2","v":"Anno 2016"},{"$f":"\"Anno \"&'00 PDC SP'!$F$2-1","v":"Anno 2017"},{"$f":"\"Anno \"&'00 PDC SP'!$F$2","v":"Anno 2018"},null,"Importo SP","Diff","Ctrl"]
["PDA000"," MUTUI PASSIVI",0,0,0,0,0,0,0,0,0,null,{"$f":"SUMIF('00 SP'!A:A,'Tab 43'!A45,'00 SP'!L:L)","v":0},{"$f":"(C45+E45+F45+G45+H45+I45+J45+K45+D45)-M45","v":0},{"$f":"IF(N45=0,\"OK\",\"CTRL\")","v":"OK"}]
[]
[null," DEBITI V/STATO",{"$f":"C48+C49+C50+C51+C52","v":0},{"$f":"D48+D49+D50+D51+D52","v":0},{"$f":"E48+E49+E50+E51+E52","v":0},0,0,0,0,0,0,null,0]
["PDA020"," Debiti v/Stato per mobilità passiva extraregionale",0,null,null,0,0,0,0,0,0,null,{"$f":"SUMIF('00 SP'!A:A,'Tab 43'!A48,'00 SP'!L:L)","v":0},{"$f":"(C48+E48+F48+G48+H48+I48+J48+K48+D48)-M48","v":0},{"$f":"IF(N48=0,\"OK\",\"CTRL\")","v":"OK"}]
["PDA030"," Debiti v/Stato per mobilità passiva internazionale",0,null,null,0,0,0,0,0,0,null,{"$f":"SUMIF('00 SP'!A:A,'Tab 43'!A49,'00 SP'!L:L)","v":0},0,"OK"]
["PDA040"," Acconto quota FSR v/Stato",0,null,null,0,0,0,0,0,0,null,{"$f":"SUMIF('00 SP'!A:A,'Tab 43'!A50,'00 SP'!L:L)","v":0},0,"OK"]
["PDA050"," Debiti v/Stato per restituzione finanziamenti - per ricerca:",0,null,null,0,0,0,0,0,0,null,{"$f":"SUMIF('00 SP'!A:A,'Tab 43'!A51,'00 SP'!L:L)","v":0},0,"OK"]
["PDA060"," Altri debiti v/Stato",0,null,null,0,0,0,0,0,0,null,{"$f":"SUMIF('00 SP'!A:A,'Tab 43'!A52,'00 SP'!L:L)","v":0},0,"OK"]
[]
[null," DEBITI V/REGIONE O PROVINCIA AUTONOMA",{"$f":"SUM(C55:C59)","v":2109444},{"$f":"SUM(D55:D59)","v":0},{"$f":"SUM(E55:E59)","v":231},1320750,6100123.0899999999,9550118,10744438.85,471098.73,0,null,{"$f":"SUM(M55:M59)","v":30296203.670000006}]
["PDA080"," Debiti v/Regione o Provincia Autonoma per finanziamenti",0,0,null,0,0,0,0,0,0,null,{"$f":"SUMIF('00 SP'!A:A,'Tab 43'!A55,'00 SP'!L:L)","v":0},{"$f":"(C55+E55+F55+G55+H55+I55+J55+K55+D55)-M55","v":0},{"$f":"IF(N55=0,\"OK\",\"CTRL\")","v":"OK"}]
["PDA090"," Debiti v/Regione o Provincia Autonoma per mobilità passiva intraregionale",0,0,0,0,0,{"$f":"7443441+2437079-330402","v":9550118},{"$f":"13115797.28-1976641-394717.43","v":10744438.85},{"$f":"471787.73-689","v":471098.73},0,null,{"$f":"SUMIF('00 SP'!A:A,'Tab 43'!A56,'00 SP'!L:L)","v":20765655.580000006},{"$f":"(C56+E56+F56+G56+H56+I56+J56+K56+D56)-M56","v":0},"OK"]
["PDA100"," Debiti v/Regione o Provincia Autonoma per mobilità passiva extraregionale",2109444,0,231,1320750,6100123.0899999999,0,0,0,0,null,{"$f":"SUMIF('00 SP'!A:A,'Tab 43'!A57,'00 SP'!L:L)","v":9530548.0899999999},0,"OK"]
["PDA110"," Acconto quota FSR da Regione o Provincia Autonoma",0,0,0,0,0,0,0,0,0,null,{"$f":"SUMIF('00 SP'!A:A,'Tab 43'!A58,'00 SP'!L:L)","v":0},0,"OK"]
["PDA120"," Altri debiti v/Regione o Provincia Autonoma",0,0,null,0,0,0,0,0,0,null,{"$f":"SUMIF('00 SP'!A:A,'Tab 43'!A59,'00 SP'!L:L)","v":0},0,"OK"]
[]
["PDA130"," DEBITI V/COMUNI:",0,0,null,0,0,0,0,150000,0,null,{"$f":"SUMIF('00 SP'!A:A,'Tab 43'!A61,'00 SP'!L:L)","v":150000},0,"OK"]
[null,"…"]
[]
[null," DEBITI V/AZIENDE SANITARIE PUBBLICHE DELLA REGIONE",{"$f":"SUM(C65:C70)","v":201526},{"$f":"SUM(D65:D70)","v":60949},0,110431,240344.07,207739.68,688465.37,189312,966851.83,null,{"$f":"SUM(M65:M70)","v":2665618.9500000002}]
["PDA160"," Debiti v/Aziende sanitarie pubbliche della Regione - per quota FSR",0,0,0,0,0,0,0,0,0,null,{"$f":"SUMIF('00 SP'!A:A,'Tab 43'!A65,'00 SP'!L:L)","v":0},{"$f":"(C65+E65+F65+G65+H65+I65+J65+K65+D65)-M65","v":0},{"$f":"IF(N65=0,\"OK\",\"CTRL\")","v":"OK"}]
["PDA170"," Debiti v/Aziende sanitarie pubbliche della Regione - finanziamento sanitario aggiuntivo corrente LEA",0,0,0,0,0,0,0,0,0,null,{"$f":"SUMIF('00 SP'!A:A,'Tab 43'!A66,'00 SP'!L:L)","v":0},0,"OK"]
["PDA180"," Debiti v/Aziende sanitarie pubbliche della Regione - finanziamento sanitario aggiuntivo corrente extra LEA",0,0,0,0,0,0,0,0,0,null,{"$f":"SUMIF('00 SP'!A:A,'Tab 43'!A67,'00 SP'!L:L)","v":0},0,"OK"]
["PDA190"," Debiti v/Aziende sanitarie pubbliche della Regione - mobilità in compensazione",0,0,0,0,0,0,0,0,0,null,{"$f":"SUMIF('00 SP'!A:A,'Tab 43'!A68,'00 SP'!L:L)","v":0},0,"OK"]
["PDA200"," Debiti v/Aziende sanitarie pubbliche della Regione - mobilità non in compensazione",0,0,0,0,0,0,0,0,0,null,{"$f":"SUMIF('00 SP'!A:A,'Tab 43'!A69,'00 SP'!L:L)","v":0},0,"OK"]
["PDA210"," Debiti v/Aziende sanitarie pubbliche della Regione - altre prestazioni",201526,60949,0,110431,240344.07,207739.68,{"$f":"688465.37","v":688465.37},189312,{"$f":"690994.96+275856.87","v":966851.83},null,{"$f":"SUMIF('00 SP'!A:A,'Tab 43'!A70,'00 SP'!L:L)","v":2665618.9500000002},{"$f":"(C70+D70+F70+G70+H70+I70+J70+K70+E70)-M70","v":0},"OK"]
["PDA220"," Debiti v/Aziende Sanitarie pubbliche fuori Regione",{"$f":"243+19306","v":19549},2568,2028,1870,1184,10394,{"$f":"89104-21237.55-33982.44","v":33884.009999999995},{"$f":"77460-20005-1910.31","v":55544.69},{"$f":"72093.89","v":72093.89},null,{"$f":"SUMIF('00 SP'!A:A,'Tab 43'!A71,'00 SP'!L:L)","v":199115.59},0,"OK"]
["PDA230"," Debiti v/Aziende sanitarie pubbliche della Regione per versamenti c/patrimonio netto",0,null,0,0,0,0,0,0,0,null,{"$f":"SUMIF('00 SP'!A:A,'Tab 43'!A72,'00 SP'!L:L)","v":0},0,"OK"]
[null," TOTALE DEBITI V/AZIENDE SANITARIE PUBBLICHE",{"$f":"C64+C71+C72","v":221075},{"$f":"D64+D71+D72","v":63517},{"$f":"E64+E71+E72","v":2028},112301,241528.07,218133.68,722349.38,244856.69,1038945.72,null,2864734.54,0,"OK"]
[null," DEBITI V/SOCIETA' PARTECIPATE E/O ENTI DIPENDENTI",{"$f":"SUM(C75:C77)","v":0},null,0,{"$f":"SUM(F75:F77)","v":0},0,0,0,0,0,null,0]
["PDA250"," Debiti v/enti regionali:",0,null,0,0,0,0,0,0,0,null,{"$f":"SUMIF('00 SP'!A:A,'Tab 43'!A75,'00 SP'!L:L)","v":0},{"$f":"(C75+E75+F75+G75+H75+I75+J75+K75+D75)-M75","v":0},{"$f":"IF(N75=0,\"OK\",\"CTRL\")","v":"OK"}]
["PDA260"," Debiti v/sperimentazioni gestionali:",0,null,0,0,0,0,0,0,0,null,{"$f":"SUMIF('00 SP'!A:A,'Tab 43'!A76,'00 SP'!L:L)","v":0},0,"OK"]
["PDA270"," Debiti v/altre partecipate:",0,null,0,0,0,0,0,0,0,null,{"$f":"SUMIF('00 SP'!A:A,'Tab 43'!A77,'00 SP'!L:L)","v":0},0,"OK",null,"ok"]
[]
["PDA280"," DEBITI V/FORNITORI:",{"$f":"C80+C81","v":30941481},{"$f":"D80+D81","v":1160153},{"$f":"E80+E81","v":211590},1113498.56,1663648,4931094,3312552.2800000003,6446942,77706297.020000011,null,{"$f":"M80+M81","v":127487255.85999995}]
["PDA290","Debiti verso erogatori (privati accreditati e convenzionati) di prestazioni sanitarie",{"$f":"36535250-5593769","v":30941481},{"$f":"3273594-2113441","v":1160153},{"$f":"4614519-4402929","v":211590},{"$f":"8479942-7403765","v":1076177},{"$f":"3614974-2771697","v":843277},4572791,1919660,4484772,{"$f":"14499325.86+20583149-955391.62","v":34127083.240000002},null,{"$f":"SUMIF('00 SP'!A:A,'Tab 43'!A80,'00 SP'!L:L)","v":79336984.239999995},{"$f":"(C80+E80+F80+G80+H80+I80+J80+K80+D80)-M80","v":0},{"$f":"IF(N80=0,\"OK\",\"CTRL\")","v":"OK"}]
["PDA300","Debiti verso altri fornitori",0,0,0,37321.56,820371,358303,{"$f":"1504949-112056.72","v":1392892.28},1962170,{"$f":"14093870+30610769-1570352.03+444926.81","v":43579213.780000001},null,{"$f":"SUMIF('00 SP'!A:A,'Tab 43'!A81,'00 SP'!L:L)","v":48150271.619999968},0,"OK",null,"ok"]
[]
["PDA310"," DEBITI V/ISTITUTO TESORIERE",0,0,0,0,0,0,0,0,0,null,{"$f":"SUMIF('00 SP'!A:A,'Tab 43'!A83,'00 SP'!L:L)","v":0},{"$f":"(C83+E83+F83+G83+H83+I83+J83+K83+D83)-M83","v":0},"OK"]
[]
["PDA320"," DEBITI TRIBUTARI:",0,0,0,0,0,0,0,0,4136001.9,null,{"$f":"SUMIF('00 SP'!A:A,'Tab 43'!A85,'00 SP'!L:L)","v":4136001.8999999939},{"$f":"(C85+E85+F85+G85+H85+I85+J85+K85+D85)-M85","v":6.0535967350006104E-9},"CTRL",null,"ok"]
[]
["PDA330"," DEBITI V/ISTITUTI PREVIDENZIALI, ASSISTENZIALI E SICUREZZA SOCIALE:",0,0,0,0,0,0,0,0,1520455.04,null,{"$f":"SUMIF('00 SP'!A:A,'Tab 43'!A87,'00 SP'!L:L)","v":1520455.0399999938},{"$f":"(C87+E87+F87+G87+H87+I87+J87+K87+D87)-M87","v":6.28642737865448E-9},"CTRL",null,"ok"]
[]
["PDA340"," DEBITI V/ALTRI:",{"$f":"C91+C93","v":0},0,0,0,0,0,2592527.33,3346958.4499999993,{"$f":"K91+K93+K92","v":10735241.299999999},null,{"$f":"M91+M93+M92","v":16674727.079999998},{"$f":"(C89+E89+F89+G89+H89+I89+J89+K89+D89)-M89","v":0}]
["PDA350"," Debiti v/altri finanziatori",0,0,0,0,0,0,0,0,0,null,{"$f":"SUMIF('00 SP'!A:A,'Tab 43'!A90,'00 SP'!L:L)","v":0},0,{"$f":"IF(N90=0,\"OK\",\"CTRL\")","v":"OK"}]
["PDA360"," Debiti v/dipendenti",0,0,0,0,0,0,{"$f":"2452737.67+139789.66","v":2592527.33},{"$f":"11262718.11-7619287.9-274168.63-22303.13","v":3346958.4499999993},{"$f":"96666.64+97736.77+9300106.04+407111.65+1109777.37-1439751.66","v":9571646.8099999987},null,{"$f":"SUMIF('00 SP'!A:A,'Tab 43'!A91,'00 SP'!L:L)","v":15511132.589999998},0,"OK"]
["PDA370"," Debiti v/gestioni liquidatorie",0,0,0,0,0,0,0,0,0,null,{"$f":"SUMIF('00 SP'!A:A,'Tab 43'!A92,'00 SP'!L:L)","v":0},0,"OK"]
["PDA380"," Altri debiti diversi:",{"$f":"SUM(C94:C99)","v":0},0,0,{"$f":"SUM(F94:F99)","v":0},0,0,0,0,{"$f":"SUM(K94:K99)","v":1163594.49},null,{"$f":"SUMIF('00 SP'!A:A,'Tab 43'!A93,'00 SP'!L:L)","v":1163594.4899999993},0,"OK",null,null,null,null,41238057]
[null,"Debiti verso organi direttivi ed istituzionali",0,0,0,0,0,0,0,0,403.8,null,{"$f":"SUMIF('00 SP'!A:A,'Tab 43'!A94,'00 SP'!L:L)","v":0},null,null,null,null,null,null,-10673822]
[null,"Debiti verso assistiti",0,0,0,0,0,0,0,0,242859.56,null,{"$f":"SUMIF('00 SP'!A:A,'Tab 43'!A95,'00 SP'!L:L)","v":0},null,null,null,null,null,null,-59323]
[null,"Altri debiti diversi",0,0,0,0,0,0,0,0,{"$f":"105131.76+2073.7+361018.01","v":468223.47},null,{"$f":"SUMIF('00 SP'!A:A,'Tab 43'!A96,'00 SP'!L:L)","v":0},null,null,null,null,null,null,37332]
[null,"Debiti verso altro personale esterno",0,0,0,0,0,0,0,0,37429.72,null,{"$f":"SUMIF('00 SP'!A:A,'Tab 43'!A97,'00 SP'!L:L)","v":0},null,null,null,null,null,null,{"$f":"SUM(T93:T96)","v":30542244}]
[null,"Fatture da ricevere altri debiti diversi",0,0,0,0,0,0,0,0,416963.94,null,{"$f":"SUMIF('00 SP'!A:A,'Tab 43'!A98,'00 SP'!L:L)","v":0}]
[null,"note credito da ricevere",0,0,0,0,0,0,0,0,-2286,null,{"$f":"SUMIF('00 SP'!A:A,'Tab 43'!A99,'00 SP'!L:L)","v":0},null,null,"OK"]
[]
["La Voce di SP  \"Debiti verso erogatori (privati accreditati e convenzionati) di prestazioni sanitarie\" comprende, per € 4.635.823, debiti riferiti all'aggregazione \" debiti verso altri fornitori\" (Tabella 43). Tale circostanza è ascrivibile alla diversa classificazione delle voci di debito tra il piano dei conti vigente alla data del 31/12/2012 e quello in uso alla data di elaborazione del bilancio di esercizio al 31/12/2018. Inoltre i debiti ancora aperti al 31/12/2010 di €/000 30.941 , sono riferiti in gran parte  a fatture in contenzioso con la Curatela Fallimentare Gruppo Villa Pini. l'ammontare di tale debito è di circa €/000 27.296 "]
[]
["Nella tabella sottostante si da evidenza della variazione dei debiti  con separata evidenza ai debiti di formazione 2018 e alla diminuzione dei debiti di competenza dell'anno 2018 e precedenti."]
[]
["Voce di SP","descrizione","saldo al 31/12/2017","pagamenti effettuati al 31/12/2018",null,"debiti di formazione 2018 aperti al 31/12/2018",null,"saldo al 31/12/2018"]
["PDA280","Debiti verso  fornitori",125745,{"$f":"C106-H106+F106","v":75964},null,77706,null,127487]
[]
["Con riferimento ai debiti, periodicamente l’Ufficio SEF effettua un’attività di monitoraggio degli stessi, inviando agli Uffici liquidatori un dettaglio delle partite aperte e non ancora pagate, affinchè i servizi competenti provvedano alla liquidazione, in presenza delle condizioni necessarie, ovvero a comunicare eventuali partite debitorie insussistenti. La tabella sopra riportata indica come alla data del 31/12/2017 l’aggregato “Debiti verso fornitori” presentava un saldo pari a €/000 125.745 ;  durante l’esercizio successivo, sono stati effettuati pagamenti riferiti a tale massa debitoria per un importo complessivo di €/000 75.964 riducendo il “Debito verso fornitori” relativo alla data del 31/12/2017 a €/000 49.781. Tale valore deve essere integrato con l’importo dei debiti di formazione anno 2018 rimasti aperti alla data del 31/12/2018  pari a €/000 77.706  che porta il valore finale dell’aggregato  “Debito verso fornitori” alla data del 31/12/2018 a €/000 127.487"]

{"sheet":"Tab 44","index":46,"n_rows":54,"n_cols":9,"rows_kept":54,"cut":false,"hidden":false,"merged":[[1,0,2,0],[1,1,2,1],[1,2,1,4]]}
[null,"Tab. 44 – Dettaglio dei debiti per scadenza"]
["CODICE MOD. SP","DEBITI",{"$f":"\"DEBITI  AL 31/12/\"&'00 PDC SP'!$F$2&\" PER SCADENZA\"","v":"DEBITI  AL 31/12/2018 PER SCADENZA"}]
[null,null,"Entro\n12 mesi","Tra 1 e 5 anni","Oltre\n5 anni",null,"Importo SP","Diff","Ctrl"]
["PDA000"," MUTUI PASSIVI",0,0,0,null,{"$f":"SUMIF('00 SP'!A:A,'Tab 44'!A4,'00 SP'!L:L)","v":0},{"$f":"(C4+D4+E4)-G4","v":0},{"$f":"IF(H4=0,\"OK\",\"CTRL\")","v":"OK"}]
[]
[null," DEBITI V/STATO",{"$f":"SUM(C7:C11)","v":0},{"$f":"SUM(D7:D11)","v":0},0,null,0]
["PDA020"," Debiti v/Stato per mobilità passiva extraregionale",0,0,0,null,{"$f":"SUMIF('00 SP'!A:A,'Tab 44'!A7,'00 SP'!L:L)","v":0},{"$f":"(C7+D7+E7)-G7","v":0},{"$f":"IF(H7=0,\"OK\",\"CTRL\")","v":"OK"}]
["PDA030"," Debiti v/Stato per mobilità passiva internazionale",0,0,0,null,{"$f":"SUMIF('00 SP'!A:A,'Tab 44'!A8,'00 SP'!L:L)","v":0},0,"OK"]
["PDA040"," Acconto quota FSR v/Stato",0,0,0,null,{"$f":"SUMIF('00 SP'!A:A,'Tab 44'!A9,'00 SP'!L:L)","v":0},0,"OK"]
["PDA050"," Debiti v/Stato per restituzione finanziamenti - per ricerca:",0,0,0,null,{"$f":"SUMIF('00 SP'!A:A,'Tab 44'!A10,'00 SP'!L:L)","v":0},0,"OK"]
["PDA060"," Altri debiti v/Stato",0,0,0,null,{"$f":"SUMIF('00 SP'!A:A,'Tab 44'!A11,'00 SP'!L:L)","v":0},0,"OK"]
[null,"…",0,0,0]
[null,"…",0,0,0]
[]
[null," DEBITI V/REGIONE O PROVINCIA AUTONOMA",{"$f":"SUM(C16:C20)","v":30296203.669999998},{"$f":"SUM(D16:D20)","v":0},0,null,30296203.670000006]
["PDA080"," Debiti v/Regione o Provincia Autonoma per finanziamenti",0,0,0,null,{"$f":"SUMIF('00 SP'!A:A,'Tab 44'!A16,'00 SP'!L:L)","v":0},{"$f":"(C16+D16+E16)-G16","v":0},{"$f":"IF(H16=0,\"OK\",\"CTRL\")","v":"OK"}]
["PDA090"," Debiti v/Regione o Provincia Autonoma per mobilità passiva intraregionale",{"$f":"20766344.58-689","v":20765655.579999998},0,0,null,{"$f":"SUMIF('00 SP'!A:A,'Tab 44'!A17,'00 SP'!L:L)","v":20765655.580000006},0,"OK"]
["PDA100"," Debiti v/Regione o Provincia Autonoma per mobilità passiva extraregionale",9530548.0899999999,0,0,null,{"$f":"SUMIF('00 SP'!A:A,'Tab 44'!A18,'00 SP'!L:L)","v":9530548.0899999999},0,"OK"]
["PDA110"," Acconto quota FSR da Regione o Provincia Autonoma",0,0,0,null,{"$f":"SUMIF('00 SP'!A:A,'Tab 44'!A19,'00 SP'!L:L)","v":0},0,"OK"]
["PDA120"," Altri debiti v/Regione o Provincia Autonoma",0,0,0,null,{"$f":"SUMIF('00 SP'!A:A,'Tab 44'!A20,'00 SP'!L:L)","v":0},0,"OK"]
[]
["PDA130"," DEBITI V/COMUNI:",150000,0,0,null,{"$f":"SUMIF('00 SP'!A:A,'Tab 44'!A22,'00 SP'!L:L)","v":150000},{"$f":"(C22+D22+E22)-G22","v":0},"OK"]
[]
[null," DEBITI V/AZIENDE SANITARIE PUBBLICHE DELLA REGIONE",{"$f":"SUM(C25:C30)","v":2665618.9500000002},{"$f":"SUM(D25:D30)","v":0},0,null,2665618.9500000002]
["PDA160"," Debiti v/Aziende sanitarie pubbliche della Regione - per quota FSR",0,0,0,null,{"$f":"SUMIF('00 SP'!A:A,'Tab 44'!A25,'00 SP'!L:L)","v":0},{"$f":"(C25+D25+E25)-G25","v":0},{"$f":"IF(H25=0,\"OK\",\"CTRL\")","v":"OK"}]
["PDA170"," Debiti v/Aziende sanitarie pubbliche della Regione - finanziamento sanitario aggiuntivo corrente LEA",0,0,0,null,{"$f":"SUMIF('00 SP'!A:A,'Tab 44'!A26,'00 SP'!L:L)","v":0},0,"OK"]
["PDA180"," Debiti v/Aziende sanitarie pubbliche della Regione - finanziamento sanitario aggiuntivo corrente extra LEA",0,0,0,null,{"$f":"SUMIF('00 SP'!A:A,'Tab 44'!A27,'00 SP'!L:L)","v":0},0,"OK"]
["PDA190"," Debiti v/Aziende sanitarie pubbliche della Regione - mobilità in compensazione",0,0,0,null,{"$f":"SUMIF('00 SP'!A:A,'Tab 44'!A28,'00 SP'!L:L)","v":0},0,"OK"]
["PDA200"," Debiti v/Aziende sanitarie pubbliche della Regione - mobilità non in compensazione",0,0,0,null,{"$f":"SUMIF('00 SP'!A:A,'Tab 44'!A29,'00 SP'!L:L)","v":0},0,"OK"]
["PDA210"," Debiti v/Aziende sanitarie pubbliche della Regione - altre prestazioni",2665618.9500000002,0,0,null,{"$f":"SUMIF('00 SP'!A:A,'Tab 44'!A30,'00 SP'!L:L)","v":2665618.9500000002},0,"OK"]
["PDA220"," Debiti v/Aziende Sanitarie pubbliche fuori Regione",199115.59,0,0,null,{"$f":"SUMIF('00 SP'!A:A,'Tab 44'!A31,'00 SP'!L:L)","v":199115.59},0,"OK"]
["PDA230"," Debiti v/Aziende sanitarie pubbliche della Regione per versamenti c/patrimonio netto",0,0,0,null,{"$f":"SUMIF('00 SP'!A:A,'Tab 44'!A32,'00 SP'!L:L)","v":0},0,"OK"]
[null," TOTALE DEBITI V/AZIENDE SANITARIE PUBBLICHE",{"$f":"C24+C31+C32","v":2864734.54},{"$f":"D24+D31+D32","v":0},0,null,2864734.54]
[]
[null," DEBITI V/SOCIETA' PARTECIPATE E/O ENTI DIPENDENTI",{"$f":"SUM(C36:C38)","v":0},{"$f":"SUM(D36:D38)","v":0},0,null,0]
["PDA250"," Debiti v/enti regionali:",0,0,0,null,{"$f":"SUMIF('00 SP'!A:A,'Tab 44'!A36,'00 SP'!L:L)","v":0},{"$f":"(C36+D36+E36)-G36","v":0},{"$f":"IF(H36=0,\"OK\",\"CTRL\")","v":"OK"}]
["PDA260"," Debiti v/sperimentazioni gestionali:",0,0,0,null,{"$f":"SUMIF('00 SP'!A:A,'Tab 44'!A37,'00 SP'!L:L)","v":0},0,"OK"]
["PDA270"," Debiti v/altre partecipate:",0,0,0,null,{"$f":"SUMIF('00 SP'!A:A,'Tab 44'!A38,'00 SP'!L:L)","v":0},0,"OK"]
[]
["PDA280"," DEBITI V/FORNITORI:",{"$f":"SUM(C41:C42)","v":127487255.85999998},{"$f":"SUM(D41:D42)","v":0},0,null,127487255.85999995]
["PDA290","Debiti verso erogatori (privati accreditati e convenzionati) di prestazioni sanitarie",79336984.239999995,0,0,null,{"$f":"SUMIF('00 SP'!A:A,'Tab 44'!A41,'00 SP'!L:L)","v":79336984.239999995},{"$f":"(C41+D41+E41)-G41","v":0},{"$f":"IF(H41=0,\"OK\",\"CTRL\")","v":"OK"}]
["PDA300","Debiti verso altri fornitori",48150271.619999997,0,0,null,{"$f":"SUMIF('00 SP'!A:A,'Tab 44'!A42,'00 SP'!L:L)","v":48150271.619999968},0,"OK"]
[]
["PDA310"," DEBITI V/ISTITUTO TESORIERE",0,0,0,null,{"$f":"SUMIF('00 SP'!A:A,'Tab 44'!A44,'00 SP'!L:L)","v":0},{"$f":"(C44+D44+E44)-G44","v":0},"OK"]
[]
["PDA320"," DEBITI TRIBUTARI:",4136001.9,0,0,null,{"$f":"SUMIF('00 SP'!A:A,'Tab 44'!A46,'00 SP'!L:L)","v":4136001.8999999939},{"$f":"(C46+D46+E46)-G46","v":6.0535967350006104E-9},"CTRL"]
[]
["PDA330"," DEBITI V/ISTITUTI PREVIDENZIALI, ASSISTENZIALI E SICUREZZA SOCIALE:",1520455.04,0,0,null,{"$f":"SUMIF('00 SP'!A:A,'Tab 44'!A48,'00 SP'!L:L)","v":1520455.0399999938},{"$f":"(C48+D48+E48)-G48","v":6.28642737865448E-9},"CTRL"]
[]
["PDA340"," DEBITI V/ALTRI:",{"$f":"SUM(C51:C54)","v":16674727.08},{"$f":"SUM(D51:D54)","v":0},0,null,16674727.079999998,{"$f":"(C50+D50+E50)-G50","v":0}]
["PDA350"," Debiti v/altri finanziatori",0,0,0,null,{"$f":"SUMIF('00 SP'!A:A,'Tab 44'!A51,'00 SP'!L:L)","v":0},0,{"$f":"IF(H51=0,\"OK\",\"CTRL\")","v":"OK"}]
["PDA360"," Debiti v/dipendenti",15511132.59,0,0,null,{"$f":"SUMIF('00 SP'!A:A,'Tab 44'!A52,'00 SP'!L:L)","v":15511132.589999998},0,"OK"]
["PDA370"," Debiti v/gestioni liquidatorie",0,0,0,null,{"$f":"SUMIF('00 SP'!A:A,'Tab 44'!A53,'00 SP'!L:L)","v":0},0,"OK"]
["PDA380"," Altri debiti diversi",1163594.49,0,0,null,{"$f":"SUMIF('00 SP'!A:A,'Tab 44'!A54,'00 SP'!L:L)","v":1163594.4899999993},0,"OK"]

{"sheet":"Tab 45-46","index":47,"n_rows":27,"n_cols":11,"rows_kept":27,"cut":false,"hidden":false,"merged":[[1,1,1,10],[2,1,3,1],[2,3,3,3],[2,4,3,4],[2,5,3,5],[2,6,3,6],[2,7,3,7],[2,8,3,8],[2,9,3,9],[2,10,3,10],[26,0,26,4],[13,1,13,9],[21,0,21,3],[22,1,22,7],[24,0,24,5],[25,0,25,4],[25,5,25,6],[25,7,25,10],[26,7,26,10]]}
[]
[null,"Tab. 45 – Dettaglio mutui "]
[null,"DETTAGLIO MUTUI",null,"Destinazione","Soggetto\nerogatore","Riferimenti delibera di autorizzazione regionale","Importo\niniziale","Scadenza","Debito\nresiduo","Tasso di interesse","Garanzie\nreali"]
[]
[null,"…"]
[null,"…"]
[null,"…"]
[null,"…"]
[null,"…"]
[null,"…"]
[null,"…"]
[null,"TOTALE MUTUI"]
[]
[null,"Tab. 46 – Dettaglio debiti intraregionali per mobilità (in compensazione e non) e per altre prestazioni"]
[null,"DETTAGLIO DEBITI INTRAREGIONALI\nPER SINGOLA AZIENDA",null,"Mobilità in compens.","Mobilità non in compens.","Altre prestazioni"]
[null,"Asl 201- Avezzano Sulmona L'Aquila",null,null,null,502090]
[null,"Asl 202- Lanciano Vasto Chieti",null,null,null,228041]
[null,"Asl 204-Teramo",null,null,null,1935488]
[null,"Totale",null,null,null,{"$f":"SUM(F16:F18)","v":2665619}]
[]
[]
["DB01 - Transazioni"]
["DB01 - NO","I debiti verso fornitori non sono sottoposti a procedure di transazione regionali."]
[]
["Altre informazioni relative a debiti."]
["Informazione",null,null,null,null,"Caso presente in azienda?",null,"Se sì, illustrare"]
["DB02 - Altro. Esistono altre informazioni che si ritiene necessario fornire per soddisfare la regola generale secondo cui \"Se le informazioni richieste da specifiche disposizioni di legge non sono sufficienti a dare una rappresentazione veritiera e corretta, si devono fornire le informazioni complementari necessarie allo scopo\" (art. 2423 cc)?",null,null,null,null,null,"NO"]

{"sheet":"Tab 47-48-49","index":48,"n_rows":41,"n_cols":13,"rows_kept":41,"cut":false,"hidden":false,"merged":[[0,0,0,7],[2,1,2,8],[8,1,8,7],[15,0,15,1],[15,2,15,4],[15,5,15,8],[16,5,16,8],[37,5,37,8],[38,5,38,8],[37,3,37,4],[20,1,20,6],[21,6,22,6],[16,0,16,1],[16,2,16,3],[18,0,18,3],[21,0,22,0],[21,1,22,1],[21,3,22,3],[21,4,22,4],[21,5,22,5],[40,5,40,8],[37,0,37,2],[38,0,38,2],[39,0,39,2],[40,0,40,2],[39,5,39,8]]}
["15.     Ratei e risconti passivi"]
[]
[null,"Tab. 47 – Ratei passivi – Dettaglio a livello di costo (codice CE)"]
["CODICE MOD. CE","RATEI PASSIVI",null,"Importo","di cui\noltre 12 mesi"]
[]
[null,"…"]
[null,"…"]
[]
[null,"Tab. 48 – Risconti passivi – Dettaglio a livello di ricavo (codice CE)"]
["CODICE MOD. CE","RISCONTI PASSIVI",null,"Importo","di cui\noltre 12 mesi"]
[]
[null,"…"]
[null,"…"]
[]
["Altre informazioni relative a ratei e risconti passivi."]
["Informazione",null,"Caso presente in azienda?",null,null,"Se sì, illustrare"]
["RP01 - Altro. Esistono altre informazioni che si ritiene necessario fornire per soddisfare la regola generale secondo cui \"Se le informazioni richieste da specifiche disposizioni di legge non sono sufficienti a dare una rappresentazione veritiera e corretta, si devono fornire le informazioni complementari necessarie allo scopo\" (art. 2423 cc)?",null,null,null,"NO"]
[]
["16.     Conti d’ordine"]
[]
[null,"Tab. 49 – Dettagli e movimentazioni dei conti d’ordine "]
["CODICE MOD. SP","CONTI D'ORDINE",null,"Valore iniziale ","Incrementi","Decrementi","Valore finale"]
[null,null,null,null,null,null,null,null,null,null,"Valore SP","Diff","Ctrl"]
["PFA000","   F.1) CANONI DI LEASING ANCORA DA PAGARE",null,{"$f":"SUMIF('00 SP'!$A:$A,'Tab 47-48-49'!$A24,'00 SP'!I:I)","v":0},{"$f":"SUMIF('00 SP'!$A:$A,'Tab 47-48-49'!$A24,'00 SP'!J:J)","v":0},{"$f":"SUMIF('00 SP'!$A:$A,'Tab 47-48-49'!$A24,'00 SP'!K:K)","v":0},{"$f":"D24+E24-F24","v":0},null,null,null,{"$f":"SUMIF('00 SP'!A:A,'Tab 47-48-49'!A24,'00 SP'!L:L)","v":0},{"$f":"G24-K24","v":0},{"$f":"IF(L24=0,\"OK\",\"CTRL\")","v":"OK"}]
["PFA010","   F.2) DEPOSITI CAUZIONALI",null,{"$f":"SUMIF('00 SP'!$A:$A,'Tab 47-48-49'!$A25,'00 SP'!I:I)","v":0},{"$f":"SUMIF('00 SP'!$A:$A,'Tab 47-48-49'!$A25,'00 SP'!J:J)","v":0},{"$f":"SUMIF('00 SP'!$A:$A,'Tab 47-48-49'!$A25,'00 SP'!K:K)","v":0},{"$f":"D25+E25-F25","v":0},null,null,null,{"$f":"SUMIF('00 SP'!A:A,'Tab 47-48-49'!A25,'00 SP'!L:L)","v":0},{"$f":"G25-K25","v":0},{"$f":"IF(L25=0,\"OK\",\"CTRL\")","v":"OK"}]
["PFA020","   F.3) BENI IN COMODATO",null,{"$f":"SUMIF('00 SP'!$A:$A,'Tab 47-48-49'!$A26,'00 SP'!I:I)","v":0},{"$f":"SUMIF('00 SP'!$A:$A,'Tab 47-48-49'!$A26,'00 SP'!J:J)","v":0},{"$f":"SUMIF('00 SP'!$A:$A,'Tab 47-48-49'!$A26,'00 SP'!K:K)","v":0},0,null,null,null,{"$f":"SUMIF('00 SP'!A:A,'Tab 47-48-49'!A26,'00 SP'!L:L)","v":0},0,"OK"]
["PFA030","   F.4) ALTRI CONTI D'ORDINE",null,{"$f":"SUMIF('00 SP'!$A:$A,'Tab 47-48-49'!$A27,'00 SP'!I:I)","v":0},{"$f":"SUMIF('00 SP'!$A:$A,'Tab 47-48-49'!$A27,'00 SP'!J:J)","v":0},{"$f":"SUMIF('00 SP'!$A:$A,'Tab 47-48-49'!$A27,'00 SP'!K:K)","v":0},0,null,null,null,{"$f":"SUMIF('00 SP'!A:A,'Tab 47-48-49'!A27,'00 SP'!L:L)","v":0},0,"OK"]
[null,"Canoni di leasing a scadere"]
[null,"Depositi cauzionali"]
[null,"Beni di terzi presso l'Azienda"]
[null,"Garanzie prestate (fideiussioni, avalli, altre garanzie personali e reali)"]
[null,"Garanzie ricevute (fideiussioni, avalli, altre garanzie personali e reali)"]
[null,"Beni in contenzioso"]
[null,"Altri impegni assunti"]
[]
[]
["Altre informazioni relative a conti d'ordine."]
["Informazione",null,null,"Caso presente in azienda?",null,"Se sì, illustrare"]
["CO01. Sono state attivate operazioni di project finance?",null,null,null,"NO"]
["CO02. Esistono beni dell'azienda presso terzi (in deposito, in pegno o in comodato)?",null,null,"SI",null,"Trattasi  delle rimanenze finali  d’esercizio 2018 relative ai farmaci acquistati per il  servizio di DPC e  giacenti presso il distributore SAFAR, contabilizzate tra le rimanenze finali come da indicazioni regionali  evidenziate nell'allegato 1 della determinazione DPF012/35 del 25/06/2019."]
["CO03 - Altro. Esistono altre informazioni che si ritiene necessario fornire per soddisfare la regola generale secondo cui \"Se le informazioni richieste da specifiche disposizioni di legge non sono sufficienti a dare una rappresentazione veritiera e corretta, si devono fornire le informazioni complementari necessarie allo scopo\" (art. 2423 cc)?",null,null,null,"NO"]

{"sheet":"Foglio1","index":49,"n_rows":0,"n_cols":0,"rows_kept":0,"cut":false,"hidden":false,"merged":[]}